{"text_format":"1","workbook":"xlsx","n_sheets":7,"sheets":["ＴＯＰ","基本情報","従業員情報","給与入力","別表６（２０）","別表６（２１）","計算基礎シート"],"not_rendered":{"charts":0,"images":10,"macros":1,"external_links":0,"defined_names":2,"comments":1,"pivot_tables":0},"unopened":[],"bounds":{"document_bytes":16777216,"sheet_cells":100000,"rows_first":2000,"rows_last":500,"rows_between":2000,"halvings":0,"cell_chars":16384,"cell_head_chars":4096},"cells_cut":0,"cells_raw":0,"read":"whole","date_system":"1900"}

{"sheet":"ＴＯＰ","index":0,"n_rows":28,"n_cols":6,"rows_kept":28,"cut":false,"hidden":false,"merged":[[0,0,0,5],[27,2,28,5],[30,2,31,5],[21,2,23,5],[24,2,26,5]]}
[]
[]
[]
[null,"入力・移動　　各シートの",null,null,"に必要事項を入力します。"]
[null,"印刷　　　　　各シートはＡ４サイズの用紙に出力されます。"]
[]
[null,"入力・移動",null,"印刷",null,"説明"]
[]
[null,null,null,null,null,"会社名、中小企業者等の別、適用事業年度などを入力します"]
[]
[null,null,null,null,null,"従業員の名前などの情報を入力します"]
[]
[null,null,null,"     ",null,"基準雇用者給与等支給額、比較雇用者給与等支給額、適用年度の雇用者給与等支給額を入力します"]
[]
[null,null," ",null,null,"入力した基礎数字を基に、別表６（２１）を作成します。「当期の所得に対する法人税の額」を追加入力する必要があります"]
[]
[]
[null,null,null,null,null,"提供：小林敬幸税理士事務所"]
[null,null,null,null,null,"Ver. 1.0"]
[null,"★当事務所の税理士の著書"]
[]
[null,null,"帳簿初心者な方向けに、パソコン会計で徹底的に簡単に青色申告を行うためのTipsを詰め込んだ、自信の一作です！"]
[]
[]
[null,null,"★参考\nこのファイルの保護パスワードは、こちらの本の背面の２つめのバーコードの数字（1920で始まる１３ケタの数字（半角））になっています。マクロを有効にすると、保護を解除しなくともすべての機能は使えますが、保護を解除して改造等挑戦される方は是非本書もお求めください。"]
[]
[]
[null,null,"個人事業を会社にした場合の税金や社会保険料の変化が、誰でも簡単にシミュレーションできるソフトが付録についた、法人成りのノウハウ満載のマニュアル本です！"]

{"sheet":"基本情報","index":1,"n_rows":23,"n_cols":13,"rows_kept":23,"cut":false,"hidden":false,"merged":[[14,1,15,1],[22,1,23,1]]}
[]
[]
[]
[]
[]
[]
[null,"会社名","株式会社今野デザイン"]
[]
[null,"中小企業に該当するか","非該当",{"$f":"IF(C9=\"該当\",20,10)","v":10},null,null,null,null,null,null,null,"中小法人","大法人"]
[null,null,null,"期首日","2015-04-01","2016-04-01","2017-04-01","2018-04-01","月数","前事業年度月数",null,{"$f":"IF(D11<E10,0.02,0.03)","v":0.03},{"$f":"IF(D11<E10,0.02,IF(D11<F10,0.03,IF(D11<G10,0.04,0.05)))","v":0.03}]
[null,"計算事業年度の期末日","2016-09-30",{"$f":"EOMONTH(C11,-12)+1","v":"2015-10-01"},{"$f":"IF(C9=\"該当\",L10,M10)","v":0.03},null,{"$f":"EOMONTH(D11,-13)+1","v":"2014-10-01"},{"$f":"EOMONTH(G11,11)","v":"2015-09-30"},{"$f":"DATEDIF(D11,C11,\"M\")+1","v":12},{"$f":"DATEDIF(G11,H11,\"M\")+1","v":12}]
[null,null,null,null,null,null,"前年度期首日","前年度期末日"]
[null,"法人の設立日","平成25年３月31日以前",{"$f":"IF(C13=\"平成25年３月31日以前\",1,0)","v":1}]
[]
[null,"基準年度",{"$f":"IF(D13=1,G15,\"-\")","v":"2012-10-01"},{"$f":"\"2013/\"&MONTH(D11)&\"/\"&DAY(D11)","v":"2013/10/1"},{"$f":"VALUE(D15)","v":"2013-10-01"},"2013-04-01",{"$f":"IF(E15>=F15,EOMONTH(E15,-13)+1,E15)","v":"2012-10-01"},null,"月数"]
[null,null,{"$f":"IF(D13=1,EOMONTH(C15,11),\"-\")","v":"2013-09-30"},null,null,null,null,null,{"$f":"IF(D13=1,DATEDIF(C15,C16,\"M\")+1,\"-\")","v":12}]
[null,null,null,null,null,"期末日"]
[null,"基準年度がない\n場合の法人設立日",null,{"$f":"YEAR(C18)&\"/\"&MONTH(C11)&\"/\"&DAY(C11)","v":"1900/9/30"},{"$f":"VALUE(D18)","v":"1900-09-30"},{"$f":"IF(C18<E18,E18,EOMONTH(E18,12))","v":"1900-09-30"},{"$f":"DATEDIF(C18,F18,\"M\")+1","v":9}]
[null,"設立年度の\n雇用者給与等支給額",null,{"$f":"ROUNDDOWN(C19*0.7,0)","v":0}]
[]
[]
[null,"経過年度の摘要の有無","有"]
[null,"経過年度"]

{"sheet":"従業員情報","index":2,"n_rows":38,"n_cols":14,"rows_kept":38,"cut":false,"hidden":false,"merged":[]}
[]
[]
[]
[]
[null,"No.","従業員名","役員・使用人兼務役員\n特殊関係者","国内雇用者","雇用保険\n一般被保険者","一般被保険者\nとなった月","一般被保険者\nでなくなった月","一般被保険者で\nなくなった理由","なった月\n判定","一般被保険者\nとなった月","一般被保険者\nでなくなった月","継続雇用者","なくなった月\n判定"]
[null,1,"今野　友夫","該当",null,null,null,null,null,{"$f":"IF(ISERROR(VLOOKUP(G6,計算基礎シート!I$5:J$28,2,FALSE)),2,VLOOKUP(G6,計算基礎シート!I$5:J$28,2,FALSE))","v":2},{"$f":"IF(ISERROR(VLOOKUP(G6,計算基礎シート!$C$5:$D$28,2,FALSE)),\"\",VLOOKUP(G6,計算基礎シート!$C$5:$D$28,2,FALSE))","v":""},{"$f":"IF(ISERROR(VLOOKUP(H6,計算基礎シート!$F$3:$G$28,2,FALSE)),\"\",VLOOKUP(H6,計算基礎シート!$F$3:$G$28,2,FALSE))","v":""},{"$f":"IF(AND(J6=1,N6=1),\"該当\",\"\")","v":""},{"$f":"IF(ISERROR(VLOOKUP(L6,計算基礎シート!G$5:H$28,2,FALSE)),2,VLOOKUP(L6,計算基礎シート!G$5:H$28,2,FALSE))","v":2}]
[null,2,"今野　朝子","該当",null,null,null,null,null,{"$f":"IF(ISERROR(VLOOKUP(G7,計算基礎シート!I$5:J$28,2,FALSE)),2,VLOOKUP(G7,計算基礎シート!I$5:J$28,2,FALSE))","v":2},{"$f":"IF(ISERROR(VLOOKUP(G7,計算基礎シート!$C$5:$D$28,2,FALSE)),\"\",VLOOKUP(G7,計算基礎シート!$C$5:$D$28,2,FALSE))","v":""},{"$f":"IF(ISERROR(VLOOKUP(H7,計算基礎シート!$F$3:$G$28,2,FALSE)),\"\",VLOOKUP(H7,計算基礎シート!$F$3:$G$28,2,FALSE))","v":""},{"$f":"IF(AND(J7=1,N7=1),\"該当\",\"\")","v":""},{"$f":"IF(ISERROR(VLOOKUP(L7,計算基礎シート!G$5:H$28,2,FALSE)),2,VLOOKUP(L7,計算基礎シート!G$5:H$28,2,FALSE))","v":2}]
[null,3,"今野　祥子","該当",null,null,null,null,null,{"$f":"IF(ISERROR(VLOOKUP(G8,計算基礎シート!I$5:J$28,2,FALSE)),2,VLOOKUP(G8,計算基礎シート!I$5:J$28,2,FALSE))","v":2},{"$f":"IF(ISERROR(VLOOKUP(G8,計算基礎シート!$C$5:$D$28,2,FALSE)),\"\",VLOOKUP(G8,計算基礎シート!$C$5:$D$28,2,FALSE))","v":""},{"$f":"IF(ISERROR(VLOOKUP(H8,計算基礎シート!$F$3:$G$28,2,FALSE)),\"\",VLOOKUP(H8,計算基礎シート!$F$3:$G$28,2,FALSE))","v":""},"",{"$f":"IF(ISERROR(VLOOKUP(L8,計算基礎シート!G$5:H$28,2,FALSE)),2,VLOOKUP(L8,計算基礎シート!G$5:H$28,2,FALSE))","v":2}]
[null,4,"川西　めぐみ","非該当","該当","該当","2014年10月以前","在職中",null,{"$f":"IF(ISERROR(VLOOKUP(G9,計算基礎シート!I$5:J$28,2,FALSE)),2,VLOOKUP(G9,計算基礎シート!I$5:J$28,2,FALSE))","v":1},{"$f":"IF(ISERROR(VLOOKUP(G9,計算基礎シート!$C$5:$D$28,2,FALSE)),\"\",VLOOKUP(G9,計算基礎シート!$C$5:$D$28,2,FALSE))","v":"2014-10-01"},{"$f":"IF(ISERROR(VLOOKUP(H9,計算基礎シート!$F$3:$G$28,2,FALSE)),\"\",VLOOKUP(H9,計算基礎シート!$F$3:$G$28,2,FALSE))","v":"2016-09-30"},"該当",{"$f":"IF(ISERROR(VLOOKUP(L9,計算基礎シート!G$5:H$28,2,FALSE)),2,VLOOKUP(L9,計算基礎シート!G$5:H$28,2,FALSE))","v":1}]
[null,5,"鳥居　雅之","非該当","該当","非該当",null,null,null,{"$f":"IF(ISERROR(VLOOKUP(G10,計算基礎シート!I$5:J$28,2,FALSE)),2,VLOOKUP(G10,計算基礎シート!I$5:J$28,2,FALSE))","v":2},{"$f":"IF(ISERROR(VLOOKUP(G10,計算基礎シート!$C$5:$D$28,2,FALSE)),\"\",VLOOKUP(G10,計算基礎シート!$C$5:$D$28,2,FALSE))","v":""},{"$f":"IF(ISERROR(VLOOKUP(H10,計算基礎シート!$F$3:$G$28,2,FALSE)),\"\",VLOOKUP(H10,計算基礎シート!$F$3:$G$28,2,FALSE))","v":""},"",{"$f":"IF(ISERROR(VLOOKUP(L10,計算基礎シート!G$5:H$28,2,FALSE)),2,VLOOKUP(L10,計算基礎シート!G$5:H$28,2,FALSE))","v":2}]
[null,6,"絹延橋　みつ子","非該当","該当","該当","2014年10月以前","2016年7月","退職",{"$f":"IF(ISERROR(VLOOKUP(G11,計算基礎シート!I$5:J$28,2,FALSE)),2,VLOOKUP(G11,計算基礎シート!I$5:J$28,2,FALSE))","v":1},{"$f":"IF(ISERROR(VLOOKUP(G11,計算基礎シート!$C$5:$D$28,2,FALSE)),\"\",VLOOKUP(G11,計算基礎シート!$C$5:$D$28,2,FALSE))","v":"2014-10-01"},{"$f":"IF(ISERROR(VLOOKUP(H11,計算基礎シート!$F$3:$G$28,2,FALSE)),\"\",VLOOKUP(H11,計算基礎シート!$F$3:$G$28,2,FALSE))","v":"2016-07-31"},"該当",{"$f":"IF(ISERROR(VLOOKUP(L11,計算基礎シート!G$5:H$28,2,FALSE)),2,VLOOKUP(L11,計算基礎シート!G$5:H$28,2,FALSE))","v":1}]
[null,7,"笹部　菜穂美","非該当","該当","該当","2016年6月","在職中",null,{"$f":"IF(ISERROR(VLOOKUP(G12,計算基礎シート!I$5:J$28,2,FALSE)),2,VLOOKUP(G12,計算基礎シート!I$5:J$28,2,FALSE))","v":2},{"$f":"IF(ISERROR(VLOOKUP(G12,計算基礎シート!$C$5:$D$28,2,FALSE)),\"\",VLOOKUP(G12,計算基礎シート!$C$5:$D$28,2,FALSE))","v":"2016-06-30"},{"$f":"IF(ISERROR(VLOOKUP(H12,計算基礎シート!$F$3:$G$28,2,FALSE)),\"\",VLOOKUP(H12,計算基礎シート!$F$3:$G$28,2,FALSE))","v":"2016-09-30"},"",{"$f":"IF(ISERROR(VLOOKUP(L12,計算基礎シート!G$5:H$28,2,FALSE)),2,VLOOKUP(L12,計算基礎シート!G$5:H$28,2,FALSE))","v":1}]
[null,8,"山下　典子","非該当","該当","該当","2014年11月","在職中",null,{"$f":"IF(ISERROR(VLOOKUP(G13,計算基礎シート!I$5:J$28,2,FALSE)),2,VLOOKUP(G13,計算基礎シート!I$5:J$28,2,FALSE))","v":1},{"$f":"IF(ISERROR(VLOOKUP(G13,計算基礎シート!$C$5:$D$28,2,FALSE)),\"\",VLOOKUP(G13,計算基礎シート!$C$5:$D$28,2,FALSE))","v":"2014-11-30"},{"$f":"IF(ISERROR(VLOOKUP(H13,計算基礎シート!$F$3:$G$28,2,FALSE)),\"\",VLOOKUP(H13,計算基礎シート!$F$3:$G$28,2,FALSE))","v":"2016-09-30"},"該当",{"$f":"IF(ISERROR(VLOOKUP(L13,計算基礎シート!G$5:H$28,2,FALSE)),2,VLOOKUP(L13,計算基礎シート!G$5:H$28,2,FALSE))","v":1}]
[null,9,"畦野　保則","非該当","該当","該当","2014年10月以前","2015年6月","継続雇用制度に移行",{"$f":"IF(ISERROR(VLOOKUP(G14,計算基礎シート!I$5:J$28,2,FALSE)),2,VLOOKUP(G14,計算基礎シート!I$5:J$28,2,FALSE))","v":1},{"$f":"IF(ISERROR(VLOOKUP(G14,計算基礎シート!$C$5:$D$28,2,FALSE)),\"\",VLOOKUP(G14,計算基礎シート!$C$5:$D$28,2,FALSE))","v":"2014-10-01"},{"$f":"IF(ISERROR(VLOOKUP(H14,計算基礎シート!$F$3:$G$28,2,FALSE)),\"\",VLOOKUP(H14,計算基礎シート!$F$3:$G$28,2,FALSE))","v":"2015-06-30"},"",{"$f":"IF(ISERROR(VLOOKUP(L14,計算基礎シート!G$5:H$28,2,FALSE)),2,VLOOKUP(L14,計算基礎シート!G$5:H$28,2,FALSE))","v":2}]
[null,10,"滝山　隆一","非該当","該当","該当","2014年10月以前","2014年6月","継続雇用制度に移行",{"$f":"IF(ISERROR(VLOOKUP(G15,計算基礎シート!I$5:J$28,2,FALSE)),2,VLOOKUP(G15,計算基礎シート!I$5:J$28,2,FALSE))","v":1},{"$f":"IF(ISERROR(VLOOKUP(G15,計算基礎シート!$C$5:$D$28,2,FALSE)),\"\",VLOOKUP(G15,計算基礎シート!$C$5:$D$28,2,FALSE))","v":"2014-10-01"},{"$f":"IF(ISERROR(VLOOKUP(H15,計算基礎シート!$F$3:$G$28,2,FALSE)),\"\",VLOOKUP(H15,計算基礎シート!$F$3:$G$28,2,FALSE))","v":""},"",{"$f":"IF(ISERROR(VLOOKUP(L15,計算基礎シート!G$5:H$28,2,FALSE)),2,VLOOKUP(L15,計算基礎シート!G$5:H$28,2,FALSE))","v":2}]
[null,11,null,"該当",null,null,null,null,null,{"$f":"IF(ISERROR(VLOOKUP(G16,計算基礎シート!I$5:J$28,2,FALSE)),2,VLOOKUP(G16,計算基礎シート!I$5:J$28,2,FALSE))","v":2},{"$f":"IF(ISERROR(VLOOKUP(G16,計算基礎シート!$C$5:$D$28,2,FALSE)),\"\",VLOOKUP(G16,計算基礎シート!$C$5:$D$28,2,FALSE))","v":""},{"$f":"IF(ISERROR(VLOOKUP(H16,計算基礎シート!$F$3:$G$28,2,FALSE)),\"\",VLOOKUP(H16,計算基礎シート!$F$3:$G$28,2,FALSE))","v":""},"",{"$f":"IF(ISERROR(VLOOKUP(L16,計算基礎シート!G$5:H$28,2,FALSE)),2,VLOOKUP(L16,計算基礎シート!G$5:H$28,2,FALSE))","v":2}]
[null,12,null,"該当",null,null,null,null,null,{"$f":"IF(ISERROR(VLOOKUP(G17,計算基礎シート!I$5:J$28,2,FALSE)),2,VLOOKUP(G17,計算基礎シート!I$5:J$28,2,FALSE))","v":2},{"$f":"IF(ISERROR(VLOOKUP(G17,計算基礎シート!$C$5:$D$28,2,FALSE)),\"\",VLOOKUP(G17,計算基礎シート!$C$5:$D$28,2,FALSE))","v":""},{"$f":"IF(ISERROR(VLOOKUP(H17,計算基礎シート!$F$3:$G$28,2,FALSE)),\"\",VLOOKUP(H17,計算基礎シート!$F$3:$G$28,2,FALSE))","v":""},"",{"$f":"IF(ISERROR(VLOOKUP(L17,計算基礎シート!G$5:H$28,2,FALSE)),2,VLOOKUP(L17,計算基礎シート!G$5:H$28,2,FALSE))","v":2}]
[null,13,null,"該当",null,null,null,null,null,{"$f":"IF(ISERROR(VLOOKUP(G18,計算基礎シート!I$5:J$28,2,FALSE)),2,VLOOKUP(G18,計算基礎シート!I$5:J$28,2,FALSE))","v":2},{"$f":"IF(ISERROR(VLOOKUP(G18,計算基礎シート!$C$5:$D$28,2,FALSE)),\"\",VLOOKUP(G18,計算基礎シート!$C$5:$D$28,2,FALSE))","v":""},{"$f":"IF(ISERROR(VLOOKUP(H18,計算基礎シート!$F$3:$G$28,2,FALSE)),\"\",VLOOKUP(H18,計算基礎シート!$F$3:$G$28,2,FALSE))","v":""},"",{"$f":"IF(ISERROR(VLOOKUP(L18,計算基礎シート!G$5:H$28,2,FALSE)),2,VLOOKUP(L18,計算基礎シート!G$5:H$28,2,FALSE))","v":2}]
[null,14,null,"該当",null,null,null,null,null,{"$f":"IF(ISERROR(VLOOKUP(G19,計算基礎シート!I$5:J$28,2,FALSE)),2,VLOOKUP(G19,計算基礎シート!I$5:J$28,2,FALSE))","v":2},{"$f":"IF(ISERROR(VLOOKUP(G19,計算基礎シート!$C$5:$D$28,2,FALSE)),\"\",VLOOKUP(G19,計算基礎シート!$C$5:$D$28,2,FALSE))","v":""},{"$f":"IF(ISERROR(VLOOKUP(H19,計算基礎シート!$F$3:$G$28,2,FALSE)),\"\",VLOOKUP(H19,計算基礎シート!$F$3:$G$28,2,FALSE))","v":""},"",{"$f":"IF(ISERROR(VLOOKUP(L19,計算基礎シート!G$5:H$28,2,FALSE)),2,VLOOKUP(L19,計算基礎シート!G$5:H$28,2,FALSE))","v":2}]
[null,15,null,"該当",null,null,null,null,null,{"$f":"IF(ISERROR(VLOOKUP(G20,計算基礎シート!I$5:J$28,2,FALSE)),2,VLOOKUP(G20,計算基礎シート!I$5:J$28,2,FALSE))","v":2},{"$f":"IF(ISERROR(VLOOKUP(G20,計算基礎シート!$C$5:$D$28,2,FALSE)),\"\",VLOOKUP(G20,計算基礎シート!$C$5:$D$28,2,FALSE))","v":""},{"$f":"IF(ISERROR(VLOOKUP(H20,計算基礎シート!$F$3:$G$28,2,FALSE)),\"\",VLOOKUP(H20,計算基礎シート!$F$3:$G$28,2,FALSE))","v":""},"",{"$f":"IF(ISERROR(VLOOKUP(L20,計算基礎シート!G$5:H$28,2,FALSE)),2,VLOOKUP(L20,計算基礎シート!G$5:H$28,2,FALSE))","v":2}]
[null,16,null,"該当",null,null,null,null,null,{"$f":"IF(ISERROR(VLOOKUP(G21,計算基礎シート!I$5:J$28,2,FALSE)),2,VLOOKUP(G21,計算基礎シート!I$5:J$28,2,FALSE))","v":2},{"$f":"IF(ISERROR(VLOOKUP(G21,計算基礎シート!$C$5:$D$28,2,FALSE)),\"\",VLOOKUP(G21,計算基礎シート!$C$5:$D$28,2,FALSE))","v":""},{"$f":"IF(ISERROR(VLOOKUP(H21,計算基礎シート!$F$3:$G$28,2,FALSE)),\"\",VLOOKUP(H21,計算基礎シート!$F$3:$G$28,2,FALSE))","v":""},"",{"$f":"IF(ISERROR(VLOOKUP(L21,計算基礎シート!G$5:H$28,2,FALSE)),2,VLOOKUP(L21,計算基礎シート!G$5:H$28,2,FALSE))","v":2}]
[null,17,null,"該当",null,null,null,null,null,{"$f":"IF(ISERROR(VLOOKUP(G22,計算基礎シート!I$5:J$28,2,FALSE)),2,VLOOKUP(G22,計算基礎シート!I$5:J$28,2,FALSE))","v":2},{"$f":"IF(ISERROR(VLOOKUP(G22,計算基礎シート!$C$5:$D$28,2,FALSE)),\"\",VLOOKUP(G22,計算基礎シート!$C$5:$D$28,2,FALSE))","v":""},{"$f":"IF(ISERROR(VLOOKUP(H22,計算基礎シート!$F$3:$G$28,2,FALSE)),\"\",VLOOKUP(H22,計算基礎シート!$F$3:$G$28,2,FALSE))","v":""},"",{"$f":"IF(ISERROR(VLOOKUP(L22,計算基礎シート!G$5:H$28,2,FALSE)),2,VLOOKUP(L22,計算基礎シート!G$5:H$28,2,FALSE))","v":2}]
[null,18,null,"該当",null,null,null,null,null,{"$f":"IF(ISERROR(VLOOKUP(G23,計算基礎シート!I$5:J$28,2,FALSE)),2,VLOOKUP(G23,計算基礎シート!I$5:J$28,2,FALSE))","v":2},{"$f":"IF(ISERROR(VLOOKUP(G23,計算基礎シート!$C$5:$D$28,2,FALSE)),\"\",VLOOKUP(G23,計算基礎シート!$C$5:$D$28,2,FALSE))","v":""},{"$f":"IF(ISERROR(VLOOKUP(H23,計算基礎シート!$F$3:$G$28,2,FALSE)),\"\",VLOOKUP(H23,計算基礎シート!$F$3:$G$28,2,FALSE))","v":""},"",{"$f":"IF(ISERROR(VLOOKUP(L23,計算基礎シート!G$5:H$28,2,FALSE)),2,VLOOKUP(L23,計算基礎シート!G$5:H$28,2,FALSE))","v":2}]
[null,19,null,"該当",null,null,null,null,null,{"$f":"IF(ISERROR(VLOOKUP(G24,計算基礎シート!I$5:J$28,2,FALSE)),2,VLOOKUP(G24,計算基礎シート!I$5:J$28,2,FALSE))","v":2},{"$f":"IF(ISERROR(VLOOKUP(G24,計算基礎シート!$C$5:$D$28,2,FALSE)),\"\",VLOOKUP(G24,計算基礎シート!$C$5:$D$28,2,FALSE))","v":""},{"$f":"IF(ISERROR(VLOOKUP(H24,計算基礎シート!$F$3:$G$28,2,FALSE)),\"\",VLOOKUP(H24,計算基礎シート!$F$3:$G$28,2,FALSE))","v":""},"",{"$f":"IF(ISERROR(VLOOKUP(L24,計算基礎シート!G$5:H$28,2,FALSE)),2,VLOOKUP(L24,計算基礎シート!G$5:H$28,2,FALSE))","v":2}]
[null,20,null,"該当",null,null,null,null,null,{"$f":"IF(ISERROR(VLOOKUP(G25,計算基礎シート!I$5:J$28,2,FALSE)),2,VLOOKUP(G25,計算基礎シート!I$5:J$28,2,FALSE))","v":2},{"$f":"IF(ISERROR(VLOOKUP(G25,計算基礎シート!$C$5:$D$28,2,FALSE)),\"\",VLOOKUP(G25,計算基礎シート!$C$5:$D$28,2,FALSE))","v":""},{"$f":"IF(ISERROR(VLOOKUP(H25,計算基礎シート!$F$3:$G$28,2,FALSE)),\"\",VLOOKUP(H25,計算基礎シート!$F$3:$G$28,2,FALSE))","v":""},"",{"$f":"IF(ISERROR(VLOOKUP(L25,計算基礎シート!G$5:H$28,2,FALSE)),2,VLOOKUP(L25,計算基礎シート!G$5:H$28,2,FALSE))","v":2}]
[null,21,null,"該当",null,null,null,null,null,{"$f":"IF(ISERROR(VLOOKUP(G26,計算基礎シート!I$5:J$28,2,FALSE)),2,VLOOKUP(G26,計算基礎シート!I$5:J$28,2,FALSE))","v":2},{"$f":"IF(ISERROR(VLOOKUP(G26,計算基礎シート!$C$5:$D$28,2,FALSE)),\"\",VLOOKUP(G26,計算基礎シート!$C$5:$D$28,2,FALSE))","v":""},{"$f":"IF(ISERROR(VLOOKUP(H26,計算基礎シート!$F$3:$G$28,2,FALSE)),\"\",VLOOKUP(H26,計算基礎シート!$F$3:$G$28,2,FALSE))","v":""},"",{"$f":"IF(ISERROR(VLOOKUP(L26,計算基礎シート!G$5:H$28,2,FALSE)),2,VLOOKUP(L26,計算基礎シート!G$5:H$28,2,FALSE))","v":2}]
[null,22,null,"該当",null,null,null,null,null,{"$f":"IF(ISERROR(VLOOKUP(G27,計算基礎シート!I$5:J$28,2,FALSE)),2,VLOOKUP(G27,計算基礎シート!I$5:J$28,2,FALSE))","v":2},{"$f":"IF(ISERROR(VLOOKUP(G27,計算基礎シート!$C$5:$D$28,2,FALSE)),\"\",VLOOKUP(G27,計算基礎シート!$C$5:$D$28,2,FALSE))","v":""},{"$f":"IF(ISERROR(VLOOKUP(H27,計算基礎シート!$F$3:$G$28,2,FALSE)),\"\",VLOOKUP(H27,計算基礎シート!$F$3:$G$28,2,FALSE))","v":""},"",{"$f":"IF(ISERROR(VLOOKUP(L27,計算基礎シート!G$5:H$28,2,FALSE)),2,VLOOKUP(L27,計算基礎シート!G$5:H$28,2,FALSE))","v":2}]
[null,23,null,"該当",null,null,null,null,null,{"$f":"IF(ISERROR(VLOOKUP(G28,計算基礎シート!I$5:J$28,2,FALSE)),2,VLOOKUP(G28,計算基礎シート!I$5:J$28,2,FALSE))","v":2},{"$f":"IF(ISERROR(VLOOKUP(G28,計算基礎シート!$C$5:$D$28,2,FALSE)),\"\",VLOOKUP(G28,計算基礎シート!$C$5:$D$28,2,FALSE))","v":""},{"$f":"IF(ISERROR(VLOOKUP(H28,計算基礎シート!$F$3:$G$28,2,FALSE)),\"\",VLOOKUP(H28,計算基礎シート!$F$3:$G$28,2,FALSE))","v":""},"",{"$f":"IF(ISERROR(VLOOKUP(L28,計算基礎シート!G$5:H$28,2,FALSE)),2,VLOOKUP(L28,計算基礎シート!G$5:H$28,2,FALSE))","v":2}]
[null,24,null,"該当",null,null,null,null,null,{"$f":"IF(ISERROR(VLOOKUP(G29,計算基礎シート!I$5:J$28,2,FALSE)),2,VLOOKUP(G29,計算基礎シート!I$5:J$28,2,FALSE))","v":2},{"$f":"IF(ISERROR(VLOOKUP(G29,計算基礎シート!$C$5:$D$28,2,FALSE)),\"\",VLOOKUP(G29,計算基礎シート!$C$5:$D$28,2,FALSE))","v":""},{"$f":"IF(ISERROR(VLOOKUP(H29,計算基礎シート!$F$3:$G$28,2,FALSE)),\"\",VLOOKUP(H29,計算基礎シート!$F$3:$G$28,2,FALSE))","v":""},"",{"$f":"IF(ISERROR(VLOOKUP(L29,計算基礎シート!G$5:H$28,2,FALSE)),2,VLOOKUP(L29,計算基礎シート!G$5:H$28,2,FALSE))","v":2}]
[null,25,null,"該当",null,null,null,null,null,{"$f":"IF(ISERROR(VLOOKUP(G30,計算基礎シート!I$5:J$28,2,FALSE)),2,VLOOKUP(G30,計算基礎シート!I$5:J$28,2,FALSE))","v":2},{"$f":"IF(ISERROR(VLOOKUP(G30,計算基礎シート!$C$5:$D$28,2,FALSE)),\"\",VLOOKUP(G30,計算基礎シート!$C$5:$D$28,2,FALSE))","v":""},{"$f":"IF(ISERROR(VLOOKUP(H30,計算基礎シート!$F$3:$G$28,2,FALSE)),\"\",VLOOKUP(H30,計算基礎シート!$F$3:$G$28,2,FALSE))","v":""},"",{"$f":"IF(ISERROR(VLOOKUP(L30,計算基礎シート!G$5:H$28,2,FALSE)),2,VLOOKUP(L30,計算基礎シート!G$5:H$28,2,FALSE))","v":2}]
[null,26,null,"該当",null,null,null,null,null,{"$f":"IF(ISERROR(VLOOKUP(G31,計算基礎シート!I$5:J$28,2,FALSE)),2,VLOOKUP(G31,計算基礎シート!I$5:J$28,2,FALSE))","v":2},{"$f":"IF(ISERROR(VLOOKUP(G31,計算基礎シート!$C$5:$D$28,2,FALSE)),\"\",VLOOKUP(G31,計算基礎シート!$C$5:$D$28,2,FALSE))","v":""},{"$f":"IF(ISERROR(VLOOKUP(H31,計算基礎シート!$F$3:$G$28,2,FALSE)),\"\",VLOOKUP(H31,計算基礎シート!$F$3:$G$28,2,FALSE))","v":""},"",{"$f":"IF(ISERROR(VLOOKUP(L31,計算基礎シート!G$5:H$28,2,FALSE)),2,VLOOKUP(L31,計算基礎シート!G$5:H$28,2,FALSE))","v":2}]
[null,27,null,"該当",null,null,null,null,null,{"$f":"IF(ISERROR(VLOOKUP(G32,計算基礎シート!I$5:J$28,2,FALSE)),2,VLOOKUP(G32,計算基礎シート!I$5:J$28,2,FALSE))","v":2},{"$f":"IF(ISERROR(VLOOKUP(G32,計算基礎シート!$C$5:$D$28,2,FALSE)),\"\",VLOOKUP(G32,計算基礎シート!$C$5:$D$28,2,FALSE))","v":""},{"$f":"IF(ISERROR(VLOOKUP(H32,計算基礎シート!$F$3:$G$28,2,FALSE)),\"\",VLOOKUP(H32,計算基礎シート!$F$3:$G$28,2,FALSE))","v":""},"",{"$f":"IF(ISERROR(VLOOKUP(L32,計算基礎シート!G$5:H$28,2,FALSE)),2,VLOOKUP(L32,計算基礎シート!G$5:H$28,2,FALSE))","v":2}]
[null,28,null,"該当",null,null,null,null,null,{"$f":"IF(ISERROR(VLOOKUP(G33,計算基礎シート!I$5:J$28,2,FALSE)),2,VLOOKUP(G33,計算基礎シート!I$5:J$28,2,FALSE))","v":2},{"$f":"IF(ISERROR(VLOOKUP(G33,計算基礎シート!$C$5:$D$28,2,FALSE)),\"\",VLOOKUP(G33,計算基礎シート!$C$5:$D$28,2,FALSE))","v":""},{"$f":"IF(ISERROR(VLOOKUP(H33,計算基礎シート!$F$3:$G$28,2,FALSE)),\"\",VLOOKUP(H33,計算基礎シート!$F$3:$G$28,2,FALSE))","v":""},"",{"$f":"IF(ISERROR(VLOOKUP(L33,計算基礎シート!G$5:H$28,2,FALSE)),2,VLOOKUP(L33,計算基礎シート!G$5:H$28,2,FALSE))","v":2}]
[null,29,null,"該当",null,null,null,null,null,{"$f":"IF(ISERROR(VLOOKUP(G34,計算基礎シート!I$5:J$28,2,FALSE)),2,VLOOKUP(G34,計算基礎シート!I$5:J$28,2,FALSE))","v":2},{"$f":"IF(ISERROR(VLOOKUP(G34,計算基礎シート!$C$5:$D$28,2,FALSE)),\"\",VLOOKUP(G34,計算基礎シート!$C$5:$D$28,2,FALSE))","v":""},{"$f":"IF(ISERROR(VLOOKUP(H34,計算基礎シート!$F$3:$G$28,2,FALSE)),\"\",VLOOKUP(H34,計算基礎シート!$F$3:$G$28,2,FALSE))","v":""},"",{"$f":"IF(ISERROR(VLOOKUP(L34,計算基礎シート!G$5:H$28,2,FALSE)),2,VLOOKUP(L34,計算基礎シート!G$5:H$28,2,FALSE))","v":2}]
[null,30,null,"該当",null,null,null,null,null,{"$f":"IF(ISERROR(VLOOKUP(G35,計算基礎シート!I$5:J$28,2,FALSE)),2,VLOOKUP(G35,計算基礎シート!I$5:J$28,2,FALSE))","v":2},{"$f":"IF(ISERROR(VLOOKUP(G35,計算基礎シート!$C$5:$D$28,2,FALSE)),\"\",VLOOKUP(G35,計算基礎シート!$C$5:$D$28,2,FALSE))","v":""},{"$f":"IF(ISERROR(VLOOKUP(H35,計算基礎シート!$F$3:$G$28,2,FALSE)),\"\",VLOOKUP(H35,計算基礎シート!$F$3:$G$28,2,FALSE))","v":""},"",{"$f":"IF(ISERROR(VLOOKUP(L35,計算基礎シート!G$5:H$28,2,FALSE)),2,VLOOKUP(L35,計算基礎シート!G$5:H$28,2,FALSE))","v":2}]
[]
["該当"]
["非該当"]

{"sheet":"給与入力","index":3,"n_rows":80,"n_cols":34,"rows_kept":80,"cut":false,"hidden":false,"merged":[[5,32,6,32],[25,32,32,32],[54,32,61,32]]}
[]
[]
[]
[null,"１、基準雇用者給与等支給額の入力"]
[null,"Ｎｏ．",1,2,3,4,5,6,7,8,9,10,11,12,13,14,15,16,17,18,19,20,21,22,23,24,25,26,27,28,29,30,"合計"]
[null,"名前",{"$f":"VLOOKUP(C5,従業員情報!$B$6:$C$35,2,FALSE)","v":"今野　友夫"},{"$f":"VLOOKUP(D5,従業員情報!$B$6:$C$35,2,FALSE)","v":"今野　朝子"},{"$f":"VLOOKUP(E5,従業員情報!$B$6:$C$35,2,FALSE)","v":"今野　祥子"},{"$f":"VLOOKUP(F5,従業員情報!$B$6:$C$35,2,FALSE)","v":"川西　めぐみ"},{"$f":"VLOOKUP(G5,従業員情報!$B$6:$C$35,2,FALSE)","v":"鳥居　雅之"},{"$f":"VLOOKUP(H5,従業員情報!$B$6:$C$35,2,FALSE)","v":"絹延橋　みつ子"},{"$f":"VLOOKUP(I5,従業員情報!$B$6:$C$35,2,FALSE)","v":"笹部　菜穂美"},{"$f":"VLOOKUP(J5,従業員情報!$B$6:$C$35,2,FALSE)","v":"山下　典子"},{"$f":"VLOOKUP(K5,従業員情報!$B$6:$C$35,2,FALSE)","v":"畦野　保則"},{"$f":"VLOOKUP(L5,従業員情報!$B$6:$C$35,2,FALSE)","v":"滝山　隆一"},{"$f":"VLOOKUP(M5,従業員情報!$B$6:$C$35,2,FALSE)","v":0},{"$f":"VLOOKUP(N5,従業員情報!$B$6:$C$35,2,FALSE)","v":0},{"$f":"VLOOKUP(O5,従業員情報!$B$6:$C$35,2,FALSE)","v":0},{"$f":"VLOOKUP(P5,従業員情報!$B$6:$C$35,2,FALSE)","v":0},{"$f":"VLOOKUP(Q5,従業員情報!$B$6:$C$35,2,FALSE)","v":0},{"$f":"VLOOKUP(R5,従業員情報!$B$6:$C$35,2,FALSE)","v":0},{"$f":"VLOOKUP(S5,従業員情報!$B$6:$C$35,2,FALSE)","v":0},{"$f":"VLOOKUP(T5,従業員情報!$B$6:$C$35,2,FALSE)","v":0},{"$f":"VLOOKUP(U5,従業員情報!$B$6:$C$35,2,FALSE)","v":0},{"$f":"VLOOKUP(V5,従業員情報!$B$6:$C$35,2,FALSE)","v":0},{"$f":"VLOOKUP(W5,従業員情報!$B$6:$C$35,2,FALSE)","v":0},{"$f":"VLOOKUP(X5,従業員情報!$B$6:$C$35,2,FALSE)","v":0},{"$f":"VLOOKUP(Y5,従業員情報!$B$6:$C$35,2,FALSE)","v":0},{"$f":"VLOOKUP(Z5,従業員情報!$B$6:$C$35,2,FALSE)","v":0},{"$f":"VLOOKUP(AA5,従業員情報!$B$6:$C$35,2,FALSE)","v":0},{"$f":"VLOOKUP(AB5,従業員情報!$B$6:$C$35,2,FALSE)","v":0},{"$f":"VLOOKUP(AC5,従業員情報!$B$6:$C$35,2,FALSE)","v":0},{"$f":"VLOOKUP(AD5,従業員情報!$B$6:$C$35,2,FALSE)","v":0},{"$f":"VLOOKUP(AE5,従業員情報!$B$6:$C$35,2,FALSE)","v":0},{"$f":"VLOOKUP(AF5,従業員情報!$B$6:$C$35,2,FALSE)","v":0},{"$f":"SUM(C7:AF7)","v":0}]
[null,"国内雇用者",{"$f":"IF(ISERROR(VLOOKUP(C5,従業員情報!$B$6:$H$35,4,FALSE)),\"\",VLOOKUP(C5,従業員情報!$B$6:$H$35,4,FALSE))","v":0},{"$f":"IF(ISERROR(VLOOKUP(D5,従業員情報!$B$6:$H$35,4,FALSE)),\"\",VLOOKUP(D5,従業員情報!$B$6:$H$35,4,FALSE))","v":0},{"$f":"IF(ISERROR(VLOOKUP(E5,従業員情報!$B$6:$H$35,4,FALSE)),\"\",VLOOKUP(E5,従業員情報!$B$6:$H$35,4,FALSE))","v":0},{"$f":"IF(ISERROR(VLOOKUP(F5,従業員情報!$B$6:$H$35,4,FALSE)),\"\",VLOOKUP(F5,従業員情報!$B$6:$H$35,4,FALSE))","v":"該当"},{"$f":"IF(ISERROR(VLOOKUP(G5,従業員情報!$B$6:$H$35,4,FALSE)),\"\",VLOOKUP(G5,従業員情報!$B$6:$H$35,4,FALSE))","v":"該当"},{"$f":"IF(ISERROR(VLOOKUP(H5,従業員情報!$B$6:$H$35,4,FALSE)),\"\",VLOOKUP(H5,従業員情報!$B$6:$H$35,4,FALSE))","v":"該当"},{"$f":"IF(ISERROR(VLOOKUP(I5,従業員情報!$B$6:$H$35,4,FALSE)),\"\",VLOOKUP(I5,従業員情報!$B$6:$H$35,4,FALSE))","v":"該当"},{"$f":"IF(ISERROR(VLOOKUP(J5,従業員情報!$B$6:$H$35,4,FALSE)),\"\",VLOOKUP(J5,従業員情報!$B$6:$H$35,4,FALSE))","v":"該当"},{"$f":"IF(ISERROR(VLOOKUP(K5,従業員情報!$B$6:$H$35,4,FALSE)),\"\",VLOOKUP(K5,従業員情報!$B$6:$H$35,4,FALSE))","v":"該当"},{"$f":"IF(ISERROR(VLOOKUP(L5,従業員情報!$B$6:$H$35,4,FALSE)),\"\",VLOOKUP(L5,従業員情報!$B$6:$H$35,4,FALSE))","v":"該当"},{"$f":"IF(ISERROR(VLOOKUP(M5,従業員情報!$B$6:$H$35,4,FALSE)),\"\",VLOOKUP(M5,従業員情報!$B$6:$H$35,4,FALSE))","v":0},{"$f":"IF(ISERROR(VLOOKUP(N5,従業員情報!$B$6:$H$35,4,FALSE)),\"\",VLOOKUP(N5,従業員情報!$B$6:$H$35,4,FALSE))","v":0},{"$f":"IF(ISERROR(VLOOKUP(O5,従業員情報!$B$6:$H$35,4,FALSE)),\"\",VLOOKUP(O5,従業員情報!$B$6:$H$35,4,FALSE))","v":0},{"$f":"IF(ISERROR(VLOOKUP(P5,従業員情報!$B$6:$H$35,4,FALSE)),\"\",VLOOKUP(P5,従業員情報!$B$6:$H$35,4,FALSE))","v":0},{"$f":"IF(ISERROR(VLOOKUP(Q5,従業員情報!$B$6:$H$35,4,FALSE)),\"\",VLOOKUP(Q5,従業員情報!$B$6:$H$35,4,FALSE))","v":0},{"$f":"IF(ISERROR(VLOOKUP(R5,従業員情報!$B$6:$H$35,4,FALSE)),\"\",VLOOKUP(R5,従業員情報!$B$6:$H$35,4,FALSE))","v":0},{"$f":"IF(ISERROR(VLOOKUP(S5,従業員情報!$B$6:$H$35,4,FALSE)),\"\",VLOOKUP(S5,従業員情報!$B$6:$H$35,4,FALSE))","v":0},{"$f":"IF(ISERROR(VLOOKUP(T5,従業員情報!$B$6:$H$35,4,FALSE)),\"\",VLOOKUP(T5,従業員情報!$B$6:$H$35,4,FALSE))","v":0},{"$f":"IF(ISERROR(VLOOKUP(U5,従業員情報!$B$6:$H$35,4,FALSE)),\"\",VLOOKUP(U5,従業員情報!$B$6:$H$35,4,FALSE))","v":0},{"$f":"IF(ISERROR(VLOOKUP(V5,従業員情報!$B$6:$H$35,4,FALSE)),\"\",VLOOKUP(V5,従業員情報!$B$6:$H$35,4,FALSE))","v":0},{"$f":"IF(ISERROR(VLOOKUP(W5,従業員情報!$B$6:$H$35,4,FALSE)),\"\",VLOOKUP(W5,従業員情報!$B$6:$H$35,4,FALSE))","v":0},{"$f":"IF(ISERROR(VLOOKUP(X5,従業員情報!$B$6:$H$35,4,FALSE)),\"\",VLOOKUP(X5,従業員情報!$B$6:$H$35,4,FALSE))","v":0},{"$f":"IF(ISERROR(VLOOKUP(Y5,従業員情報!$B$6:$H$35,4,FALSE)),\"\",VLOOKUP(Y5,従業員情報!$B$6:$H$35,4,FALSE))","v":0},{"$f":"IF(ISERROR(VLOOKUP(Z5,従業員情報!$B$6:$H$35,4,FALSE)),\"\",VLOOKUP(Z5,従業員情報!$B$6:$H$35,4,FALSE))","v":0},{"$f":"IF(ISERROR(VLOOKUP(AA5,従業員情報!$B$6:$H$35,4,FALSE)),\"\",VLOOKUP(AA5,従業員情報!$B$6:$H$35,4,FALSE))","v":0},{"$f":"IF(ISERROR(VLOOKUP(AB5,従業員情報!$B$6:$H$35,4,FALSE)),\"\",VLOOKUP(AB5,従業員情報!$B$6:$H$35,4,FALSE))","v":0},{"$f":"IF(ISERROR(VLOOKUP(AC5,従業員情報!$B$6:$H$35,4,FALSE)),\"\",VLOOKUP(AC5,従業員情報!$B$6:$H$35,4,FALSE))","v":0},{"$f":"IF(ISERROR(VLOOKUP(AD5,従業員情報!$B$6:$H$35,4,FALSE)),\"\",VLOOKUP(AD5,従業員情報!$B$6:$H$35,4,FALSE))","v":0},{"$f":"IF(ISERROR(VLOOKUP(AE5,従業員情報!$B$6:$H$35,4,FALSE)),\"\",VLOOKUP(AE5,従業員情報!$B$6:$H$35,4,FALSE))","v":0},{"$f":"IF(ISERROR(VLOOKUP(AF5,従業員情報!$B$6:$H$35,4,FALSE)),\"\",VLOOKUP(AF5,従業員情報!$B$6:$H$35,4,FALSE))","v":0}]
[null,{"$f":"基本情報!C15","v":"2012-10-01"},null,null,null,240000,30000,320500,null,null,185000,105000,null,null,null,null,null,null,null,null,null,null,null,null,null,null,null,null,null,null,null,null,{"$f":"SUM(C8:AF8)","v":880500}]
[null,{"$f":"EOMONTH(B8,1)","v":"2012-11-30"},null,null,null,232000,50000,310500,null,null,192000,123000,null,null,null,null,null,null,null,null,null,null,null,null,null,null,null,null,null,null,null,null,{"$f":"SUM(C9:AF9)","v":907500}]
[null,{"$f":"EOMONTH(B9,1)","v":"2012-12-31"},null,null,null,235000,40000,310200,null,null,178000,115000,null,null,null,null,null,null,null,null,null,null,null,null,null,null,null,null,null,null,null,null,878200]
[null,"2013-01-31",null,null,null,242000,30000,320300,null,null,192000,178000,null,null,null,null,null,null,null,null,null,null,null,null,null,null,null,null,null,null,null,null,962300]
[null,"2013-02-28",null,null,null,238000,20000,330000,null,null,168000,123500,null,null,null,null,null,null,null,null,null,null,null,null,null,null,null,null,null,null,null,null,879500]
[null,"2013-03-31",null,null,null,229000,50000,380000,null,null,173000,156000,null,null,null,null,null,null,null,null,null,null,null,null,null,null,null,null,null,null,null,null,988000]
[null,"2013-04-30",null,null,null,228000,60000,320000,null,null,169000,165000,null,null,null,null,null,null,null,null,null,null,null,null,null,null,null,null,null,null,null,null,942000]
[null,"2013-05-31",null,null,null,231000,80000,310500,null,null,185000,148000,null,null,null,null,null,null,null,null,null,null,null,null,null,null,null,null,null,null,null,null,954500]
[null,"2013-06-30",null,null,null,240500,70000,300500,null,null,193000,132500,null,null,null,null,null,null,null,null,null,null,null,null,null,null,null,null,null,null,null,null,936500]
[null,"2013-07-31",null,null,null,229000,50000,320000,null,null,178000,180000,null,null,null,null,null,null,null,null,null,null,null,null,null,null,null,null,null,null,null,null,957000]
[null,"2013-08-31",null,null,null,232000,60000,320550,null,null,172000,123000,null,null,null,null,null,null,null,null,null,null,null,null,null,null,null,null,null,null,null,null,907550]
[null,"2013-09-30",null,null,null,239000,80000,320000,null,null,179000,178000,null,null,null,null,null,null,null,null,null,null,null,null,null,null,null,null,null,null,null,null,996000]
[null,"賞与など",null,null,null,250000,20000,250000,null,null,150000,158000,null,null,null,null,null,null,null,null,null,null,null,null,null,null,null,null,null,null,null,null,828000]
[null,"合計",{"$f":"SUM(C8:C20)","v":0},{"$f":"SUM(D8:D20)","v":0},0,3065500,640000,4113050,0,0,2314000,1885000,0,0,0,0,0,0,0,0,0,0,0,0,0,0,0,0,0,0,0,0,12017550]
[]
[]
[null,"２、比較雇用者給与等支給額の入力"]
[null,"Ｎｏ．",1,2,3,4,5,6,7,8,9,10,11,12,13,14,15,16,17,18,19,20,21,22,23,24,25,26,27,28,29,30,"合計","月別継続\n雇用者数"]
[null,"名前",{"$f":"VLOOKUP(C25,従業員情報!$B$6:$C$35,2,FALSE)","v":"今野　友夫"},{"$f":"VLOOKUP(D25,従業員情報!$B$6:$C$35,2,FALSE)","v":"今野　朝子"},{"$f":"VLOOKUP(E25,従業員情報!$B$6:$C$35,2,FALSE)","v":"今野　祥子"},{"$f":"VLOOKUP(F25,従業員情報!$B$6:$C$35,2,FALSE)","v":"川西　めぐみ"},{"$f":"VLOOKUP(G25,従業員情報!$B$6:$C$35,2,FALSE)","v":"鳥居　雅之"},{"$f":"VLOOKUP(H25,従業員情報!$B$6:$C$35,2,FALSE)","v":"絹延橋　みつ子"},{"$f":"VLOOKUP(I25,従業員情報!$B$6:$C$35,2,FALSE)","v":"笹部　菜穂美"},{"$f":"VLOOKUP(J25,従業員情報!$B$6:$C$35,2,FALSE)","v":"山下　典子"},{"$f":"VLOOKUP(K25,従業員情報!$B$6:$C$35,2,FALSE)","v":"畦野　保則"},{"$f":"VLOOKUP(L25,従業員情報!$B$6:$C$35,2,FALSE)","v":"滝山　隆一"},{"$f":"VLOOKUP(M25,従業員情報!$B$6:$C$35,2,FALSE)","v":0},{"$f":"VLOOKUP(N25,従業員情報!$B$6:$C$35,2,FALSE)","v":0},{"$f":"VLOOKUP(O25,従業員情報!$B$6:$C$35,2,FALSE)","v":0},{"$f":"VLOOKUP(P25,従業員情報!$B$6:$C$35,2,FALSE)","v":0},{"$f":"VLOOKUP(Q25,従業員情報!$B$6:$C$35,2,FALSE)","v":0},{"$f":"VLOOKUP(R25,従業員情報!$B$6:$C$35,2,FALSE)","v":0},{"$f":"VLOOKUP(S25,従業員情報!$B$6:$C$35,2,FALSE)","v":0},{"$f":"VLOOKUP(T25,従業員情報!$B$6:$C$35,2,FALSE)","v":0},{"$f":"VLOOKUP(U25,従業員情報!$B$6:$C$35,2,FALSE)","v":0},{"$f":"VLOOKUP(V25,従業員情報!$B$6:$C$35,2,FALSE)","v":0},{"$f":"VLOOKUP(W25,従業員情報!$B$6:$C$35,2,FALSE)","v":0},{"$f":"VLOOKUP(X25,従業員情報!$B$6:$C$35,2,FALSE)","v":0},{"$f":"VLOOKUP(Y25,従業員情報!$B$6:$C$35,2,FALSE)","v":0},{"$f":"VLOOKUP(Z25,従業員情報!$B$6:$C$35,2,FALSE)","v":0},{"$f":"VLOOKUP(AA25,従業員情報!$B$6:$C$35,2,FALSE)","v":0},{"$f":"VLOOKUP(AB25,従業員情報!$B$6:$C$35,2,FALSE)","v":0},{"$f":"VLOOKUP(AC25,従業員情報!$B$6:$C$35,2,FALSE)","v":0},{"$f":"VLOOKUP(AD25,従業員情報!$B$6:$C$35,2,FALSE)","v":0},{"$f":"VLOOKUP(AE25,従業員情報!$B$6:$C$35,2,FALSE)","v":0},{"$f":"VLOOKUP(AF25,従業員情報!$B$6:$C$35,2,FALSE)","v":0},{"$f":"SUM(C27:AF27)","v":0}]
[null,"国内雇用者",{"$f":"IF(ISERROR(VLOOKUP(C25,従業員情報!$B$6:$H$35,4,FALSE)),\"\",VLOOKUP(C25,従業員情報!$B$6:$H$35,4,FALSE))","v":0},{"$f":"IF(ISERROR(VLOOKUP(D25,従業員情報!$B$6:$H$35,4,FALSE)),\"\",VLOOKUP(D25,従業員情報!$B$6:$H$35,4,FALSE))","v":0},{"$f":"IF(ISERROR(VLOOKUP(E25,従業員情報!$B$6:$H$35,4,FALSE)),\"\",VLOOKUP(E25,従業員情報!$B$6:$H$35,4,FALSE))","v":0},{"$f":"IF(ISERROR(VLOOKUP(F25,従業員情報!$B$6:$H$35,4,FALSE)),\"\",VLOOKUP(F25,従業員情報!$B$6:$H$35,4,FALSE))","v":"該当"},{"$f":"IF(ISERROR(VLOOKUP(G25,従業員情報!$B$6:$H$35,4,FALSE)),\"\",VLOOKUP(G25,従業員情報!$B$6:$H$35,4,FALSE))","v":"該当"},{"$f":"IF(ISERROR(VLOOKUP(H25,従業員情報!$B$6:$H$35,4,FALSE)),\"\",VLOOKUP(H25,従業員情報!$B$6:$H$35,4,FALSE))","v":"該当"},{"$f":"IF(ISERROR(VLOOKUP(I25,従業員情報!$B$6:$H$35,4,FALSE)),\"\",VLOOKUP(I25,従業員情報!$B$6:$H$35,4,FALSE))","v":"該当"},{"$f":"IF(ISERROR(VLOOKUP(J25,従業員情報!$B$6:$H$35,4,FALSE)),\"\",VLOOKUP(J25,従業員情報!$B$6:$H$35,4,FALSE))","v":"該当"},{"$f":"IF(ISERROR(VLOOKUP(K25,従業員情報!$B$6:$H$35,4,FALSE)),\"\",VLOOKUP(K25,従業員情報!$B$6:$H$35,4,FALSE))","v":"該当"},{"$f":"IF(ISERROR(VLOOKUP(L25,従業員情報!$B$6:$H$35,4,FALSE)),\"\",VLOOKUP(L25,従業員情報!$B$6:$H$35,4,FALSE))","v":"該当"},{"$f":"IF(ISERROR(VLOOKUP(M25,従業員情報!$B$6:$H$35,4,FALSE)),\"\",VLOOKUP(M25,従業員情報!$B$6:$H$35,4,FALSE))","v":0},{"$f":"IF(ISERROR(VLOOKUP(N25,従業員情報!$B$6:$H$35,4,FALSE)),\"\",VLOOKUP(N25,従業員情報!$B$6:$H$35,4,FALSE))","v":0},{"$f":"IF(ISERROR(VLOOKUP(O25,従業員情報!$B$6:$H$35,4,FALSE)),\"\",VLOOKUP(O25,従業員情報!$B$6:$H$35,4,FALSE))","v":0},{"$f":"IF(ISERROR(VLOOKUP(P25,従業員情報!$B$6:$H$35,4,FALSE)),\"\",VLOOKUP(P25,従業員情報!$B$6:$H$35,4,FALSE))","v":0},{"$f":"IF(ISERROR(VLOOKUP(Q25,従業員情報!$B$6:$H$35,4,FALSE)),\"\",VLOOKUP(Q25,従業員情報!$B$6:$H$35,4,FALSE))","v":0},{"$f":"IF(ISERROR(VLOOKUP(R25,従業員情報!$B$6:$H$35,4,FALSE)),\"\",VLOOKUP(R25,従業員情報!$B$6:$H$35,4,FALSE))","v":0},{"$f":"IF(ISERROR(VLOOKUP(S25,従業員情報!$B$6:$H$35,4,FALSE)),\"\",VLOOKUP(S25,従業員情報!$B$6:$H$35,4,FALSE))","v":0},{"$f":"IF(ISERROR(VLOOKUP(T25,従業員情報!$B$6:$H$35,4,FALSE)),\"\",VLOOKUP(T25,従業員情報!$B$6:$H$35,4,FALSE))","v":0},{"$f":"IF(ISERROR(VLOOKUP(U25,従業員情報!$B$6:$H$35,4,FALSE)),\"\",VLOOKUP(U25,従業員情報!$B$6:$H$35,4,FALSE))","v":0},{"$f":"IF(ISERROR(VLOOKUP(V25,従業員情報!$B$6:$H$35,4,FALSE)),\"\",VLOOKUP(V25,従業員情報!$B$6:$H$35,4,FALSE))","v":0},{"$f":"IF(ISERROR(VLOOKUP(W25,従業員情報!$B$6:$H$35,4,FALSE)),\"\",VLOOKUP(W25,従業員情報!$B$6:$H$35,4,FALSE))","v":0},{"$f":"IF(ISERROR(VLOOKUP(X25,従業員情報!$B$6:$H$35,4,FALSE)),\"\",VLOOKUP(X25,従業員情報!$B$6:$H$35,4,FALSE))","v":0},{"$f":"IF(ISERROR(VLOOKUP(Y25,従業員情報!$B$6:$H$35,4,FALSE)),\"\",VLOOKUP(Y25,従業員情報!$B$6:$H$35,4,FALSE))","v":0},{"$f":"IF(ISERROR(VLOOKUP(Z25,従業員情報!$B$6:$H$35,4,FALSE)),\"\",VLOOKUP(Z25,従業員情報!$B$6:$H$35,4,FALSE))","v":0},{"$f":"IF(ISERROR(VLOOKUP(AA25,従業員情報!$B$6:$H$35,4,FALSE)),\"\",VLOOKUP(AA25,従業員情報!$B$6:$H$35,4,FALSE))","v":0},{"$f":"IF(ISERROR(VLOOKUP(AB25,従業員情報!$B$6:$H$35,4,FALSE)),\"\",VLOOKUP(AB25,従業員情報!$B$6:$H$35,4,FALSE))","v":0},{"$f":"IF(ISERROR(VLOOKUP(AC25,従業員情報!$B$6:$H$35,4,FALSE)),\"\",VLOOKUP(AC25,従業員情報!$B$6:$H$35,4,FALSE))","v":0},{"$f":"IF(ISERROR(VLOOKUP(AD25,従業員情報!$B$6:$H$35,4,FALSE)),\"\",VLOOKUP(AD25,従業員情報!$B$6:$H$35,4,FALSE))","v":0},{"$f":"IF(ISERROR(VLOOKUP(AE25,従業員情報!$B$6:$H$35,4,FALSE)),\"\",VLOOKUP(AE25,従業員情報!$B$6:$H$35,4,FALSE))","v":0},{"$f":"IF(ISERROR(VLOOKUP(AF25,従業員情報!$B$6:$H$35,4,FALSE)),\"\",VLOOKUP(AF25,従業員情報!$B$6:$H$35,4,FALSE))","v":0}]
[null,"継続雇用者",{"$f":"IF(ISERROR(VLOOKUP(C25,従業員情報!$B$6:$M$35,12,FALSE)),\"\",VLOOKUP(C25,従業員情報!$B$6:$M$35,12,FALSE))","v":""},{"$f":"IF(ISERROR(VLOOKUP(D25,従業員情報!$B$6:$M$35,12,FALSE)),\"\",VLOOKUP(D25,従業員情報!$B$6:$M$35,12,FALSE))","v":""},{"$f":"IF(ISERROR(VLOOKUP(E25,従業員情報!$B$6:$M$35,12,FALSE)),\"\",VLOOKUP(E25,従業員情報!$B$6:$M$35,12,FALSE))","v":""},{"$f":"IF(ISERROR(VLOOKUP(F25,従業員情報!$B$6:$M$35,12,FALSE)),\"\",VLOOKUP(F25,従業員情報!$B$6:$M$35,12,FALSE))","v":"該当"},{"$f":"IF(ISERROR(VLOOKUP(G25,従業員情報!$B$6:$M$35,12,FALSE)),\"\",VLOOKUP(G25,従業員情報!$B$6:$M$35,12,FALSE))","v":""},{"$f":"IF(ISERROR(VLOOKUP(H25,従業員情報!$B$6:$M$35,12,FALSE)),\"\",VLOOKUP(H25,従業員情報!$B$6:$M$35,12,FALSE))","v":"該当"},{"$f":"IF(ISERROR(VLOOKUP(I25,従業員情報!$B$6:$M$35,12,FALSE)),\"\",VLOOKUP(I25,従業員情報!$B$6:$M$35,12,FALSE))","v":""},{"$f":"IF(ISERROR(VLOOKUP(J25,従業員情報!$B$6:$M$35,12,FALSE)),\"\",VLOOKUP(J25,従業員情報!$B$6:$M$35,12,FALSE))","v":"該当"},{"$f":"IF(ISERROR(VLOOKUP(K25,従業員情報!$B$6:$M$35,12,FALSE)),\"\",VLOOKUP(K25,従業員情報!$B$6:$M$35,12,FALSE))","v":""},{"$f":"IF(ISERROR(VLOOKUP(L25,従業員情報!$B$6:$M$35,12,FALSE)),\"\",VLOOKUP(L25,従業員情報!$B$6:$M$35,12,FALSE))","v":""},{"$f":"IF(ISERROR(VLOOKUP(M25,従業員情報!$B$6:$M$35,12,FALSE)),\"\",VLOOKUP(M25,従業員情報!$B$6:$M$35,12,FALSE))","v":""},{"$f":"IF(ISERROR(VLOOKUP(N25,従業員情報!$B$6:$M$35,12,FALSE)),\"\",VLOOKUP(N25,従業員情報!$B$6:$M$35,12,FALSE))","v":""},{"$f":"IF(ISERROR(VLOOKUP(O25,従業員情報!$B$6:$M$35,12,FALSE)),\"\",VLOOKUP(O25,従業員情報!$B$6:$M$35,12,FALSE))","v":""},{"$f":"IF(ISERROR(VLOOKUP(P25,従業員情報!$B$6:$M$35,12,FALSE)),\"\",VLOOKUP(P25,従業員情報!$B$6:$M$35,12,FALSE))","v":""},{"$f":"IF(ISERROR(VLOOKUP(Q25,従業員情報!$B$6:$M$35,12,FALSE)),\"\",VLOOKUP(Q25,従業員情報!$B$6:$M$35,12,FALSE))","v":""},{"$f":"IF(ISERROR(VLOOKUP(R25,従業員情報!$B$6:$M$35,12,FALSE)),\"\",VLOOKUP(R25,従業員情報!$B$6:$M$35,12,FALSE))","v":""},{"$f":"IF(ISERROR(VLOOKUP(S25,従業員情報!$B$6:$M$35,12,FALSE)),\"\",VLOOKUP(S25,従業員情報!$B$6:$M$35,12,FALSE))","v":""},{"$f":"IF(ISERROR(VLOOKUP(T25,従業員情報!$B$6:$M$35,12,FALSE)),\"\",VLOOKUP(T25,従業員情報!$B$6:$M$35,12,FALSE))","v":""},{"$f":"IF(ISERROR(VLOOKUP(U25,従業員情報!$B$6:$M$35,12,FALSE)),\"\",VLOOKUP(U25,従業員情報!$B$6:$M$35,12,FALSE))","v":""},{"$f":"IF(ISERROR(VLOOKUP(V25,従業員情報!$B$6:$M$35,12,FALSE)),\"\",VLOOKUP(V25,従業員情報!$B$6:$M$35,12,FALSE))","v":""},{"$f":"IF(ISERROR(VLOOKUP(W25,従業員情報!$B$6:$M$35,12,FALSE)),\"\",VLOOKUP(W25,従業員情報!$B$6:$M$35,12,FALSE))","v":""},{"$f":"IF(ISERROR(VLOOKUP(X25,従業員情報!$B$6:$M$35,12,FALSE)),\"\",VLOOKUP(X25,従業員情報!$B$6:$M$35,12,FALSE))","v":""},{"$f":"IF(ISERROR(VLOOKUP(Y25,従業員情報!$B$6:$M$35,12,FALSE)),\"\",VLOOKUP(Y25,従業員情報!$B$6:$M$35,12,FALSE))","v":""},{"$f":"IF(ISERROR(VLOOKUP(Z25,従業員情報!$B$6:$M$35,12,FALSE)),\"\",VLOOKUP(Z25,従業員情報!$B$6:$M$35,12,FALSE))","v":""},{"$f":"IF(ISERROR(VLOOKUP(AA25,従業員情報!$B$6:$M$35,12,FALSE)),\"\",VLOOKUP(AA25,従業員情報!$B$6:$M$35,12,FALSE))","v":""},{"$f":"IF(ISERROR(VLOOKUP(AB25,従業員情報!$B$6:$M$35,12,FALSE)),\"\",VLOOKUP(AB25,従業員情報!$B$6:$M$35,12,FALSE))","v":""},{"$f":"IF(ISERROR(VLOOKUP(AC25,従業員情報!$B$6:$M$35,12,FALSE)),\"\",VLOOKUP(AC25,従業員情報!$B$6:$M$35,12,FALSE))","v":""},{"$f":"IF(ISERROR(VLOOKUP(AD25,従業員情報!$B$6:$M$35,12,FALSE)),\"\",VLOOKUP(AD25,従業員情報!$B$6:$M$35,12,FALSE))","v":""},{"$f":"IF(ISERROR(VLOOKUP(AE25,従業員情報!$B$6:$M$35,12,FALSE)),\"\",VLOOKUP(AE25,従業員情報!$B$6:$M$35,12,FALSE))","v":""},{"$f":"IF(ISERROR(VLOOKUP(AF25,従業員情報!$B$6:$M$35,12,FALSE)),\"\",VLOOKUP(AF25,従業員情報!$B$6:$M$35,12,FALSE))","v":""}]
[null,"被保険者開始月",{"$f":"IF(ISERROR(VLOOKUP(C25,従業員情報!$B$6:$M$35,10,FALSE)),\"\",VLOOKUP(C25,従業員情報!$B$6:$M$35,10,FALSE))","v":""},{"$f":"IF(ISERROR(VLOOKUP(D25,従業員情報!$B$6:$M$35,10,FALSE)),\"\",VLOOKUP(D25,従業員情報!$B$6:$M$35,10,FALSE))","v":""},{"$f":"IF(ISERROR(VLOOKUP(E25,従業員情報!$B$6:$M$35,10,FALSE)),\"\",VLOOKUP(E25,従業員情報!$B$6:$M$35,10,FALSE))","v":""},{"$f":"IF(ISERROR(VLOOKUP(F25,従業員情報!$B$6:$M$35,10,FALSE)),\"\",VLOOKUP(F25,従業員情報!$B$6:$M$35,10,FALSE))","v":"2014-10-01"},{"$f":"IF(ISERROR(VLOOKUP(G25,従業員情報!$B$6:$M$35,10,FALSE)),\"\",VLOOKUP(G25,従業員情報!$B$6:$M$35,10,FALSE))","v":""},{"$f":"IF(ISERROR(VLOOKUP(H25,従業員情報!$B$6:$M$35,10,FALSE)),\"\",VLOOKUP(H25,従業員情報!$B$6:$M$35,10,FALSE))","v":"2014-10-01"},{"$f":"IF(ISERROR(VLOOKUP(I25,従業員情報!$B$6:$M$35,10,FALSE)),\"\",VLOOKUP(I25,従業員情報!$B$6:$M$35,10,FALSE))","v":"2016-06-30"},{"$f":"IF(ISERROR(VLOOKUP(J25,従業員情報!$B$6:$M$35,10,FALSE)),\"\",VLOOKUP(J25,従業員情報!$B$6:$M$35,10,FALSE))","v":"2014-11-30"},{"$f":"IF(ISERROR(VLOOKUP(K25,従業員情報!$B$6:$M$35,10,FALSE)),\"\",VLOOKUP(K25,従業員情報!$B$6:$M$35,10,FALSE))","v":"2014-10-01"},{"$f":"IF(ISERROR(VLOOKUP(L25,従業員情報!$B$6:$M$35,10,FALSE)),\"\",VLOOKUP(L25,従業員情報!$B$6:$M$35,10,FALSE))","v":"2014-10-01"},{"$f":"IF(ISERROR(VLOOKUP(M25,従業員情報!$B$6:$M$35,10,FALSE)),\"\",VLOOKUP(M25,従業員情報!$B$6:$M$35,10,FALSE))","v":""},{"$f":"IF(ISERROR(VLOOKUP(N25,従業員情報!$B$6:$M$35,10,FALSE)),\"\",VLOOKUP(N25,従業員情報!$B$6:$M$35,10,FALSE))","v":""},{"$f":"IF(ISERROR(VLOOKUP(O25,従業員情報!$B$6:$M$35,10,FALSE)),\"\",VLOOKUP(O25,従業員情報!$B$6:$M$35,10,FALSE))","v":""},{"$f":"IF(ISERROR(VLOOKUP(P25,従業員情報!$B$6:$M$35,10,FALSE)),\"\",VLOOKUP(P25,従業員情報!$B$6:$M$35,10,FALSE))","v":""},{"$f":"IF(ISERROR(VLOOKUP(Q25,従業員情報!$B$6:$M$35,10,FALSE)),\"\",VLOOKUP(Q25,従業員情報!$B$6:$M$35,10,FALSE))","v":""},{"$f":"IF(ISERROR(VLOOKUP(R25,従業員情報!$B$6:$M$35,10,FALSE)),\"\",VLOOKUP(R25,従業員情報!$B$6:$M$35,10,FALSE))","v":""},{"$f":"IF(ISERROR(VLOOKUP(S25,従業員情報!$B$6:$M$35,10,FALSE)),\"\",VLOOKUP(S25,従業員情報!$B$6:$M$35,10,FALSE))","v":""},{"$f":"IF(ISERROR(VLOOKUP(T25,従業員情報!$B$6:$M$35,10,FALSE)),\"\",VLOOKUP(T25,従業員情報!$B$6:$M$35,10,FALSE))","v":""},{"$f":"IF(ISERROR(VLOOKUP(U25,従業員情報!$B$6:$M$35,10,FALSE)),\"\",VLOOKUP(U25,従業員情報!$B$6:$M$35,10,FALSE))","v":""},{"$f":"IF(ISERROR(VLOOKUP(V25,従業員情報!$B$6:$M$35,10,FALSE)),\"\",VLOOKUP(V25,従業員情報!$B$6:$M$35,10,FALSE))","v":""},{"$f":"IF(ISERROR(VLOOKUP(W25,従業員情報!$B$6:$M$35,10,FALSE)),\"\",VLOOKUP(W25,従業員情報!$B$6:$M$35,10,FALSE))","v":""},{"$f":"IF(ISERROR(VLOOKUP(X25,従業員情報!$B$6:$M$35,10,FALSE)),\"\",VLOOKUP(X25,従業員情報!$B$6:$M$35,10,FALSE))","v":""},{"$f":"IF(ISERROR(VLOOKUP(Y25,従業員情報!$B$6:$M$35,10,FALSE)),\"\",VLOOKUP(Y25,従業員情報!$B$6:$M$35,10,FALSE))","v":""},{"$f":"IF(ISERROR(VLOOKUP(Z25,従業員情報!$B$6:$M$35,10,FALSE)),\"\",VLOOKUP(Z25,従業員情報!$B$6:$M$35,10,FALSE))","v":""},{"$f":"IF(ISERROR(VLOOKUP(AA25,従業員情報!$B$6:$M$35,10,FALSE)),\"\",VLOOKUP(AA25,従業員情報!$B$6:$M$35,10,FALSE))","v":""},{"$f":"IF(ISERROR(VLOOKUP(AB25,従業員情報!$B$6:$M$35,10,FALSE)),\"\",VLOOKUP(AB25,従業員情報!$B$6:$M$35,10,FALSE))","v":""},{"$f":"IF(ISERROR(VLOOKUP(AC25,従業員情報!$B$6:$M$35,10,FALSE)),\"\",VLOOKUP(AC25,従業員情報!$B$6:$M$35,10,FALSE))","v":""},{"$f":"IF(ISERROR(VLOOKUP(AD25,従業員情報!$B$6:$M$35,10,FALSE)),\"\",VLOOKUP(AD25,従業員情報!$B$6:$M$35,10,FALSE))","v":""},{"$f":"IF(ISERROR(VLOOKUP(AE25,従業員情報!$B$6:$M$35,10,FALSE)),\"\",VLOOKUP(AE25,従業員情報!$B$6:$M$35,10,FALSE))","v":""},{"$f":"IF(ISERROR(VLOOKUP(AF25,従業員情報!$B$6:$M$35,10,FALSE)),\"\",VLOOKUP(AF25,従業員情報!$B$6:$M$35,10,FALSE))","v":""}]
[null,"被保険者終了月",{"$f":"IF(ISERROR(VLOOKUP(C25,従業員情報!$B$6:$M$35,11,FALSE)),\"\",VLOOKUP(C25,従業員情報!$B$6:$M$35,11,FALSE))","v":""},{"$f":"IF(ISERROR(VLOOKUP(D25,従業員情報!$B$6:$M$35,11,FALSE)),\"\",VLOOKUP(D25,従業員情報!$B$6:$M$35,11,FALSE))","v":""},{"$f":"IF(ISERROR(VLOOKUP(E25,従業員情報!$B$6:$M$35,11,FALSE)),\"\",VLOOKUP(E25,従業員情報!$B$6:$M$35,11,FALSE))","v":""},{"$f":"IF(ISERROR(VLOOKUP(F25,従業員情報!$B$6:$M$35,11,FALSE)),\"\",VLOOKUP(F25,従業員情報!$B$6:$M$35,11,FALSE))","v":"2016-09-30"},{"$f":"IF(ISERROR(VLOOKUP(G25,従業員情報!$B$6:$M$35,11,FALSE)),\"\",VLOOKUP(G25,従業員情報!$B$6:$M$35,11,FALSE))","v":""},{"$f":"IF(ISERROR(VLOOKUP(H25,従業員情報!$B$6:$M$35,11,FALSE)),\"\",VLOOKUP(H25,従業員情報!$B$6:$M$35,11,FALSE))","v":"2016-07-31"},{"$f":"IF(ISERROR(VLOOKUP(I25,従業員情報!$B$6:$M$35,11,FALSE)),\"\",VLOOKUP(I25,従業員情報!$B$6:$M$35,11,FALSE))","v":"2016-09-30"},{"$f":"IF(ISERROR(VLOOKUP(J25,従業員情報!$B$6:$M$35,11,FALSE)),\"\",VLOOKUP(J25,従業員情報!$B$6:$M$35,11,FALSE))","v":"2016-09-30"},{"$f":"IF(ISERROR(VLOOKUP(K25,従業員情報!$B$6:$M$35,11,FALSE)),\"\",VLOOKUP(K25,従業員情報!$B$6:$M$35,11,FALSE))","v":"2015-06-30"},{"$f":"IF(ISERROR(VLOOKUP(L25,従業員情報!$B$6:$M$35,11,FALSE)),\"\",VLOOKUP(L25,従業員情報!$B$6:$M$35,11,FALSE))","v":""},{"$f":"IF(ISERROR(VLOOKUP(M25,従業員情報!$B$6:$M$35,11,FALSE)),\"\",VLOOKUP(M25,従業員情報!$B$6:$M$35,11,FALSE))","v":""},{"$f":"IF(ISERROR(VLOOKUP(N25,従業員情報!$B$6:$M$35,11,FALSE)),\"\",VLOOKUP(N25,従業員情報!$B$6:$M$35,11,FALSE))","v":""},{"$f":"IF(ISERROR(VLOOKUP(O25,従業員情報!$B$6:$M$35,11,FALSE)),\"\",VLOOKUP(O25,従業員情報!$B$6:$M$35,11,FALSE))","v":""},{"$f":"IF(ISERROR(VLOOKUP(P25,従業員情報!$B$6:$M$35,11,FALSE)),\"\",VLOOKUP(P25,従業員情報!$B$6:$M$35,11,FALSE))","v":""},{"$f":"IF(ISERROR(VLOOKUP(Q25,従業員情報!$B$6:$M$35,11,FALSE)),\"\",VLOOKUP(Q25,従業員情報!$B$6:$M$35,11,FALSE))","v":""},{"$f":"IF(ISERROR(VLOOKUP(R25,従業員情報!$B$6:$M$35,11,FALSE)),\"\",VLOOKUP(R25,従業員情報!$B$6:$M$35,11,FALSE))","v":""},{"$f":"IF(ISERROR(VLOOKUP(S25,従業員情報!$B$6:$M$35,11,FALSE)),\"\",VLOOKUP(S25,従業員情報!$B$6:$M$35,11,FALSE))","v":""},{"$f":"IF(ISERROR(VLOOKUP(T25,従業員情報!$B$6:$M$35,11,FALSE)),\"\",VLOOKUP(T25,従業員情報!$B$6:$M$35,11,FALSE))","v":""},{"$f":"IF(ISERROR(VLOOKUP(U25,従業員情報!$B$6:$M$35,11,FALSE)),\"\",VLOOKUP(U25,従業員情報!$B$6:$M$35,11,FALSE))","v":""},{"$f":"IF(ISERROR(VLOOKUP(V25,従業員情報!$B$6:$M$35,11,FALSE)),\"\",VLOOKUP(V25,従業員情報!$B$6:$M$35,11,FALSE))","v":""},{"$f":"IF(ISERROR(VLOOKUP(W25,従業員情報!$B$6:$M$35,11,FALSE)),\"\",VLOOKUP(W25,従業員情報!$B$6:$M$35,11,FALSE))","v":""},{"$f":"IF(ISERROR(VLOOKUP(X25,従業員情報!$B$6:$M$35,11,FALSE)),\"\",VLOOKUP(X25,従業員情報!$B$6:$M$35,11,FALSE))","v":""},{"$f":"IF(ISERROR(VLOOKUP(Y25,従業員情報!$B$6:$M$35,11,FALSE)),\"\",VLOOKUP(Y25,従業員情報!$B$6:$M$35,11,FALSE))","v":""},{"$f":"IF(ISERROR(VLOOKUP(Z25,従業員情報!$B$6:$M$35,11,FALSE)),\"\",VLOOKUP(Z25,従業員情報!$B$6:$M$35,11,FALSE))","v":""},{"$f":"IF(ISERROR(VLOOKUP(AA25,従業員情報!$B$6:$M$35,11,FALSE)),\"\",VLOOKUP(AA25,従業員情報!$B$6:$M$35,11,FALSE))","v":""},{"$f":"IF(ISERROR(VLOOKUP(AB25,従業員情報!$B$6:$M$35,11,FALSE)),\"\",VLOOKUP(AB25,従業員情報!$B$6:$M$35,11,FALSE))","v":""},{"$f":"IF(ISERROR(VLOOKUP(AC25,従業員情報!$B$6:$M$35,11,FALSE)),\"\",VLOOKUP(AC25,従業員情報!$B$6:$M$35,11,FALSE))","v":""},{"$f":"IF(ISERROR(VLOOKUP(AD25,従業員情報!$B$6:$M$35,11,FALSE)),\"\",VLOOKUP(AD25,従業員情報!$B$6:$M$35,11,FALSE))","v":""},{"$f":"IF(ISERROR(VLOOKUP(AE25,従業員情報!$B$6:$M$35,11,FALSE)),\"\",VLOOKUP(AE25,従業員情報!$B$6:$M$35,11,FALSE))","v":""},{"$f":"IF(ISERROR(VLOOKUP(AF25,従業員情報!$B$6:$M$35,11,FALSE)),\"\",VLOOKUP(AF25,従業員情報!$B$6:$M$35,11,FALSE))","v":""}]
[null,"退職／継続雇用",{"$f":"IF(VLOOKUP(C25,従業員情報!$B$6:$M$35,8,FALSE)=\"\",\"\",VLOOKUP(C25,従業員情報!$B$6:$M$35,8,FALSE))","v":""},{"$f":"IF(VLOOKUP(D25,従業員情報!$B$6:$M$35,8,FALSE)=\"\",\"\",VLOOKUP(D25,従業員情報!$B$6:$M$35,8,FALSE))","v":""},{"$f":"IF(VLOOKUP(E25,従業員情報!$B$6:$M$35,8,FALSE)=\"\",\"\",VLOOKUP(E25,従業員情報!$B$6:$M$35,8,FALSE))","v":""},{"$f":"IF(VLOOKUP(F25,従業員情報!$B$6:$M$35,8,FALSE)=\"\",\"\",VLOOKUP(F25,従業員情報!$B$6:$M$35,8,FALSE))","v":""},{"$f":"IF(VLOOKUP(G25,従業員情報!$B$6:$M$35,8,FALSE)=\"\",\"\",VLOOKUP(G25,従業員情報!$B$6:$M$35,8,FALSE))","v":""},{"$f":"IF(VLOOKUP(H25,従業員情報!$B$6:$M$35,8,FALSE)=\"\",\"\",VLOOKUP(H25,従業員情報!$B$6:$M$35,8,FALSE))","v":"退職"},{"$f":"IF(VLOOKUP(I25,従業員情報!$B$6:$M$35,8,FALSE)=\"\",\"\",VLOOKUP(I25,従業員情報!$B$6:$M$35,8,FALSE))","v":""},{"$f":"IF(VLOOKUP(J25,従業員情報!$B$6:$M$35,8,FALSE)=\"\",\"\",VLOOKUP(J25,従業員情報!$B$6:$M$35,8,FALSE))","v":""},{"$f":"IF(VLOOKUP(K25,従業員情報!$B$6:$M$35,8,FALSE)=\"\",\"\",VLOOKUP(K25,従業員情報!$B$6:$M$35,8,FALSE))","v":"継続雇用制度に移行"},{"$f":"IF(VLOOKUP(L25,従業員情報!$B$6:$M$35,8,FALSE)=\"\",\"\",VLOOKUP(L25,従業員情報!$B$6:$M$35,8,FALSE))","v":"継続雇用制度に移行"},{"$f":"IF(VLOOKUP(M25,従業員情報!$B$6:$M$35,8,FALSE)=\"\",\"\",VLOOKUP(M25,従業員情報!$B$6:$M$35,8,FALSE))","v":""},{"$f":"IF(VLOOKUP(N25,従業員情報!$B$6:$M$35,8,FALSE)=\"\",\"\",VLOOKUP(N25,従業員情報!$B$6:$M$35,8,FALSE))","v":""},{"$f":"IF(VLOOKUP(O25,従業員情報!$B$6:$M$35,8,FALSE)=\"\",\"\",VLOOKUP(O25,従業員情報!$B$6:$M$35,8,FALSE))","v":""},{"$f":"IF(VLOOKUP(P25,従業員情報!$B$6:$M$35,8,FALSE)=\"\",\"\",VLOOKUP(P25,従業員情報!$B$6:$M$35,8,FALSE))","v":""},{"$f":"IF(VLOOKUP(Q25,従業員情報!$B$6:$M$35,8,FALSE)=\"\",\"\",VLOOKUP(Q25,従業員情報!$B$6:$M$35,8,FALSE))","v":""},{"$f":"IF(VLOOKUP(R25,従業員情報!$B$6:$M$35,8,FALSE)=\"\",\"\",VLOOKUP(R25,従業員情報!$B$6:$M$35,8,FALSE))","v":""},{"$f":"IF(VLOOKUP(S25,従業員情報!$B$6:$M$35,8,FALSE)=\"\",\"\",VLOOKUP(S25,従業員情報!$B$6:$M$35,8,FALSE))","v":""},{"$f":"IF(VLOOKUP(T25,従業員情報!$B$6:$M$35,8,FALSE)=\"\",\"\",VLOOKUP(T25,従業員情報!$B$6:$M$35,8,FALSE))","v":""},{"$f":"IF(VLOOKUP(U25,従業員情報!$B$6:$M$35,8,FALSE)=\"\",\"\",VLOOKUP(U25,従業員情報!$B$6:$M$35,8,FALSE))","v":""},{"$f":"IF(VLOOKUP(V25,従業員情報!$B$6:$M$35,8,FALSE)=\"\",\"\",VLOOKUP(V25,従業員情報!$B$6:$M$35,8,FALSE))","v":""},{"$f":"IF(VLOOKUP(W25,従業員情報!$B$6:$M$35,8,FALSE)=\"\",\"\",VLOOKUP(W25,従業員情報!$B$6:$M$35,8,FALSE))","v":""},{"$f":"IF(VLOOKUP(X25,従業員情報!$B$6:$M$35,8,FALSE)=\"\",\"\",VLOOKUP(X25,従業員情報!$B$6:$M$35,8,FALSE))","v":""},{"$f":"IF(VLOOKUP(Y25,従業員情報!$B$6:$M$35,8,FALSE)=\"\",\"\",VLOOKUP(Y25,従業員情報!$B$6:$M$35,8,FALSE))","v":""},{"$f":"IF(VLOOKUP(Z25,従業員情報!$B$6:$M$35,8,FALSE)=\"\",\"\",VLOOKUP(Z25,従業員情報!$B$6:$M$35,8,FALSE))","v":""},{"$f":"IF(VLOOKUP(AA25,従業員情報!$B$6:$M$35,8,FALSE)=\"\",\"\",VLOOKUP(AA25,従業員情報!$B$6:$M$35,8,FALSE))","v":""},{"$f":"IF(VLOOKUP(AB25,従業員情報!$B$6:$M$35,8,FALSE)=\"\",\"\",VLOOKUP(AB25,従業員情報!$B$6:$M$35,8,FALSE))","v":""},{"$f":"IF(VLOOKUP(AC25,従業員情報!$B$6:$M$35,8,FALSE)=\"\",\"\",VLOOKUP(AC25,従業員情報!$B$6:$M$35,8,FALSE))","v":""},{"$f":"IF(VLOOKUP(AD25,従業員情報!$B$6:$M$35,8,FALSE)=\"\",\"\",VLOOKUP(AD25,従業員情報!$B$6:$M$35,8,FALSE))","v":""},{"$f":"IF(VLOOKUP(AE25,従業員情報!$B$6:$M$35,8,FALSE)=\"\",\"\",VLOOKUP(AE25,従業員情報!$B$6:$M$35,8,FALSE))","v":""},{"$f":"IF(VLOOKUP(AF25,従業員情報!$B$6:$M$35,8,FALSE)=\"\",\"\",VLOOKUP(AF25,従業員情報!$B$6:$M$35,8,FALSE))","v":""}]
[null,"退職日",{"$f":"IF(C27<>\"該当\",\"\",IF(C31=\"退職\",C30,$B$45+1))","v":""},{"$f":"IF(D27<>\"該当\",\"\",IF(D31=\"退職\",D30,$B$45+1))","v":""},"","2015-10-01","2015-10-01","2016-07-31","2015-10-01","2015-10-01","2015-10-01","2015-10-01","","","","","","","","","","","","","","","","","","","",""]
[null,"継続雇用開始",{"$f":"IF(C27<>\"該当\",\"\",IF(C31=\"継続雇用制度に移行\",C30+1,$B$45+1))","v":""},{"$f":"IF(D27<>\"該当\",\"\",IF(D31=\"継続雇用制度に移行\",D30+1,$B$45+1))","v":""},"","2015-10-01","2015-10-01","2015-10-01","2015-10-01","2015-10-01","2015-07-01",{"$error":"#VALUE!"},"","","","","","","","","","","","","","","","","","","",""]
[null,{"$f":"基本情報!G11","v":"2014-10-01"},null,null,null,220000,30000,230500,null,null,172000,165000,null,null,null,null,null,null,null,null,null,null,null,null,null,null,null,null,null,null,null,null,{"$f":"SUM(C34:AF34)","v":817500},{"$f":"COUNTIFS(C$28:AF$28,\"該当\",C34:AF34,\">0\",C$33:AF$33,\">\"&B34)","v":2}]
[null,{"$f":"EOMONTH(B34,1)","v":"2014-11-30"},null,null,null,232000,50000,237000,null,null,168000,183000,null,null,null,null,null,null,null,null,null,null,null,null,null,null,null,null,null,null,null,null,{"$f":"SUM(C35:AF35)","v":870000},{"$f":"COUNTIFS(C$28:AF$28,\"該当\",C35:AF35,\">0\",C$33:AF$33,\">\"&B35)","v":2}]
[null,{"$f":"EOMONTH(B35,1)","v":"2014-12-31"},null,null,null,235000,40000,230500,null,null,152000,156000,null,null,null,null,null,null,null,null,null,null,null,null,null,null,null,null,null,null,null,null,813500,2]
[null,"2015-01-31",null,null,null,222000,30000,280300,null,null,193000,156000,null,null,null,null,null,null,null,null,null,null,null,null,null,null,null,null,null,null,null,null,881300,2]
[null,"2015-02-28",null,null,null,238000,10000,290200,null,168000,168000,172000,null,null,null,null,null,null,null,null,null,null,null,null,null,null,null,null,null,null,null,null,1046200,3]
[null,"2015-03-31",null,null,null,229000,50000,290500,null,172000,121000,182000,null,null,null,null,null,null,null,null,null,null,null,null,null,null,null,null,null,null,null,null,1044500,3]
[null,"2015-04-30",null,null,null,228000,60000,280000,null,168000,158000,152500,null,null,null,null,null,null,null,null,null,null,null,null,null,null,null,null,null,null,null,null,1046500,3]
[null,"2015-05-31",null,null,null,231000,80000,275600,null,198000,168000,132000,null,null,null,null,null,null,null,null,null,null,null,null,null,null,null,null,null,null,null,null,1084600,3]
[null,"2015-06-30",null,null,null,240500,20000,null,null,172000,189000,85000,null,null,null,null,null,null,null,null,null,null,null,null,null,null,null,null,null,null,null,null,706500,2]
[null,"2015-07-31",null,null,null,259000,50000,null,null,182000,192000,93000,null,null,null,null,null,null,null,null,null,null,null,null,null,null,null,null,null,null,null,null,776000,2]
[null,"2015-08-31",null,null,null,232000,60000,null,null,168000,179000,54000,null,null,null,null,null,null,null,null,null,null,null,null,null,null,null,null,null,null,null,null,693000,2]
[null,"2015-09-30",null,null,null,219000,80000,null,null,199000,189000,null,null,null,null,null,null,null,null,null,null,null,null,null,null,null,null,null,null,null,null,null,687000,2]
[null,"賞与など（雇用保険加入者）",null,null,null,250000,null,null,null,100000,null,null,null,null,null,null,null,null,null,null,null,null,null,null,null,null,null,null,null,null,null,null,350000]
[null,"賞与など（継続雇用制度）",null,null,null,null,null,null,null,null,null,null,null,null,null,null,null,null,null,null,null,null,null,null,null,null,null,null,null,null,null,null,0]
[null,"賞与など（雇用保険非加入者）",null,null,null,null,20000,null,null,null,null,null,null,null,null,null,null,null,null,null,null,null,null,null,null,null,null,null,null,null,null,null,20000]
[null,"合計",{"$f":"SUM(C34:C48)","v":0},{"$f":"SUM(D34:D48)","v":0},0,3035500,580000,2114600,0,1527000,2049000,1530500,0,0,0,0,0,0,0,0,0,0,0,0,0,0,0,0,0,0,0,0,{"$f":"SUM(AG34:AG48)","v":10836600},{"$f":"SUM(AH34:AH48)","v":28}]
[null,"うち継続雇用者の給与",{"$f":"IF(C28=\"該当\",SUM(C34:C45)+C46+C47,0)","v":0},{"$f":"IF(D28=\"該当\",SUM(D34:D45)+D46+D47,0)","v":0},0,3035500,0,2114600,0,1527000,0,0,0,0,0,0,0,0,0,0,0,0,0,0,0,0,0,0,0,0,0,0,{"$f":"SUM(C50:AF50)","v":6677100}]
[null,"うち継続雇用制度対象者の給与",{"$f":"IF(C28=\"該当\",SUMIFS(C34:C45,$B34:$B45,\">=\"&C33)+C47,0)","v":0},{"$f":"IF(D28=\"該当\",SUMIFS(D34:D45,$B34:$B45,\">=\"&D33)+D47,0)","v":0},0,0,0,0,0,0,0,0,0,0,0,0,0,0,0,0,0,0,0,0,0,0,0,0,0,0,0,0,{"$f":"SUM(C51:AF51)","v":0}]
[]
[null,"３、（適用年度）雇用者給与等支給額の入力"]
[null,"Ｎｏ．",1,2,3,4,5,6,7,8,9,10,11,12,13,14,15,16,17,18,19,20,21,22,23,24,25,26,27,28,29,30,"合計","月別継続\n雇用者数"]
[null,"名前",{"$f":"VLOOKUP(C54,従業員情報!$B$6:$C$35,2,FALSE)","v":"今野　友夫"},{"$f":"VLOOKUP(D54,従業員情報!$B$6:$C$35,2,FALSE)","v":"今野　朝子"},{"$f":"VLOOKUP(E54,従業員情報!$B$6:$C$35,2,FALSE)","v":"今野　祥子"},{"$f":"VLOOKUP(F54,従業員情報!$B$6:$C$35,2,FALSE)","v":"川西　めぐみ"},{"$f":"VLOOKUP(G54,従業員情報!$B$6:$C$35,2,FALSE)","v":"鳥居　雅之"},{"$f":"VLOOKUP(H54,従業員情報!$B$6:$C$35,2,FALSE)","v":"絹延橋　みつ子"},{"$f":"VLOOKUP(I54,従業員情報!$B$6:$C$35,2,FALSE)","v":"笹部　菜穂美"},{"$f":"VLOOKUP(J54,従業員情報!$B$6:$C$35,2,FALSE)","v":"山下　典子"},{"$f":"VLOOKUP(K54,従業員情報!$B$6:$C$35,2,FALSE)","v":"畦野　保則"},{"$f":"VLOOKUP(L54,従業員情報!$B$6:$C$35,2,FALSE)","v":"滝山　隆一"},{"$f":"VLOOKUP(M54,従業員情報!$B$6:$C$35,2,FALSE)","v":0},{"$f":"VLOOKUP(N54,従業員情報!$B$6:$C$35,2,FALSE)","v":0},{"$f":"VLOOKUP(O54,従業員情報!$B$6:$C$35,2,FALSE)","v":0},{"$f":"VLOOKUP(P54,従業員情報!$B$6:$C$35,2,FALSE)","v":0},{"$f":"VLOOKUP(Q54,従業員情報!$B$6:$C$35,2,FALSE)","v":0},{"$f":"VLOOKUP(R54,従業員情報!$B$6:$C$35,2,FALSE)","v":0},{"$f":"VLOOKUP(S54,従業員情報!$B$6:$C$35,2,FALSE)","v":0},{"$f":"VLOOKUP(T54,従業員情報!$B$6:$C$35,2,FALSE)","v":0},{"$f":"VLOOKUP(U54,従業員情報!$B$6:$C$35,2,FALSE)","v":0},{"$f":"VLOOKUP(V54,従業員情報!$B$6:$C$35,2,FALSE)","v":0},{"$f":"VLOOKUP(W54,従業員情報!$B$6:$C$35,2,FALSE)","v":0},{"$f":"VLOOKUP(X54,従業員情報!$B$6:$C$35,2,FALSE)","v":0},{"$f":"VLOOKUP(Y54,従業員情報!$B$6:$C$35,2,FALSE)","v":0},{"$f":"VLOOKUP(Z54,従業員情報!$B$6:$C$35,2,FALSE)","v":0},{"$f":"VLOOKUP(AA54,従業員情報!$B$6:$C$35,2,FALSE)","v":0},{"$f":"VLOOKUP(AB54,従業員情報!$B$6:$C$35,2,FALSE)","v":0},{"$f":"VLOOKUP(AC54,従業員情報!$B$6:$C$35,2,FALSE)","v":0},{"$f":"VLOOKUP(AD54,従業員情報!$B$6:$C$35,2,FALSE)","v":0},{"$f":"VLOOKUP(AE54,従業員情報!$B$6:$C$35,2,FALSE)","v":0},{"$f":"VLOOKUP(AF54,従業員情報!$B$6:$C$35,2,FALSE)","v":0},{"$f":"SUM(C56:AF56)","v":0}]
[null,"国内雇用者",{"$f":"IF(ISERROR(VLOOKUP(C54,従業員情報!$B$6:$H$35,4,FALSE)),\"\",VLOOKUP(C54,従業員情報!$B$6:$H$35,4,FALSE))","v":0},{"$f":"IF(ISERROR(VLOOKUP(D54,従業員情報!$B$6:$H$35,4,FALSE)),\"\",VLOOKUP(D54,従業員情報!$B$6:$H$35,4,FALSE))","v":0},{"$f":"IF(ISERROR(VLOOKUP(E54,従業員情報!$B$6:$H$35,4,FALSE)),\"\",VLOOKUP(E54,従業員情報!$B$6:$H$35,4,FALSE))","v":0},{"$f":"IF(ISERROR(VLOOKUP(F54,従業員情報!$B$6:$H$35,4,FALSE)),\"\",VLOOKUP(F54,従業員情報!$B$6:$H$35,4,FALSE))","v":"該当"},{"$f":"IF(ISERROR(VLOOKUP(G54,従業員情報!$B$6:$H$35,4,FALSE)),\"\",VLOOKUP(G54,従業員情報!$B$6:$H$35,4,FALSE))","v":"該当"},{"$f":"IF(ISERROR(VLOOKUP(H54,従業員情報!$B$6:$H$35,4,FALSE)),\"\",VLOOKUP(H54,従業員情報!$B$6:$H$35,4,FALSE))","v":"該当"},{"$f":"IF(ISERROR(VLOOKUP(I54,従業員情報!$B$6:$H$35,4,FALSE)),\"\",VLOOKUP(I54,従業員情報!$B$6:$H$35,4,FALSE))","v":"該当"},{"$f":"IF(ISERROR(VLOOKUP(J54,従業員情報!$B$6:$H$35,4,FALSE)),\"\",VLOOKUP(J54,従業員情報!$B$6:$H$35,4,FALSE))","v":"該当"},{"$f":"IF(ISERROR(VLOOKUP(K54,従業員情報!$B$6:$H$35,4,FALSE)),\"\",VLOOKUP(K54,従業員情報!$B$6:$H$35,4,FALSE))","v":"該当"},{"$f":"IF(ISERROR(VLOOKUP(L54,従業員情報!$B$6:$H$35,4,FALSE)),\"\",VLOOKUP(L54,従業員情報!$B$6:$H$35,4,FALSE))","v":"該当"},{"$f":"IF(ISERROR(VLOOKUP(M54,従業員情報!$B$6:$H$35,4,FALSE)),\"\",VLOOKUP(M54,従業員情報!$B$6:$H$35,4,FALSE))","v":0},{"$f":"IF(ISERROR(VLOOKUP(N54,従業員情報!$B$6:$H$35,4,FALSE)),\"\",VLOOKUP(N54,従業員情報!$B$6:$H$35,4,FALSE))","v":0},{"$f":"IF(ISERROR(VLOOKUP(O54,従業員情報!$B$6:$H$35,4,FALSE)),\"\",VLOOKUP(O54,従業員情報!$B$6:$H$35,4,FALSE))","v":0},{"$f":"IF(ISERROR(VLOOKUP(P54,従業員情報!$B$6:$H$35,4,FALSE)),\"\",VLOOKUP(P54,従業員情報!$B$6:$H$35,4,FALSE))","v":0},{"$f":"IF(ISERROR(VLOOKUP(Q54,従業員情報!$B$6:$H$35,4,FALSE)),\"\",VLOOKUP(Q54,従業員情報!$B$6:$H$35,4,FALSE))","v":0},{"$f":"IF(ISERROR(VLOOKUP(R54,従業員情報!$B$6:$H$35,4,FALSE)),\"\",VLOOKUP(R54,従業員情報!$B$6:$H$35,4,FALSE))","v":0},{"$f":"IF(ISERROR(VLOOKUP(S54,従業員情報!$B$6:$H$35,4,FALSE)),\"\",VLOOKUP(S54,従業員情報!$B$6:$H$35,4,FALSE))","v":0},{"$f":"IF(ISERROR(VLOOKUP(T54,従業員情報!$B$6:$H$35,4,FALSE)),\"\",VLOOKUP(T54,従業員情報!$B$6:$H$35,4,FALSE))","v":0},{"$f":"IF(ISERROR(VLOOKUP(U54,従業員情報!$B$6:$H$35,4,FALSE)),\"\",VLOOKUP(U54,従業員情報!$B$6:$H$35,4,FALSE))","v":0},{"$f":"IF(ISERROR(VLOOKUP(V54,従業員情報!$B$6:$H$35,4,FALSE)),\"\",VLOOKUP(V54,従業員情報!$B$6:$H$35,4,FALSE))","v":0},{"$f":"IF(ISERROR(VLOOKUP(W54,従業員情報!$B$6:$H$35,4,FALSE)),\"\",VLOOKUP(W54,従業員情報!$B$6:$H$35,4,FALSE))","v":0},{"$f":"IF(ISERROR(VLOOKUP(X54,従業員情報!$B$6:$H$35,4,FALSE)),\"\",VLOOKUP(X54,従業員情報!$B$6:$H$35,4,FALSE))","v":0},{"$f":"IF(ISERROR(VLOOKUP(Y54,従業員情報!$B$6:$H$35,4,FALSE)),\"\",VLOOKUP(Y54,従業員情報!$B$6:$H$35,4,FALSE))","v":0},{"$f":"IF(ISERROR(VLOOKUP(Z54,従業員情報!$B$6:$H$35,4,FALSE)),\"\",VLOOKUP(Z54,従業員情報!$B$6:$H$35,4,FALSE))","v":0},{"$f":"IF(ISERROR(VLOOKUP(AA54,従業員情報!$B$6:$H$35,4,FALSE)),\"\",VLOOKUP(AA54,従業員情報!$B$6:$H$35,4,FALSE))","v":0},{"$f":"IF(ISERROR(VLOOKUP(AB54,従業員情報!$B$6:$H$35,4,FALSE)),\"\",VLOOKUP(AB54,従業員情報!$B$6:$H$35,4,FALSE))","v":0},{"$f":"IF(ISERROR(VLOOKUP(AC54,従業員情報!$B$6:$H$35,4,FALSE)),\"\",VLOOKUP(AC54,従業員情報!$B$6:$H$35,4,FALSE))","v":0},{"$f":"IF(ISERROR(VLOOKUP(AD54,従業員情報!$B$6:$H$35,4,FALSE)),\"\",VLOOKUP(AD54,従業員情報!$B$6:$H$35,4,FALSE))","v":0},{"$f":"IF(ISERROR(VLOOKUP(AE54,従業員情報!$B$6:$H$35,4,FALSE)),\"\",VLOOKUP(AE54,従業員情報!$B$6:$H$35,4,FALSE))","v":0},{"$f":"IF(ISERROR(VLOOKUP(AF54,従業員情報!$B$6:$H$35,4,FALSE)),\"\",VLOOKUP(AF54,従業員情報!$B$6:$H$35,4,FALSE))","v":0}]
[null,"継続雇用者",{"$f":"IF(ISERROR(VLOOKUP(C54,従業員情報!$B$6:$M$35,12,FALSE)),\"\",VLOOKUP(C54,従業員情報!$B$6:$M$35,12,FALSE))","v":""},{"$f":"IF(ISERROR(VLOOKUP(D54,従業員情報!$B$6:$M$35,12,FALSE)),\"\",VLOOKUP(D54,従業員情報!$B$6:$M$35,12,FALSE))","v":""},{"$f":"IF(ISERROR(VLOOKUP(E54,従業員情報!$B$6:$M$35,12,FALSE)),\"\",VLOOKUP(E54,従業員情報!$B$6:$M$35,12,FALSE))","v":""},{"$f":"IF(ISERROR(VLOOKUP(F54,従業員情報!$B$6:$M$35,12,FALSE)),\"\",VLOOKUP(F54,従業員情報!$B$6:$M$35,12,FALSE))","v":"該当"},{"$f":"IF(ISERROR(VLOOKUP(G54,従業員情報!$B$6:$M$35,12,FALSE)),\"\",VLOOKUP(G54,従業員情報!$B$6:$M$35,12,FALSE))","v":""},{"$f":"IF(ISERROR(VLOOKUP(H54,従業員情報!$B$6:$M$35,12,FALSE)),\"\",VLOOKUP(H54,従業員情報!$B$6:$M$35,12,FALSE))","v":"該当"},{"$f":"IF(ISERROR(VLOOKUP(I54,従業員情報!$B$6:$M$35,12,FALSE)),\"\",VLOOKUP(I54,従業員情報!$B$6:$M$35,12,FALSE))","v":""},{"$f":"IF(ISERROR(VLOOKUP(J54,従業員情報!$B$6:$M$35,12,FALSE)),\"\",VLOOKUP(J54,従業員情報!$B$6:$M$35,12,FALSE))","v":"該当"},{"$f":"IF(ISERROR(VLOOKUP(K54,従業員情報!$B$6:$M$35,12,FALSE)),\"\",VLOOKUP(K54,従業員情報!$B$6:$M$35,12,FALSE))","v":""},{"$f":"IF(ISERROR(VLOOKUP(L54,従業員情報!$B$6:$M$35,12,FALSE)),\"\",VLOOKUP(L54,従業員情報!$B$6:$M$35,12,FALSE))","v":""},{"$f":"IF(ISERROR(VLOOKUP(M54,従業員情報!$B$6:$M$35,12,FALSE)),\"\",VLOOKUP(M54,従業員情報!$B$6:$M$35,12,FALSE))","v":""},{"$f":"IF(ISERROR(VLOOKUP(N54,従業員情報!$B$6:$M$35,12,FALSE)),\"\",VLOOKUP(N54,従業員情報!$B$6:$M$35,12,FALSE))","v":""},{"$f":"IF(ISERROR(VLOOKUP(O54,従業員情報!$B$6:$M$35,12,FALSE)),\"\",VLOOKUP(O54,従業員情報!$B$6:$M$35,12,FALSE))","v":""},{"$f":"IF(ISERROR(VLOOKUP(P54,従業員情報!$B$6:$M$35,12,FALSE)),\"\",VLOOKUP(P54,従業員情報!$B$6:$M$35,12,FALSE))","v":""},{"$f":"IF(ISERROR(VLOOKUP(Q54,従業員情報!$B$6:$M$35,12,FALSE)),\"\",VLOOKUP(Q54,従業員情報!$B$6:$M$35,12,FALSE))","v":""},{"$f":"IF(ISERROR(VLOOKUP(R54,従業員情報!$B$6:$M$35,12,FALSE)),\"\",VLOOKUP(R54,従業員情報!$B$6:$M$35,12,FALSE))","v":""},{"$f":"IF(ISERROR(VLOOKUP(S54,従業員情報!$B$6:$M$35,12,FALSE)),\"\",VLOOKUP(S54,従業員情報!$B$6:$M$35,12,FALSE))","v":""},{"$f":"IF(ISERROR(VLOOKUP(T54,従業員情報!$B$6:$M$35,12,FALSE)),\"\",VLOOKUP(T54,従業員情報!$B$6:$M$35,12,FALSE))","v":""},{"$f":"IF(ISERROR(VLOOKUP(U54,従業員情報!$B$6:$M$35,12,FALSE)),\"\",VLOOKUP(U54,従業員情報!$B$6:$M$35,12,FALSE))","v":""},{"$f":"IF(ISERROR(VLOOKUP(V54,従業員情報!$B$6:$M$35,12,FALSE)),\"\",VLOOKUP(V54,従業員情報!$B$6:$M$35,12,FALSE))","v":""},{"$f":"IF(ISERROR(VLOOKUP(W54,従業員情報!$B$6:$M$35,12,FALSE)),\"\",VLOOKUP(W54,従業員情報!$B$6:$M$35,12,FALSE))","v":""},{"$f":"IF(ISERROR(VLOOKUP(X54,従業員情報!$B$6:$M$35,12,FALSE)),\"\",VLOOKUP(X54,従業員情報!$B$6:$M$35,12,FALSE))","v":""},{"$f":"IF(ISERROR(VLOOKUP(Y54,従業員情報!$B$6:$M$35,12,FALSE)),\"\",VLOOKUP(Y54,従業員情報!$B$6:$M$35,12,FALSE))","v":""},{"$f":"IF(ISERROR(VLOOKUP(Z54,従業員情報!$B$6:$M$35,12,FALSE)),\"\",VLOOKUP(Z54,従業員情報!$B$6:$M$35,12,FALSE))","v":""},{"$f":"IF(ISERROR(VLOOKUP(AA54,従業員情報!$B$6:$M$35,12,FALSE)),\"\",VLOOKUP(AA54,従業員情報!$B$6:$M$35,12,FALSE))","v":""},{"$f":"IF(ISERROR(VLOOKUP(AB54,従業員情報!$B$6:$M$35,12,FALSE)),\"\",VLOOKUP(AB54,従業員情報!$B$6:$M$35,12,FALSE))","v":""},{"$f":"IF(ISERROR(VLOOKUP(AC54,従業員情報!$B$6:$M$35,12,FALSE)),\"\",VLOOKUP(AC54,従業員情報!$B$6:$M$35,12,FALSE))","v":""},{"$f":"IF(ISERROR(VLOOKUP(AD54,従業員情報!$B$6:$M$35,12,FALSE)),\"\",VLOOKUP(AD54,従業員情報!$B$6:$M$35,12,FALSE))","v":""},{"$f":"IF(ISERROR(VLOOKUP(AE54,従業員情報!$B$6:$M$35,12,FALSE)),\"\",VLOOKUP(AE54,従業員情報!$B$6:$M$35,12,FALSE))","v":""},{"$f":"IF(ISERROR(VLOOKUP(AF54,従業員情報!$B$6:$M$35,12,FALSE)),\"\",VLOOKUP(AF54,従業員情報!$B$6:$M$35,12,FALSE))","v":""}]
[null,"被保険者開始月",{"$f":"IF(ISERROR(VLOOKUP(C54,従業員情報!$B$6:$M$35,10,FALSE)),\"\",VLOOKUP(C54,従業員情報!$B$6:$M$35,10,FALSE))","v":""},{"$f":"IF(ISERROR(VLOOKUP(D54,従業員情報!$B$6:$M$35,10,FALSE)),\"\",VLOOKUP(D54,従業員情報!$B$6:$M$35,10,FALSE))","v":""},{"$f":"IF(ISERROR(VLOOKUP(E54,従業員情報!$B$6:$M$35,10,FALSE)),\"\",VLOOKUP(E54,従業員情報!$B$6:$M$35,10,FALSE))","v":""},{"$f":"IF(ISERROR(VLOOKUP(F54,従業員情報!$B$6:$M$35,10,FALSE)),\"\",VLOOKUP(F54,従業員情報!$B$6:$M$35,10,FALSE))","v":"2014-10-01"},{"$f":"IF(ISERROR(VLOOKUP(G54,従業員情報!$B$6:$M$35,10,FALSE)),\"\",VLOOKUP(G54,従業員情報!$B$6:$M$35,10,FALSE))","v":""},{"$f":"IF(ISERROR(VLOOKUP(H54,従業員情報!$B$6:$M$35,10,FALSE)),\"\",VLOOKUP(H54,従業員情報!$B$6:$M$35,10,FALSE))","v":"2014-10-01"},{"$f":"IF(ISERROR(VLOOKUP(I54,従業員情報!$B$6:$M$35,10,FALSE)),\"\",VLOOKUP(I54,従業員情報!$B$6:$M$35,10,FALSE))","v":"2016-06-30"},{"$f":"IF(ISERROR(VLOOKUP(J54,従業員情報!$B$6:$M$35,10,FALSE)),\"\",VLOOKUP(J54,従業員情報!$B$6:$M$35,10,FALSE))","v":"2014-11-30"},{"$f":"IF(ISERROR(VLOOKUP(K54,従業員情報!$B$6:$M$35,10,FALSE)),\"\",VLOOKUP(K54,従業員情報!$B$6:$M$35,10,FALSE))","v":"2014-10-01"},{"$f":"IF(ISERROR(VLOOKUP(L54,従業員情報!$B$6:$M$35,10,FALSE)),\"\",VLOOKUP(L54,従業員情報!$B$6:$M$35,10,FALSE))","v":"2014-10-01"},{"$f":"IF(ISERROR(VLOOKUP(M54,従業員情報!$B$6:$M$35,10,FALSE)),\"\",VLOOKUP(M54,従業員情報!$B$6:$M$35,10,FALSE))","v":""},{"$f":"IF(ISERROR(VLOOKUP(N54,従業員情報!$B$6:$M$35,10,FALSE)),\"\",VLOOKUP(N54,従業員情報!$B$6:$M$35,10,FALSE))","v":""},{"$f":"IF(ISERROR(VLOOKUP(O54,従業員情報!$B$6:$M$35,10,FALSE)),\"\",VLOOKUP(O54,従業員情報!$B$6:$M$35,10,FALSE))","v":""},{"$f":"IF(ISERROR(VLOOKUP(P54,従業員情報!$B$6:$M$35,10,FALSE)),\"\",VLOOKUP(P54,従業員情報!$B$6:$M$35,10,FALSE))","v":""},{"$f":"IF(ISERROR(VLOOKUP(Q54,従業員情報!$B$6:$M$35,10,FALSE)),\"\",VLOOKUP(Q54,従業員情報!$B$6:$M$35,10,FALSE))","v":""},{"$f":"IF(ISERROR(VLOOKUP(R54,従業員情報!$B$6:$M$35,10,FALSE)),\"\",VLOOKUP(R54,従業員情報!$B$6:$M$35,10,FALSE))","v":""},{"$f":"IF(ISERROR(VLOOKUP(S54,従業員情報!$B$6:$M$35,10,FALSE)),\"\",VLOOKUP(S54,従業員情報!$B$6:$M$35,10,FALSE))","v":""},{"$f":"IF(ISERROR(VLOOKUP(T54,従業員情報!$B$6:$M$35,10,FALSE)),\"\",VLOOKUP(T54,従業員情報!$B$6:$M$35,10,FALSE))","v":""},{"$f":"IF(ISERROR(VLOOKUP(U54,従業員情報!$B$6:$M$35,10,FALSE)),\"\",VLOOKUP(U54,従業員情報!$B$6:$M$35,10,FALSE))","v":""},{"$f":"IF(ISERROR(VLOOKUP(V54,従業員情報!$B$6:$M$35,10,FALSE)),\"\",VLOOKUP(V54,従業員情報!$B$6:$M$35,10,FALSE))","v":""},{"$f":"IF(ISERROR(VLOOKUP(W54,従業員情報!$B$6:$M$35,10,FALSE)),\"\",VLOOKUP(W54,従業員情報!$B$6:$M$35,10,FALSE))","v":""},{"$f":"IF(ISERROR(VLOOKUP(X54,従業員情報!$B$6:$M$35,10,FALSE)),\"\",VLOOKUP(X54,従業員情報!$B$6:$M$35,10,FALSE))","v":""},{"$f":"IF(ISERROR(VLOOKUP(Y54,従業員情報!$B$6:$M$35,10,FALSE)),\"\",VLOOKUP(Y54,従業員情報!$B$6:$M$35,10,FALSE))","v":""},{"$f":"IF(ISERROR(VLOOKUP(Z54,従業員情報!$B$6:$M$35,10,FALSE)),\"\",VLOOKUP(Z54,従業員情報!$B$6:$M$35,10,FALSE))","v":""},{"$f":"IF(ISERROR(VLOOKUP(AA54,従業員情報!$B$6:$M$35,10,FALSE)),\"\",VLOOKUP(AA54,従業員情報!$B$6:$M$35,10,FALSE))","v":""},{"$f":"IF(ISERROR(VLOOKUP(AB54,従業員情報!$B$6:$M$35,10,FALSE)),\"\",VLOOKUP(AB54,従業員情報!$B$6:$M$35,10,FALSE))","v":""},{"$f":"IF(ISERROR(VLOOKUP(AC54,従業員情報!$B$6:$M$35,10,FALSE)),\"\",VLOOKUP(AC54,従業員情報!$B$6:$M$35,10,FALSE))","v":""},{"$f":"IF(ISERROR(VLOOKUP(AD54,従業員情報!$B$6:$M$35,10,FALSE)),\"\",VLOOKUP(AD54,従業員情報!$B$6:$M$35,10,FALSE))","v":""},{"$f":"IF(ISERROR(VLOOKUP(AE54,従業員情報!$B$6:$M$35,10,FALSE)),\"\",VLOOKUP(AE54,従業員情報!$B$6:$M$35,10,FALSE))","v":""},{"$f":"IF(ISERROR(VLOOKUP(AF54,従業員情報!$B$6:$M$35,10,FALSE)),\"\",VLOOKUP(AF54,従業員情報!$B$6:$M$35,10,FALSE))","v":""}]
[null,"被保険者終了月",{"$f":"IF(ISERROR(VLOOKUP(C54,従業員情報!$B$6:$M$35,11,FALSE)),\"\",VLOOKUP(C54,従業員情報!$B$6:$M$35,11,FALSE))","v":""},{"$f":"IF(ISERROR(VLOOKUP(D54,従業員情報!$B$6:$M$35,11,FALSE)),\"\",VLOOKUP(D54,従業員情報!$B$6:$M$35,11,FALSE))","v":""},{"$f":"IF(ISERROR(VLOOKUP(E54,従業員情報!$B$6:$M$35,11,FALSE)),\"\",VLOOKUP(E54,従業員情報!$B$6:$M$35,11,FALSE))","v":""},{"$f":"IF(ISERROR(VLOOKUP(F54,従業員情報!$B$6:$M$35,11,FALSE)),\"\",VLOOKUP(F54,従業員情報!$B$6:$M$35,11,FALSE))","v":"2016-09-30"},{"$f":"IF(ISERROR(VLOOKUP(G54,従業員情報!$B$6:$M$35,11,FALSE)),\"\",VLOOKUP(G54,従業員情報!$B$6:$M$35,11,FALSE))","v":""},{"$f":"IF(ISERROR(VLOOKUP(H54,従業員情報!$B$6:$M$35,11,FALSE)),\"\",VLOOKUP(H54,従業員情報!$B$6:$M$35,11,FALSE))","v":"2016-07-31"},{"$f":"IF(ISERROR(VLOOKUP(I54,従業員情報!$B$6:$M$35,11,FALSE)),\"\",VLOOKUP(I54,従業員情報!$B$6:$M$35,11,FALSE))","v":"2016-09-30"},{"$f":"IF(ISERROR(VLOOKUP(J54,従業員情報!$B$6:$M$35,11,FALSE)),\"\",VLOOKUP(J54,従業員情報!$B$6:$M$35,11,FALSE))","v":"2016-09-30"},{"$f":"IF(ISERROR(VLOOKUP(K54,従業員情報!$B$6:$M$35,11,FALSE)),\"\",VLOOKUP(K54,従業員情報!$B$6:$M$35,11,FALSE))","v":"2015-06-30"},{"$f":"IF(ISERROR(VLOOKUP(L54,従業員情報!$B$6:$M$35,11,FALSE)),\"\",VLOOKUP(L54,従業員情報!$B$6:$M$35,11,FALSE))","v":""},{"$f":"IF(ISERROR(VLOOKUP(M54,従業員情報!$B$6:$M$35,11,FALSE)),\"\",VLOOKUP(M54,従業員情報!$B$6:$M$35,11,FALSE))","v":""},{"$f":"IF(ISERROR(VLOOKUP(N54,従業員情報!$B$6:$M$35,11,FALSE)),\"\",VLOOKUP(N54,従業員情報!$B$6:$M$35,11,FALSE))","v":""},{"$f":"IF(ISERROR(VLOOKUP(O54,従業員情報!$B$6:$M$35,11,FALSE)),\"\",VLOOKUP(O54,従業員情報!$B$6:$M$35,11,FALSE))","v":""},{"$f":"IF(ISERROR(VLOOKUP(P54,従業員情報!$B$6:$M$35,11,FALSE)),\"\",VLOOKUP(P54,従業員情報!$B$6:$M$35,11,FALSE))","v":""},{"$f":"IF(ISERROR(VLOOKUP(Q54,従業員情報!$B$6:$M$35,11,FALSE)),\"\",VLOOKUP(Q54,従業員情報!$B$6:$M$35,11,FALSE))","v":""},{"$f":"IF(ISERROR(VLOOKUP(R54,従業員情報!$B$6:$M$35,11,FALSE)),\"\",VLOOKUP(R54,従業員情報!$B$6:$M$35,11,FALSE))","v":""},{"$f":"IF(ISERROR(VLOOKUP(S54,従業員情報!$B$6:$M$35,11,FALSE)),\"\",VLOOKUP(S54,従業員情報!$B$6:$M$35,11,FALSE))","v":""},{"$f":"IF(ISERROR(VLOOKUP(T54,従業員情報!$B$6:$M$35,11,FALSE)),\"\",VLOOKUP(T54,従業員情報!$B$6:$M$35,11,FALSE))","v":""},{"$f":"IF(ISERROR(VLOOKUP(U54,従業員情報!$B$6:$M$35,11,FALSE)),\"\",VLOOKUP(U54,従業員情報!$B$6:$M$35,11,FALSE))","v":""},{"$f":"IF(ISERROR(VLOOKUP(V54,従業員情報!$B$6:$M$35,11,FALSE)),\"\",VLOOKUP(V54,従業員情報!$B$6:$M$35,11,FALSE))","v":""},{"$f":"IF(ISERROR(VLOOKUP(W54,従業員情報!$B$6:$M$35,11,FALSE)),\"\",VLOOKUP(W54,従業員情報!$B$6:$M$35,11,FALSE))","v":""},{"$f":"IF(ISERROR(VLOOKUP(X54,従業員情報!$B$6:$M$35,11,FALSE)),\"\",VLOOKUP(X54,従業員情報!$B$6:$M$35,11,FALSE))","v":""},{"$f":"IF(ISERROR(VLOOKUP(Y54,従業員情報!$B$6:$M$35,11,FALSE)),\"\",VLOOKUP(Y54,従業員情報!$B$6:$M$35,11,FALSE))","v":""},{"$f":"IF(ISERROR(VLOOKUP(Z54,従業員情報!$B$6:$M$35,11,FALSE)),\"\",VLOOKUP(Z54,従業員情報!$B$6:$M$35,11,FALSE))","v":""},{"$f":"IF(ISERROR(VLOOKUP(AA54,従業員情報!$B$6:$M$35,11,FALSE)),\"\",VLOOKUP(AA54,従業員情報!$B$6:$M$35,11,FALSE))","v":""},{"$f":"IF(ISERROR(VLOOKUP(AB54,従業員情報!$B$6:$M$35,11,FALSE)),\"\",VLOOKUP(AB54,従業員情報!$B$6:$M$35,11,FALSE))","v":""},{"$f":"IF(ISERROR(VLOOKUP(AC54,従業員情報!$B$6:$M$35,11,FALSE)),\"\",VLOOKUP(AC54,従業員情報!$B$6:$M$35,11,FALSE))","v":""},{"$f":"IF(ISERROR(VLOOKUP(AD54,従業員情報!$B$6:$M$35,11,FALSE)),\"\",VLOOKUP(AD54,従業員情報!$B$6:$M$35,11,FALSE))","v":""},{"$f":"IF(ISERROR(VLOOKUP(AE54,従業員情報!$B$6:$M$35,11,FALSE)),\"\",VLOOKUP(AE54,従業員情報!$B$6:$M$35,11,FALSE))","v":""},{"$f":"IF(ISERROR(VLOOKUP(AF54,従業員情報!$B$6:$M$35,11,FALSE)),\"\",VLOOKUP(AF54,従業員情報!$B$6:$M$35,11,FALSE))","v":""}]
[null,"退職／継続雇用",{"$f":"IF(VLOOKUP(C54,従業員情報!$B$6:$M$35,8,FALSE)=\"\",\"\",VLOOKUP(C54,従業員情報!$B$6:$M$35,8,FALSE))","v":""},{"$f":"IF(VLOOKUP(D54,従業員情報!$B$6:$M$35,8,FALSE)=\"\",\"\",VLOOKUP(D54,従業員情報!$B$6:$M$35,8,FALSE))","v":""},{"$f":"IF(VLOOKUP(E54,従業員情報!$B$6:$M$35,8,FALSE)=\"\",\"\",VLOOKUP(E54,従業員情報!$B$6:$M$35,8,FALSE))","v":""},{"$f":"IF(VLOOKUP(F54,従業員情報!$B$6:$M$35,8,FALSE)=\"\",\"\",VLOOKUP(F54,従業員情報!$B$6:$M$35,8,FALSE))","v":""},{"$f":"IF(VLOOKUP(G54,従業員情報!$B$6:$M$35,8,FALSE)=\"\",\"\",VLOOKUP(G54,従業員情報!$B$6:$M$35,8,FALSE))","v":""},{"$f":"IF(VLOOKUP(H54,従業員情報!$B$6:$M$35,8,FALSE)=\"\",\"\",VLOOKUP(H54,従業員情報!$B$6:$M$35,8,FALSE))","v":"退職"},{"$f":"IF(VLOOKUP(I54,従業員情報!$B$6:$M$35,8,FALSE)=\"\",\"\",VLOOKUP(I54,従業員情報!$B$6:$M$35,8,FALSE))","v":""},{"$f":"IF(VLOOKUP(J54,従業員情報!$B$6:$M$35,8,FALSE)=\"\",\"\",VLOOKUP(J54,従業員情報!$B$6:$M$35,8,FALSE))","v":""},{"$f":"IF(VLOOKUP(K54,従業員情報!$B$6:$M$35,8,FALSE)=\"\",\"\",VLOOKUP(K54,従業員情報!$B$6:$M$35,8,FALSE))","v":"継続雇用制度に移行"},{"$f":"IF(VLOOKUP(L54,従業員情報!$B$6:$M$35,8,FALSE)=\"\",\"\",VLOOKUP(L54,従業員情報!$B$6:$M$35,8,FALSE))","v":"継続雇用制度に移行"},{"$f":"IF(VLOOKUP(M54,従業員情報!$B$6:$M$35,8,FALSE)=\"\",\"\",VLOOKUP(M54,従業員情報!$B$6:$M$35,8,FALSE))","v":""},{"$f":"IF(VLOOKUP(N54,従業員情報!$B$6:$M$35,8,FALSE)=\"\",\"\",VLOOKUP(N54,従業員情報!$B$6:$M$35,8,FALSE))","v":""},{"$f":"IF(VLOOKUP(O54,従業員情報!$B$6:$M$35,8,FALSE)=\"\",\"\",VLOOKUP(O54,従業員情報!$B$6:$M$35,8,FALSE))","v":""},{"$f":"IF(VLOOKUP(P54,従業員情報!$B$6:$M$35,8,FALSE)=\"\",\"\",VLOOKUP(P54,従業員情報!$B$6:$M$35,8,FALSE))","v":""},{"$f":"IF(VLOOKUP(Q54,従業員情報!$B$6:$M$35,8,FALSE)=\"\",\"\",VLOOKUP(Q54,従業員情報!$B$6:$M$35,8,FALSE))","v":""},{"$f":"IF(VLOOKUP(R54,従業員情報!$B$6:$M$35,8,FALSE)=\"\",\"\",VLOOKUP(R54,従業員情報!$B$6:$M$35,8,FALSE))","v":""},{"$f":"IF(VLOOKUP(S54,従業員情報!$B$6:$M$35,8,FALSE)=\"\",\"\",VLOOKUP(S54,従業員情報!$B$6:$M$35,8,FALSE))","v":""},{"$f":"IF(VLOOKUP(T54,従業員情報!$B$6:$M$35,8,FALSE)=\"\",\"\",VLOOKUP(T54,従業員情報!$B$6:$M$35,8,FALSE))","v":""},{"$f":"IF(VLOOKUP(U54,従業員情報!$B$6:$M$35,8,FALSE)=\"\",\"\",VLOOKUP(U54,従業員情報!$B$6:$M$35,8,FALSE))","v":""},{"$f":"IF(VLOOKUP(V54,従業員情報!$B$6:$M$35,8,FALSE)=\"\",\"\",VLOOKUP(V54,従業員情報!$B$6:$M$35,8,FALSE))","v":""},{"$f":"IF(VLOOKUP(W54,従業員情報!$B$6:$M$35,8,FALSE)=\"\",\"\",VLOOKUP(W54,従業員情報!$B$6:$M$35,8,FALSE))","v":""},{"$f":"IF(VLOOKUP(X54,従業員情報!$B$6:$M$35,8,FALSE)=\"\",\"\",VLOOKUP(X54,従業員情報!$B$6:$M$35,8,FALSE))","v":""},{"$f":"IF(VLOOKUP(Y54,従業員情報!$B$6:$M$35,8,FALSE)=\"\",\"\",VLOOKUP(Y54,従業員情報!$B$6:$M$35,8,FALSE))","v":""},{"$f":"IF(VLOOKUP(Z54,従業員情報!$B$6:$M$35,8,FALSE)=\"\",\"\",VLOOKUP(Z54,従業員情報!$B$6:$M$35,8,FALSE))","v":""},{"$f":"IF(VLOOKUP(AA54,従業員情報!$B$6:$M$35,8,FALSE)=\"\",\"\",VLOOKUP(AA54,従業員情報!$B$6:$M$35,8,FALSE))","v":""},{"$f":"IF(VLOOKUP(AB54,従業員情報!$B$6:$M$35,8,FALSE)=\"\",\"\",VLOOKUP(AB54,従業員情報!$B$6:$M$35,8,FALSE))","v":""},{"$f":"IF(VLOOKUP(AC54,従業員情報!$B$6:$M$35,8,FALSE)=\"\",\"\",VLOOKUP(AC54,従業員情報!$B$6:$M$35,8,FALSE))","v":""},{"$f":"IF(VLOOKUP(AD54,従業員情報!$B$6:$M$35,8,FALSE)=\"\",\"\",VLOOKUP(AD54,従業員情報!$B$6:$M$35,8,FALSE))","v":""},{"$f":"IF(VLOOKUP(AE54,従業員情報!$B$6:$M$35,8,FALSE)=\"\",\"\",VLOOKUP(AE54,従業員情報!$B$6:$M$35,8,FALSE))","v":""},{"$f":"IF(VLOOKUP(AF54,従業員情報!$B$6:$M$35,8,FALSE)=\"\",\"\",VLOOKUP(AF54,従業員情報!$B$6:$M$35,8,FALSE))","v":""}]
[null,"退職日",{"$f":"IF(C56<>\"該当\",\"\",IF(C60=\"退職\",C59,$B$74+1))","v":""},{"$f":"IF(D56<>\"該当\",\"\",IF(D60=\"退職\",D59,$B$74+1))","v":""},"","2016-10-01","2016-10-01","2016-07-31","2016-10-01","2016-10-01","2016-10-01","2016-10-01","","","","","","","","","","","","","","","","","","","",""]
[null,"継続雇用開始",{"$f":"IF(C56<>\"該当\",\"\",IF(C60=\"継続雇用制度に移行\",C59+1,$B$74+1))","v":""},{"$f":"IF(D56<>\"該当\",\"\",IF(D60=\"継続雇用制度に移行\",D59+1,$B$74+1))","v":""},"","2016-10-01","2016-10-01","2016-10-01","2016-10-01","2016-10-01","2015-07-01",{"$error":"#VALUE!"},"","","","","","","","","","","","","","","","","","","",""]
[null,{"$f":"基本情報!D11","v":"2015-10-01"},null,null,null,283000,20000,null,null,208000,172000,null,null,null,null,null,null,null,null,null,null,null,null,null,null,null,null,null,null,null,null,null,{"$f":"SUM(C63:AF63)","v":683000},{"$f":"COUNTIFS(C$57:AF$57,\"該当\",C63:AF63,\">0\",C$62:AF$62,\">\"&B63)","v":2}]
[null,{"$f":"EOMONTH(B63,1)","v":"2015-11-30"},null,null,null,261400,60000,null,null,193000,168000,null,null,null,null,null,null,null,null,null,null,null,null,null,null,null,null,null,null,null,null,null,{"$f":"SUM(C64:AF64)","v":682400},{"$f":"COUNTIFS(C$57:AF$57,\"該当\",C64:AF64,\">0\",C$62:AF$62,\">\"&B64)","v":2}]
[null,{"$f":"EOMONTH(B64,1)","v":"2015-12-31"},null,null,null,254500,10000,null,null,198000,192000,null,null,null,null,null,null,null,null,null,null,null,null,null,null,null,null,null,null,null,null,null,654500,2]
[null,"2016-01-31",null,null,null,250500,70000,null,null,188000,193000,null,null,null,null,null,null,null,null,null,null,null,null,null,null,null,null,null,null,null,null,null,701500,2]
[null,"2016-02-29",null,null,null,268000,20000,null,null,192000,168000,null,null,null,null,null,null,null,null,null,null,null,null,null,null,null,null,null,null,null,null,null,648000,2]
[null,"2016-03-31",null,null,null,230200,30000,null,null,192000,201000,null,null,null,null,null,null,null,null,null,null,null,null,null,null,null,null,null,null,null,null,null,653200,2]
[null,"2016-04-30",null,null,null,289000,80000,null,null,206000,188000,null,null,null,null,null,null,null,null,null,null,null,null,null,null,null,null,null,null,null,null,null,763000,2]
[null,"2016-05-31",null,null,null,265000,70000,null,null,200000,168000,null,null,null,null,null,null,null,null,null,null,null,null,null,null,null,null,null,null,null,null,null,703000,2]
[null,"2016-06-30",null,null,null,320800,30000,null,330500,195000,189000,null,null,null,null,null,null,null,null,null,null,null,null,null,null,null,null,null,null,null,null,null,1065300,2]
[null,"2016-07-31",null,null,null,262000,60000,null,220300,185000,80000,null,null,null,null,null,null,null,null,null,null,null,null,null,null,null,null,null,null,null,null,null,807300,2]
[null,"2016-08-31",null,null,null,356000,40000,null,240800,199000,79000,null,null,null,null,null,null,null,null,null,null,null,null,null,null,null,null,null,null,null,null,null,914800,2]
[null,"2016-09-30",null,null,null,293000,90000,null,220300,218000,89000,null,null,null,null,null,null,null,null,null,null,null,null,null,null,null,null,null,null,null,null,null,910300,2]
[null,"賞与など（雇用保険加入者）",null,null,null,300000,null,null,100000,200000,null,null,null,null,null,null,null,null,null,null,null,null,null,null,null,null,null,null,null,null,null,null,600000]
[null,"賞与など（継続雇用制度）",null,null,null,null,null,null,null,null,20000,null,null,null,null,null,null,null,null,null,null,null,null,null,null,null,null,null,null,null,null,null,20000]
[null,"賞与など（雇用保険非加入者）",null,null,null,null,20000,null,null,null,null,null,null,null,null,null,null,null,null,null,null,null,null,null,null,null,null,null,null,null,null,null,20000]
[null,"合計",{"$f":"SUM(C63:C77)","v":0},{"$f":"SUM(D63:D77)","v":0},0,3633400,600000,0,1111900,2574000,1907000,0,0,0,0,0,0,0,0,0,0,0,0,0,0,0,0,0,0,0,0,0,{"$f":"SUM(AG63:AG77)","v":9826300},{"$f":"SUM(AH63:AH77)","v":24}]
[null,"うち継続雇用者の給与",{"$f":"IF(C57=\"該当\",SUM(C63:C74)+C75+C76,0)","v":0},{"$f":"IF(D57=\"該当\",SUM(D63:D74)+D75+D76,0)","v":0},0,3633400,0,0,0,2574000,0,0,0,0,0,0,0,0,0,0,0,0,0,0,0,0,0,0,0,0,0,0,{"$f":"SUM(C79:AF79)","v":6207400}]
[null,"うち継続雇用制度対象者の給与",{"$f":"IF(C57=\"該当\",SUMIFS(C63:C74,$B63:$B74,\">=\"&C62)+C76,0)","v":0},{"$f":"IF(D57=\"該当\",SUMIFS(D63:D74,$B63:$B74,\">=\"&D62)+D76,0)","v":0},0,0,0,0,0,0,0,0,0,0,0,0,0,0,0,0,0,0,0,0,0,0,0,0,0,0,0,0,{"$f":"SUM(C80:AF80)","v":0}]

{"sheet":"別表６（２０）","index":4,"n_rows":75,"n_cols":46,"rows_kept":75,"cut":false,"hidden":true,"merged":[[21,4,21,13],[21,28,21,31],[22,4,22,13],[22,15,22,23],[22,28,22,31],[22,35,22,43],[24,2,25,14],[24,15,25,24],[24,25,24,34],[24,35,24,44],[25,25,25,34],[23,13,23,35],[25,35,25,44],[66,2,67,15],[66,16,67,16],[66,37,67,37],[26,4,26,12],[26,17,26,22],[26,27,26,32],[26,37,26,42],[27,28,27,31],[27,4,27,13],[61,24,62,31],[61,32,62,32],[59,33,60,38],[63,17,64,23],[62,4,63,15],[53,32,54,32],[57,7,57,9],[57,17,58,23],[57,24,58,31],[57,32,58,32],[57,33,58,38],[57,39,58,44],[58,7,58,9],[59,2,64,2],[59,3,64,3],[72,2,72,15],[72,16,73,16],[72,24,73,36],[72,37,73,37],[73,6,73,11],[65,3,65,22],[65,26,65,43],[70,3,70,14],[70,16,71,16],[70,17,71,23],[68,37,69,37],[68,38,69,44],[66,24,71,24],[70,37,71,37],[70,38,71,44],[66,25,67,36],[68,25,69,36],[70,25,70,36],[73,17,73,23],[66,38,67,44],[68,2,69,15],[68,16,69,16],[71,25,71,36],[71,2,71,15],[59,5,59,14],[59,24,59,31],[59,32,60,32],[63,24,63,31],[63,32,64,32],[64,7,64,12],[64,26,64,29],[60,4,61,15],[59,39,60,44],[60,17,61,23],[60,26,60,29],[47,3,55,3],[47,4,49,15],[47,25,47,43],[48,17,49,23],[48,24,52,32],[54,4,55,15],[54,17,55,23],[55,24,56,31],[55,32,56,32],[55,33,56,38],[55,39,56,44],[56,2,56,15],[47,2,55,2],[51,17,52,23],[52,8,52,11],[48,33,49,38],[48,39,49,44],[50,4,51,15],[50,33,51,38],[50,39,51,44],[52,33,52,38],[52,39,52,44],[53,4,53,15],[53,24,54,31],[43,2,43,15],[43,16,44,16],[44,4,44,13],[44,19,44,28],[44,33,44,42],[45,7,46,30],[45,37,46,38],[45,40,45,44],[46,40,46,44],[28,4,28,13],[41,2,42,15],[41,16,42,16],[42,19,42,28],[33,2,34,15],[33,16,34,16],[34,19,34,28],[34,33,34,42],[29,13,29,35],[28,15,28,23],[28,28,28,31],[28,35,28,43],[30,2,32,15],[30,16,30,30],[30,31,30,44],[31,16,31,30],[42,33,42,42],[35,2,36,15],[35,16,36,16],[36,19,36,28],[36,33,36,42],[37,2,38,15],[37,16,38,16],[38,19,38,28],[38,33,38,42],[31,31,31,44],[32,22,32,24],[32,36,32,38],[39,2,39,15],[39,16,40,16],[40,4,40,13],[40,19,40,28],[40,33,40,42],[1,45,6,45],[3,2,8,2],[3,3,8,3],[3,4,4,14],[3,15,4,15],[3,25,3,35],[3,36,5,36],[4,16,4,23],[4,24,15,24],[4,25,4,35],[4,37,4,44],[5,4,5,14],[5,15,6,15],[5,25,5,35],[6,8,6,9],[6,16,6,23],[6,25,6,35],[6,36,8,36],[7,4,7,14],[7,15,8,15],[7,45,22,45],[8,4,8,14],[8,16,8,23],[12,37,12,44],[1,2,2,22],[1,36,2,44],[7,25,8,35],[10,27,10,28],[10,29,10,33],[9,2,9,14],[9,15,10,15],[9,25,9,35],[9,36,10,36],[10,2,10,14],[10,16,10,23],[10,37,10,44],[1,23,2,25],[1,33,2,35],[1,26,1,32],[2,26,2,32],[7,37,8,44],[11,2,11,14],[11,15,12,15],[11,25,11,35],[11,36,12,36],[12,6,12,10],[12,16,12,23],[12,25,12,35],[13,2,13,14],[13,15,14,15],[13,25,13,35],[13,36,14,36],[14,6,14,10],[14,16,14,23],[14,25,14,35],[18,2,19,14],[18,15,19,24],[18,25,18,34],[18,35,18,44],[19,25,19,34],[19,35,19,44],[20,4,20,12],[14,37,14,44],[15,2,15,14],[15,15,16,15],[15,25,15,35],[15,36,16,36],[16,6,16,10],[16,16,16,23],[16,25,16,35],[16,37,16,44],[20,37,20,42],[20,27,20,32],[17,13,17,35],[20,17,20,22]]}
[]
[null,null,"雇用者給与等支給額が増加した場合の法人税額\nの特別控除に関する明細書",null,null,null,null,null,null,null,null,null,null,null,null,null,null,null,null,null,null,null,null,"事  業\n年  度",null,null,{"$f":"基本情報!D11","v":"2015-10-01"},null,null,null,null,null,null,"法人名",null,null,{"$f":"基本情報!C7","v":"株式会社今野デザイン"},null,null,null,null,null,null,null,null,"別表六二十"]
[null,null,null,null,null,null,null,null,null,null,null,null,null,null,null,null,null,null,null,null,null,null,null,null,null,null,{"$f":"基本情報!C11","v":"2016-09-30"}]
[null,null,"雇用者給与等","支給増加額の計算","雇用者給与等支給額",null,null,null,null,null,null,null,null,null,null,1,null,null,null,null,null,0,null,"円",null,"税 額 控 除 限 度 額",null,null,null,null,null,null,null,null,null,null,8,null,null,0,null,null,null,null,"円"]
[null,null,null,null,null,null,null,null,null,null,null,null,null,null,null,null,{"$f":"T35","v":9826300},null,null,null,null,null,null,null,"法 人 税 額 の 特 別 控 除 額 の 計 算",{"$f":"\"(3)×10/100\"","v":"(3)×10/100"},null,null,null,null,null,null,null,null,null,null,null,{"$f":"IF(Q5<Q13,0,IF(Q15<=Q17,0,IF(Q11<基本情報!E11,0,ROUNDDOWN(Q9*10/100,0))))","v":0}]
[null,null,null,null,"基準雇用者給与等支給額\n",null,null,null,null,null,null,null,null,null,null,2,null,null,null,null,null,0,null,null,null,"((1)<(5)の場合又は(6)≦(7)の場合は0)"]
[null,null,null,null,null,null,null,null,"(17)",null,null,null,null,null,null,null,{"$f":"IF(ISERROR(AJ23),0,AJ23)","v":12017550},null,null,null,null,null,null,null,null,"当期の所得に対する法人税の額",null,null,null,null,null,null,null,null,null,null,9,null,null,0]
[null,null,null,null,"雇用者給与等支給増加額\n",null,null,null,null,null,null,null,null,null,null,3,null,null,null,null,null,null,null,null,null,"(別表一(一)｢2｣、別表一(二)｢2｣又は別表一(三)｢2｣)",null,null,null,null,null,null,null,null,null,null,null,300000]
[null,null,null,null,"(1)－(2)\n(マイナスの場合は０)",null,null,null,null,null,null,null,null,null,null,null,{"$f":"IF(Q5-Q7<0,0,Q5-Q7)","v":0}]
[null,null,"雇用者給与等支給増加割合",null,null,null,null,null,null,null,null,null,null,null,null,4,null,null,null,null,null,null,null,null,null,"当期税額基準額",null,null,null,null,null,null,null,null,null,null,10]
[null,null,"(3)/(2)",null,null,null,null,null,null,null,null,null,null,null,null,null,{"$f":"IF(ISERROR(ROUNDDOWN(Q9/Q7,3)),0,ROUNDDOWN(Q9/Q7,3))","v":0},null,null,null,null,null,null,null,null,null,null,"(9)×",null,{"$f":"基本情報!D9&\"/100\"","v":"10/100"},null,null,null,null,null,null,null,{"$f":"ROUNDDOWN(AL8*基本情報!D9/100,0)","v":30000}]
[null,null,"比較雇用者給与等支給額",null,null,null,null,null,null,null,null,null,null,null,null,5,null,null,null,null,null,null,null,null,null,"当期税額控除可能額",null,null,null,null,null,null,null,null,null,null,11]
[null,null,null,null,null,null,"(21)",null,null,null,null,null,null,null,null,null,{"$f":"AJ29","v":10836600},null,null,null,null,null,null,null,null,"((8)と(10)のうち少ない金額)",null,null,null,null,null,null,null,null,null,null,null,{"$f":"MIN(AL5,AL11)","v":0}]
[null,null,"平均給与等支給額",null,null,null,null,null,null,null,null,null,null,null,null,6,null,null,null,null,null,0,null,null,null,"法人税額超過構成額",null,null,null,null,null,null,null,null,null,null,12]
[null,null,null,null,null,null,"(27の①)",null,null,null,null,null,null,null,null,null,{"$f":"T45","v":258641},null,null,null,null,null,null,null,null,"（別表六(二十四)｢28の②｣）"]
[null,null,"比較平均給与等支給額",null,null,null,null,null,null,null,null,null,null,null,null,7,null,null,null,null,null,null,null,null,null,"法人税額の特別控除額",null,null,null,null,null,null,null,null,null,null,13]
[null,null,null,null,null,null,"(27の②)",null,null,null,null,null,null,null,null,null,{"$f":"AH45","v":238467},null,null,null,null,null,null,null,null,"(11)－(12)",null,null,null,null,null,null,null,null,null,null,null,{"$f":"AL13-AL15","v":0}]
[null,null,null,null,null,null,null,null,null,null,null,null,null,"基準雇用者給与等支給額の計算"]
[null,null,"基準事業年度又は\n基準連結事業年度等",null,null,null,null,null,null,null,null,null,null,null,null,"国内雇用者に対する\n給与等の支給額",null,null,null,null,null,null,null,null,null,"適用年度の月数",null,null,null,null,null,null,null,null,null,"基準雇用者給与等支給額"]
[null,null,null,null,null,null,null,null,null,null,null,null,null,null,null,null,null,null,null,null,null,null,null,null,null,"(14)の基準事業年度又は\n基準連結事業年度等の月数",null,null,null,null,null,null,null,null,null,"(15)×(16)"]
[null,null,null,null,14,null,null,null,null,null,null,null,null,null,null,null,null,15,null,null,null,null,null,null,null,null,null,16,null,null,null,null,null,null,null,null,null,17]
[null,null,"平",null,{"$f":"基本情報!C15","v":"2012-10-01"},null,null,null,null,null,null,null,null,null,null,null,null,null,null,null,null,null,null,null,"円",null,null,null,{"$f":"基本情報!I11","v":12},null,null,null,null,null,"円",null,null,null,null,null,null,null,null,null,"円"]
[null,null,"平",null,{"$f":"基本情報!C16","v":"2013-09-30"},null,null,null,null,null,null,null,null,null,null,{"$f":"IF(E22=\"-\",基本情報!D19,給与入力!AG21)","v":12017550},null,null,null,null,null,null,null,null,null,null,null,null,{"$f":"IF(E22=\"-\",基本情報!G18,基本情報!I16)","v":12},null,null,null,null,null,null,{"$f":"ROUNDDOWN(P23*AC22/AC23,0)","v":12017550}]
[null,null,null,null,null,null,null,null,null,null,null,null,null,"比較雇用者給与等支給額の計算"]
[null,null,"前事業年度又は前連結事業年度",null,null,null,null,null,null,null,null,null,null,null,null,"国内雇用者に対する\n給与等の支給額",null,null,null,null,null,null,null,null,null,"適用年度の月数",null,null,null,null,null,null,null,null,null,"比較雇用者給与等支給額"]
[null,null,null,null,null,null,null,null,null,null,null,null,null,null,null,null,null,null,null,null,null,null,null,null,null,"(18)の前事業年度又は\n前連結事業年度の月数",null,null,null,null,null,null,null,null,null,"(19)×(20)"]
[null,null,null,null,18,null,null,null,null,null,null,null,null,null,null,null,null,19,null,null,null,null,null,null,null,null,null,20,null,null,null,null,null,null,null,null,null,21]
[null,null,"平",null,{"$f":"基本情報!G11","v":"2014-10-01"},null,null,null,null,null,null,null,null,null,null,null,null,null,null,null,null,null,null,null,null,null,null,null,{"$f":"基本情報!I11","v":12}]
[null,null,"平",null,{"$f":"基本情報!H11","v":"2015-09-30"},null,null,null,null,null,null,null,null,null,null,{"$f":"給与入力!AG49","v":10836600},null,null,null,null,null,null,null,null,null,null,null,null,{"$f":"基本情報!J11","v":12},null,null,null,null,null,null,{"$f":"ROUNDDOWN(P29*AC28/AC29,0)","v":10836600}]
[null,null,null,null,null,null,null,null,null,null,null,null,null,"平均給与等支給額及び比較平均給与等支給額の計算"]
[null,null,null,null,null,null,null,null,null,null,null,null,null,null,null,null,"平均給与等支給額の計算",null,null,null,null,null,null,null,null,null,null,null,null,null,null,"比較平均給与等支給額の計算"]
[null,null,null,null,null,null,null,null,null,null,null,null,null,null,null,null,"適　　用　　年　　度",null,null,null,null,null,null,null,null,null,null,null,null,null,null,"前事業年度又は前連結事業年度"]
[null,null,null,null,null,null,null,null,null,null,null,null,null,null,null,null,null,null,null,null,null,null,"①",null,null,null,null,null,null,null,null,null,null,null,null,null,"②"]
[null,null,"雇用者給与等支給額",null,null,null,null,null,null,null,null,null,null,null,null,null,22,"(1)",null,null,null,null,null,null,null,null,null,null,null,null,"円","(19)",null,null,null,null,null,null,null,null,null,null,null,null,"円"]
[null,null,null,null,null,null,null,null,null,null,null,null,null,null,null,null,null,null,null,{"$f":"給与入力!AG78","v":9826300},null,null,null,null,null,null,null,null,null,null,null,null,null,{"$f":"給与入力!AG49","v":10836600}]
[null,null,"同上のうち一般被保険者である\n継続雇用者に係る金額",null,null,null,null,null,null,null,null,null,null,null,null,null,23]
[null,null,null,null,null,null,null,null,null,null,null,null,null,null,null,null,null,null,null,{"$f":"給与入力!AG79","v":6207400},null,null,null,null,null,null,null,null,null,null,null,null,null,{"$f":"給与入力!AG50","v":6677100}]
[null,null,"同上のうち継続雇用制度\n対象者に係る金額",null,null,null,null,null,null,null,null,null,null,null,null,null,24]
[null,null,null,null,null,null,null,null,null,null,null,null,null,null,null,null,null,null,null,{"$f":"給与入力!AG80","v":0},null,null,null,null,null,null,null,null,null,null,null,null,null,{"$f":"給与入力!AG51","v":0}]
[null,null,"継続雇用者給与等支給額",null,null,null,null,null,null,null,null,null,null,null,null,null,25]
[null,null,null,null,"(23)－(24)",null,null,null,null,null,null,null,null,null,null,null,null,null,null,{"$f":"T37-T39","v":6207400},null,null,null,null,null,null,null,null,null,null,null,null,null,{"$f":"AH37-AH39","v":6677100}]
[null,null,"月別支給対象者の合計数",null,null,null,null,null,null,null,null,null,null,null,null,null,26,null,null,null,null,null,null,null,null,null,null,null,null,null,"人",null,null,null,null,null,null,null,null,null,null,null,null,null,"人"]
[null,null,null,null,null,null,null,null,null,null,null,null,null,null,null,null,null,null,null,{"$f":"給与入力!AH78","v":24},null,null,null,null,null,null,null,null,null,null,null,null,null,{"$f":"給与入力!AH49","v":28}]
[null,null,"平均給与等支給額及び比較平均給与等支給額　",null,null,null,null,null,null,null,null,null,null,null,null,null,27,null,null,null,null,null,null,null,null,null,null,null,null,null,"円",null,null,null,null,null,null,null,null,null,null,null,null,null,"円"]
[null,null,null,null,"(25)/(26)",null,null,null,null,null,null,null,null,null,null,null,null,null,null,{"$f":"ROUNDDOWN(T41/T43,0)","v":258641},null,null,null,null,null,null,null,null,null,null,null,null,null,{"$f":"IF(ISERROR(ROUNDDOWN(AH41/AH43,0)),0,ROUNDDOWN(AH41/AH43,0))","v":238467}]
[null,null,null,null,null,null,null,"各経過年度における計算",null,null,null,null,null,null,null,null,null,null,null,null,null,null,null,null,null,null,null,null,null,null,null,null,null,null,null,null,null,"経過年度",null,"平"]
[null,null,null,null,null,null,null,null,null,null,null,null,null,null,null,null,null,null,null,null,null,null,null,null,null,null,null,null,null,null,null,null,null,null,null,null,null,null,null,"平"]
[null,null,"経過雇用者給与等","支給増加額の計算","雇用者給与等支給額",null,null,null,null,null,null,null,null,null,null,null,null,"外",null,null,null,null,null,"円",null,"平均給与等支給額及び比較平均給与等支給額の計算"]
[null,null,null,null,null,null,null,null,null,null,null,null,null,null,null,null,"28",null,null,null,null,null,null,null,null,null,null,null,null,null,null,null,null,"平均給与等支給額の計算",null,null,null,null,null,"比較平均給与等支給額の計算"]
[]
[null,null,null,null,"基準雇用者給与等支給額",null,null,null,null,null,null,null,null,null,null,null,null,"外",null,null,null,null,null,null,null,null,null,null,null,null,null,null,null,"経 過 年 度",null,null,null,null,null,"前事業年度又は\n前連結事業年度"]
[null,null,null,null,null,null,null,null,null,null,null,null,null,null,null,null,"29"]
[null,null,null,null,null,null,null,null,"(33)",null,null,null,null,null,null,null,null,null,null,null,null,null,null,null,null,null,null,null,null,null,null,null,null,"①",null,null,null,null,null,"②"]
[null,null,null,null,"経過雇用者給与等支給増加額",null,null,null,null,null,null,null,null,null,null,null,null,"外",null,null,null,null,null,null,"雇用者給与等支給額",null,null,null,null,null,null,null,"38",null,null,null,null,null,"円",null,null,null,null,null,"円"]
[null,null,null,null,"(28)-(29) (マイナスの場合は0)\n((28)<(37)の場合又は(43の\n①)≦(43の②)の場合は０)",null,null,null,null,null,null,null,null,null,null,null,"30"]
[null,null,null,null,null,null,null,null,null,null,null,null,null,null,null,null,null,null,null,null,null,null,null,null,"同上のうち一般被保険者である継続雇用者に係る金額",null,null,null,null,null,null,null,"39"]
[null,null,"雇用者給与等支給増加割合"]
[null,null,null,null,null,null,null,"(30)",null,null,null,null,null,null,null,null,"31",null,null,null,null,null,null,null,"同上のうち継続雇用制度対象者に係る金額",null,null,null,null,null,null,null,"40"]
[null,null,null,null,null,null,null,"(29)"]
[null,null,"基準雇用者給与","等支給額の計算",null,"当該経過年度の月数",null,null,null,null,null,null,null,null,null,null,null,null,null,null,null,null,null,null,"継続雇用者給与等支給額",null,null,null,null,null,null,null,"41"]
[null,null,null,null,"(14)の基準事業年度又は基準連結事業年度等の月数",null,null,null,null,null,null,null,null,null,null,null,"32",null,null,null,null,null,null,null,null,null,"(39)－(40)"]
[null,null,null,null,null,null,null,null,null,null,null,null,null,null,null,null,null,null,null,null,null,null,null,null,"月別支給対象者の合計数",null,null,null,null,null,null,null,"42",null,null,null,null,null,"人",null,null,null,null,null,"人"]
[null,null,null,null,"基準雇用者給与等支給額",null,null,null,null,null,null,null,null,null,null,null,null,null,null,null,null,null,null,"円"]
[null,null,null,null,null,null,null,null,null,null,null,null,null,null,null,null,"33",null,null,null,null,null,null,null,"平均給与等支給額及び比較平均給与等支給額",null,null,null,null,null,null,null,"43",null,null,null,null,null,"円",null,null,null,null,null,"円"]
[null,null,null,null,null,null,null,"(15)×(32)",null,null,null,null,null,null,null,null,null,null,null,null,null,null,null,null,null,null,"(41)/(42)"]
[null,null,null,"比較雇用者給与等支給額の計算",null,null,null,null,null,null,null,null,null,null,null,null,null,null,null,null,null,null,null,null,null,null,"各経過年度の合計額等の計算"]
[null,null,"前事業年度又は前連結事業年度",null,null,null,null,null,null,null,null,null,null,null,null,null,"34","平",null,null,null,null,null,null,"控除上限割合の計算","適用年度の月数",null,null,null,null,null,null,null,null,null,null,null,"44"]
[null,null,null,null,null,null,null,null,null,null,null,null,null,null,null,null,null,"平"]
[null,null,"国内雇用者に対する給与等の支給額",null,null,null,null,null,null,null,null,null,null,null,null,null,"35",null,null,null,null,null,null,"円",null,"各経過年度の月数の合計数",null,null,null,null,null,null,null,null,null,null,null,"45"]
[]
[null,null,null,"当該経過年度の月数",null,null,null,null,null,null,null,null,null,null,null,null,"36",null,null,null,null,null,null,null,null,"控除上限割合",null,null,null,null,null,null,null,null,null,null,null,"46"]
[null,null,"(34)の前事業年度又は前連結事業年度の月数",null,null,null,null,null,null,null,null,null,null,null,null,null,null,null,null,null,null,null,null,null,null,{"$f":"基本情報!$D$9&\"/100×(44)+(45)/(44)\"","v":"10/100×(44)+(45)/(44)"}]
[null,null,"比較雇用者給与等支給額",null,null,null,null,null,null,null,null,null,null,null,null,null,"37",null,null,null,null,null,null,"円","各経過年度における経過雇用者\n給与等支給増加額の合計額\n(各経過年度における(30)の合計)",null,null,null,null,null,null,null,null,null,null,null,null,"47",null,null,null,null,null,null,"円"]
[null,null,null,null,null,null,"(35)×(36)"]
[null,null,"小林敬幸税理士事務所",null,null,null,null,null,null,null,null,null,null,null,null,null,null,null,null,null,null,null,null,null,null,null,null,null,null,null,null,null,null,null,null,null,null,null,null,null,null,null,null,null,"法　0301-0620"]

{"sheet":"別表６（２１）","index":5,"n_rows":65,"n_cols":28,"rows_kept":65,"cut":false,"hidden":false,"merged":[[1,1,2,10],[1,11,1,13],[1,14,1,18],[1,19,2,20],[1,21,2,25],[1,26,2,28],[2,11,2,13],[2,14,2,18],[3,28,7,28],[4,12,29,13],[4,16,5,16],[4,17,5,17],[6,14,7,21],[7,3,8,7],[7,8,10,8],[7,9,10,10],[8,14,9,21],[8,22,11,22],[3,14,3,21],[3,22,7,22],[3,23,7,24],[3,25,4,25],[3,26,7,26],[3,27,9,27],[8,23,11,24],[10,14,11,21],[3,3,6,7],[3,8,6,8],[3,9,6,10],[3,11,4,11],[9,3,10,7],[11,3,11,7],[12,3,12,7],[12,14,13,21],[12,22,17,22],[12,23,17,24],[13,3,14,7],[14,16,17,16],[14,17,17,17],[14,18,15,20],[15,1,16,7],[15,8,19,8],[3,1,14,1],[3,2,14,2],[11,8,14,8],[11,9,14,10],[15,9,19,11],[16,18,17,20],[17,5,18,5],[18,14,20,21],[18,22,22,22],[18,23,22,24],[20,1,21,7],[20,8,23,8],[20,9,23,10],[20,11,21,11],[27,14,28,21],[27,22,30,22],[27,23,30,24],[28,1,29,7],[28,8,30,8],[28,9,30,10],[29,14,30,21],[30,1,30,7],[21,14,22,21],[22,1,23,7],[23,14,24,21],[23,22,26,22],[23,23,26,24],[24,1,25,7],[24,8,27,8],[24,9,27,10],[25,14,26,21],[26,1,27,7],[31,1,31,25],[32,1,35,7],[32,8,33,13],[32,14,32,20],[32,21,33,25],[33,14,34,20],[34,8,35,13],[34,21,35,25],[35,14,35,20],[36,1,36,7],[36,8,36,13],[36,14,36,20],[36,21,36,25],[37,1,37,2],[37,8,38,12],[37,16,37,18],[37,21,38,24],[38,1,38,2],[38,16,38,18],[39,1,39,25],[40,1,43,7],[40,8,41,13],[40,14,40,20],[40,21,41,25],[41,14,42,20],[42,8,43,13],[42,21,43,25],[43,14,43,20],[44,1,44,7],[44,8,44,13],[44,14,44,20],[44,21,44,25],[45,1,45,2],[45,8,46,12],[45,16,45,18],[45,21,46,24],[46,1,46,2],[46,16,46,18],[51,8,52,8],[51,10,52,16],[51,20,52,24],[53,1,54,7],[53,8,54,8],[53,10,54,16],[53,20,54,24],[47,1,47,25],[48,1,50,8],[48,9,48,17],[48,18,48,25],[49,9,49,17],[49,18,49,25],[50,9,50,17],[50,18,50,25],[61,25,62,25],[37,3,37,7],[38,3,38,7],[45,3,45,7],[46,3,46,7],[59,1,60,7],[59,8,60,8],[59,10,60,16],[59,20,60,24],[61,1,61,7],[61,8,63,8],[61,10,63,16],[61,17,62,17],[61,20,63,24],[55,1,56,7],[55,8,56,8],[55,10,56,16],[55,20,56,24],[57,1,57,7],[57,8,58,8],[57,10,58,16],[57,20,58,24],[58,1,58,7],[51,1,52,7]]}
[]
[null,"雇用者給与等支給額が増加した場合の法人税額\nの特別控除に関する明細書",null,null,null,null,null,null,null,null,null,"事　業",null,null,{"$f":"'別表６（２０）'!$AA$2","v":"2015-10-01"},null,null,null,null,"法人名",null,{"$f":"'別表６（２０）'!AK2","v":"株式会社今野デザイン"},null,null,null,null,"別表六"]
[null,null,null,null,null,null,null,null,null,null,null,"年　度",null,null,{"$f":"'別表６（２０）'!AA3","v":"2016-09-30"}]
[null,"雇用者給与等","支給増加額の計算","雇用者給与等支給額",null,null,null,null,1,{"$f":"'別表６（２０）'!Q5","v":9826300},null,"円",null,null,"税額控除限度額",null,null,null,null,null,null,null,8,{"$f":"'別表６（２０）'!AL5","v":0},null,"円",null,"（二十一）"]
[null,null,null,null,null,null,null,null,null,null,null,null,"法人税額の特別控除額の計算",null,null,null,"(3)","×",10]
[null,null,null,null,null,null,null,null,null,null,null,null,null,null,null,null,null,null,100]
[null,null,null,null,null,null,null,null,null,null,null,null,null,null,"((1)＜(5)の場合又は(6)≦(7)の場合は０)"]
[null,null,null,"基準雇用者給与等支給額",null,null,null,null,2,{"$f":"'別表６（２０）'!Q7","v":12017550}]
[null,null,null,null,null,null,null,null,null,null,null,null,null,null,"調整前法人税額",null,null,null,null,null,null,null,9,300000]
[null,null,null,"(17)"]
[null,null,null,null,null,null,null,null,null,null,null,null,null,null,"(別表一(一)｢2｣､別表一(二)｢2｣又は別\n表一(三)｢2｣)"]
[null,null,null,"雇用者給与等支給増加額",null,null,null,null,3,{"$f":"'別表６（２０）'!Q9","v":0}]
[null,null,null,"(1)－(2)",null,null,null,null,null,null,null,null,null,null,"当期税額基準額",null,null,null,null,null,null,null,10,{"$f":"ROUNDDOWN(X9*基本情報!D9/100,0)","v":30000}]
[null,null,null,"(マイナスの場合は０)"]
[null,null,null,null,null,null,null,null,null,null,null,null,null,null,null,null,"(9)","×",{"$f":"基本情報!D9","v":10}]
[null,"増加促進割合",null,null,null,null,null,null,4,{"$f":"'別表６（２０）'!Q11","v":0}]
[null,null,null,null,null,null,null,null,null,null,null,null,null,null,null,null,null,null,100]
[null,null,null,null,null,"(3)"]
[null,null,null,null,null,null,null,null,null,null,null,null,null,null,"当期税額控除可能額",null,null,null,null,null,null,null,11,{"$f":"MIN(X4,X13)","v":0}]
[null,null,null,null,null,"(2)"]
[null,"比較雇用者給与等支給額",null,null,null,null,null,null,5,{"$f":"'別表６（２０）'!Q13","v":10836600},null,"円"]
[null,null,null,null,null,null,null,null,null,null,null,null,null,null,"((8)と(10)のうち少ない金額)"]
[null,"(21)"]
[null,null,null,null,null,null,null,null,null,null,null,null,null,null,"法人税額超過構成額",null,null,null,null,null,null,null,12]
[null,"平均給与等支給額",null,null,null,null,null,null,6,{"$f":"'別表６（２０）'!Q15","v":258641}]
[null,null,null,null,null,null,null,null,null,null,null,null,null,null,"（別表六(二十五)｢31の②｣）"]
[null,"(27の①)"]
[null,null,null,null,null,null,null,null,null,null,null,null,null,null,"法人税額の特別控除額",null,null,null,null,null,null,null,13,{"$f":"X19-X24","v":0}]
[null,"比較平均給与等支給額",null,null,null,null,null,null,7,{"$f":"'別表６（２０）'!Q17","v":238467}]
[null,null,null,null,null,null,null,null,null,null,null,null,null,null,"(11)－(12)"]
[null,"(27の②)"]
[null,"基　 準　 雇　 用　 者　 給　 与　 等　 支　 給　 額　 の　 計　 算"]
[null,"基準事業年度又は基準連結事業年度等",null,null,null,null,null,null,"国内雇用者に対する",null,null,null,null,null,"適用年度の月数",null,null,null,null,null,null,"基準雇用者給与等支給額"]
[null,null,null,null,null,null,null,null,null,null,null,null,null,null,"(14)の基準事業年度又は"]
[null,null,null,null,null,null,null,null,"給与等の支給額",null,null,null,null,null,null,null,null,null,null,null,null,"(15)×(16)"]
[null,null,null,null,null,null,null,null,null,null,null,null,null,null,"基準連結事業年度等の月数"]
[null,14,null,null,null,null,null,null,15,null,null,null,null,null,16,null,null,null,null,null,null,17]
[null,"平",null,{"$f":"'別表６（２０）'!E22","v":"2012-10-01"},null,null,null,null,{"$f":"'別表６（２０）'!P23","v":12017550},null,null,null,null,"円",null,null,{"$f":"'別表６（２０）'!AC22","v":12},null,null,null,null,{"$f":"'別表６（２０）'!AJ23","v":12017550},null,null,null,"円"]
[null,"平",null,{"$f":"'別表６（２０）'!E23","v":"2013-09-30"},null,null,null,null,null,null,null,null,null,null,null,null,{"$f":"'別表６（２０）'!AC23","v":12}]
[null,"比　 較　 雇　 用　 者　 給　 与　 等　 支　 給　 額　 の　 計　 算"]
[null,"前事業年度又は前連結事業年度",null,null,null,null,null,null,"国内雇用者に対する",null,null,null,null,null,"適用年度の月数",null,null,null,null,null,null,"比較雇用者給与等支給額"]
[null,null,null,null,null,null,null,null,null,null,null,null,null,null,"(18)の前事業年度又は"]
[null,null,null,null,null,null,null,null,"給与等の支給額",null,null,null,null,null,null,null,null,null,null,null,null,"(19)×(20)"]
[null,null,null,null,null,null,null,null,null,null,null,null,null,null,"前連結事業年度等の月数"]
[null,18,null,null,null,null,null,null,19,null,null,null,null,null,20,null,null,null,null,null,null,21]
[null,"平",null,{"$f":"'別表６（２０）'!E28","v":"2014-10-01"},null,null,null,null,{"$f":"'別表６（２０）'!P29","v":10836600},null,null,null,null,"円",null,null,{"$f":"'別表６（２０）'!AC28","v":12},null,null,null,null,{"$f":"'別表６（２０）'!AJ29","v":10836600},null,null,null,"円"]
[null,"平",null,{"$f":"'別表６（２０）'!E29","v":"2015-09-30"},null,null,null,null,null,null,null,null,null,null,null,null,{"$f":"'別表６（２０）'!AC29","v":12}]
[null,"平 均 給 与 等 支 給 額 及 び 比 較 平 均 給 与 等 支 給 額 の 計 算"]
[null,null,null,null,null,null,null,null,null,"平均給与等支給額の計算",null,null,null,null,null,null,null,null,"比較平均給与等支給額の計算"]
[null,null,null,null,null,null,null,null,null,"適　　　　用　　　　年　　　　度",null,null,null,null,null,null,null,null,"前事業年度又は前連結事業年度"]
[null,null,null,null,null,null,null,null,null,"①",null,null,null,null,null,null,null,null,"②"]
[null,"雇用者給与等支給額",null,null,null,null,null,null,22,"(1)",{"$f":"'別表６（２０）'!T35","v":9826300},null,null,null,null,null,null,"円","(19)",null,{"$f":"'別表６（２０）'!AH35","v":10836600},null,null,null,null,"円"]
[]
[null,"同上のうち一般被保険者である継続雇用\n者に係る金額",null,null,null,null,null,null,23,null,{"$f":"'別表６（２０）'!T37","v":6207400},null,null,null,null,null,null,null,null,null,{"$f":"'別表６（２０）'!AH37","v":6677100}]
[]
[null,"同上のうち継続雇用制度対象者に係る金額",null,null,null,null,null,null,24,null,{"$f":"'別表６（２０）'!T39","v":0},null,null,null,null,null,null,null,null,null,{"$f":"'別表６（２０）'!AH39","v":0}]
[]
[null,"継続雇用者給与等支給額",null,null,null,null,null,null,25,null,{"$f":"'別表６（２０）'!T41","v":6207400},null,null,null,null,null,null,null,null,null,{"$f":"'別表６（２０）'!AH41","v":6677100}]
[null,"(23)－(24)"]
[null,"月別支給対象者の合計数",null,null,null,null,null,null,26,null,{"$f":"'別表６（２０）'!T43","v":24},null,null,null,null,null,null,"人",null,null,{"$f":"'別表６（２０）'!AH43","v":28},null,null,null,null,"人"]
[]
[null,"平均給与等支給額及び比較平均給与等支給額",null,null,null,null,null,null,27,null,{"$f":"'別表６（２０）'!T45","v":258641},null,null,null,null,null,null,"円",null,null,{"$f":"'別表６（２０）'!AH45","v":238467},null,null,null,null,"円"]
[null,null,null,null,null,"(25)"]
[null,null,null,null,null,"(26)"]
[null,null,null,null,null,null,null,null,null,null,null,null,null,null,null,null,null,null,null,null,null,null,null,null,null,"法　0301-0621"]

{"sheet":"計算基礎シート","index":6,"n_rows":28,"n_cols":12,"rows_kept":28,"cut":false,"hidden":true,"merged":[]}
[]
[]
[null,null,null,null,null,"在職中",{"$f":"G28","v":"2016-09-30"},"なくなった月",null,"なった月"]
[null,"前年度",null,null,"適用年度",{"$f":"F5&\"前退職\"","v":"2014年10月前退職"},{"$f":"G5-1","v":"2014-09-30"},1]
[1,{"$f":"基本情報!G11","v":"2014-10-01"},{"$f":"YEAR(B5)&\"年\"&MONTH(B5)&\"月以前\"","v":"2014年10月以前"},{"$f":"B5","v":"2014-10-01"},{"$f":"D5","v":"2014-10-01"},{"$f":"YEAR(E5)&\"年\"&MONTH(E5)&\"月\"","v":"2014年10月"},{"$f":"E5","v":"2014-10-01"},2,{"$f":"C5","v":"2014年10月以前"},1,null,"退職"]
[2,{"$f":"EOMONTH(B5,1)","v":"2014-11-30"},{"$f":"YEAR(B6)&\"年\"&MONTH(B6)&\"月\"","v":"2014年11月"},{"$f":"B6","v":"2014-11-30"},{"$f":"EOMONTH(E5,1)","v":"2014-11-30"},{"$f":"YEAR(E6)&\"年\"&MONTH(E6)&\"月\"","v":"2014年11月"},{"$f":"E6","v":"2014-11-30"},2,{"$f":"C6","v":"2014年11月"},1,null,"継続雇用制度に移行"]
[3,{"$f":"EOMONTH(B6,1)","v":"2014-12-31"},{"$f":"YEAR(B7)&\"年\"&MONTH(B7)&\"月\"","v":"2014年12月"},"2014-12-31",{"$f":"EOMONTH(E6,1)","v":"2014-12-31"},"2014年12月","2014-12-31",2,"2014年12月",1]
[4,"2015-01-31","2015年1月","2015-01-31","2015-01-31","2015年1月","2015-01-31",2,"2015年1月",1]
[5,"2015-02-28","2015年2月","2015-02-28","2015-02-28","2015年2月","2015-02-28",2,"2015年2月",1]
[6,"2015-03-31","2015年3月","2015-03-31","2015-03-31","2015年3月","2015-03-31",2,"2015年3月",1]
[7,"2015-04-30","2015年4月","2015-04-30","2015-04-30","2015年4月","2015-04-30",2,"2015年4月",1]
[8,"2015-05-31","2015年5月","2015-05-31","2015-05-31","2015年5月","2015-05-31",2,"2015年5月",1]
[9,"2015-06-30","2015年6月","2015-06-30","2015-06-30","2015年6月","2015-06-30",2,"2015年6月",1]
[10,"2015-07-31","2015年7月","2015-07-31","2015-07-31","2015年7月","2015-07-31",2,"2015年7月",1]
[11,"2015-08-31","2015年8月","2015-08-31","2015-08-31","2015年8月","2015-08-31",2,"2015年8月",1]
[12,"2015-09-30","2015年9月","2015-09-30","2015-09-30","2015年9月","2015-09-30",2,"2015年9月",1]
[13,"2015-10-31","2015年10月","2015-10-31","2015-10-31","2015年10月","2015-10-31",1,"2015年10月",2]
[14,"2015-11-30","2015年11月","2015-11-30","2015-11-30","2015年11月","2015-11-30",1,"2015年11月",2]
[15,"2015-12-31","2015年12月","2015-12-31","2015-12-31","2015年12月","2015-12-31",1,"2015年12月",2]
[16,"2016-01-31","2016年1月","2016-01-31","2016-01-31","2016年1月","2016-01-31",1,"2016年1月",2]
[17,"2016-02-29","2016年2月","2016-02-29","2016-02-29","2016年2月","2016-02-29",1,"2016年2月",2]
[18,"2016-03-31","2016年3月","2016-03-31","2016-03-31","2016年3月","2016-03-31",1,"2016年3月",2]
[19,"2016-04-30","2016年4月","2016-04-30","2016-04-30","2016年4月","2016-04-30",1,"2016年4月",2]
[20,"2016-05-31","2016年5月","2016-05-31","2016-05-31","2016年5月","2016-05-31",1,"2016年5月",2]
[21,"2016-06-30","2016年6月","2016-06-30","2016-06-30","2016年6月","2016-06-30",1,"2016年6月",2]
[22,"2016-07-31","2016年7月","2016-07-31","2016-07-31","2016年7月","2016-07-31",1,"2016年7月",2]
[23,"2016-08-31","2016年8月","2016-08-31","2016-08-31","2016年8月","2016-08-31",1,"2016年8月",2]
[24,"2016-09-30","2016年9月","2016-09-30","2016-09-30","2016年9月","2016-09-30",1,"2016年9月",2]