{"text_format":"1","workbook":"xlsx","n_sheets":9,"sheets":["ＴＯＰ","基本情報","給与入力","別表6(24)","教育訓練費入力（今期）","教育訓練費印刷（今期）","教育訓練費入力（前期）","教育訓練費印刷（前期）","計算基礎シート"],"not_rendered":{"charts":0,"images":7,"macros":1,"external_links":0,"defined_names":7,"comments":0,"pivot_tables":0},"unopened":[],"bounds":{"document_bytes":16777216,"sheet_cells":100000,"rows_first":2000,"rows_last":500,"rows_between":2000,"halvings":0,"cell_chars":16384,"cell_head_chars":4096},"cells_cut":0,"cells_raw":0,"read":"whole","date_system":"1900"}

{"sheet":"ＴＯＰ","index":0,"n_rows":29,"n_cols":5,"rows_kept":29,"cut":false,"hidden":false,"merged":[[0,0,0,4],[28,2,29,4],[31,2,32,4],[22,2,24,4],[25,2,27,4]]}
[]
[]
[]
[]
[]
[]
[]
[null,"入力・移動",null,null,"説明"]
[]
[null,null,null,null,"会社名、適用事業年度などを入力します"]
[]
[null,null,null,null,"従業員の名前などの情報と、前期・今期の給与情報を入力します。\n給与計算ソフトからエクスポートした情報などを貼り付けると、効果的です。"]
[]
[null,null,null,null,"今期の教育訓練費がある場合に入力します。入力後集計ボタンを押すと、合計額が別表に転記されます。"]
[]
[null,null," ",null,"今期の教育訓練費がある場合、前期の教育訓練費を入力します。入力後集計ボタンを押すと、合計額が別表に転記されます。"]
[]
[null,null,null,null,"別表６（２６）の画面が表示されます。税額等を入力後印刷し、税務ソフトなどに転記してください。"]
[null,null,null,null,"提供：小林敬幸税理士事務所"]
[null,null,null,null,"Ver. 1.0"]
[null,"★当事務所の税理士の著書"]
[]
[null,null,"帳簿初心者な方向けに、パソコン会計で徹底的に簡単に青色申告を行うためのTipsを詰め込んだ、自信の一作です！"]
[]
[]
[null,null,"★参考\nこのファイルの保護パスワードは、こちらの本の背面の２つめのバーコードの数字（1922で始まる１３ケタの数字（半角））になっています。マクロを有効にすると、保護を解除しなくともすべての機能は使えますが、保護を解除して改造等挑戦される方は是非本書もお求めください。"]
[]
[]
[null,null,"個人事業を会社にした場合の税金や社会保険料の変化が、誰でも簡単にシミュレーションできるソフトが付録についた、法人成りのノウハウ満載のマニュアル本です！"]

{"sheet":"基本情報","index":1,"n_rows":21,"n_cols":5,"rows_kept":21,"cut":false,"hidden":false,"merged":[[16,3,17,3]]}
[]
[]
[]
[]
[]
[]
[null,"会社名","株式会社今野デザイン"]
[]
[null,"中小企業に該当するか","該当",null,{"$f":"IF(C9=\"該当\",20,10)","v":20}]
[]
[null,"計算事業年度の期末日","2019-03-31"]
[null,"計算事業年度の期首日",{"$f":"EOMONTH(C11,-12)+1","v":"2018-04-01"}]
[null,"計算事業年度の月数",{"$f":"(YEAR(C11)-YEAR(C12))*12+MONTH(C11)-MONTH(C12)+IF(DAY(C12)<=DAY(C11),1,0)","v":12}]
[]
[null,"前事業年度の期末日",{"$f":"C12-1","v":"2018-03-31"}]
[null,"前事業年度の期首日","2017-04-01","←前事業年度が一年未満の場合は、期首日を上書きしてください。",{"$f":"EOMONTH(C15,-12)+1","v":"2017-04-01"}]
[null,"前事業年度の月数",{"$f":"(YEAR(C15)-YEAR(C16))*12+MONTH(C15)-MONTH(C16)+IF(DAY(C16)<=DAY(C15),1,0)","v":12},{"$f":"IF(C18=\"該当する\",\"\",IF(C17<6,\"←前事業年度が６か月未満の場合は、比較雇用者給与等支給額の自動計算が行われません。\n手計算で計算を行ってください。\",\"\"))","v":""},{"$f":"IF(C18=\"該当する\",C16,E16)","v":"2017-04-01"}]
[null,"前事業年度が設立\n事業年度に該当するか","該当しない",null,{"$f":"C17","v":12}]
[]
[null,"経営力向上要件","満たさない",null,{"$f":"IF(C20=\"満たさない\",0,1)","v":0}]
[null,null,null,null,{"$f":"(YEAR(C15)-YEAR(E17))*12+MONTH(C15)-MONTH(E17)+IF(DAY(E17)<=DAY(C15),1,0)","v":12}]

{"sheet":"給与入力","index":2,"n_rows":69,"n_cols":34,"rows_kept":69,"cut":false,"hidden":false,"merged":[[67,1,67,2],[68,1,68,2],[59,1,59,2],[52,1,52,2],[53,1,53,2],[54,1,54,2],[55,1,55,2],[56,1,56,2],[65,1,65,2],[66,1,66,2],[60,1,60,2],[57,1,57,2],[63,1,63,2],[17,33,18,33],[40,1,40,2],[40,33,41,33],[41,1,41,2],[28,1,28,2],[29,1,29,2],[30,1,30,2],[31,1,31,2],[32,1,32,2],[23,1,23,2],[24,1,24,2],[25,1,25,2],[26,1,26,2],[37,1,37,2],[63,33,64,33],[64,1,64,2],[4,1,4,2],[5,1,5,2],[12,1,12,2],[11,1,11,2],[17,1,17,2],[27,1,27,2],[18,1,18,2],[19,1,19,2],[20,1,20,2],[21,1,21,2],[22,1,22,2],[33,1,33,2],[34,1,34,2],[36,1,36,2],[42,1,42,2],[43,1,43,2],[44,1,44,2],[45,1,45,2],[46,1,46,2],[47,1,47,2],[48,1,48,2],[49,1,49,2],[50,1,50,2],[51,1,51,2]]}
[]
[]
[]
[null,"１、従業員情報の入力"]
[null,"Ｎｏ．",null,1,2,3,4,5,6,7,8,9,10,11,12,13,14,15,16,17,18,19,20,21,22,23,24,25,26,27,28,29,30]
[null,"名前",null,"今野　友夫","今野　朝子","絹延橋　みつ子","山下　崇","滝山　真一","日生　暁久","鳥居　雅之","笹部　菜穂美","畦野　繁樹","多田　昭彦","川西　めぐみ","常盤　典子","平野　裕","鼓滝　健三","妙見　隆一"]
[null,"役員/兼務役員/特殊関係者",null,"該当","該当","非該当","非該当","非該当","非該当","非該当","非該当","非該当","非該当","非該当","非該当","非該当","非該当","非該当"]
[null,"国内雇用者",null,null,null,"該当","該当","該当","該当","該当","該当","該当","該当","該当","該当","非該当","該当","該当"]
[null,"雇用保険一般被保険者",null,null,null,"該当","該当","該当","該当","該当","該当","該当","該当","非該当","該当",null,"非該当","該当"]
[null,"高年齢被保険者",null,null,null,"非該当","非該当","非該当","非該当","非該当","非該当","非該当","非該当",null,"該当",null,null,"非該当"]
[null,"継続雇用制度対象者",null,null,null,"非該当","非該当","非該当","非該当","非該当","非該当","非該当","非該当",null,null,null,null,"非該当"]
[null,"雇用者給与等集計対象",null,{"$f":"IF(D6=\"\",\"\",IF(D7=\"\",\"対象外\",IF(D7=\"該当\",\"対象外\",IF(OR(D8=\"非該当\",D8=\"\"),\"対象外\",\"対象\"))))","v":"対象外"},"対象外",{"$f":"IF(F6=\"\",\"\",IF(F7=\"\",\"対象外\",IF(F7=\"該当\",\"対象外\",IF(OR(F8=\"非該当\",F8=\"\"),\"対象外\",\"対象\"))))","v":"対象"},{"$f":"IF(G6=\"\",\"\",IF(G7=\"\",\"対象外\",IF(G7=\"該当\",\"対象外\",IF(OR(G8=\"非該当\",G8=\"\"),\"対象外\",\"対象\"))))","v":"対象"},"対象","対象","対象","対象","対象","対象","対象","対象","対象外","対象","対象","","","","","","","","","","","","","","",""]
[null,"継続雇用者集計対象",null,{"$f":"IF(D6=\"\",\"\",IF(AND(D10=\"非該当\",D11=\"非該当\",D12=\"対象\",D38=\"毎月支給OK\",D61=\"毎月支給OK\"),\"対象\",\"対象外\"))","v":"対象外"},{"$f":"IF(E6=\"\",\"\",IF(AND(E10=\"非該当\",E11=\"非該当\",E12=\"対象\",E38=\"毎月支給OK\",E61=\"毎月支給OK\"),\"対象\",\"対象外\"))","v":"対象外"},"対象","対象外","対象","対象","対象","対象","対象","対象外","対象外","対象外","対象外","対象外","対象外","","","","","","","","","","","","","","",""]
[null,"該当"]
[null,"非該当"]
[]
[null,"２、前事業年度（前期）の給与入力"]
[null,"Ｎｏ．",null,1,2,3,4,5,6,7,8,9,10,11,12,13,14,15,16,17,18,19,20,21,22,23,24,25,26,27,28,29,30,"合計"]
[null,"名前",null,{"$f":"IF(D6=\"\",\"\",D6)","v":"今野　友夫"},"今野　朝子","絹延橋　みつ子","山下　崇","滝山　真一","日生　暁久","鳥居　雅之","笹部　菜穂美","畦野　繁樹","多田　昭彦","川西　めぐみ","常盤　典子","平野　裕","鼓滝　健三","妙見　隆一","","","","","","","","","","","","","","",""]
[null,{"$f":"基本情報!E16","v":"2017-04-01"},null,800000,500000,350000,303456,250000,120000,442000,296485,284883,235157,68640,66960,52800,54780,null,null,null,null,null,null,null,null,null,null,null,null,null,null,null,null,{"$f":"SUM(D20:AG20)","v":3825161}]
[null,{"$f":"EOMONTH(B20,1)","v":"2017-05-31"},null,800000,500000,350000,314555,430000,317000,442000,296485,284883,235157,68640,66960,52800,54780,null,null,null,null,null,null,null,null,null,null,null,null,null,null,null,null,{"$f":"SUM(D21:AG21)","v":4213260}]
[null,{"$f":"EOMONTH(B21,1)","v":"2017-06-30"},null,800000,500000,350000,318047,430000,317000,442000,296485,284883,235157,68640,66960,52800,54780,null,null,null,null,null,null,null,null,null,null,null,null,null,null,null,null,4216752]
[null,"2017-07-31",null,800000,500000,350000,323438,435000,322000,447000,301875,290469,240625,69420,67680,53400,55440,null,null,null,null,null,null,null,null,null,null,null,null,null,null,null,null,4256347]
[null,"2017-08-31",null,800000,500000,350000,323438,435000,322000,447000,301875,290469,240625,69420,67680,53400,55440,null,null,null,null,null,null,null,null,null,null,null,null,null,null,null,null,4256347]
[null,"2017-09-30",null,800000,500000,350000,0,435000,322000,447000,301875,290469,240625,69420,67680,53400,55440,null,null,null,null,null,null,null,null,null,null,null,null,null,null,null,null,3932909]
[null,"2017-10-31",null,800000,500000,350000,323438,435000,322000,447000,301875,290469,240625,69420,67680,53400,55440,null,null,null,null,null,null,null,null,null,null,null,null,null,null,null,null,4256347]
[null,"2017-11-30",null,800000,500000,350000,323438,435000,322000,447000,301875,290469,240625,69420,67680,53400,55440,190000,null,null,null,null,null,null,null,null,null,null,null,null,null,null,null,4446347]
[null,"2017-12-31",null,800000,500000,350000,323438,435000,322000,447000,301875,290469,240625,69420,67680,53400,55440,190000,null,null,null,null,null,null,null,null,null,null,null,null,null,null,null,4446347]
[null,"2018-01-31",null,800000,500000,350000,323438,435000,322000,447000,301875,290469,240625,69420,67680,53400,55440,190000,null,null,null,null,null,null,null,null,null,null,null,null,null,null,null,4446347]
[null,"2018-02-28",null,800000,500000,350000,323438,435000,322000,447000,301875,290469,240625,69420,67680,53400,55440,190000,null,null,null,null,null,null,null,null,null,null,null,null,null,null,null,4446347]
[null,"2018-03-31",null,800000,500000,350000,323438,435000,322000,447000,301875,290469,240625,69420,67680,53400,55440,190000,null,null,null,null,null,null,null,null,null,null,null,null,null,null,null,4446347]
[null,"賞与１",null,null,null,500000,600000,800000,604000,844000,520000,440000,440000,0,0,0,0,null,null,null,null,null,null,null,null,null,null,null,null,null,null,null,null,4748000]
[null,"賞与２",null,null,null,500000,600000,800000,604000,644000,520000,440000,440000,null,null,null,null,170000,null,null,null,null,null,null,null,null,null,null,null,null,null,null,null,4718000]
[null,"賞与３",null,null,null,null,null,null,null,null,null,null,null,null,null,null,null,null,null,null,null,null,null,null,null,null,null,null,null,null,null,null,null,0]
[null,"賞与４",null,null,null,null,null,null,null,null,null,null,null,null,null,null,null,null,null,null,null,null,null,null,null,null,null,null,null,null,null,null,null,0]
[null,"他から支払いを受けた金額（マイナス入力）",null,null,null,null,null,null,null,null,null,null,null,null,null,null,null,null,null,null,null,null,null,null,null,null,null,null,null,null,null,null,null,0]
[null,"合計",null,{"$f":"SUMIFS(D20:D31,$B20:$B31,\">=\"&基本情報!$E$17)+SUM(D32:D36)","v":9600000},{"$f":"SUMIFS(E20:E31,$B20:$B31,\">=\"&基本情報!$E$17)+SUM(E32:E36)","v":6000000},{"$f":"SUMIFS(F20:F31,$B20:$B31,\">=\"&基本情報!$E$17)+SUM(F32:F36)","v":5200000},{"$f":"SUMIFS(G20:G31,$B20:$B31,\">=\"&基本情報!$E$17)+SUM(G32:G36)","v":4723562},{"$f":"SUMIFS(H20:H31,$B20:$B31,\">=\"&基本情報!$E$17)+SUM(H32:H36)","v":6625000},{"$f":"SUMIFS(I20:I31,$B20:$B31,\">=\"&基本情報!$E$17)+SUM(I32:I36)","v":4860000},{"$f":"SUMIFS(J20:J31,$B20:$B31,\">=\"&基本情報!$E$17)+SUM(J32:J36)","v":6837000},{"$f":"SUMIFS(K20:K31,$B20:$B31,\">=\"&基本情報!$E$17)+SUM(K32:K36)","v":4646330},{"$f":"SUMIFS(L20:L31,$B20:$B31,\">=\"&基本情報!$E$17)+SUM(L32:L36)","v":4348870},{"$f":"SUMIFS(M20:M31,$B20:$B31,\">=\"&基本情報!$E$17)+SUM(M32:M36)","v":3751096},{"$f":"SUMIFS(N20:N31,$B20:$B31,\">=\"&基本情報!$E$17)+SUM(N32:N36)","v":830700},{"$f":"SUMIFS(O20:O31,$B20:$B31,\">=\"&基本情報!$E$17)+SUM(O32:O36)","v":810000},{"$f":"SUMIFS(P20:P31,$B20:$B31,\">=\"&基本情報!$E$17)+SUM(P32:P36)","v":639000},{"$f":"SUMIFS(Q20:Q31,$B20:$B31,\">=\"&基本情報!$E$17)+SUM(Q32:Q36)","v":663300},{"$f":"SUMIFS(R20:R31,$B20:$B31,\">=\"&基本情報!$E$17)+SUM(R32:R36)","v":1120000},{"$f":"SUMIFS(S20:S31,$B20:$B31,\">=\"&基本情報!$E$17)+SUM(S32:S36)","v":0},{"$f":"SUMIFS(T20:T31,$B20:$B31,\">=\"&基本情報!$E$17)+SUM(T32:T36)","v":0},{"$f":"SUMIFS(U20:U31,$B20:$B31,\">=\"&基本情報!$E$17)+SUM(U32:U36)","v":0},{"$f":"SUMIFS(V20:V31,$B20:$B31,\">=\"&基本情報!$E$17)+SUM(V32:V36)","v":0},{"$f":"SUMIFS(W20:W31,$B20:$B31,\">=\"&基本情報!$E$17)+SUM(W32:W36)","v":0},{"$f":"SUMIFS(X20:X31,$B20:$B31,\">=\"&基本情報!$E$17)+SUM(X32:X36)","v":0},{"$f":"SUMIFS(Y20:Y31,$B20:$B31,\">=\"&基本情報!$E$17)+SUM(Y32:Y36)","v":0},{"$f":"SUMIFS(Z20:Z31,$B20:$B31,\">=\"&基本情報!$E$17)+SUM(Z32:Z36)","v":0},{"$f":"SUMIFS(AA20:AA31,$B20:$B31,\">=\"&基本情報!$E$17)+SUM(AA32:AA36)","v":0},{"$f":"SUMIFS(AB20:AB31,$B20:$B31,\">=\"&基本情報!$E$17)+SUM(AB32:AB36)","v":0},{"$f":"SUMIFS(AC20:AC31,$B20:$B31,\">=\"&基本情報!$E$17)+SUM(AC32:AC36)","v":0},{"$f":"SUMIFS(AD20:AD31,$B20:$B31,\">=\"&基本情報!$E$17)+SUM(AD32:AD36)","v":0},{"$f":"SUMIFS(AE20:AE31,$B20:$B31,\">=\"&基本情報!$E$17)+SUM(AE32:AE36)","v":0},{"$f":"SUMIFS(AF20:AF31,$B20:$B31,\">=\"&基本情報!$E$17)+SUM(AF32:AF36)","v":0},{"$f":"SUMIFS(AG20:AG31,$B20:$B31,\">=\"&基本情報!$E$17)+SUM(AG32:AG36)","v":0},{"$f":"SUM(AH20:AH36)","v":60654858}]
[null,"毎月の給与支給チェック",null,{"$f":"IF(D19=\"\",\"\",IF(COUNTIF(D20:D31,\">0\")>=基本情報!$E$18,\"毎月支給OK\",\"毎月支給NG\"))","v":"毎月支給OK"},{"$f":"IF(E19=\"\",\"\",IF(COUNTIF(E20:E31,\">0\")>=基本情報!$E$18,\"毎月支給OK\",\"毎月支給NG\"))","v":"毎月支給OK"},{"$f":"IF(F19=\"\",\"\",IF(COUNTIF(F20:F31,\">0\")>=基本情報!$E$18,\"毎月支給OK\",\"毎月支給NG\"))","v":"毎月支給OK"},{"$f":"IF(G19=\"\",\"\",IF(COUNTIF(G20:G31,\">0\")>=基本情報!$E$18,\"毎月支給OK\",\"毎月支給NG\"))","v":"毎月支給NG"},{"$f":"IF(H19=\"\",\"\",IF(COUNTIF(H20:H31,\">0\")>=基本情報!$E$18,\"毎月支給OK\",\"毎月支給NG\"))","v":"毎月支給OK"},{"$f":"IF(I19=\"\",\"\",IF(COUNTIF(I20:I31,\">0\")>=基本情報!$E$18,\"毎月支給OK\",\"毎月支給NG\"))","v":"毎月支給OK"},{"$f":"IF(J19=\"\",\"\",IF(COUNTIF(J20:J31,\">0\")>=基本情報!$E$18,\"毎月支給OK\",\"毎月支給NG\"))","v":"毎月支給OK"},{"$f":"IF(K19=\"\",\"\",IF(COUNTIF(K20:K31,\">0\")>=基本情報!$E$18,\"毎月支給OK\",\"毎月支給NG\"))","v":"毎月支給OK"},{"$f":"IF(L19=\"\",\"\",IF(COUNTIF(L20:L31,\">0\")>=基本情報!$E$18,\"毎月支給OK\",\"毎月支給NG\"))","v":"毎月支給OK"},{"$f":"IF(M19=\"\",\"\",IF(COUNTIF(M20:M31,\">0\")>=基本情報!$E$18,\"毎月支給OK\",\"毎月支給NG\"))","v":"毎月支給OK"},{"$f":"IF(N19=\"\",\"\",IF(COUNTIF(N20:N31,\">0\")>=基本情報!$E$18,\"毎月支給OK\",\"毎月支給NG\"))","v":"毎月支給OK"},{"$f":"IF(O19=\"\",\"\",IF(COUNTIF(O20:O31,\">0\")>=基本情報!$E$18,\"毎月支給OK\",\"毎月支給NG\"))","v":"毎月支給OK"},{"$f":"IF(P19=\"\",\"\",IF(COUNTIF(P20:P31,\">0\")>=基本情報!$E$18,\"毎月支給OK\",\"毎月支給NG\"))","v":"毎月支給OK"},{"$f":"IF(Q19=\"\",\"\",IF(COUNTIF(Q20:Q31,\">0\")>=基本情報!$E$18,\"毎月支給OK\",\"毎月支給NG\"))","v":"毎月支給OK"},{"$f":"IF(R19=\"\",\"\",IF(COUNTIF(R20:R31,\">0\")>=基本情報!$E$18,\"毎月支給OK\",\"毎月支給NG\"))","v":"毎月支給NG"},{"$f":"IF(S19=\"\",\"\",IF(COUNTIF(S20:S31,\">0\")>=基本情報!$E$18,\"毎月支給OK\",\"毎月支給NG\"))","v":""},{"$f":"IF(T19=\"\",\"\",IF(COUNTIF(T20:T31,\">0\")>=基本情報!$E$18,\"毎月支給OK\",\"毎月支給NG\"))","v":""},{"$f":"IF(U19=\"\",\"\",IF(COUNTIF(U20:U31,\">0\")>=基本情報!$E$18,\"毎月支給OK\",\"毎月支給NG\"))","v":""},{"$f":"IF(V19=\"\",\"\",IF(COUNTIF(V20:V31,\">0\")>=基本情報!$E$18,\"毎月支給OK\",\"毎月支給NG\"))","v":""},{"$f":"IF(W19=\"\",\"\",IF(COUNTIF(W20:W31,\">0\")>=基本情報!$E$18,\"毎月支給OK\",\"毎月支給NG\"))","v":""},{"$f":"IF(X19=\"\",\"\",IF(COUNTIF(X20:X31,\">0\")>=基本情報!$E$18,\"毎月支給OK\",\"毎月支給NG\"))","v":""},{"$f":"IF(Y19=\"\",\"\",IF(COUNTIF(Y20:Y31,\">0\")>=基本情報!$E$18,\"毎月支給OK\",\"毎月支給NG\"))","v":""},{"$f":"IF(Z19=\"\",\"\",IF(COUNTIF(Z20:Z31,\">0\")>=基本情報!$E$18,\"毎月支給OK\",\"毎月支給NG\"))","v":""},{"$f":"IF(AA19=\"\",\"\",IF(COUNTIF(AA20:AA31,\">0\")>=基本情報!$E$18,\"毎月支給OK\",\"毎月支給NG\"))","v":""},{"$f":"IF(AB19=\"\",\"\",IF(COUNTIF(AB20:AB31,\">0\")>=基本情報!$E$18,\"毎月支給OK\",\"毎月支給NG\"))","v":""},{"$f":"IF(AC19=\"\",\"\",IF(COUNTIF(AC20:AC31,\">0\")>=基本情報!$E$18,\"毎月支給OK\",\"毎月支給NG\"))","v":""},{"$f":"IF(AD19=\"\",\"\",IF(COUNTIF(AD20:AD31,\">0\")>=基本情報!$E$18,\"毎月支給OK\",\"毎月支給NG\"))","v":""},{"$f":"IF(AE19=\"\",\"\",IF(COUNTIF(AE20:AE31,\">0\")>=基本情報!$E$18,\"毎月支給OK\",\"毎月支給NG\"))","v":""},{"$f":"IF(AF19=\"\",\"\",IF(COUNTIF(AF20:AF31,\">0\")>=基本情報!$E$18,\"毎月支給OK\",\"毎月支給NG\"))","v":""},{"$f":"IF(AG19=\"\",\"\",IF(COUNTIF(AG20:AG31,\">0\")>=基本情報!$E$18,\"毎月支給OK\",\"毎月支給NG\"))","v":""}]
[]
[null,"３、計算事業年度（今期）の給与入力"]
[null,"Ｎｏ．",null,1,2,3,4,5,6,7,8,9,10,11,12,13,14,15,16,17,18,19,20,21,22,23,24,25,26,27,28,29,30,"合計"]
[null,"名前",null,{"$f":"IF(D6=\"\",\"\",D6)","v":"今野　友夫"},"今野　朝子","絹延橋　みつ子","山下　崇","滝山　真一","日生　暁久","鳥居　雅之","笹部　菜穂美","畦野　繁樹","多田　昭彦","川西　めぐみ","常盤　典子","平野　裕","鼓滝　健三","妙見　隆一","","","","","","","","","","","","","","",""]
[null,{"$f":"基本情報!C12","v":"2018-04-01"},null,800000,500000,380000,280000,430000,400000,480000,350000,290469,240625,68640,67680,53400,55440,190000,null,null,null,null,null,null,null,null,null,null,null,null,null,null,null,{"$f":"SUM(D43:AG43)","v":4586254}]
[null,{"$f":"EOMONTH(B43,1)","v":"2018-05-31"},null,800000,550000,380000,280000,430000,400000,480000,350000,290469,240625,68640,67680,53400,55440,190000,null,null,null,null,null,null,null,null,null,null,null,null,null,null,null,{"$f":"SUM(D44:AG44)","v":4636254}]
[null,{"$f":"EOMONTH(B44,1)","v":"2018-06-30"},null,800000,550000,380000,280000,430000,400000,480000,350000,290469,240625,68640,67680,53400,55440,190000,null,null,null,null,null,null,null,null,null,null,null,null,null,null,null,4636254]
[null,"2018-07-31",null,800000,550000,380000,280000,435000,400000,480000,350000,290469,240625,69420,67680,53400,55440,190000,null,null,null,null,null,null,null,null,null,null,null,null,null,null,null,4642034]
[null,"2018-08-31",null,800000,550000,380000,280000,435000,400000,480000,350000,290469,240625,69420,67680,53400,55440,190000,null,null,null,null,null,null,null,null,null,null,null,null,null,null,null,4642034]
[null,"2018-09-30",null,800000,550000,380000,280000,435000,400000,480000,350000,290469,240625,69420,67680,53400,55440,190000,null,null,null,null,null,null,null,null,null,null,null,null,null,null,null,4642034]
[null,"2018-10-31",null,800000,550000,380000,280000,435000,400000,480000,350000,290469,null,69420,67680,53400,55440,190000,null,null,null,null,null,null,null,null,null,null,null,null,null,null,null,4401409]
[null,"2018-11-30",null,800000,550000,380000,280000,435000,400000,480000,350000,290469,null,69420,67680,53400,55440,190000,null,null,null,null,null,null,null,null,null,null,null,null,null,null,null,4401409]
[null,"2018-12-31",null,800000,550000,380000,280000,435000,400000,480000,350000,290469,null,69420,67680,53400,55440,190000,null,null,null,null,null,null,null,null,null,null,null,null,null,null,null,4401409]
[null,"2019-01-31",null,800000,550000,380000,280000,435000,400000,480000,350000,290469,null,69420,67680,53400,55440,190000,null,null,null,null,null,null,null,null,null,null,null,null,null,null,null,4401409]
[null,"2019-02-28",null,800000,550000,380000,280000,435000,400000,480000,350000,290469,null,69420,67680,53400,55440,190000,null,null,null,null,null,null,null,null,null,null,null,null,null,null,null,4401409]
[null,"2019-03-31",null,800000,550000,380000,280000,435000,400000,480000,350000,290469,null,69420,67680,53400,55440,190000,null,null,null,null,null,null,null,null,null,null,null,null,null,null,null,4401409]
[null,"賞与１",null,null,null,600000,600000,800000,604000,950000,700000,440000,null,0,0,0,0,300000,null,null,null,null,null,null,null,null,null,null,null,null,null,null,null,4994000]
[null,"賞与２",null,null,null,600000,600000,800000,604000,750000,700000,440000,null,null,null,null,null,350000,null,null,null,null,null,null,null,null,null,null,null,null,null,null,null,4844000]
[null,"賞与３",null,null,null,null,null,null,null,null,null,null,null,null,null,null,null,null,null,null,null,null,null,null,null,null,null,null,null,null,null,null,null,0]
[null,"賞与４",null,null,null,null,null,null,null,null,null,null,null,null,null,null,null,null,null,null,null,null,null,null,null,null,null,null,null,null,null,null,null,0]
[null,"他から支払いを受けた金額（マイナス入力）",null,null,null,null,null,null,null,null,null,null,null,null,null,null,null,null,null,null,null,null,null,null,null,null,null,null,null,null,null,null,null,0]
[null,"合計",null,{"$f":"SUM(D43:D59)","v":9600000},{"$f":"SUM(E43:E59)","v":6550000},{"$f":"SUM(F43:F59)","v":5760000},{"$f":"SUM(G43:G59)","v":4560000},{"$f":"SUM(H43:H59)","v":6805000},{"$f":"SUM(I43:I59)","v":6008000},{"$f":"SUM(J43:J59)","v":7460000},{"$f":"SUM(K43:K59)","v":5600000},{"$f":"SUM(L43:L59)","v":4365628},{"$f":"SUM(M43:M59)","v":1443750},{"$f":"SUM(N43:N59)","v":830700},{"$f":"SUM(O43:O59)","v":812160},{"$f":"SUM(P43:P59)","v":640800},{"$f":"SUM(Q43:Q59)","v":665280},{"$f":"SUM(R43:R59)","v":2930000},{"$f":"SUM(S43:S59)","v":0},{"$f":"SUM(T43:T59)","v":0},{"$f":"SUM(U43:U59)","v":0},{"$f":"SUM(V43:V59)","v":0},{"$f":"SUM(W43:W59)","v":0},{"$f":"SUM(X43:X59)","v":0},{"$f":"SUM(Y43:Y59)","v":0},{"$f":"SUM(Z43:Z59)","v":0},{"$f":"SUM(AA43:AA59)","v":0},{"$f":"SUM(AB43:AB59)","v":0},{"$f":"SUM(AC43:AC59)","v":0},{"$f":"SUM(AD43:AD59)","v":0},{"$f":"SUM(AE43:AE59)","v":0},{"$f":"SUM(AF43:AF59)","v":0},{"$f":"SUM(AG43:AG59)","v":0},{"$f":"SUM(AH43:AH59)","v":64031318}]
[null,"毎月の給与支給チェック",null,{"$f":"IF(D42=\"\",\"\",IF(COUNTIF(D43:D54,\">0\")=12,\"毎月支給OK\",\"毎月支給NG\"))","v":"毎月支給OK"},{"$f":"IF(E42=\"\",\"\",IF(COUNTIF(E43:E54,\">0\")=12,\"毎月支給OK\",\"毎月支給NG\"))","v":"毎月支給OK"},"毎月支給OK","毎月支給OK","毎月支給OK","毎月支給OK","毎月支給OK","毎月支給OK","毎月支給OK","毎月支給NG","毎月支給OK","毎月支給OK","毎月支給OK","毎月支給OK","毎月支給OK","","","","","","","","","","","","","","",""]
[]
[null,"４、別表に転記する金額の集計"]
[null,"Ｎｏ．",null,1,2,3,4,5,6,7,8,9,10,11,12,13,14,15,16,17,18,19,20,21,22,23,24,25,26,27,28,29,30,"合計"]
[null,"名前",null,{"$f":"IF(D6=\"\",\"\",D6)","v":"今野　友夫"},"今野　朝子","絹延橋　みつ子","山下　崇","滝山　真一","日生　暁久","鳥居　雅之","笹部　菜穂美","畦野　繁樹","多田　昭彦","川西　めぐみ","常盤　典子","平野　裕","鼓滝　健三","妙見　隆一","","","","","","","","","","","","","","",""]
[null,"前事業年度の雇用者給与等支給額",null,{"$f":"IF(D65=\"\",\"\",IF(D12=\"対象\",SUM(D37),0))","v":0},{"$f":"IF(E65=\"\",\"\",IF(E12=\"対象\",SUM(E37),0))","v":0},5200000,4723562,6625000,4860000,6837000,4646330,4348870,3751096,830700,810000,0,663300,1120000,"","","","","","","","","","","","","","","",{"$f":"SUM(D66:AG66)","v":44415858}]
[null,"前事業年度の継続雇用者給与等支給額",null,{"$f":"IF(D65=\"\",\"\",IF(D13=\"対象\",SUM(D37),0))","v":0},{"$f":"IF(E65=\"\",\"\",IF(E13=\"対象\",SUM(E37),0))","v":0},5200000,0,6625000,4860000,6837000,4646330,4348870,0,0,0,0,0,0,"","","","","","","","","","","","","","","",{"$f":"SUM(D67:AG67)","v":32517200}]
[null,"計算事業年度の雇用者給与等支給額",null,{"$f":"IF(D65=\"\",\"\",IF(D12=\"対象\",SUM(D60),0))","v":0},{"$f":"IF(E65=\"\",\"\",IF(E12=\"対象\",SUM(E60),0))","v":0},5760000,4560000,6805000,6008000,7460000,5600000,4365628,1443750,830700,812160,0,665280,2930000,"","","","","","","","","","","","","","","",{"$f":"SUM(D68:AG68)","v":47240518}]
[null,"計算事業年度の継続雇用者給与等支給額",null,{"$f":"IF(D65=\"\",\"\",IF(D13=\"対象\",SUM(D60),0))","v":0},{"$f":"IF(E65=\"\",\"\",IF(E13=\"対象\",SUM(E60),0))","v":0},5760000,0,6805000,6008000,7460000,5600000,4365628,0,0,0,0,0,0,"","","","","","","","","","","","","","","",{"$f":"SUM(D69:AG69)","v":35998628}]

{"sheet":"別表6(24)","index":3,"n_rows":89,"n_cols":48,"rows_kept":89,"cut":false,"hidden":false,"merged":[[4,2,6,22],[4,23,6,25],[4,34,6,35],[4,36,6,44],[4,45,6,47],[4,26,4,33],[6,26,6,33],[7,47,10,47],[8,16,10,23],[8,37,10,44],[9,24,10,35],[11,2,12,14],[11,15,14,15],[11,24,12,35],[11,36,14,36],[11,45,29,47],[12,16,14,23],[7,2,10,14],[7,15,10,15],[7,24,8,35],[7,36,10,36],[7,45,10,45],[7,46,10,46],[12,37,14,44],[13,2,14,14],[13,24,13,35],[14,24,14,35],[15,2,16,14],[15,15,18,15],[15,24,52,24],[15,25,32,25],[15,26,18,35],[15,36,20,36],[21,36,26,36],[21,37,26,44],[23,4,24,14],[23,15,26,15],[24,16,26,23],[24,28,25,30],[24,31,24,32],[15,37,20,44],[16,16,18,23],[17,2,17,14],[18,2,18,14],[19,2,35,3],[19,4,20,14],[19,15,22,15],[19,28,20,30],[19,31,19,32],[20,16,22,23],[25,4,26,14],[25,31,25,32],[26,26,26,35],[27,4,28,14],[27,15,30,15],[27,26,30,35],[20,31,20,32],[21,4,22,14],[21,26,23,35],[33,25,34,35],[33,36,36,36],[33,37,36,44],[34,9,34,10],[35,4,35,14],[35,25,36,35],[27,36,32,36],[27,37,32,44],[28,16,30,23],[29,4,29,14],[30,4,30,14],[31,4,32,14],[31,15,35,15],[31,26,32,35],[32,16,35,23],[33,9,33,10],[41,37,44,44],[36,4,39,14],[36,15,39,15],[37,16,39,23],[37,25,38,35],[37,36,40,36],[42,4,43,14],[43,25,44,35],[44,4,45,14],[44,15,47,15],[45,16,47,23],[45,25,46,35],[45,36,48,36],[45,37,48,44],[46,4,46,14],[47,4,47,14],[47,25,48,35],[48,4,49,14],[48,15,52,15],[49,16,52,23],[53,7,53,36],[54,2,56,14],[54,15,56,24],[54,26,54,33],[54,35,55,44],[55,26,56,33],[56,35,56,44],[49,25,50,35],[49,36,52,36],[49,37,52,44],[50,9,50,10],[51,9,51,10],[51,25,52,35],[52,4,52,14],[36,2,52,3],[37,37,40,44],[39,28,40,30],[39,31,39,32],[40,4,41,14],[40,15,43,15],[40,31,40,32],[41,16,43,23],[41,25,42,35],[41,36,44,36],[57,2,57,14],[57,15,57,24],[57,25,57,34],[57,35,57,44],[58,2,59,2],[58,4,58,13],[58,15,59,23],[58,28,58,31],[58,35,59,43],[59,4,59,13],[63,36,63,44],[64,2,65,15],[64,16,65,16],[64,17,65,26],[64,28,64,34],[64,37,64,43],[65,28,65,34],[65,37,65,43],[59,28,59,31],[60,7,60,36],[61,2,63,15],[61,16,61,26],[61,27,61,44],[62,16,62,26],[62,27,62,35],[62,36,62,44],[63,16,63,26],[63,27,63,35],[70,6,70,11],[70,16,71,16],[70,17,71,26],[70,27,71,35],[70,38,70,42],[71,6,71,11],[71,38,71,42],[66,2,67,15],[66,16,67,16],[66,19,67,25],[66,29,67,34],[66,37,67,43],[68,2,69,15],[68,16,69,16],[68,18,69,25],[68,29,69,34],[68,37,69,43],[75,7,75,36],[76,2,78,14],[76,15,78,24],[76,26,76,33],[76,35,77,44],[77,26,78,33],[78,35,78,44],[72,2,73,15],[72,16,74,16],[72,18,74,25],[72,28,74,34],[72,37,74,43],[74,2,74,15],[79,2,79,14],[79,15,79,24],[79,25,79,34],[79,35,79,44],[80,2,83,2],[80,4,80,13],[80,15,81,23],[80,28,80,31],[80,35,81,43],[81,4,81,13],[84,2,85,34],[84,35,85,43],[86,2,86,33],[86,34,87,34],[86,35,87,43],[87,2,87,33],[81,28,81,31],[82,4,82,13],[82,15,83,23],[82,28,82,31],[82,35,83,43],[83,4,83,13],[83,28,83,31]]}
[]
[]
[]
[]
[null,null,"中小企業者等が給与等の引上げを行った場合\nの法人税額の特別控除に関する明細書",null,null,null,null,null,null,null,null,null,null,null,null,null,null,null,null,null,null,null,null,"事  業\n年  度",null,null,{"$f":"基本情報!C12","v":"2018-04-01"},null,null,null,null,null,null,null,"法人名",null,{"$f":"基本情報!C7","v":"株式会社今野デザイン"},null,null,null,null,null,null,null,null,"別表六"]
[]
[null,null,null,null,null,null,null,null,null,null,null,null,null,null,null,null,null,null,null,null,null,null,null,null,null,null,{"$f":"基本情報!C11","v":"2019-03-31"}]
[null,null,"雇用者給与等支給額",null,null,null,null,null,null,null,null,null,null,null,null,1,null,null,null,null,null,null,null,"円","雇用者給与等支給増加重複控除",null,null,null,null,null,null,null,null,null,null,null,12,null,null,null,null,null,null,null,"円","(","二十六",")"]
[null,null,null,null,null,null,null,null,null,null,null,null,null,null,null,null,{"$f":"給与入力!AH68","v":47240518}]
[null,null,null,null,null,null,null,null,null,null,null,null,null,null,null,null,null,null,null,null,null,null,null,null,"（別表六(二十六)付表｢13｣）"]
[]
[null,null,"比較雇用者給与等支給額",null,null,null,null,null,null,null,null,null,null,null,null,2,null,null,null,null,null,null,null,null,"雇用者給与等支給増加額",null,null,null,null,null,null,null,null,null,null,null,13,null,null,null,null,null,null,null,null,"平三十一・四・一以後終了事業年度分"]
[null,null,null,null,null,null,null,null,null,null,null,null,null,null,null,null,{"$f":"AJ59","v":44415858},null,null,null,null,null,null,null,null,null,null,null,null,null,null,null,null,null,null,null,null,{"$f":"IF(Q17-AL9>0,Q17-AL9,0)","v":2824660}]
[null,null,"(25)",null,null,null,null,null,null,null,null,null,null,null,null,null,null,null,null,null,null,null,null,null,"(3)－(12)"]
[null,null,null,null,null,null,null,null,null,null,null,null,null,null,null,null,null,null,null,null,null,null,null,null,"(マイナスの場合は0)"]
[null,null,"調整前雇用者給与等支給増加額",null,null,null,null,null,null,null,null,null,null,null,null,3,null,null,null,null,null,null,null,null,"法　人　税　額　の　特　別　控　除　額　の　計　算","中小企業者等税額控除限度額の計算","(7)≧2.5%の場合において、(11)≧10%若しくは(8)＝(10)＞0のとき又は経営力向上要件を満たすとき",null,null,null,null,null,null,null,null,null,14,{"$f":"IF(AND(Q33>=0.025,OR(Q50>=0.1,AND(Q38=Q46,Q46>0),基本情報!E20=1)),ROUNDDOWN(AL13*0.25,0),\"\")","v":""}]
[null,null,null,null,null,null,null,null,null,null,null,null,null,null,null,null,{"$f":"IF(Q9-Q13>0,Q9-Q13,0)","v":2824660}]
[null,null,"(1)－(2)"]
[null,null,"(マイナスの場合は0)"]
[null,null,"　増加割合の計算\n　継続雇用者給与等支給",null,"継続雇用者給与等支給額",null,null,null,null,null,null,null,null,null,null,4,null,null,null,null,null,0,null,null,null,null,null,null,"(13)×",null,null,25]
[null,null,null,null,null,null,null,null,null,null,null,null,null,null,null,null,{"$f":"S73","v":35998628},null,null,null,null,null,null,null,null,null,null,null,null,null,null,100]
[null,null,null,null,"（30の①）",null,null,null,null,null,null,null,null,null,null,null,null,null,null,null,null,null,null,null,null,null,"同上以外の場合",null,null,null,null,null,null,null,null,null,15,{"$f":"IF(AND(Q33>=0.025,OR(Q50>=0.1,AND(Q38=Q46,Q46>0),基本情報!E20=1)),\"\",IF(Q33<0.015,0,ROUNDDOWN(AL13*0.15,0)))","v":423699}]
[]
[null,null,null,null,"継続雇用者比較給与等支給額",null,null,null,null,null,null,null,null,null,null,5]
[null,null,null,null,null,null,null,null,null,null,null,null,null,null,null,null,{"$f":"IF(基本情報!C17=12,AC73,AL73)","v":32517200},null,null,null,null,null,null,null,null,null,null,null,"(13)×",null,null,15]
[null,null,null,null,"(30の②)又は(30の③)",null,null,null,null,null,null,null,null,null,null,null,null,null,null,null,null,null,null,null,null,null,null,null,null,null,null,100]
[null,null,null,null,null,null,null,null,null,null,null,null,null,null,null,null,null,null,null,null,null,null,null,null,null,null,"((7)＜0.015の場合は0)"]
[null,null,null,null,"継続雇用者給与等支給増加額",null,null,null,null,null,null,null,null,null,null,6,null,null,null,null,null,null,null,null,null,null,"中小企業者等税額控除限度額",null,null,null,null,null,null,null,null,null,16,{"$f":"IF(AND(Q33>=0.025,OR(Q50>=0.1,AND(Q38=Q46,Q46>0),基本情報!E20=1)),AL16,AL22)","v":423699}]
[null,null,null,null,null,null,null,null,null,null,null,null,null,null,null,null,{"$f":"IF(Q21-Q25>0,Q21-Q25,0)","v":3481428}]
[null,null,null,null,"(4)－(5)"]
[null,null,null,null,"(マイナスの場合は0)"]
[null,null,null,null,"継続雇用者給与等支給増加割合",null,null,null,null,null,null,null,null,null,null,7,null,null,null,null,null,null,null,null,null,null,"(14)又は(15)"]
[null,null,null,null,null,null,null,null,null,null,null,null,null,null,null,null,{"$f":"IF(Q25>0,ROUNDDOWN(Q29/Q25,4),0)","v":0.107}]
[null,null,null,null,null,null,null,null,null,"(6)",null,null,null,null,null,null,null,null,null,null,null,null,null,null,null,"調整前法人税額",null,null,null,null,null,null,null,null,null,null,17,4000000]
[null,null,null,null,null,null,null,null,null,"(5)"]
[null,null,null,null,"((5)＝0の場合は0)",null,null,null,null,null,null,null,null,null,null,null,null,null,null,null,null,null,null,null,null,"（別表一｢2｣又は別表一の三｢2｣若しく\nは｢14｣）"]
[null,null,"教育訓練費増加割合の計算",null,"教育訓練費の額",null,null,null,null,null,null,null,null,null,null,8,null,null,null,null,null,0,null,"円"]
[null,null,null,null,null,null,null,null,null,null,null,null,null,null,null,null,0,null,null,null,null,null,null,null,null,"当期税額基準額",null,null,null,null,null,null,null,null,null,null,18,{"$f":"ROUNDDOWN(AL34*0.2,0)","v":800000}]
[]
[null,null,null,null,null,null,null,null,null,null,null,null,null,null,null,null,null,null,null,null,null,null,null,null,null,null,null,null,"(17)×",null,null,20]
[null,null,null,null,"中小企業比較教育訓練費の額",null,null,null,null,null,null,null,null,null,null,9,null,null,null,null,null,null,null,null,null,null,null,null,null,null,null,100]
[null,null,null,null,null,null,null,null,null,null,null,null,null,null,null,null,{"$f":"AJ87","v":1103400},null,null,null,null,null,null,null,null,"当期税額控除可能額",null,null,null,null,null,null,null,null,null,null,19,{"$f":"MIN(AL28,AL38)","v":423699}]
[null,null,null,null,"(35)"]
[null,null,null,null,null,null,null,null,null,null,null,null,null,null,null,null,null,null,null,null,null,null,null,null,null,"((16)と(18)のうち少ない金額)"]
[null,null,null,null,"教育訓練費増加額",null,null,null,null,null,null,null,null,null,null,10]
[null,null,null,null,null,null,null,null,null,null,null,null,null,null,null,null,{"$f":"IF(Q38-Q42>0,Q38-Q42,0)","v":0},null,null,null,null,null,null,null,null,"調整前法人税額超過構成額",null,null,null,null,null,null,null,null,null,null,20,0]
[null,null,null,null,"(8)－(9)"]
[null,null,null,null,"(マイナスの場合は0)",null,null,null,null,null,null,null,null,null,null,null,null,null,null,null,null,null,null,null,null,"（別表六(六)｢7の㉔｣）"]
[null,null,null,null,"教育訓練費増加割合",null,null,null,null,null,null,null,null,null,null,11]
[null,null,null,null,null,null,null,null,null,null,null,null,null,null,null,null,{"$f":"IF(Q42>0,ROUNDDOWN(Q46/Q42,4),0)","v":0},null,null,null,null,null,null,null,null,"法人税額の特別控除額",null,null,null,null,null,null,null,null,null,null,21,{"$f":"AL42-AL46","v":423699}]
[null,null,null,null,null,null,null,null,null,"(10)"]
[null,null,null,null,null,null,null,null,null,"(9)",null,null,null,null,null,null,null,null,null,null,null,null,null,null,null,"(19)－(20)"]
[null,null,null,null,"((9)＝0の場合は0)"]
[null,null,null,null,null,null,null,"比較雇用者給与等支給額の計算"]
[null,null,"前事業年度又は前連結事業年度",null,null,null,null,null,null,null,null,null,null,null,null,"国内雇用者に対する\n給与等の支給額",null,null,null,null,null,null,null,null,null,null,"適用年度の月数",null,null,null,null,null,null,null,null,"比較雇用者給与等支給額"]
[null,null,null,null,null,null,null,null,null,null,null,null,null,null,null,null,null,null,null,null,null,null,null,null,null,null,"(22)の前事業年度又は\n前連結事業年度の月数"]
[null,null,null,null,null,null,null,null,null,null,null,null,null,null,null,null,null,null,null,null,null,null,null,null,null,null,null,null,null,null,null,null,null,null,null,"(23)×(24)"]
[null,null,22,null,null,null,null,null,null,null,null,null,null,null,null,23,null,null,null,null,null,null,null,null,null,24,null,null,null,null,null,null,null,null,null,25]
[null,null,null,null,{"$f":"基本情報!C16","v":"2017-04-01"},null,null,null,null,null,null,null,null,null,null,{"$f":"給与入力!AH66","v":44415858},null,null,null,null,null,null,null,null,"円",null,null,null,{"$f":"基本情報!C13","v":12},null,null,null,null,null,null,{"$f":"ROUNDDOWN(P59*AC59/AC60,0)","v":44415858},null,null,null,null,null,null,null,null,"円"]
[null,null,null,null,{"$f":"基本情報!C15","v":"2018-03-31"},null,null,null,null,null,null,null,null,null,null,null,null,null,null,null,null,null,null,null,null,null,null,null,{"$f":"基本情報!C17","v":12}]
[null,null,null,null,null,null,null,"継続雇用者給与等支給額及び継続雇用者比較給与等支給額の計算"]
[null,null,null,null,null,null,null,null,null,null,null,null,null,null,null,null,"継続雇用者給与等支給額の計算",null,null,null,null,null,null,null,null,null,null,"継続雇用者比較給与等支給額の計算"]
[null,null,null,null,null,null,null,null,null,null,null,null,null,null,null,null,"適　　用　　年　　度",null,null,null,null,null,null,null,null,null,null,"前 事 業 年 度 等",null,null,null,null,null,null,null,null,"前一年事業年度等特定期間"]
[null,null,null,null,null,null,null,null,null,null,null,null,null,null,null,null,"①",null,null,null,null,null,null,null,null,null,null,"②",null,null,null,null,null,null,null,null,"③"]
[null,null,"事業年度等又は連結事業年度等",null,null,null,null,null,null,null,null,null,null,null,null,null,26,null,null,null,null,null,null,null,null,null,null,null,{"$f":"IF(基本情報!C17=12,基本情報!C16,\"\")","v":"2017-04-01"},null,null,null,null,null,null,null,null,{"$f":"IF(基本情報!C17<>12,基本情報!E17,\"\")","v":""}]
[null,null,null,null,null,null,null,null,null,null,null,null,null,null,null,null,null,null,null,null,null,null,null,null,null,null,null,null,{"$f":"IF(基本情報!C17=12,基本情報!C15,\"\")","v":"2018-03-31"},null,null,null,null,null,null,null,null,{"$f":"IF(基本情報!C17<>12,基本情報!C15,\"\")","v":""}]
[null,null,"雇用者給与等支給額",null,null,null,null,null,null,null,null,null,null,null,null,null,27,"(1)",null,{"$f":"Q9","v":47240518},null,null,null,null,null,null,"円","(23)",null,{"$f":"IF(基本情報!C17=12,P59,\"\")","v":44415858},null,null,null,null,null,"円",null,{"$f":"IF(基本情報!C17<>12,給与入力!AH66,\"\")","v":""},null,null,null,null,null,null,"円"]
[]
[null,null,"同上のうち継続雇用者に係る金額",null,null,null,null,null,null,null,null,null,null,null,null,null,28,null,{"$f":"給与入力!AH69","v":35998628},null,null,null,null,null,null,null,null,null,null,{"$f":"IF(基本情報!C17=12,給与入力!AH67,\"\")","v":32517200},null,null,null,null,null,null,null,{"$f":"IF(基本情報!C17<>12,給与入力!AH67,\"\")","v":""}]
[]
[null,null,null,null,null,null,"適用年度の月数",null,null,null,null,null,null,null,null,null,29,null,null,null,null,null,null,null,null,null,null,null,null,null,null,null,null,null,null,null,null,null,{"$f":"IF(基本情報!C17<>12,基本情報!C13,\"\")","v":""}]
[null,null,null,null,null,null,"(26の③)の月数",null,null,null,null,null,null,null,null,null,null,null,null,null,null,null,null,null,null,null,null,null,null,null,null,null,null,null,null,null,null,null,{"$f":"IF(基本情報!C17<>12,基本情報!E21,\"\")","v":""}]
[null,null," 継続雇用者給与等支給額及び継続雇用者比\n 較給与等支給額",null,null,null,null,null,null,null,null,null,null,null,null,null,30,null,{"$f":"S69","v":35998628},null,null,null,null,null,null,null,null,null,{"$f":"IF(基本情報!C17=12,AD69,\"\")","v":32517200},null,null,null,null,null,null,null,null,{"$f":"IF(基本情報!C17<>12,ROUNDDOWN(AL69*AM71/AM72,0),\"\")","v":""}]
[]
[null,null,"(28)又は((28)×(29))"]
[null,null,null,null,null,null,null,"中小企業比較教育訓練費の額の計算"]
[null,null,"前事業年度又は前連結事業年度",null,null,null,null,null,null,null,null,null,null,null,null,"教育訓練費の額",null,null,null,null,null,null,null,null,null,null,"適用年度の月数",null,null,null,null,null,null,null,null,"改定教育訓練費の額"]
[null,null,null,null,null,null,null,null,null,null,null,null,null,null,null,null,null,null,null,null,null,null,null,null,null,null,"(31)の前事業年度又は\n前連結事業年度の月数"]
[null,null,null,null,null,null,null,null,null,null,null,null,null,null,null,null,null,null,null,null,null,null,null,null,null,null,null,null,null,null,null,null,null,null,null,"(32)×(33)"]
[null,null,31,null,null,null,null,null,null,null,null,null,null,null,null,32,null,null,null,null,null,null,null,null,null,33,null,null,null,null,null,null,null,null,null,34]
[null,null,"調整対象年度",null,{"$f":"基本情報!C16","v":"2017-04-01"},null,null,null,null,null,null,null,null,null,null,1103400,null,null,null,null,null,null,null,null,"円",null,null,null,{"$f":"基本情報!C13","v":12},null,null,null,null,null,null,{"$f":"IF(AC82>0,INT(P81*AC81/AC82),0)","v":1103400},null,null,null,null,null,null,null,null,"円"]
[null,null,null,null,{"$f":"基本情報!C15","v":"2018-03-31"},null,null,null,null,null,null,null,null,null,null,null,null,null,null,null,null,null,null,null,null,null,null,null,{"$f":"基本情報!C17","v":12}]
[]
[]
[null,null,"計",null,null,null,null,null,null,null,null,null,null,null,null,null,null,null,null,null,null,null,null,null,null,null,null,null,null,null,null,null,null,null,null,{"$f":"SUM(AJ81:AR84)","v":1103400}]
[]
[null,null,"中小企業比較教育訓練費の額",null,null,null,null,null,null,null,null,null,null,null,null,null,null,null,null,null,null,null,null,null,null,null,null,null,null,null,null,null,null,null,35,{"$f":"AJ85","v":1103400}]
[null,null,"(34の計)÷(調整対象年度数)"]
[null,null,null,null,null,null,null,null,null,null,null,null,null,null,null,null,null,null,null,null,null,null,null,null,null,null,null,null,null,null,null,null,null,null,null,null,null,null,null,null,null,null,null,null,"法　0301-0624"]

{"sheet":"教育訓練費入力（今期）","index":4,"n_rows":1025,"n_cols":12,"rows_kept":1025,"cut":false,"hidden":false,"merged":[[7,1,7,9]]}
[]
[]
[]
[]
[]
[]
[]
[null,{"$f":"TEXT(基本情報!C12,\"平成ee年m月d日\")&\"　から　\"&TEXT(基本情報!C11,\"平成ee年m月d日\")&\"　までの教育訓練費の明細\"","v":"平成30年4月1日　から　平成31年3月31日　までの教育訓練費の明細"}]
[null,"No.","実施時期","実施\n期間","内容","受講者の氏名\n（国内雇用者に限る）","参加\n者数","支払日","支払額","支払先","実施時期結合","参加者結合"]
[null,1,"2018-04-13",1,"新人研修セミナー","滝山　真一",5,"2018-04-13",500000,"MUFGコンサルティング株式会社",{"$f":"IF('教育訓練費入力（今期）'!$C10=\"\",\"\",TEXT('教育訓練費入力（今期）'!$C10,\"yyyy年\")&TEXT('教育訓練費入力（今期）'!$C10,\"m月\")&TEXT('教育訓練費入力（今期）'!$C10,\"ｄ日\")&\"から\"&'教育訓練費入力（今期）'!$D10&\"日間\")","v":"2018年4月13日から1日間"},{"$f":"IF('教育訓練費入力（今期）'!$F10=\"\",\"\",IF('教育訓練費入力（今期）'!$G10=1,'教育訓練費入力（今期）'!$F10,'教育訓練費入力（今期）'!$F10&\"他\"&'教育訓練費入力（今期）'!$G10-1&\"名\"))","v":"滝山　真一他4名"}]
[null,2,"2018-05-22",2,"Python　中級者向け研修","鳥居　雅之",1,"2018-05-03",108000,"株式会社ムーンマイクロシステム",{"$f":"IF('教育訓練費入力（今期）'!$C11=\"\",\"\",TEXT('教育訓練費入力（今期）'!$C11,\"yyyy年\")&TEXT('教育訓練費入力（今期）'!$C11,\"m月\")&TEXT('教育訓練費入力（今期）'!$C11,\"ｄ日\")&\"から\"&'教育訓練費入力（今期）'!$D11&\"日間\")","v":"2018年5月22日から2日間"},{"$f":"IF('教育訓練費入力（今期）'!$F11=\"\",\"\",IF('教育訓練費入力（今期）'!$G11=1,'教育訓練費入力（今期）'!$F11,'教育訓練費入力（今期）'!$F11&\"他\"&'教育訓練費入力（今期）'!$G11-1&\"名\"))","v":"鳥居　雅之"}]
[null,3,"2018-06-30",1,"基本情報技術者試験受験料","山下　崇",2,"2018-06-12",32400,"独立行政法人情報処理推進機構",{"$f":"IF('教育訓練費入力（今期）'!$C12=\"\",\"\",TEXT('教育訓練費入力（今期）'!$C12,\"yyyy年\")&TEXT('教育訓練費入力（今期）'!$C12,\"m月\")&TEXT('教育訓練費入力（今期）'!$C12,\"ｄ日\")&\"から\"&'教育訓練費入力（今期）'!$D12&\"日間\")","v":"2018年6月30日から1日間"},{"$f":"IF('教育訓練費入力（今期）'!$F12=\"\",\"\",IF('教育訓練費入力（今期）'!$G12=1,'教育訓練費入力（今期）'!$F12,'教育訓練費入力（今期）'!$F12&\"他\"&'教育訓練費入力（今期）'!$G12-1&\"名\"))","v":"山下　崇他1名"}]
[null,4,"2018-07-28",1,"３種衛生士試験料","絹延橋　みつ子",1,"2018-07-15",10800,"（財）安全衛生技術試験協会",{"$f":"IF('教育訓練費入力（今期）'!$C13=\"\",\"\",TEXT('教育訓練費入力（今期）'!$C13,\"yyyy年\")&TEXT('教育訓練費入力（今期）'!$C13,\"m月\")&TEXT('教育訓練費入力（今期）'!$C13,\"ｄ日\")&\"から\"&'教育訓練費入力（今期）'!$D13&\"日間\")","v":"2018年7月28日から1日間"},{"$f":"IF('教育訓練費入力（今期）'!$F13=\"\",\"\",IF('教育訓練費入力（今期）'!$G13=1,'教育訓練費入力（今期）'!$F13,'教育訓練費入力（今期）'!$F13&\"他\"&'教育訓練費入力（今期）'!$G13-1&\"名\"))","v":"絹延橋　みつ子"}]
[null,5,"2018-08-30",3,"課長・主任・係長クラスのメンタル改革セミナー","日生　暁久",5,"2018-07-28",540000,"MUFGコンサルティング株式会社",{"$f":"IF('教育訓練費入力（今期）'!$C14=\"\",\"\",TEXT('教育訓練費入力（今期）'!$C14,\"yyyy年\")&TEXT('教育訓練費入力（今期）'!$C14,\"m月\")&TEXT('教育訓練費入力（今期）'!$C14,\"ｄ日\")&\"から\"&'教育訓練費入力（今期）'!$D14&\"日間\")","v":"2018年8月30日から3日間"},{"$f":"IF('教育訓練費入力（今期）'!$F14=\"\",\"\",IF('教育訓練費入力（今期）'!$G14=1,'教育訓練費入力（今期）'!$F14,'教育訓練費入力（今期）'!$F14&\"他\"&'教育訓練費入力（今期）'!$G14-1&\"名\"))","v":"日生　暁久他4名"}]
[null,6,"2018-09-20",1,"基本情報技術者試験、初級シスアド試験受験料","笹部　菜穂美",10,"2018-09-02",84000,"独立行政法人情報処理推進機構",{"$f":"IF('教育訓練費入力（今期）'!$C15=\"\",\"\",TEXT('教育訓練費入力（今期）'!$C15,\"yyyy年\")&TEXT('教育訓練費入力（今期）'!$C15,\"m月\")&TEXT('教育訓練費入力（今期）'!$C15,\"ｄ日\")&\"から\"&'教育訓練費入力（今期）'!$D15&\"日間\")","v":"2018年9月20日から1日間"},{"$f":"IF('教育訓練費入力（今期）'!$F15=\"\",\"\",IF('教育訓練費入力（今期）'!$G15=1,'教育訓練費入力（今期）'!$F15,'教育訓練費入力（今期）'!$F15&\"他\"&'教育訓練費入力（今期）'!$G15-1&\"名\"))","v":"笹部　菜穂美他9名"}]
[null,7,"2018-10-20",3,"ＶＢＡ試験対策講習","鳥居　雅之",3,"2018-10-09",150000,"株式会社ＴＣインターナショナル",{"$f":"IF('教育訓練費入力（今期）'!$C16=\"\",\"\",TEXT('教育訓練費入力（今期）'!$C16,\"yyyy年\")&TEXT('教育訓練費入力（今期）'!$C16,\"m月\")&TEXT('教育訓練費入力（今期）'!$C16,\"ｄ日\")&\"から\"&'教育訓練費入力（今期）'!$D16&\"日間\")","v":"2018年10月20日から3日間"},{"$f":"IF('教育訓練費入力（今期）'!$F16=\"\",\"\",IF('教育訓練費入力（今期）'!$G16=1,'教育訓練費入力（今期）'!$F16,'教育訓練費入力（今期）'!$F16&\"他\"&'教育訓練費入力（今期）'!$G16-1&\"名\"))","v":"鳥居　雅之他2名"}]
[null,8,"2018-12-20",4,"セクハラ防止講習","山下　崇",2,"2018-11-22",43200,"株式会社ハラスメント研究所",{"$f":"IF('教育訓練費入力（今期）'!$C17=\"\",\"\",TEXT('教育訓練費入力（今期）'!$C17,\"yyyy年\")&TEXT('教育訓練費入力（今期）'!$C17,\"m月\")&TEXT('教育訓練費入力（今期）'!$C17,\"ｄ日\")&\"から\"&'教育訓練費入力（今期）'!$D17&\"日間\")","v":"2018年12月20日から4日間"},{"$f":"IF('教育訓練費入力（今期）'!$F17=\"\",\"\",IF('教育訓練費入力（今期）'!$G17=1,'教育訓練費入力（今期）'!$F17,'教育訓練費入力（今期）'!$F17&\"他\"&'教育訓練費入力（今期）'!$G17-1&\"名\"))","v":"山下　崇他1名"}]
[null,9,"2019-01-28",1,"とまどわないで、課長さん","日生　暁久",2,"2018-12-28",21600,"株式会社ハラスメント研究所",{"$f":"IF('教育訓練費入力（今期）'!$C18=\"\",\"\",TEXT('教育訓練費入力（今期）'!$C18,\"yyyy年\")&TEXT('教育訓練費入力（今期）'!$C18,\"m月\")&TEXT('教育訓練費入力（今期）'!$C18,\"ｄ日\")&\"から\"&'教育訓練費入力（今期）'!$D18&\"日間\")","v":"2019年1月28日から1日間"},{"$f":"IF('教育訓練費入力（今期）'!$F18=\"\",\"\",IF('教育訓練費入力（今期）'!$G18=1,'教育訓練費入力（今期）'!$F18,'教育訓練費入力（今期）'!$F18&\"他\"&'教育訓練費入力（今期）'!$G18-1&\"名\"))","v":"日生　暁久他1名"}]
[null,10,null,null,null,null,null,null,null,null,{"$f":"IF('教育訓練費入力（今期）'!$C19=\"\",\"\",TEXT('教育訓練費入力（今期）'!$C19,\"yyyy年\")&TEXT('教育訓練費入力（今期）'!$C19,\"m月\")&TEXT('教育訓練費入力（今期）'!$C19,\"ｄ日\")&\"から\"&'教育訓練費入力（今期）'!$D19&\"日間\")","v":""},{"$f":"IF('教育訓練費入力（今期）'!$F19=\"\",\"\",IF('教育訓練費入力（今期）'!$G19=1,'教育訓練費入力（今期）'!$F19,'教育訓練費入力（今期）'!$F19&\"他\"&'教育訓練費入力（今期）'!$G19-1&\"名\"))","v":""}]
[null,11,null,null,null,null,null,null,null,null,{"$f":"IF('教育訓練費入力（今期）'!$C20=\"\",\"\",TEXT('教育訓練費入力（今期）'!$C20,\"yyyy年\")&TEXT('教育訓練費入力（今期）'!$C20,\"m月\")&TEXT('教育訓練費入力（今期）'!$C20,\"ｄ日\")&\"から\"&'教育訓練費入力（今期）'!$D20&\"日間\")","v":""},{"$f":"IF('教育訓練費入力（今期）'!$F20=\"\",\"\",IF('教育訓練費入力（今期）'!$G20=1,'教育訓練費入力（今期）'!$F20,'教育訓練費入力（今期）'!$F20&\"他\"&'教育訓練費入力（今期）'!$G20-1&\"名\"))","v":""}]
[null,12,null,null,null,null,null,null,null,null,{"$f":"IF('教育訓練費入力（今期）'!$C21=\"\",\"\",TEXT('教育訓練費入力（今期）'!$C21,\"yyyy年\")&TEXT('教育訓練費入力（今期）'!$C21,\"m月\")&TEXT('教育訓練費入力（今期）'!$C21,\"ｄ日\")&\"から\"&'教育訓練費入力（今期）'!$D21&\"日間\")","v":""},{"$f":"IF('教育訓練費入力（今期）'!$F21=\"\",\"\",IF('教育訓練費入力（今期）'!$G21=1,'教育訓練費入力（今期）'!$F21,'教育訓練費入力（今期）'!$F21&\"他\"&'教育訓練費入力（今期）'!$G21-1&\"名\"))","v":""}]
[null,13,null,null,null,null,null,null,null,null,{"$f":"IF('教育訓練費入力（今期）'!$C22=\"\",\"\",TEXT('教育訓練費入力（今期）'!$C22,\"yyyy年\")&TEXT('教育訓練費入力（今期）'!$C22,\"m月\")&TEXT('教育訓練費入力（今期）'!$C22,\"ｄ日\")&\"から\"&'教育訓練費入力（今期）'!$D22&\"日間\")","v":""},{"$f":"IF('教育訓練費入力（今期）'!$F22=\"\",\"\",IF('教育訓練費入力（今期）'!$G22=1,'教育訓練費入力（今期）'!$F22,'教育訓練費入力（今期）'!$F22&\"他\"&'教育訓練費入力（今期）'!$G22-1&\"名\"))","v":""}]
[null,14,null,null,null,null,null,null,null,null,{"$f":"IF('教育訓練費入力（今期）'!$C23=\"\",\"\",TEXT('教育訓練費入力（今期）'!$C23,\"yyyy年\")&TEXT('教育訓練費入力（今期）'!$C23,\"m月\")&TEXT('教育訓練費入力（今期）'!$C23,\"ｄ日\")&\"から\"&'教育訓練費入力（今期）'!$D23&\"日間\")","v":""},{"$f":"IF('教育訓練費入力（今期）'!$F23=\"\",\"\",IF('教育訓練費入力（今期）'!$G23=1,'教育訓練費入力（今期）'!$F23,'教育訓練費入力（今期）'!$F23&\"他\"&'教育訓練費入力（今期）'!$G23-1&\"名\"))","v":""}]
[null,15,null,null,null,null,null,null,null,null,{"$f":"IF('教育訓練費入力（今期）'!$C24=\"\",\"\",TEXT('教育訓練費入力（今期）'!$C24,\"yyyy年\")&TEXT('教育訓練費入力（今期）'!$C24,\"m月\")&TEXT('教育訓練費入力（今期）'!$C24,\"ｄ日\")&\"から\"&'教育訓練費入力（今期）'!$D24&\"日間\")","v":""},{"$f":"IF('教育訓練費入力（今期）'!$F24=\"\",\"\",IF('教育訓練費入力（今期）'!$G24=1,'教育訓練費入力（今期）'!$F24,'教育訓練費入力（今期）'!$F24&\"他\"&'教育訓練費入力（今期）'!$G24-1&\"名\"))","v":""}]
[null,16,null,null,null,null,null,null,null,null,{"$f":"IF('教育訓練費入力（今期）'!$C25=\"\",\"\",TEXT('教育訓練費入力（今期）'!$C25,\"yyyy年\")&TEXT('教育訓練費入力（今期）'!$C25,\"m月\")&TEXT('教育訓練費入力（今期）'!$C25,\"ｄ日\")&\"から\"&'教育訓練費入力（今期）'!$D25&\"日間\")","v":""},{"$f":"IF('教育訓練費入力（今期）'!$F25=\"\",\"\",IF('教育訓練費入力（今期）'!$G25=1,'教育訓練費入力（今期）'!$F25,'教育訓練費入力（今期）'!$F25&\"他\"&'教育訓練費入力（今期）'!$G25-1&\"名\"))","v":""}]
[null,17,null,null,null,null,null,null,null,null,{"$f":"IF('教育訓練費入力（今期）'!$C26=\"\",\"\",TEXT('教育訓練費入力（今期）'!$C26,\"yyyy年\")&TEXT('教育訓練費入力（今期）'!$C26,\"m月\")&TEXT('教育訓練費入力（今期）'!$C26,\"ｄ日\")&\"から\"&'教育訓練費入力（今期）'!$D26&\"日間\")","v":""},{"$f":"IF('教育訓練費入力（今期）'!$F26=\"\",\"\",IF('教育訓練費入力（今期）'!$G26=1,'教育訓練費入力（今期）'!$F26,'教育訓練費入力（今期）'!$F26&\"他\"&'教育訓練費入力（今期）'!$G26-1&\"名\"))","v":""}]
[null,18,null,null,null,null,null,null,null,null,{"$f":"IF('教育訓練費入力（今期）'!$C27=\"\",\"\",TEXT('教育訓練費入力（今期）'!$C27,\"yyyy年\")&TEXT('教育訓練費入力（今期）'!$C27,\"m月\")&TEXT('教育訓練費入力（今期）'!$C27,\"ｄ日\")&\"から\"&'教育訓練費入力（今期）'!$D27&\"日間\")","v":""},{"$f":"IF('教育訓練費入力（今期）'!$F27=\"\",\"\",IF('教育訓練費入力（今期）'!$G27=1,'教育訓練費入力（今期）'!$F27,'教育訓練費入力（今期）'!$F27&\"他\"&'教育訓練費入力（今期）'!$G27-1&\"名\"))","v":""}]
[null,19,null,null,null,null,null,null,null,null,{"$f":"IF('教育訓練費入力（今期）'!$C28=\"\",\"\",TEXT('教育訓練費入力（今期）'!$C28,\"yyyy年\")&TEXT('教育訓練費入力（今期）'!$C28,\"m月\")&TEXT('教育訓練費入力（今期）'!$C28,\"ｄ日\")&\"から\"&'教育訓練費入力（今期）'!$D28&\"日間\")","v":""},{"$f":"IF('教育訓練費入力（今期）'!$F28=\"\",\"\",IF('教育訓練費入力（今期）'!$G28=1,'教育訓練費入力（今期）'!$F28,'教育訓練費入力（今期）'!$F28&\"他\"&'教育訓練費入力（今期）'!$G28-1&\"名\"))","v":""}]
[null,20,null,null,null,null,null,null,null,null,{"$f":"IF('教育訓練費入力（今期）'!$C29=\"\",\"\",TEXT('教育訓練費入力（今期）'!$C29,\"yyyy年\")&TEXT('教育訓練費入力（今期）'!$C29,\"m月\")&TEXT('教育訓練費入力（今期）'!$C29,\"ｄ日\")&\"から\"&'教育訓練費入力（今期）'!$D29&\"日間\")","v":""},{"$f":"IF('教育訓練費入力（今期）'!$F29=\"\",\"\",IF('教育訓練費入力（今期）'!$G29=1,'教育訓練費入力（今期）'!$F29,'教育訓練費入力（今期）'!$F29&\"他\"&'教育訓練費入力（今期）'!$G29-1&\"名\"))","v":""}]
[null,21,null,null,null,null,null,null,null,null,{"$f":"IF('教育訓練費入力（今期）'!$C30=\"\",\"\",TEXT('教育訓練費入力（今期）'!$C30,\"yyyy年\")&TEXT('教育訓練費入力（今期）'!$C30,\"m月\")&TEXT('教育訓練費入力（今期）'!$C30,\"ｄ日\")&\"から\"&'教育訓練費入力（今期）'!$D30&\"日間\")","v":""},{"$f":"IF('教育訓練費入力（今期）'!$F30=\"\",\"\",IF('教育訓練費入力（今期）'!$G30=1,'教育訓練費入力（今期）'!$F30,'教育訓練費入力（今期）'!$F30&\"他\"&'教育訓練費入力（今期）'!$G30-1&\"名\"))","v":""}]
[null,22,null,null,null,null,null,null,null,null,{"$f":"IF('教育訓練費入力（今期）'!$C31=\"\",\"\",TEXT('教育訓練費入力（今期）'!$C31,\"yyyy年\")&TEXT('教育訓練費入力（今期）'!$C31,\"m月\")&TEXT('教育訓練費入力（今期）'!$C31,\"ｄ日\")&\"から\"&'教育訓練費入力（今期）'!$D31&\"日間\")","v":""},{"$f":"IF('教育訓練費入力（今期）'!$F31=\"\",\"\",IF('教育訓練費入力（今期）'!$G31=1,'教育訓練費入力（今期）'!$F31,'教育訓練費入力（今期）'!$F31&\"他\"&'教育訓練費入力（今期）'!$G31-1&\"名\"))","v":""}]
[null,23,null,null,null,null,null,null,null,null,{"$f":"IF('教育訓練費入力（今期）'!$C32=\"\",\"\",TEXT('教育訓練費入力（今期）'!$C32,\"yyyy年\")&TEXT('教育訓練費入力（今期）'!$C32,\"m月\")&TEXT('教育訓練費入力（今期）'!$C32,\"ｄ日\")&\"から\"&'教育訓練費入力（今期）'!$D32&\"日間\")","v":""},{"$f":"IF('教育訓練費入力（今期）'!$F32=\"\",\"\",IF('教育訓練費入力（今期）'!$G32=1,'教育訓練費入力（今期）'!$F32,'教育訓練費入力（今期）'!$F32&\"他\"&'教育訓練費入力（今期）'!$G32-1&\"名\"))","v":""}]
[null,24,null,null,null,null,null,null,null,null,{"$f":"IF('教育訓練費入力（今期）'!$C33=\"\",\"\",TEXT('教育訓練費入力（今期）'!$C33,\"yyyy年\")&TEXT('教育訓練費入力（今期）'!$C33,\"m月\")&TEXT('教育訓練費入力（今期）'!$C33,\"ｄ日\")&\"から\"&'教育訓練費入力（今期）'!$D33&\"日間\")","v":""},{"$f":"IF('教育訓練費入力（今期）'!$F33=\"\",\"\",IF('教育訓練費入力（今期）'!$G33=1,'教育訓練費入力（今期）'!$F33,'教育訓練費入力（今期）'!$F33&\"他\"&'教育訓練費入力（今期）'!$G33-1&\"名\"))","v":""}]
[null,25,null,null,null,null,null,null,null,null,{"$f":"IF('教育訓練費入力（今期）'!$C34=\"\",\"\",TEXT('教育訓練費入力（今期）'!$C34,\"yyyy年\")&TEXT('教育訓練費入力（今期）'!$C34,\"m月\")&TEXT('教育訓練費入力（今期）'!$C34,\"ｄ日\")&\"から\"&'教育訓練費入力（今期）'!$D34&\"日間\")","v":""},{"$f":"IF('教育訓練費入力（今期）'!$F34=\"\",\"\",IF('教育訓練費入力（今期）'!$G34=1,'教育訓練費入力（今期）'!$F34,'教育訓練費入力（今期）'!$F34&\"他\"&'教育訓練費入力（今期）'!$G34-1&\"名\"))","v":""}]
[null,26,null,null,null,null,null,null,null,null,{"$f":"IF('教育訓練費入力（今期）'!$C35=\"\",\"\",TEXT('教育訓練費入力（今期）'!$C35,\"yyyy年\")&TEXT('教育訓練費入力（今期）'!$C35,\"m月\")&TEXT('教育訓練費入力（今期）'!$C35,\"ｄ日\")&\"から\"&'教育訓練費入力（今期）'!$D35&\"日間\")","v":""},{"$f":"IF('教育訓練費入力（今期）'!$F35=\"\",\"\",IF('教育訓練費入力（今期）'!$G35=1,'教育訓練費入力（今期）'!$F35,'教育訓練費入力（今期）'!$F35&\"他\"&'教育訓練費入力（今期）'!$G35-1&\"名\"))","v":""}]
[null,27,null,null,null,null,null,null,null,null,{"$f":"IF('教育訓練費入力（今期）'!$C36=\"\",\"\",TEXT('教育訓練費入力（今期）'!$C36,\"yyyy年\")&TEXT('教育訓練費入力（今期）'!$C36,\"m月\")&TEXT('教育訓練費入力（今期）'!$C36,\"ｄ日\")&\"から\"&'教育訓練費入力（今期）'!$D36&\"日間\")","v":""},{"$f":"IF('教育訓練費入力（今期）'!$F36=\"\",\"\",IF('教育訓練費入力（今期）'!$G36=1,'教育訓練費入力（今期）'!$F36,'教育訓練費入力（今期）'!$F36&\"他\"&'教育訓練費入力（今期）'!$G36-1&\"名\"))","v":""}]
[null,28,null,null,null,null,null,null,null,null,{"$f":"IF('教育訓練費入力（今期）'!$C37=\"\",\"\",TEXT('教育訓練費入力（今期）'!$C37,\"yyyy年\")&TEXT('教育訓練費入力（今期）'!$C37,\"m月\")&TEXT('教育訓練費入力（今期）'!$C37,\"ｄ日\")&\"から\"&'教育訓練費入力（今期）'!$D37&\"日間\")","v":""},{"$f":"IF('教育訓練費入力（今期）'!$F37=\"\",\"\",IF('教育訓練費入力（今期）'!$G37=1,'教育訓練費入力（今期）'!$F37,'教育訓練費入力（今期）'!$F37&\"他\"&'教育訓練費入力（今期）'!$G37-1&\"名\"))","v":""}]
[null,29,null,null,null,null,null,null,null,null,{"$f":"IF('教育訓練費入力（今期）'!$C38=\"\",\"\",TEXT('教育訓練費入力（今期）'!$C38,\"yyyy年\")&TEXT('教育訓練費入力（今期）'!$C38,\"m月\")&TEXT('教育訓練費入力（今期）'!$C38,\"ｄ日\")&\"から\"&'教育訓練費入力（今期）'!$D38&\"日間\")","v":""},{"$f":"IF('教育訓練費入力（今期）'!$F38=\"\",\"\",IF('教育訓練費入力（今期）'!$G38=1,'教育訓練費入力（今期）'!$F38,'教育訓練費入力（今期）'!$F38&\"他\"&'教育訓練費入力（今期）'!$G38-1&\"名\"))","v":""}]
[null,30,null,null,null,null,null,null,null,null,{"$f":"IF('教育訓練費入力（今期）'!$C39=\"\",\"\",TEXT('教育訓練費入力（今期）'!$C39,\"yyyy年\")&TEXT('教育訓練費入力（今期）'!$C39,\"m月\")&TEXT('教育訓練費入力（今期）'!$C39,\"ｄ日\")&\"から\"&'教育訓練費入力（今期）'!$D39&\"日間\")","v":""},{"$f":"IF('教育訓練費入力（今期）'!$F39=\"\",\"\",IF('教育訓練費入力（今期）'!$G39=1,'教育訓練費入力（今期）'!$F39,'教育訓練費入力（今期）'!$F39&\"他\"&'教育訓練費入力（今期）'!$G39-1&\"名\"))","v":""}]
[null,31,null,null,null,null,null,null,null,null,{"$f":"IF('教育訓練費入力（今期）'!$C40=\"\",\"\",TEXT('教育訓練費入力（今期）'!$C40,\"yyyy年\")&TEXT('教育訓練費入力（今期）'!$C40,\"m月\")&TEXT('教育訓練費入力（今期）'!$C40,\"ｄ日\")&\"から\"&'教育訓練費入力（今期）'!$D40&\"日間\")","v":""},{"$f":"IF('教育訓練費入力（今期）'!$F40=\"\",\"\",IF('教育訓練費入力（今期）'!$G40=1,'教育訓練費入力（今期）'!$F40,'教育訓練費入力（今期）'!$F40&\"他\"&'教育訓練費入力（今期）'!$G40-1&\"名\"))","v":""}]
[null,32,null,null,null,null,null,null,null,null,{"$f":"IF('教育訓練費入力（今期）'!$C41=\"\",\"\",TEXT('教育訓練費入力（今期）'!$C41,\"yyyy年\")&TEXT('教育訓練費入力（今期）'!$C41,\"m月\")&TEXT('教育訓練費入力（今期）'!$C41,\"ｄ日\")&\"から\"&'教育訓練費入力（今期）'!$D41&\"日間\")","v":""},{"$f":"IF('教育訓練費入力（今期）'!$F41=\"\",\"\",IF('教育訓練費入力（今期）'!$G41=1,'教育訓練費入力（今期）'!$F41,'教育訓練費入力（今期）'!$F41&\"他\"&'教育訓練費入力（今期）'!$G41-1&\"名\"))","v":""}]
[null,33,null,null,null,null,null,null,null,null,{"$f":"IF('教育訓練費入力（今期）'!$C42=\"\",\"\",TEXT('教育訓練費入力（今期）'!$C42,\"yyyy年\")&TEXT('教育訓練費入力（今期）'!$C42,\"m月\")&TEXT('教育訓練費入力（今期）'!$C42,\"ｄ日\")&\"から\"&'教育訓練費入力（今期）'!$D42&\"日間\")","v":""},{"$f":"IF('教育訓練費入力（今期）'!$F42=\"\",\"\",IF('教育訓練費入力（今期）'!$G42=1,'教育訓練費入力（今期）'!$F42,'教育訓練費入力（今期）'!$F42&\"他\"&'教育訓練費入力（今期）'!$G42-1&\"名\"))","v":""}]
[null,34,null,null,null,null,null,null,null,null,{"$f":"IF('教育訓練費入力（今期）'!$C43=\"\",\"\",TEXT('教育訓練費入力（今期）'!$C43,\"yyyy年\")&TEXT('教育訓練費入力（今期）'!$C43,\"m月\")&TEXT('教育訓練費入力（今期）'!$C43,\"ｄ日\")&\"から\"&'教育訓練費入力（今期）'!$D43&\"日間\")","v":""},{"$f":"IF('教育訓練費入力（今期）'!$F43=\"\",\"\",IF('教育訓練費入力（今期）'!$G43=1,'教育訓練費入力（今期）'!$F43,'教育訓練費入力（今期）'!$F43&\"他\"&'教育訓練費入力（今期）'!$G43-1&\"名\"))","v":""}]
[null,35,null,null,null,null,null,null,null,null,{"$f":"IF('教育訓練費入力（今期）'!$C44=\"\",\"\",TEXT('教育訓練費入力（今期）'!$C44,\"yyyy年\")&TEXT('教育訓練費入力（今期）'!$C44,\"m月\")&TEXT('教育訓練費入力（今期）'!$C44,\"ｄ日\")&\"から\"&'教育訓練費入力（今期）'!$D44&\"日間\")","v":""},{"$f":"IF('教育訓練費入力（今期）'!$F44=\"\",\"\",IF('教育訓練費入力（今期）'!$G44=1,'教育訓練費入力（今期）'!$F44,'教育訓練費入力（今期）'!$F44&\"他\"&'教育訓練費入力（今期）'!$G44-1&\"名\"))","v":""}]
[null,36,null,null,null,null,null,null,null,null,{"$f":"IF('教育訓練費入力（今期）'!$C45=\"\",\"\",TEXT('教育訓練費入力（今期）'!$C45,\"yyyy年\")&TEXT('教育訓練費入力（今期）'!$C45,\"m月\")&TEXT('教育訓練費入力（今期）'!$C45,\"ｄ日\")&\"から\"&'教育訓練費入力（今期）'!$D45&\"日間\")","v":""},{"$f":"IF('教育訓練費入力（今期）'!$F45=\"\",\"\",IF('教育訓練費入力（今期）'!$G45=1,'教育訓練費入力（今期）'!$F45,'教育訓練費入力（今期）'!$F45&\"他\"&'教育訓練費入力（今期）'!$G45-1&\"名\"))","v":""}]
[null,37,null,null,null,null,null,null,null,null,{"$f":"IF('教育訓練費入力（今期）'!$C46=\"\",\"\",TEXT('教育訓練費入力（今期）'!$C46,\"yyyy年\")&TEXT('教育訓練費入力（今期）'!$C46,\"m月\")&TEXT('教育訓練費入力（今期）'!$C46,\"ｄ日\")&\"から\"&'教育訓練費入力（今期）'!$D46&\"日間\")","v":""},{"$f":"IF('教育訓練費入力（今期）'!$F46=\"\",\"\",IF('教育訓練費入力（今期）'!$G46=1,'教育訓練費入力（今期）'!$F46,'教育訓練費入力（今期）'!$F46&\"他\"&'教育訓練費入力（今期）'!$G46-1&\"名\"))","v":""}]
[null,38,null,null,null,null,null,null,null,null,{"$f":"IF('教育訓練費入力（今期）'!$C47=\"\",\"\",TEXT('教育訓練費入力（今期）'!$C47,\"yyyy年\")&TEXT('教育訓練費入力（今期）'!$C47,\"m月\")&TEXT('教育訓練費入力（今期）'!$C47,\"ｄ日\")&\"から\"&'教育訓練費入力（今期）'!$D47&\"日間\")","v":""},{"$f":"IF('教育訓練費入力（今期）'!$F47=\"\",\"\",IF('教育訓練費入力（今期）'!$G47=1,'教育訓練費入力（今期）'!$F47,'教育訓練費入力（今期）'!$F47&\"他\"&'教育訓練費入力（今期）'!$G47-1&\"名\"))","v":""}]
[null,39,null,null,null,null,null,null,null,null,{"$f":"IF('教育訓練費入力（今期）'!$C48=\"\",\"\",TEXT('教育訓練費入力（今期）'!$C48,\"yyyy年\")&TEXT('教育訓練費入力（今期）'!$C48,\"m月\")&TEXT('教育訓練費入力（今期）'!$C48,\"ｄ日\")&\"から\"&'教育訓練費入力（今期）'!$D48&\"日間\")","v":""},{"$f":"IF('教育訓練費入力（今期）'!$F48=\"\",\"\",IF('教育訓練費入力（今期）'!$G48=1,'教育訓練費入力（今期）'!$F48,'教育訓練費入力（今期）'!$F48&\"他\"&'教育訓練費入力（今期）'!$G48-1&\"名\"))","v":""}]
[null,40,null,null,null,null,null,null,null,null,{"$f":"IF('教育訓練費入力（今期）'!$C49=\"\",\"\",TEXT('教育訓練費入力（今期）'!$C49,\"yyyy年\")&TEXT('教育訓練費入力（今期）'!$C49,\"m月\")&TEXT('教育訓練費入力（今期）'!$C49,\"ｄ日\")&\"から\"&'教育訓練費入力（今期）'!$D49&\"日間\")","v":""},{"$f":"IF('教育訓練費入力（今期）'!$F49=\"\",\"\",IF('教育訓練費入力（今期）'!$G49=1,'教育訓練費入力（今期）'!$F49,'教育訓練費入力（今期）'!$F49&\"他\"&'教育訓練費入力（今期）'!$G49-1&\"名\"))","v":""}]
[null,41,null,null,null,null,null,null,null,null,{"$f":"IF('教育訓練費入力（今期）'!$C50=\"\",\"\",TEXT('教育訓練費入力（今期）'!$C50,\"yyyy年\")&TEXT('教育訓練費入力（今期）'!$C50,\"m月\")&TEXT('教育訓練費入力（今期）'!$C50,\"ｄ日\")&\"から\"&'教育訓練費入力（今期）'!$D50&\"日間\")","v":""},{"$f":"IF('教育訓練費入力（今期）'!$F50=\"\",\"\",IF('教育訓練費入力（今期）'!$G50=1,'教育訓練費入力（今期）'!$F50,'教育訓練費入力（今期）'!$F50&\"他\"&'教育訓練費入力（今期）'!$G50-1&\"名\"))","v":""}]
[null,42,null,null,null,null,null,null,null,null,{"$f":"IF('教育訓練費入力（今期）'!$C51=\"\",\"\",TEXT('教育訓練費入力（今期）'!$C51,\"yyyy年\")&TEXT('教育訓練費入力（今期）'!$C51,\"m月\")&TEXT('教育訓練費入力（今期）'!$C51,\"ｄ日\")&\"から\"&'教育訓練費入力（今期）'!$D51&\"日間\")","v":""},{"$f":"IF('教育訓練費入力（今期）'!$F51=\"\",\"\",IF('教育訓練費入力（今期）'!$G51=1,'教育訓練費入力（今期）'!$F51,'教育訓練費入力（今期）'!$F51&\"他\"&'教育訓練費入力（今期）'!$G51-1&\"名\"))","v":""}]
[null,43,null,null,null,null,null,null,null,null,{"$f":"IF('教育訓練費入力（今期）'!$C52=\"\",\"\",TEXT('教育訓練費入力（今期）'!$C52,\"yyyy年\")&TEXT('教育訓練費入力（今期）'!$C52,\"m月\")&TEXT('教育訓練費入力（今期）'!$C52,\"ｄ日\")&\"から\"&'教育訓練費入力（今期）'!$D52&\"日間\")","v":""},{"$f":"IF('教育訓練費入力（今期）'!$F52=\"\",\"\",IF('教育訓練費入力（今期）'!$G52=1,'教育訓練費入力（今期）'!$F52,'教育訓練費入力（今期）'!$F52&\"他\"&'教育訓練費入力（今期）'!$G52-1&\"名\"))","v":""}]
[null,44,null,null,null,null,null,null,null,null,{"$f":"IF('教育訓練費入力（今期）'!$C53=\"\",\"\",TEXT('教育訓練費入力（今期）'!$C53,\"yyyy年\")&TEXT('教育訓練費入力（今期）'!$C53,\"m月\")&TEXT('教育訓練費入力（今期）'!$C53,\"ｄ日\")&\"から\"&'教育訓練費入力（今期）'!$D53&\"日間\")","v":""},{"$f":"IF('教育訓練費入力（今期）'!$F53=\"\",\"\",IF('教育訓練費入力（今期）'!$G53=1,'教育訓練費入力（今期）'!$F53,'教育訓練費入力（今期）'!$F53&\"他\"&'教育訓練費入力（今期）'!$G53-1&\"名\"))","v":""}]
[null,45,null,null,null,null,null,null,null,null,{"$f":"IF('教育訓練費入力（今期）'!$C54=\"\",\"\",TEXT('教育訓練費入力（今期）'!$C54,\"yyyy年\")&TEXT('教育訓練費入力（今期）'!$C54,\"m月\")&TEXT('教育訓練費入力（今期）'!$C54,\"ｄ日\")&\"から\"&'教育訓練費入力（今期）'!$D54&\"日間\")","v":""},{"$f":"IF('教育訓練費入力（今期）'!$F54=\"\",\"\",IF('教育訓練費入力（今期）'!$G54=1,'教育訓練費入力（今期）'!$F54,'教育訓練費入力（今期）'!$F54&\"他\"&'教育訓練費入力（今期）'!$G54-1&\"名\"))","v":""}]
[null,46,null,null,null,null,null,null,null,null,{"$f":"IF('教育訓練費入力（今期）'!$C55=\"\",\"\",TEXT('教育訓練費入力（今期）'!$C55,\"yyyy年\")&TEXT('教育訓練費入力（今期）'!$C55,\"m月\")&TEXT('教育訓練費入力（今期）'!$C55,\"ｄ日\")&\"から\"&'教育訓練費入力（今期）'!$D55&\"日間\")","v":""},{"$f":"IF('教育訓練費入力（今期）'!$F55=\"\",\"\",IF('教育訓練費入力（今期）'!$G55=1,'教育訓練費入力（今期）'!$F55,'教育訓練費入力（今期）'!$F55&\"他\"&'教育訓練費入力（今期）'!$G55-1&\"名\"))","v":""}]
[null,47,null,null,null,null,null,null,null,null,{"$f":"IF('教育訓練費入力（今期）'!$C56=\"\",\"\",TEXT('教育訓練費入力（今期）'!$C56,\"yyyy年\")&TEXT('教育訓練費入力（今期）'!$C56,\"m月\")&TEXT('教育訓練費入力（今期）'!$C56,\"ｄ日\")&\"から\"&'教育訓練費入力（今期）'!$D56&\"日間\")","v":""},{"$f":"IF('教育訓練費入力（今期）'!$F56=\"\",\"\",IF('教育訓練費入力（今期）'!$G56=1,'教育訓練費入力（今期）'!$F56,'教育訓練費入力（今期）'!$F56&\"他\"&'教育訓練費入力（今期）'!$G56-1&\"名\"))","v":""}]
[null,48,null,null,null,null,null,null,null,null,{"$f":"IF('教育訓練費入力（今期）'!$C57=\"\",\"\",TEXT('教育訓練費入力（今期）'!$C57,\"yyyy年\")&TEXT('教育訓練費入力（今期）'!$C57,\"m月\")&TEXT('教育訓練費入力（今期）'!$C57,\"ｄ日\")&\"から\"&'教育訓練費入力（今期）'!$D57&\"日間\")","v":""},{"$f":"IF('教育訓練費入力（今期）'!$F57=\"\",\"\",IF('教育訓練費入力（今期）'!$G57=1,'教育訓練費入力（今期）'!$F57,'教育訓練費入力（今期）'!$F57&\"他\"&'教育訓練費入力（今期）'!$G57-1&\"名\"))","v":""}]
[null,49,null,null,null,null,null,null,null,null,{"$f":"IF('教育訓練費入力（今期）'!$C58=\"\",\"\",TEXT('教育訓練費入力（今期）'!$C58,\"yyyy年\")&TEXT('教育訓練費入力（今期）'!$C58,\"m月\")&TEXT('教育訓練費入力（今期）'!$C58,\"ｄ日\")&\"から\"&'教育訓練費入力（今期）'!$D58&\"日間\")","v":""},{"$f":"IF('教育訓練費入力（今期）'!$F58=\"\",\"\",IF('教育訓練費入力（今期）'!$G58=1,'教育訓練費入力（今期）'!$F58,'教育訓練費入力（今期）'!$F58&\"他\"&'教育訓練費入力（今期）'!$G58-1&\"名\"))","v":""}]
[null,50,null,null,null,null,null,null,null,null,{"$f":"IF('教育訓練費入力（今期）'!$C59=\"\",\"\",TEXT('教育訓練費入力（今期）'!$C59,\"yyyy年\")&TEXT('教育訓練費入力（今期）'!$C59,\"m月\")&TEXT('教育訓練費入力（今期）'!$C59,\"ｄ日\")&\"から\"&'教育訓練費入力（今期）'!$D59&\"日間\")","v":""},{"$f":"IF('教育訓練費入力（今期）'!$F59=\"\",\"\",IF('教育訓練費入力（今期）'!$G59=1,'教育訓練費入力（今期）'!$F59,'教育訓練費入力（今期）'!$F59&\"他\"&'教育訓練費入力（今期）'!$G59-1&\"名\"))","v":""}]
[null,51,null,null,null,null,null,null,null,null,{"$f":"IF('教育訓練費入力（今期）'!$C60=\"\",\"\",TEXT('教育訓練費入力（今期）'!$C60,\"yyyy年\")&TEXT('教育訓練費入力（今期）'!$C60,\"m月\")&TEXT('教育訓練費入力（今期）'!$C60,\"ｄ日\")&\"から\"&'教育訓練費入力（今期）'!$D60&\"日間\")","v":""},{"$f":"IF('教育訓練費入力（今期）'!$F60=\"\",\"\",IF('教育訓練費入力（今期）'!$G60=1,'教育訓練費入力（今期）'!$F60,'教育訓練費入力（今期）'!$F60&\"他\"&'教育訓練費入力（今期）'!$G60-1&\"名\"))","v":""}]
[null,52,null,null,null,null,null,null,null,null,{"$f":"IF('教育訓練費入力（今期）'!$C61=\"\",\"\",TEXT('教育訓練費入力（今期）'!$C61,\"yyyy年\")&TEXT('教育訓練費入力（今期）'!$C61,\"m月\")&TEXT('教育訓練費入力（今期）'!$C61,\"ｄ日\")&\"から\"&'教育訓練費入力（今期）'!$D61&\"日間\")","v":""},{"$f":"IF('教育訓練費入力（今期）'!$F61=\"\",\"\",IF('教育訓練費入力（今期）'!$G61=1,'教育訓練費入力（今期）'!$F61,'教育訓練費入力（今期）'!$F61&\"他\"&'教育訓練費入力（今期）'!$G61-1&\"名\"))","v":""}]
[null,53,null,null,null,null,null,null,null,null,{"$f":"IF('教育訓練費入力（今期）'!$C62=\"\",\"\",TEXT('教育訓練費入力（今期）'!$C62,\"yyyy年\")&TEXT('教育訓練費入力（今期）'!$C62,\"m月\")&TEXT('教育訓練費入力（今期）'!$C62,\"ｄ日\")&\"から\"&'教育訓練費入力（今期）'!$D62&\"日間\")","v":""},{"$f":"IF('教育訓練費入力（今期）'!$F62=\"\",\"\",IF('教育訓練費入力（今期）'!$G62=1,'教育訓練費入力（今期）'!$F62,'教育訓練費入力（今期）'!$F62&\"他\"&'教育訓練費入力（今期）'!$G62-1&\"名\"))","v":""}]
[null,54,null,null,null,null,null,null,null,null,{"$f":"IF('教育訓練費入力（今期）'!$C63=\"\",\"\",TEXT('教育訓練費入力（今期）'!$C63,\"yyyy年\")&TEXT('教育訓練費入力（今期）'!$C63,\"m月\")&TEXT('教育訓練費入力（今期）'!$C63,\"ｄ日\")&\"から\"&'教育訓練費入力（今期）'!$D63&\"日間\")","v":""},{"$f":"IF('教育訓練費入力（今期）'!$F63=\"\",\"\",IF('教育訓練費入力（今期）'!$G63=1,'教育訓練費入力（今期）'!$F63,'教育訓練費入力（今期）'!$F63&\"他\"&'教育訓練費入力（今期）'!$G63-1&\"名\"))","v":""}]
[null,55,null,null,null,null,null,null,null,null,{"$f":"IF('教育訓練費入力（今期）'!$C64=\"\",\"\",TEXT('教育訓練費入力（今期）'!$C64,\"yyyy年\")&TEXT('教育訓練費入力（今期）'!$C64,\"m月\")&TEXT('教育訓練費入力（今期）'!$C64,\"ｄ日\")&\"から\"&'教育訓練費入力（今期）'!$D64&\"日間\")","v":""},{"$f":"IF('教育訓練費入力（今期）'!$F64=\"\",\"\",IF('教育訓練費入力（今期）'!$G64=1,'教育訓練費入力（今期）'!$F64,'教育訓練費入力（今期）'!$F64&\"他\"&'教育訓練費入力（今期）'!$G64-1&\"名\"))","v":""}]
[null,56,null,null,null,null,null,null,null,null,{"$f":"IF('教育訓練費入力（今期）'!$C65=\"\",\"\",TEXT('教育訓練費入力（今期）'!$C65,\"yyyy年\")&TEXT('教育訓練費入力（今期）'!$C65,\"m月\")&TEXT('教育訓練費入力（今期）'!$C65,\"ｄ日\")&\"から\"&'教育訓練費入力（今期）'!$D65&\"日間\")","v":""},{"$f":"IF('教育訓練費入力（今期）'!$F65=\"\",\"\",IF('教育訓練費入力（今期）'!$G65=1,'教育訓練費入力（今期）'!$F65,'教育訓練費入力（今期）'!$F65&\"他\"&'教育訓練費入力（今期）'!$G65-1&\"名\"))","v":""}]
[null,57,null,null,null,null,null,null,null,null,{"$f":"IF('教育訓練費入力（今期）'!$C66=\"\",\"\",TEXT('教育訓練費入力（今期）'!$C66,\"yyyy年\")&TEXT('教育訓練費入力（今期）'!$C66,\"m月\")&TEXT('教育訓練費入力（今期）'!$C66,\"ｄ日\")&\"から\"&'教育訓練費入力（今期）'!$D66&\"日間\")","v":""},{"$f":"IF('教育訓練費入力（今期）'!$F66=\"\",\"\",IF('教育訓練費入力（今期）'!$G66=1,'教育訓練費入力（今期）'!$F66,'教育訓練費入力（今期）'!$F66&\"他\"&'教育訓練費入力（今期）'!$G66-1&\"名\"))","v":""}]
[null,58,null,null,null,null,null,null,null,null,{"$f":"IF('教育訓練費入力（今期）'!$C67=\"\",\"\",TEXT('教育訓練費入力（今期）'!$C67,\"yyyy年\")&TEXT('教育訓練費入力（今期）'!$C67,\"m月\")&TEXT('教育訓練費入力（今期）'!$C67,\"ｄ日\")&\"から\"&'教育訓練費入力（今期）'!$D67&\"日間\")","v":""},{"$f":"IF('教育訓練費入力（今期）'!$F67=\"\",\"\",IF('教育訓練費入力（今期）'!$G67=1,'教育訓練費入力（今期）'!$F67,'教育訓練費入力（今期）'!$F67&\"他\"&'教育訓練費入力（今期）'!$G67-1&\"名\"))","v":""}]
[null,59,null,null,null,null,null,null,null,null,{"$f":"IF('教育訓練費入力（今期）'!$C68=\"\",\"\",TEXT('教育訓練費入力（今期）'!$C68,\"yyyy年\")&TEXT('教育訓練費入力（今期）'!$C68,\"m月\")&TEXT('教育訓練費入力（今期）'!$C68,\"ｄ日\")&\"から\"&'教育訓練費入力（今期）'!$D68&\"日間\")","v":""},{"$f":"IF('教育訓練費入力（今期）'!$F68=\"\",\"\",IF('教育訓練費入力（今期）'!$G68=1,'教育訓練費入力（今期）'!$F68,'教育訓練費入力（今期）'!$F68&\"他\"&'教育訓練費入力（今期）'!$G68-1&\"名\"))","v":""}]
[null,60,null,null,null,null,null,null,null,null,{"$f":"IF('教育訓練費入力（今期）'!$C69=\"\",\"\",TEXT('教育訓練費入力（今期）'!$C69,\"yyyy年\")&TEXT('教育訓練費入力（今期）'!$C69,\"m月\")&TEXT('教育訓練費入力（今期）'!$C69,\"ｄ日\")&\"から\"&'教育訓練費入力（今期）'!$D69&\"日間\")","v":""},{"$f":"IF('教育訓練費入力（今期）'!$F69=\"\",\"\",IF('教育訓練費入力（今期）'!$G69=1,'教育訓練費入力（今期）'!$F69,'教育訓練費入力（今期）'!$F69&\"他\"&'教育訓練費入力（今期）'!$G69-1&\"名\"))","v":""}]
[null,61,null,null,null,null,null,null,null,null,{"$f":"IF('教育訓練費入力（今期）'!$C70=\"\",\"\",TEXT('教育訓練費入力（今期）'!$C70,\"yyyy年\")&TEXT('教育訓練費入力（今期）'!$C70,\"m月\")&TEXT('教育訓練費入力（今期）'!$C70,\"ｄ日\")&\"から\"&'教育訓練費入力（今期）'!$D70&\"日間\")","v":""},{"$f":"IF('教育訓練費入力（今期）'!$F70=\"\",\"\",IF('教育訓練費入力（今期）'!$G70=1,'教育訓練費入力（今期）'!$F70,'教育訓練費入力（今期）'!$F70&\"他\"&'教育訓練費入力（今期）'!$G70-1&\"名\"))","v":""}]
[null,62,null,null,null,null,null,null,null,null,{"$f":"IF('教育訓練費入力（今期）'!$C71=\"\",\"\",TEXT('教育訓練費入力（今期）'!$C71,\"yyyy年\")&TEXT('教育訓練費入力（今期）'!$C71,\"m月\")&TEXT('教育訓練費入力（今期）'!$C71,\"ｄ日\")&\"から\"&'教育訓練費入力（今期）'!$D71&\"日間\")","v":""},{"$f":"IF('教育訓練費入力（今期）'!$F71=\"\",\"\",IF('教育訓練費入力（今期）'!$G71=1,'教育訓練費入力（今期）'!$F71,'教育訓練費入力（今期）'!$F71&\"他\"&'教育訓練費入力（今期）'!$G71-1&\"名\"))","v":""}]
[null,63,null,null,null,null,null,null,null,null,{"$f":"IF('教育訓練費入力（今期）'!$C72=\"\",\"\",TEXT('教育訓練費入力（今期）'!$C72,\"yyyy年\")&TEXT('教育訓練費入力（今期）'!$C72,\"m月\")&TEXT('教育訓練費入力（今期）'!$C72,\"ｄ日\")&\"から\"&'教育訓練費入力（今期）'!$D72&\"日間\")","v":""},{"$f":"IF('教育訓練費入力（今期）'!$F72=\"\",\"\",IF('教育訓練費入力（今期）'!$G72=1,'教育訓練費入力（今期）'!$F72,'教育訓練費入力（今期）'!$F72&\"他\"&'教育訓練費入力（今期）'!$G72-1&\"名\"))","v":""}]
[null,64,null,null,null,null,null,null,null,null,{"$f":"IF('教育訓練費入力（今期）'!$C73=\"\",\"\",TEXT('教育訓練費入力（今期）'!$C73,\"yyyy年\")&TEXT('教育訓練費入力（今期）'!$C73,\"m月\")&TEXT('教育訓練費入力（今期）'!$C73,\"ｄ日\")&\"から\"&'教育訓練費入力（今期）'!$D73&\"日間\")","v":""},{"$f":"IF('教育訓練費入力（今期）'!$F73=\"\",\"\",IF('教育訓練費入力（今期）'!$G73=1,'教育訓練費入力（今期）'!$F73,'教育訓練費入力（今期）'!$F73&\"他\"&'教育訓練費入力（今期）'!$G73-1&\"名\"))","v":""}]
[null,65,null,null,null,null,null,null,null,null,{"$f":"IF('教育訓練費入力（今期）'!$C74=\"\",\"\",TEXT('教育訓練費入力（今期）'!$C74,\"yyyy年\")&TEXT('教育訓練費入力（今期）'!$C74,\"m月\")&TEXT('教育訓練費入力（今期）'!$C74,\"ｄ日\")&\"から\"&'教育訓練費入力（今期）'!$D74&\"日間\")","v":""},{"$f":"IF('教育訓練費入力（今期）'!$F74=\"\",\"\",IF('教育訓練費入力（今期）'!$G74=1,'教育訓練費入力（今期）'!$F74,'教育訓練費入力（今期）'!$F74&\"他\"&'教育訓練費入力（今期）'!$G74-1&\"名\"))","v":""}]
[null,66,null,null,null,null,null,null,null,null,{"$f":"IF('教育訓練費入力（今期）'!$C75=\"\",\"\",TEXT('教育訓練費入力（今期）'!$C75,\"yyyy年\")&TEXT('教育訓練費入力（今期）'!$C75,\"m月\")&TEXT('教育訓練費入力（今期）'!$C75,\"ｄ日\")&\"から\"&'教育訓練費入力（今期）'!$D75&\"日間\")","v":""},{"$f":"IF('教育訓練費入力（今期）'!$F75=\"\",\"\",IF('教育訓練費入力（今期）'!$G75=1,'教育訓練費入力（今期）'!$F75,'教育訓練費入力（今期）'!$F75&\"他\"&'教育訓練費入力（今期）'!$G75-1&\"名\"))","v":""}]
[null,67,null,null,null,null,null,null,null,null,{"$f":"IF('教育訓練費入力（今期）'!$C76=\"\",\"\",TEXT('教育訓練費入力（今期）'!$C76,\"yyyy年\")&TEXT('教育訓練費入力（今期）'!$C76,\"m月\")&TEXT('教育訓練費入力（今期）'!$C76,\"ｄ日\")&\"から\"&'教育訓練費入力（今期）'!$D76&\"日間\")","v":""},{"$f":"IF('教育訓練費入力（今期）'!$F76=\"\",\"\",IF('教育訓練費入力（今期）'!$G76=1,'教育訓練費入力（今期）'!$F76,'教育訓練費入力（今期）'!$F76&\"他\"&'教育訓練費入力（今期）'!$G76-1&\"名\"))","v":""}]
[null,68,null,null,null,null,null,null,null,null,{"$f":"IF('教育訓練費入力（今期）'!$C77=\"\",\"\",TEXT('教育訓練費入力（今期）'!$C77,\"yyyy年\")&TEXT('教育訓練費入力（今期）'!$C77,\"m月\")&TEXT('教育訓練費入力（今期）'!$C77,\"ｄ日\")&\"から\"&'教育訓練費入力（今期）'!$D77&\"日間\")","v":""},{"$f":"IF('教育訓練費入力（今期）'!$F77=\"\",\"\",IF('教育訓練費入力（今期）'!$G77=1,'教育訓練費入力（今期）'!$F77,'教育訓練費入力（今期）'!$F77&\"他\"&'教育訓練費入力（今期）'!$G77-1&\"名\"))","v":""}]
[null,69,null,null,null,null,null,null,null,null,{"$f":"IF('教育訓練費入力（今期）'!$C78=\"\",\"\",TEXT('教育訓練費入力（今期）'!$C78,\"yyyy年\")&TEXT('教育訓練費入力（今期）'!$C78,\"m月\")&TEXT('教育訓練費入力（今期）'!$C78,\"ｄ日\")&\"から\"&'教育訓練費入力（今期）'!$D78&\"日間\")","v":""},{"$f":"IF('教育訓練費入力（今期）'!$F78=\"\",\"\",IF('教育訓練費入力（今期）'!$G78=1,'教育訓練費入力（今期）'!$F78,'教育訓練費入力（今期）'!$F78&\"他\"&'教育訓練費入力（今期）'!$G78-1&\"名\"))","v":""}]
[null,70,null,null,null,null,null,null,null,null,{"$f":"IF('教育訓練費入力（今期）'!$C79=\"\",\"\",TEXT('教育訓練費入力（今期）'!$C79,\"yyyy年\")&TEXT('教育訓練費入力（今期）'!$C79,\"m月\")&TEXT('教育訓練費入力（今期）'!$C79,\"ｄ日\")&\"から\"&'教育訓練費入力（今期）'!$D79&\"日間\")","v":""},{"$f":"IF('教育訓練費入力（今期）'!$F79=\"\",\"\",IF('教育訓練費入力（今期）'!$G79=1,'教育訓練費入力（今期）'!$F79,'教育訓練費入力（今期）'!$F79&\"他\"&'教育訓練費入力（今期）'!$G79-1&\"名\"))","v":""}]
[null,71,null,null,null,null,null,null,null,null,{"$f":"IF('教育訓練費入力（今期）'!$C80=\"\",\"\",TEXT('教育訓練費入力（今期）'!$C80,\"yyyy年\")&TEXT('教育訓練費入力（今期）'!$C80,\"m月\")&TEXT('教育訓練費入力（今期）'!$C80,\"ｄ日\")&\"から\"&'教育訓練費入力（今期）'!$D80&\"日間\")","v":""},{"$f":"IF('教育訓練費入力（今期）'!$F80=\"\",\"\",IF('教育訓練費入力（今期）'!$G80=1,'教育訓練費入力（今期）'!$F80,'教育訓練費入力（今期）'!$F80&\"他\"&'教育訓練費入力（今期）'!$G80-1&\"名\"))","v":""}]
[null,72,null,null,null,null,null,null,null,null,{"$f":"IF('教育訓練費入力（今期）'!$C81=\"\",\"\",TEXT('教育訓練費入力（今期）'!$C81,\"yyyy年\")&TEXT('教育訓練費入力（今期）'!$C81,\"m月\")&TEXT('教育訓練費入力（今期）'!$C81,\"ｄ日\")&\"から\"&'教育訓練費入力（今期）'!$D81&\"日間\")","v":""},{"$f":"IF('教育訓練費入力（今期）'!$F81=\"\",\"\",IF('教育訓練費入力（今期）'!$G81=1,'教育訓練費入力（今期）'!$F81,'教育訓練費入力（今期）'!$F81&\"他\"&'教育訓練費入力（今期）'!$G81-1&\"名\"))","v":""}]
[null,73,null,null,null,null,null,null,null,null,{"$f":"IF('教育訓練費入力（今期）'!$C82=\"\",\"\",TEXT('教育訓練費入力（今期）'!$C82,\"yyyy年\")&TEXT('教育訓練費入力（今期）'!$C82,\"m月\")&TEXT('教育訓練費入力（今期）'!$C82,\"ｄ日\")&\"から\"&'教育訓練費入力（今期）'!$D82&\"日間\")","v":""},{"$f":"IF('教育訓練費入力（今期）'!$F82=\"\",\"\",IF('教育訓練費入力（今期）'!$G82=1,'教育訓練費入力（今期）'!$F82,'教育訓練費入力（今期）'!$F82&\"他\"&'教育訓練費入力（今期）'!$G82-1&\"名\"))","v":""}]
[null,74,null,null,null,null,null,null,null,null,{"$f":"IF('教育訓練費入力（今期）'!$C83=\"\",\"\",TEXT('教育訓練費入力（今期）'!$C83,\"yyyy年\")&TEXT('教育訓練費入力（今期）'!$C83,\"m月\")&TEXT('教育訓練費入力（今期）'!$C83,\"ｄ日\")&\"から\"&'教育訓練費入力（今期）'!$D83&\"日間\")","v":""},{"$f":"IF('教育訓練費入力（今期）'!$F83=\"\",\"\",IF('教育訓練費入力（今期）'!$G83=1,'教育訓練費入力（今期）'!$F83,'教育訓練費入力（今期）'!$F83&\"他\"&'教育訓練費入力（今期）'!$G83-1&\"名\"))","v":""}]
[null,75,null,null,null,null,null,null,null,null,{"$f":"IF('教育訓練費入力（今期）'!$C84=\"\",\"\",TEXT('教育訓練費入力（今期）'!$C84,\"yyyy年\")&TEXT('教育訓練費入力（今期）'!$C84,\"m月\")&TEXT('教育訓練費入力（今期）'!$C84,\"ｄ日\")&\"から\"&'教育訓練費入力（今期）'!$D84&\"日間\")","v":""},{"$f":"IF('教育訓練費入力（今期）'!$F84=\"\",\"\",IF('教育訓練費入力（今期）'!$G84=1,'教育訓練費入力（今期）'!$F84,'教育訓練費入力（今期）'!$F84&\"他\"&'教育訓練費入力（今期）'!$G84-1&\"名\"))","v":""}]
[null,76,null,null,null,null,null,null,null,null,{"$f":"IF('教育訓練費入力（今期）'!$C85=\"\",\"\",TEXT('教育訓練費入力（今期）'!$C85,\"yyyy年\")&TEXT('教育訓練費入力（今期）'!$C85,\"m月\")&TEXT('教育訓練費入力（今期）'!$C85,\"ｄ日\")&\"から\"&'教育訓練費入力（今期）'!$D85&\"日間\")","v":""},{"$f":"IF('教育訓練費入力（今期）'!$F85=\"\",\"\",IF('教育訓練費入力（今期）'!$G85=1,'教育訓練費入力（今期）'!$F85,'教育訓練費入力（今期）'!$F85&\"他\"&'教育訓練費入力（今期）'!$G85-1&\"名\"))","v":""}]
[null,77,null,null,null,null,null,null,null,null,{"$f":"IF('教育訓練費入力（今期）'!$C86=\"\",\"\",TEXT('教育訓練費入力（今期）'!$C86,\"yyyy年\")&TEXT('教育訓練費入力（今期）'!$C86,\"m月\")&TEXT('教育訓練費入力（今期）'!$C86,\"ｄ日\")&\"から\"&'教育訓練費入力（今期）'!$D86&\"日間\")","v":""},{"$f":"IF('教育訓練費入力（今期）'!$F86=\"\",\"\",IF('教育訓練費入力（今期）'!$G86=1,'教育訓練費入力（今期）'!$F86,'教育訓練費入力（今期）'!$F86&\"他\"&'教育訓練費入力（今期）'!$G86-1&\"名\"))","v":""}]
[null,78,null,null,null,null,null,null,null,null,{"$f":"IF('教育訓練費入力（今期）'!$C87=\"\",\"\",TEXT('教育訓練費入力（今期）'!$C87,\"yyyy年\")&TEXT('教育訓練費入力（今期）'!$C87,\"m月\")&TEXT('教育訓練費入力（今期）'!$C87,\"ｄ日\")&\"から\"&'教育訓練費入力（今期）'!$D87&\"日間\")","v":""},{"$f":"IF('教育訓練費入力（今期）'!$F87=\"\",\"\",IF('教育訓練費入力（今期）'!$G87=1,'教育訓練費入力（今期）'!$F87,'教育訓練費入力（今期）'!$F87&\"他\"&'教育訓練費入力（今期）'!$G87-1&\"名\"))","v":""}]
[null,79,null,null,null,null,null,null,null,null,{"$f":"IF('教育訓練費入力（今期）'!$C88=\"\",\"\",TEXT('教育訓練費入力（今期）'!$C88,\"yyyy年\")&TEXT('教育訓練費入力（今期）'!$C88,\"m月\")&TEXT('教育訓練費入力（今期）'!$C88,\"ｄ日\")&\"から\"&'教育訓練費入力（今期）'!$D88&\"日間\")","v":""},{"$f":"IF('教育訓練費入力（今期）'!$F88=\"\",\"\",IF('教育訓練費入力（今期）'!$G88=1,'教育訓練費入力（今期）'!$F88,'教育訓練費入力（今期）'!$F88&\"他\"&'教育訓練費入力（今期）'!$G88-1&\"名\"))","v":""}]
[null,80,null,null,null,null,null,null,null,null,{"$f":"IF('教育訓練費入力（今期）'!$C89=\"\",\"\",TEXT('教育訓練費入力（今期）'!$C89,\"yyyy年\")&TEXT('教育訓練費入力（今期）'!$C89,\"m月\")&TEXT('教育訓練費入力（今期）'!$C89,\"ｄ日\")&\"から\"&'教育訓練費入力（今期）'!$D89&\"日間\")","v":""},{"$f":"IF('教育訓練費入力（今期）'!$F89=\"\",\"\",IF('教育訓練費入力（今期）'!$G89=1,'教育訓練費入力（今期）'!$F89,'教育訓練費入力（今期）'!$F89&\"他\"&'教育訓練費入力（今期）'!$G89-1&\"名\"))","v":""}]
[null,81,null,null,null,null,null,null,null,null,{"$f":"IF('教育訓練費入力（今期）'!$C90=\"\",\"\",TEXT('教育訓練費入力（今期）'!$C90,\"yyyy年\")&TEXT('教育訓練費入力（今期）'!$C90,\"m月\")&TEXT('教育訓練費入力（今期）'!$C90,\"ｄ日\")&\"から\"&'教育訓練費入力（今期）'!$D90&\"日間\")","v":""},{"$f":"IF('教育訓練費入力（今期）'!$F90=\"\",\"\",IF('教育訓練費入力（今期）'!$G90=1,'教育訓練費入力（今期）'!$F90,'教育訓練費入力（今期）'!$F90&\"他\"&'教育訓練費入力（今期）'!$G90-1&\"名\"))","v":""}]
[null,82,null,null,null,null,null,null,null,null,{"$f":"IF('教育訓練費入力（今期）'!$C91=\"\",\"\",TEXT('教育訓練費入力（今期）'!$C91,\"yyyy年\")&TEXT('教育訓練費入力（今期）'!$C91,\"m月\")&TEXT('教育訓練費入力（今期）'!$C91,\"ｄ日\")&\"から\"&'教育訓練費入力（今期）'!$D91&\"日間\")","v":""},{"$f":"IF('教育訓練費入力（今期）'!$F91=\"\",\"\",IF('教育訓練費入力（今期）'!$G91=1,'教育訓練費入力（今期）'!$F91,'教育訓練費入力（今期）'!$F91&\"他\"&'教育訓練費入力（今期）'!$G91-1&\"名\"))","v":""}]
[null,83,null,null,null,null,null,null,null,null,{"$f":"IF('教育訓練費入力（今期）'!$C92=\"\",\"\",TEXT('教育訓練費入力（今期）'!$C92,\"yyyy年\")&TEXT('教育訓練費入力（今期）'!$C92,\"m月\")&TEXT('教育訓練費入力（今期）'!$C92,\"ｄ日\")&\"から\"&'教育訓練費入力（今期）'!$D92&\"日間\")","v":""},{"$f":"IF('教育訓練費入力（今期）'!$F92=\"\",\"\",IF('教育訓練費入力（今期）'!$G92=1,'教育訓練費入力（今期）'!$F92,'教育訓練費入力（今期）'!$F92&\"他\"&'教育訓練費入力（今期）'!$G92-1&\"名\"))","v":""}]
[null,84,null,null,null,null,null,null,null,null,{"$f":"IF('教育訓練費入力（今期）'!$C93=\"\",\"\",TEXT('教育訓練費入力（今期）'!$C93,\"yyyy年\")&TEXT('教育訓練費入力（今期）'!$C93,\"m月\")&TEXT('教育訓練費入力（今期）'!$C93,\"ｄ日\")&\"から\"&'教育訓練費入力（今期）'!$D93&\"日間\")","v":""},{"$f":"IF('教育訓練費入力（今期）'!$F93=\"\",\"\",IF('教育訓練費入力（今期）'!$G93=1,'教育訓練費入力（今期）'!$F93,'教育訓練費入力（今期）'!$F93&\"他\"&'教育訓練費入力（今期）'!$G93-1&\"名\"))","v":""}]
[null,85,null,null,null,null,null,null,null,null,{"$f":"IF('教育訓練費入力（今期）'!$C94=\"\",\"\",TEXT('教育訓練費入力（今期）'!$C94,\"yyyy年\")&TEXT('教育訓練費入力（今期）'!$C94,\"m月\")&TEXT('教育訓練費入力（今期）'!$C94,\"ｄ日\")&\"から\"&'教育訓練費入力（今期）'!$D94&\"日間\")","v":""},{"$f":"IF('教育訓練費入力（今期）'!$F94=\"\",\"\",IF('教育訓練費入力（今期）'!$G94=1,'教育訓練費入力（今期）'!$F94,'教育訓練費入力（今期）'!$F94&\"他\"&'教育訓練費入力（今期）'!$G94-1&\"名\"))","v":""}]
[null,86,null,null,null,null,null,null,null,null,{"$f":"IF('教育訓練費入力（今期）'!$C95=\"\",\"\",TEXT('教育訓練費入力（今期）'!$C95,\"yyyy年\")&TEXT('教育訓練費入力（今期）'!$C95,\"m月\")&TEXT('教育訓練費入力（今期）'!$C95,\"ｄ日\")&\"から\"&'教育訓練費入力（今期）'!$D95&\"日間\")","v":""},{"$f":"IF('教育訓練費入力（今期）'!$F95=\"\",\"\",IF('教育訓練費入力（今期）'!$G95=1,'教育訓練費入力（今期）'!$F95,'教育訓練費入力（今期）'!$F95&\"他\"&'教育訓練費入力（今期）'!$G95-1&\"名\"))","v":""}]
[null,87,null,null,null,null,null,null,null,null,{"$f":"IF('教育訓練費入力（今期）'!$C96=\"\",\"\",TEXT('教育訓練費入力（今期）'!$C96,\"yyyy年\")&TEXT('教育訓練費入力（今期）'!$C96,\"m月\")&TEXT('教育訓練費入力（今期）'!$C96,\"ｄ日\")&\"から\"&'教育訓練費入力（今期）'!$D96&\"日間\")","v":""},{"$f":"IF('教育訓練費入力（今期）'!$F96=\"\",\"\",IF('教育訓練費入力（今期）'!$G96=1,'教育訓練費入力（今期）'!$F96,'教育訓練費入力（今期）'!$F96&\"他\"&'教育訓練費入力（今期）'!$G96-1&\"名\"))","v":""}]
[null,88,null,null,null,null,null,null,null,null,{"$f":"IF('教育訓練費入力（今期）'!$C97=\"\",\"\",TEXT('教育訓練費入力（今期）'!$C97,\"yyyy年\")&TEXT('教育訓練費入力（今期）'!$C97,\"m月\")&TEXT('教育訓練費入力（今期）'!$C97,\"ｄ日\")&\"から\"&'教育訓練費入力（今期）'!$D97&\"日間\")","v":""},{"$f":"IF('教育訓練費入力（今期）'!$F97=\"\",\"\",IF('教育訓練費入力（今期）'!$G97=1,'教育訓練費入力（今期）'!$F97,'教育訓練費入力（今期）'!$F97&\"他\"&'教育訓練費入力（今期）'!$G97-1&\"名\"))","v":""}]
[null,89,null,null,null,null,null,null,null,null,{"$f":"IF('教育訓練費入力（今期）'!$C98=\"\",\"\",TEXT('教育訓練費入力（今期）'!$C98,\"yyyy年\")&TEXT('教育訓練費入力（今期）'!$C98,\"m月\")&TEXT('教育訓練費入力（今期）'!$C98,\"ｄ日\")&\"から\"&'教育訓練費入力（今期）'!$D98&\"日間\")","v":""},{"$f":"IF('教育訓練費入力（今期）'!$F98=\"\",\"\",IF('教育訓練費入力（今期）'!$G98=1,'教育訓練費入力（今期）'!$F98,'教育訓練費入力（今期）'!$F98&\"他\"&'教育訓練費入力（今期）'!$G98-1&\"名\"))","v":""}]
[null,90,null,null,null,null,null,null,null,null,{"$f":"IF('教育訓練費入力（今期）'!$C99=\"\",\"\",TEXT('教育訓練費入力（今期）'!$C99,\"yyyy年\")&TEXT('教育訓練費入力（今期）'!$C99,\"m月\")&TEXT('教育訓練費入力（今期）'!$C99,\"ｄ日\")&\"から\"&'教育訓練費入力（今期）'!$D99&\"日間\")","v":""},{"$f":"IF('教育訓練費入力（今期）'!$F99=\"\",\"\",IF('教育訓練費入力（今期）'!$G99=1,'教育訓練費入力（今期）'!$F99,'教育訓練費入力（今期）'!$F99&\"他\"&'教育訓練費入力（今期）'!$G99-1&\"名\"))","v":""}]
[null,91,null,null,null,null,null,null,null,null,{"$f":"IF('教育訓練費入力（今期）'!$C100=\"\",\"\",TEXT('教育訓練費入力（今期）'!$C100,\"yyyy年\")&TEXT('教育訓練費入力（今期）'!$C100,\"m月\")&TEXT('教育訓練費入力（今期）'!$C100,\"ｄ日\")&\"から\"&'教育訓練費入力（今期）'!$D100&\"日間\")","v":""},{"$f":"IF('教育訓練費入力（今期）'!$F100=\"\",\"\",IF('教育訓練費入力（今期）'!$G100=1,'教育訓練費入力（今期）'!$F100,'教育訓練費入力（今期）'!$F100&\"他\"&'教育訓練費入力（今期）'!$G100-1&\"名\"))","v":""}]
[null,92,null,null,null,null,null,null,null,null,{"$f":"IF('教育訓練費入力（今期）'!$C101=\"\",\"\",TEXT('教育訓練費入力（今期）'!$C101,\"yyyy年\")&TEXT('教育訓練費入力（今期）'!$C101,\"m月\")&TEXT('教育訓練費入力（今期）'!$C101,\"ｄ日\")&\"から\"&'教育訓練費入力（今期）'!$D101&\"日間\")","v":""},{"$f":"IF('教育訓練費入力（今期）'!$F101=\"\",\"\",IF('教育訓練費入力（今期）'!$G101=1,'教育訓練費入力（今期）'!$F101,'教育訓練費入力（今期）'!$F101&\"他\"&'教育訓練費入力（今期）'!$G101-1&\"名\"))","v":""}]
[null,93,null,null,null,null,null,null,null,null,{"$f":"IF('教育訓練費入力（今期）'!$C102=\"\",\"\",TEXT('教育訓練費入力（今期）'!$C102,\"yyyy年\")&TEXT('教育訓練費入力（今期）'!$C102,\"m月\")&TEXT('教育訓練費入力（今期）'!$C102,\"ｄ日\")&\"から\"&'教育訓練費入力（今期）'!$D102&\"日間\")","v":""},{"$f":"IF('教育訓練費入力（今期）'!$F102=\"\",\"\",IF('教育訓練費入力（今期）'!$G102=1,'教育訓練費入力（今期）'!$F102,'教育訓練費入力（今期）'!$F102&\"他\"&'教育訓練費入力（今期）'!$G102-1&\"名\"))","v":""}]
[null,94,null,null,null,null,null,null,null,null,{"$f":"IF('教育訓練費入力（今期）'!$C103=\"\",\"\",TEXT('教育訓練費入力（今期）'!$C103,\"yyyy年\")&TEXT('教育訓練費入力（今期）'!$C103,\"m月\")&TEXT('教育訓練費入力（今期）'!$C103,\"ｄ日\")&\"から\"&'教育訓練費入力（今期）'!$D103&\"日間\")","v":""},{"$f":"IF('教育訓練費入力（今期）'!$F103=\"\",\"\",IF('教育訓練費入力（今期）'!$G103=1,'教育訓練費入力（今期）'!$F103,'教育訓練費入力（今期）'!$F103&\"他\"&'教育訓練費入力（今期）'!$G103-1&\"名\"))","v":""}]
[null,95,null,null,null,null,null,null,null,null,{"$f":"IF('教育訓練費入力（今期）'!$C104=\"\",\"\",TEXT('教育訓練費入力（今期）'!$C104,\"yyyy年\")&TEXT('教育訓練費入力（今期）'!$C104,\"m月\")&TEXT('教育訓練費入力（今期）'!$C104,\"ｄ日\")&\"から\"&'教育訓練費入力（今期）'!$D104&\"日間\")","v":""},{"$f":"IF('教育訓練費入力（今期）'!$F104=\"\",\"\",IF('教育訓練費入力（今期）'!$G104=1,'教育訓練費入力（今期）'!$F104,'教育訓練費入力（今期）'!$F104&\"他\"&'教育訓練費入力（今期）'!$G104-1&\"名\"))","v":""}]
[null,96,null,null,null,null,null,null,null,null,{"$f":"IF('教育訓練費入力（今期）'!$C105=\"\",\"\",TEXT('教育訓練費入力（今期）'!$C105,\"yyyy年\")&TEXT('教育訓練費入力（今期）'!$C105,\"m月\")&TEXT('教育訓練費入力（今期）'!$C105,\"ｄ日\")&\"から\"&'教育訓練費入力（今期）'!$D105&\"日間\")","v":""},{"$f":"IF('教育訓練費入力（今期）'!$F105=\"\",\"\",IF('教育訓練費入力（今期）'!$G105=1,'教育訓練費入力（今期）'!$F105,'教育訓練費入力（今期）'!$F105&\"他\"&'教育訓練費入力（今期）'!$G105-1&\"名\"))","v":""}]
[null,97,null,null,null,null,null,null,null,null,{"$f":"IF('教育訓練費入力（今期）'!$C106=\"\",\"\",TEXT('教育訓練費入力（今期）'!$C106,\"yyyy年\")&TEXT('教育訓練費入力（今期）'!$C106,\"m月\")&TEXT('教育訓練費入力（今期）'!$C106,\"ｄ日\")&\"から\"&'教育訓練費入力（今期）'!$D106&\"日間\")","v":""},{"$f":"IF('教育訓練費入力（今期）'!$F106=\"\",\"\",IF('教育訓練費入力（今期）'!$G106=1,'教育訓練費入力（今期）'!$F106,'教育訓練費入力（今期）'!$F106&\"他\"&'教育訓練費入力（今期）'!$G106-1&\"名\"))","v":""}]
[null,98,null,null,null,null,null,null,null,null,{"$f":"IF('教育訓練費入力（今期）'!$C107=\"\",\"\",TEXT('教育訓練費入力（今期）'!$C107,\"yyyy年\")&TEXT('教育訓練費入力（今期）'!$C107,\"m月\")&TEXT('教育訓練費入力（今期）'!$C107,\"ｄ日\")&\"から\"&'教育訓練費入力（今期）'!$D107&\"日間\")","v":""},{"$f":"IF('教育訓練費入力（今期）'!$F107=\"\",\"\",IF('教育訓練費入力（今期）'!$G107=1,'教育訓練費入力（今期）'!$F107,'教育訓練費入力（今期）'!$F107&\"他\"&'教育訓練費入力（今期）'!$G107-1&\"名\"))","v":""}]
[null,99,null,null,null,null,null,null,null,null,{"$f":"IF('教育訓練費入力（今期）'!$C108=\"\",\"\",TEXT('教育訓練費入力（今期）'!$C108,\"yyyy年\")&TEXT('教育訓練費入力（今期）'!$C108,\"m月\")&TEXT('教育訓練費入力（今期）'!$C108,\"ｄ日\")&\"から\"&'教育訓練費入力（今期）'!$D108&\"日間\")","v":""},{"$f":"IF('教育訓練費入力（今期）'!$F108=\"\",\"\",IF('教育訓練費入力（今期）'!$G108=1,'教育訓練費入力（今期）'!$F108,'教育訓練費入力（今期）'!$F108&\"他\"&'教育訓練費入力（今期）'!$G108-1&\"名\"))","v":""}]
[null,100,null,null,null,null,null,null,null,null,{"$f":"IF('教育訓練費入力（今期）'!$C109=\"\",\"\",TEXT('教育訓練費入力（今期）'!$C109,\"yyyy年\")&TEXT('教育訓練費入力（今期）'!$C109,\"m月\")&TEXT('教育訓練費入力（今期）'!$C109,\"ｄ日\")&\"から\"&'教育訓練費入力（今期）'!$D109&\"日間\")","v":""},{"$f":"IF('教育訓練費入力（今期）'!$F109=\"\",\"\",IF('教育訓練費入力（今期）'!$G109=1,'教育訓練費入力（今期）'!$F109,'教育訓練費入力（今期）'!$F109&\"他\"&'教育訓練費入力（今期）'!$G109-1&\"名\"))","v":""}]
[null,101,null,null,null,null,null,null,null,null,{"$f":"IF('教育訓練費入力（今期）'!$C110=\"\",\"\",TEXT('教育訓練費入力（今期）'!$C110,\"yyyy年\")&TEXT('教育訓練費入力（今期）'!$C110,\"m月\")&TEXT('教育訓練費入力（今期）'!$C110,\"ｄ日\")&\"から\"&'教育訓練費入力（今期）'!$D110&\"日間\")","v":""},{"$f":"IF('教育訓練費入力（今期）'!$F110=\"\",\"\",IF('教育訓練費入力（今期）'!$G110=1,'教育訓練費入力（今期）'!$F110,'教育訓練費入力（今期）'!$F110&\"他\"&'教育訓練費入力（今期）'!$G110-1&\"名\"))","v":""}]
[null,102,null,null,null,null,null,null,null,null,{"$f":"IF('教育訓練費入力（今期）'!$C111=\"\",\"\",TEXT('教育訓練費入力（今期）'!$C111,\"yyyy年\")&TEXT('教育訓練費入力（今期）'!$C111,\"m月\")&TEXT('教育訓練費入力（今期）'!$C111,\"ｄ日\")&\"から\"&'教育訓練費入力（今期）'!$D111&\"日間\")","v":""},{"$f":"IF('教育訓練費入力（今期）'!$F111=\"\",\"\",IF('教育訓練費入力（今期）'!$G111=1,'教育訓練費入力（今期）'!$F111,'教育訓練費入力（今期）'!$F111&\"他\"&'教育訓練費入力（今期）'!$G111-1&\"名\"))","v":""}]
[null,103,null,null,null,null,null,null,null,null,{"$f":"IF('教育訓練費入力（今期）'!$C112=\"\",\"\",TEXT('教育訓練費入力（今期）'!$C112,\"yyyy年\")&TEXT('教育訓練費入力（今期）'!$C112,\"m月\")&TEXT('教育訓練費入力（今期）'!$C112,\"ｄ日\")&\"から\"&'教育訓練費入力（今期）'!$D112&\"日間\")","v":""},{"$f":"IF('教育訓練費入力（今期）'!$F112=\"\",\"\",IF('教育訓練費入力（今期）'!$G112=1,'教育訓練費入力（今期）'!$F112,'教育訓練費入力（今期）'!$F112&\"他\"&'教育訓練費入力（今期）'!$G112-1&\"名\"))","v":""}]
[null,104,null,null,null,null,null,null,null,null,{"$f":"IF('教育訓練費入力（今期）'!$C113=\"\",\"\",TEXT('教育訓練費入力（今期）'!$C113,\"yyyy年\")&TEXT('教育訓練費入力（今期）'!$C113,\"m月\")&TEXT('教育訓練費入力（今期）'!$C113,\"ｄ日\")&\"から\"&'教育訓練費入力（今期）'!$D113&\"日間\")","v":""},{"$f":"IF('教育訓練費入力（今期）'!$F113=\"\",\"\",IF('教育訓練費入力（今期）'!$G113=1,'教育訓練費入力（今期）'!$F113,'教育訓練費入力（今期）'!$F113&\"他\"&'教育訓練費入力（今期）'!$G113-1&\"名\"))","v":""}]
[null,105,null,null,null,null,null,null,null,null,{"$f":"IF('教育訓練費入力（今期）'!$C114=\"\",\"\",TEXT('教育訓練費入力（今期）'!$C114,\"yyyy年\")&TEXT('教育訓練費入力（今期）'!$C114,\"m月\")&TEXT('教育訓練費入力（今期）'!$C114,\"ｄ日\")&\"から\"&'教育訓練費入力（今期）'!$D114&\"日間\")","v":""},{"$f":"IF('教育訓練費入力（今期）'!$F114=\"\",\"\",IF('教育訓練費入力（今期）'!$G114=1,'教育訓練費入力（今期）'!$F114,'教育訓練費入力（今期）'!$F114&\"他\"&'教育訓練費入力（今期）'!$G114-1&\"名\"))","v":""}]
[null,106,null,null,null,null,null,null,null,null,{"$f":"IF('教育訓練費入力（今期）'!$C115=\"\",\"\",TEXT('教育訓練費入力（今期）'!$C115,\"yyyy年\")&TEXT('教育訓練費入力（今期）'!$C115,\"m月\")&TEXT('教育訓練費入力（今期）'!$C115,\"ｄ日\")&\"から\"&'教育訓練費入力（今期）'!$D115&\"日間\")","v":""},{"$f":"IF('教育訓練費入力（今期）'!$F115=\"\",\"\",IF('教育訓練費入力（今期）'!$G115=1,'教育訓練費入力（今期）'!$F115,'教育訓練費入力（今期）'!$F115&\"他\"&'教育訓練費入力（今期）'!$G115-1&\"名\"))","v":""}]
[null,107,null,null,null,null,null,null,null,null,{"$f":"IF('教育訓練費入力（今期）'!$C116=\"\",\"\",TEXT('教育訓練費入力（今期）'!$C116,\"yyyy年\")&TEXT('教育訓練費入力（今期）'!$C116,\"m月\")&TEXT('教育訓練費入力（今期）'!$C116,\"ｄ日\")&\"から\"&'教育訓練費入力（今期）'!$D116&\"日間\")","v":""},{"$f":"IF('教育訓練費入力（今期）'!$F116=\"\",\"\",IF('教育訓練費入力（今期）'!$G116=1,'教育訓練費入力（今期）'!$F116,'教育訓練費入力（今期）'!$F116&\"他\"&'教育訓練費入力（今期）'!$G116-1&\"名\"))","v":""}]
[null,108,null,null,null,null,null,null,null,null,{"$f":"IF('教育訓練費入力（今期）'!$C117=\"\",\"\",TEXT('教育訓練費入力（今期）'!$C117,\"yyyy年\")&TEXT('教育訓練費入力（今期）'!$C117,\"m月\")&TEXT('教育訓練費入力（今期）'!$C117,\"ｄ日\")&\"から\"&'教育訓練費入力（今期）'!$D117&\"日間\")","v":""},{"$f":"IF('教育訓練費入力（今期）'!$F117=\"\",\"\",IF('教育訓練費入力（今期）'!$G117=1,'教育訓練費入力（今期）'!$F117,'教育訓練費入力（今期）'!$F117&\"他\"&'教育訓練費入力（今期）'!$G117-1&\"名\"))","v":""}]
[null,109,null,null,null,null,null,null,null,null,{"$f":"IF('教育訓練費入力（今期）'!$C118=\"\",\"\",TEXT('教育訓練費入力（今期）'!$C118,\"yyyy年\")&TEXT('教育訓練費入力（今期）'!$C118,\"m月\")&TEXT('教育訓練費入力（今期）'!$C118,\"ｄ日\")&\"から\"&'教育訓練費入力（今期）'!$D118&\"日間\")","v":""},{"$f":"IF('教育訓練費入力（今期）'!$F118=\"\",\"\",IF('教育訓練費入力（今期）'!$G118=1,'教育訓練費入力（今期）'!$F118,'教育訓練費入力（今期）'!$F118&\"他\"&'教育訓練費入力（今期）'!$G118-1&\"名\"))","v":""}]
[null,110,null,null,null,null,null,null,null,null,{"$f":"IF('教育訓練費入力（今期）'!$C119=\"\",\"\",TEXT('教育訓練費入力（今期）'!$C119,\"yyyy年\")&TEXT('教育訓練費入力（今期）'!$C119,\"m月\")&TEXT('教育訓練費入力（今期）'!$C119,\"ｄ日\")&\"から\"&'教育訓練費入力（今期）'!$D119&\"日間\")","v":""},{"$f":"IF('教育訓練費入力（今期）'!$F119=\"\",\"\",IF('教育訓練費入力（今期）'!$G119=1,'教育訓練費入力（今期）'!$F119,'教育訓練費入力（今期）'!$F119&\"他\"&'教育訓練費入力（今期）'!$G119-1&\"名\"))","v":""}]
[null,111,null,null,null,null,null,null,null,null,{"$f":"IF('教育訓練費入力（今期）'!$C120=\"\",\"\",TEXT('教育訓練費入力（今期）'!$C120,\"yyyy年\")&TEXT('教育訓練費入力（今期）'!$C120,\"m月\")&TEXT('教育訓練費入力（今期）'!$C120,\"ｄ日\")&\"から\"&'教育訓練費入力（今期）'!$D120&\"日間\")","v":""},{"$f":"IF('教育訓練費入力（今期）'!$F120=\"\",\"\",IF('教育訓練費入力（今期）'!$G120=1,'教育訓練費入力（今期）'!$F120,'教育訓練費入力（今期）'!$F120&\"他\"&'教育訓練費入力（今期）'!$G120-1&\"名\"))","v":""}]
[null,112,null,null,null,null,null,null,null,null,{"$f":"IF('教育訓練費入力（今期）'!$C121=\"\",\"\",TEXT('教育訓練費入力（今期）'!$C121,\"yyyy年\")&TEXT('教育訓練費入力（今期）'!$C121,\"m月\")&TEXT('教育訓練費入力（今期）'!$C121,\"ｄ日\")&\"から\"&'教育訓練費入力（今期）'!$D121&\"日間\")","v":""},{"$f":"IF('教育訓練費入力（今期）'!$F121=\"\",\"\",IF('教育訓練費入力（今期）'!$G121=1,'教育訓練費入力（今期）'!$F121,'教育訓練費入力（今期）'!$F121&\"他\"&'教育訓練費入力（今期）'!$G121-1&\"名\"))","v":""}]
[null,113,null,null,null,null,null,null,null,null,{"$f":"IF('教育訓練費入力（今期）'!$C122=\"\",\"\",TEXT('教育訓練費入力（今期）'!$C122,\"yyyy年\")&TEXT('教育訓練費入力（今期）'!$C122,\"m月\")&TEXT('教育訓練費入力（今期）'!$C122,\"ｄ日\")&\"から\"&'教育訓練費入力（今期）'!$D122&\"日間\")","v":""},{"$f":"IF('教育訓練費入力（今期）'!$F122=\"\",\"\",IF('教育訓練費入力（今期）'!$G122=1,'教育訓練費入力（今期）'!$F122,'教育訓練費入力（今期）'!$F122&\"他\"&'教育訓練費入力（今期）'!$G122-1&\"名\"))","v":""}]
[null,114,null,null,null,null,null,null,null,null,{"$f":"IF('教育訓練費入力（今期）'!$C123=\"\",\"\",TEXT('教育訓練費入力（今期）'!$C123,\"yyyy年\")&TEXT('教育訓練費入力（今期）'!$C123,\"m月\")&TEXT('教育訓練費入力（今期）'!$C123,\"ｄ日\")&\"から\"&'教育訓練費入力（今期）'!$D123&\"日間\")","v":""},{"$f":"IF('教育訓練費入力（今期）'!$F123=\"\",\"\",IF('教育訓練費入力（今期）'!$G123=1,'教育訓練費入力（今期）'!$F123,'教育訓練費入力（今期）'!$F123&\"他\"&'教育訓練費入力（今期）'!$G123-1&\"名\"))","v":""}]
[null,115,null,null,null,null,null,null,null,null,{"$f":"IF('教育訓練費入力（今期）'!$C124=\"\",\"\",TEXT('教育訓練費入力（今期）'!$C124,\"yyyy年\")&TEXT('教育訓練費入力（今期）'!$C124,\"m月\")&TEXT('教育訓練費入力（今期）'!$C124,\"ｄ日\")&\"から\"&'教育訓練費入力（今期）'!$D124&\"日間\")","v":""},{"$f":"IF('教育訓練費入力（今期）'!$F124=\"\",\"\",IF('教育訓練費入力（今期）'!$G124=1,'教育訓練費入力（今期）'!$F124,'教育訓練費入力（今期）'!$F124&\"他\"&'教育訓練費入力（今期）'!$G124-1&\"名\"))","v":""}]
[null,116,null,null,null,null,null,null,null,null,{"$f":"IF('教育訓練費入力（今期）'!$C125=\"\",\"\",TEXT('教育訓練費入力（今期）'!$C125,\"yyyy年\")&TEXT('教育訓練費入力（今期）'!$C125,\"m月\")&TEXT('教育訓練費入力（今期）'!$C125,\"ｄ日\")&\"から\"&'教育訓練費入力（今期）'!$D125&\"日間\")","v":""},{"$f":"IF('教育訓練費入力（今期）'!$F125=\"\",\"\",IF('教育訓練費入力（今期）'!$G125=1,'教育訓練費入力（今期）'!$F125,'教育訓練費入力（今期）'!$F125&\"他\"&'教育訓練費入力（今期）'!$G125-1&\"名\"))","v":""}]
[null,117,null,null,null,null,null,null,null,null,{"$f":"IF('教育訓練費入力（今期）'!$C126=\"\",\"\",TEXT('教育訓練費入力（今期）'!$C126,\"yyyy年\")&TEXT('教育訓練費入力（今期）'!$C126,\"m月\")&TEXT('教育訓練費入力（今期）'!$C126,\"ｄ日\")&\"から\"&'教育訓練費入力（今期）'!$D126&\"日間\")","v":""},{"$f":"IF('教育訓練費入力（今期）'!$F126=\"\",\"\",IF('教育訓練費入力（今期）'!$G126=1,'教育訓練費入力（今期）'!$F126,'教育訓練費入力（今期）'!$F126&\"他\"&'教育訓練費入力（今期）'!$G126-1&\"名\"))","v":""}]
[null,118,null,null,null,null,null,null,null,null,{"$f":"IF('教育訓練費入力（今期）'!$C127=\"\",\"\",TEXT('教育訓練費入力（今期）'!$C127,\"yyyy年\")&TEXT('教育訓練費入力（今期）'!$C127,\"m月\")&TEXT('教育訓練費入力（今期）'!$C127,\"ｄ日\")&\"から\"&'教育訓練費入力（今期）'!$D127&\"日間\")","v":""},{"$f":"IF('教育訓練費入力（今期）'!$F127=\"\",\"\",IF('教育訓練費入力（今期）'!$G127=1,'教育訓練費入力（今期）'!$F127,'教育訓練費入力（今期）'!$F127&\"他\"&'教育訓練費入力（今期）'!$G127-1&\"名\"))","v":""}]
[null,119,null,null,null,null,null,null,null,null,{"$f":"IF('教育訓練費入力（今期）'!$C128=\"\",\"\",TEXT('教育訓練費入力（今期）'!$C128,\"yyyy年\")&TEXT('教育訓練費入力（今期）'!$C128,\"m月\")&TEXT('教育訓練費入力（今期）'!$C128,\"ｄ日\")&\"から\"&'教育訓練費入力（今期）'!$D128&\"日間\")","v":""},{"$f":"IF('教育訓練費入力（今期）'!$F128=\"\",\"\",IF('教育訓練費入力（今期）'!$G128=1,'教育訓練費入力（今期）'!$F128,'教育訓練費入力（今期）'!$F128&\"他\"&'教育訓練費入力（今期）'!$G128-1&\"名\"))","v":""}]
[null,120,null,null,null,null,null,null,null,null,{"$f":"IF('教育訓練費入力（今期）'!$C129=\"\",\"\",TEXT('教育訓練費入力（今期）'!$C129,\"yyyy年\")&TEXT('教育訓練費入力（今期）'!$C129,\"m月\")&TEXT('教育訓練費入力（今期）'!$C129,\"ｄ日\")&\"から\"&'教育訓練費入力（今期）'!$D129&\"日間\")","v":""},{"$f":"IF('教育訓練費入力（今期）'!$F129=\"\",\"\",IF('教育訓練費入力（今期）'!$G129=1,'教育訓練費入力（今期）'!$F129,'教育訓練費入力（今期）'!$F129&\"他\"&'教育訓練費入力（今期）'!$G129-1&\"名\"))","v":""}]
[null,121,null,null,null,null,null,null,null,null,{"$f":"IF('教育訓練費入力（今期）'!$C130=\"\",\"\",TEXT('教育訓練費入力（今期）'!$C130,\"yyyy年\")&TEXT('教育訓練費入力（今期）'!$C130,\"m月\")&TEXT('教育訓練費入力（今期）'!$C130,\"ｄ日\")&\"から\"&'教育訓練費入力（今期）'!$D130&\"日間\")","v":""},{"$f":"IF('教育訓練費入力（今期）'!$F130=\"\",\"\",IF('教育訓練費入力（今期）'!$G130=1,'教育訓練費入力（今期）'!$F130,'教育訓練費入力（今期）'!$F130&\"他\"&'教育訓練費入力（今期）'!$G130-1&\"名\"))","v":""}]
[null,122,null,null,null,null,null,null,null,null,{"$f":"IF('教育訓練費入力（今期）'!$C131=\"\",\"\",TEXT('教育訓練費入力（今期）'!$C131,\"yyyy年\")&TEXT('教育訓練費入力（今期）'!$C131,\"m月\")&TEXT('教育訓練費入力（今期）'!$C131,\"ｄ日\")&\"から\"&'教育訓練費入力（今期）'!$D131&\"日間\")","v":""},{"$f":"IF('教育訓練費入力（今期）'!$F131=\"\",\"\",IF('教育訓練費入力（今期）'!$G131=1,'教育訓練費入力（今期）'!$F131,'教育訓練費入力（今期）'!$F131&\"他\"&'教育訓練費入力（今期）'!$G131-1&\"名\"))","v":""}]
[null,123,null,null,null,null,null,null,null,null,{"$f":"IF('教育訓練費入力（今期）'!$C132=\"\",\"\",TEXT('教育訓練費入力（今期）'!$C132,\"yyyy年\")&TEXT('教育訓練費入力（今期）'!$C132,\"m月\")&TEXT('教育訓練費入力（今期）'!$C132,\"ｄ日\")&\"から\"&'教育訓練費入力（今期）'!$D132&\"日間\")","v":""},{"$f":"IF('教育訓練費入力（今期）'!$F132=\"\",\"\",IF('教育訓練費入力（今期）'!$G132=1,'教育訓練費入力（今期）'!$F132,'教育訓練費入力（今期）'!$F132&\"他\"&'教育訓練費入力（今期）'!$G132-1&\"名\"))","v":""}]
[null,124,null,null,null,null,null,null,null,null,{"$f":"IF('教育訓練費入力（今期）'!$C133=\"\",\"\",TEXT('教育訓練費入力（今期）'!$C133,\"yyyy年\")&TEXT('教育訓練費入力（今期）'!$C133,\"m月\")&TEXT('教育訓練費入力（今期）'!$C133,\"ｄ日\")&\"から\"&'教育訓練費入力（今期）'!$D133&\"日間\")","v":""},{"$f":"IF('教育訓練費入力（今期）'!$F133=\"\",\"\",IF('教育訓練費入力（今期）'!$G133=1,'教育訓練費入力（今期）'!$F133,'教育訓練費入力（今期）'!$F133&\"他\"&'教育訓練費入力（今期）'!$G133-1&\"名\"))","v":""}]
[null,125,null,null,null,null,null,null,null,null,{"$f":"IF('教育訓練費入力（今期）'!$C134=\"\",\"\",TEXT('教育訓練費入力（今期）'!$C134,\"yyyy年\")&TEXT('教育訓練費入力（今期）'!$C134,\"m月\")&TEXT('教育訓練費入力（今期）'!$C134,\"ｄ日\")&\"から\"&'教育訓練費入力（今期）'!$D134&\"日間\")","v":""},{"$f":"IF('教育訓練費入力（今期）'!$F134=\"\",\"\",IF('教育訓練費入力（今期）'!$G134=1,'教育訓練費入力（今期）'!$F134,'教育訓練費入力（今期）'!$F134&\"他\"&'教育訓練費入力（今期）'!$G134-1&\"名\"))","v":""}]
[null,126,null,null,null,null,null,null,null,null,{"$f":"IF('教育訓練費入力（今期）'!$C135=\"\",\"\",TEXT('教育訓練費入力（今期）'!$C135,\"yyyy年\")&TEXT('教育訓練費入力（今期）'!$C135,\"m月\")&TEXT('教育訓練費入力（今期）'!$C135,\"ｄ日\")&\"から\"&'教育訓練費入力（今期）'!$D135&\"日間\")","v":""},{"$f":"IF('教育訓練費入力（今期）'!$F135=\"\",\"\",IF('教育訓練費入力（今期）'!$G135=1,'教育訓練費入力（今期）'!$F135,'教育訓練費入力（今期）'!$F135&\"他\"&'教育訓練費入力（今期）'!$G135-1&\"名\"))","v":""}]
[null,127,null,null,null,null,null,null,null,null,{"$f":"IF('教育訓練費入力（今期）'!$C136=\"\",\"\",TEXT('教育訓練費入力（今期）'!$C136,\"yyyy年\")&TEXT('教育訓練費入力（今期）'!$C136,\"m月\")&TEXT('教育訓練費入力（今期）'!$C136,\"ｄ日\")&\"から\"&'教育訓練費入力（今期）'!$D136&\"日間\")","v":""},{"$f":"IF('教育訓練費入力（今期）'!$F136=\"\",\"\",IF('教育訓練費入力（今期）'!$G136=1,'教育訓練費入力（今期）'!$F136,'教育訓練費入力（今期）'!$F136&\"他\"&'教育訓練費入力（今期）'!$G136-1&\"名\"))","v":""}]
[null,128,null,null,null,null,null,null,null,null,{"$f":"IF('教育訓練費入力（今期）'!$C137=\"\",\"\",TEXT('教育訓練費入力（今期）'!$C137,\"yyyy年\")&TEXT('教育訓練費入力（今期）'!$C137,\"m月\")&TEXT('教育訓練費入力（今期）'!$C137,\"ｄ日\")&\"から\"&'教育訓練費入力（今期）'!$D137&\"日間\")","v":""},{"$f":"IF('教育訓練費入力（今期）'!$F137=\"\",\"\",IF('教育訓練費入力（今期）'!$G137=1,'教育訓練費入力（今期）'!$F137,'教育訓練費入力（今期）'!$F137&\"他\"&'教育訓練費入力（今期）'!$G137-1&\"名\"))","v":""}]
[null,129,null,null,null,null,null,null,null,null,{"$f":"IF('教育訓練費入力（今期）'!$C138=\"\",\"\",TEXT('教育訓練費入力（今期）'!$C138,\"yyyy年\")&TEXT('教育訓練費入力（今期）'!$C138,\"m月\")&TEXT('教育訓練費入力（今期）'!$C138,\"ｄ日\")&\"から\"&'教育訓練費入力（今期）'!$D138&\"日間\")","v":""},{"$f":"IF('教育訓練費入力（今期）'!$F138=\"\",\"\",IF('教育訓練費入力（今期）'!$G138=1,'教育訓練費入力（今期）'!$F138,'教育訓練費入力（今期）'!$F138&\"他\"&'教育訓練費入力（今期）'!$G138-1&\"名\"))","v":""}]
[null,130,null,null,null,null,null,null,null,null,{"$f":"IF('教育訓練費入力（今期）'!$C139=\"\",\"\",TEXT('教育訓練費入力（今期）'!$C139,\"yyyy年\")&TEXT('教育訓練費入力（今期）'!$C139,\"m月\")&TEXT('教育訓練費入力（今期）'!$C139,\"ｄ日\")&\"から\"&'教育訓練費入力（今期）'!$D139&\"日間\")","v":""},{"$f":"IF('教育訓練費入力（今期）'!$F139=\"\",\"\",IF('教育訓練費入力（今期）'!$G139=1,'教育訓練費入力（今期）'!$F139,'教育訓練費入力（今期）'!$F139&\"他\"&'教育訓練費入力（今期）'!$G139-1&\"名\"))","v":""}]
[null,131,null,null,null,null,null,null,null,null,{"$f":"IF('教育訓練費入力（今期）'!$C140=\"\",\"\",TEXT('教育訓練費入力（今期）'!$C140,\"yyyy年\")&TEXT('教育訓練費入力（今期）'!$C140,\"m月\")&TEXT('教育訓練費入力（今期）'!$C140,\"ｄ日\")&\"から\"&'教育訓練費入力（今期）'!$D140&\"日間\")","v":""},{"$f":"IF('教育訓練費入力（今期）'!$F140=\"\",\"\",IF('教育訓練費入力（今期）'!$G140=1,'教育訓練費入力（今期）'!$F140,'教育訓練費入力（今期）'!$F140&\"他\"&'教育訓練費入力（今期）'!$G140-1&\"名\"))","v":""}]
[null,132,null,null,null,null,null,null,null,null,{"$f":"IF('教育訓練費入力（今期）'!$C141=\"\",\"\",TEXT('教育訓練費入力（今期）'!$C141,\"yyyy年\")&TEXT('教育訓練費入力（今期）'!$C141,\"m月\")&TEXT('教育訓練費入力（今期）'!$C141,\"ｄ日\")&\"から\"&'教育訓練費入力（今期）'!$D141&\"日間\")","v":""},{"$f":"IF('教育訓練費入力（今期）'!$F141=\"\",\"\",IF('教育訓練費入力（今期）'!$G141=1,'教育訓練費入力（今期）'!$F141,'教育訓練費入力（今期）'!$F141&\"他\"&'教育訓練費入力（今期）'!$G141-1&\"名\"))","v":""}]
[null,133,null,null,null,null,null,null,null,null,{"$f":"IF('教育訓練費入力（今期）'!$C142=\"\",\"\",TEXT('教育訓練費入力（今期）'!$C142,\"yyyy年\")&TEXT('教育訓練費入力（今期）'!$C142,\"m月\")&TEXT('教育訓練費入力（今期）'!$C142,\"ｄ日\")&\"から\"&'教育訓練費入力（今期）'!$D142&\"日間\")","v":""},{"$f":"IF('教育訓練費入力（今期）'!$F142=\"\",\"\",IF('教育訓練費入力（今期）'!$G142=1,'教育訓練費入力（今期）'!$F142,'教育訓練費入力（今期）'!$F142&\"他\"&'教育訓練費入力（今期）'!$G142-1&\"名\"))","v":""}]
[null,134,null,null,null,null,null,null,null,null,{"$f":"IF('教育訓練費入力（今期）'!$C143=\"\",\"\",TEXT('教育訓練費入力（今期）'!$C143,\"yyyy年\")&TEXT('教育訓練費入力（今期）'!$C143,\"m月\")&TEXT('教育訓練費入力（今期）'!$C143,\"ｄ日\")&\"から\"&'教育訓練費入力（今期）'!$D143&\"日間\")","v":""},{"$f":"IF('教育訓練費入力（今期）'!$F143=\"\",\"\",IF('教育訓練費入力（今期）'!$G143=1,'教育訓練費入力（今期）'!$F143,'教育訓練費入力（今期）'!$F143&\"他\"&'教育訓練費入力（今期）'!$G143-1&\"名\"))","v":""}]
[null,135,null,null,null,null,null,null,null,null,{"$f":"IF('教育訓練費入力（今期）'!$C144=\"\",\"\",TEXT('教育訓練費入力（今期）'!$C144,\"yyyy年\")&TEXT('教育訓練費入力（今期）'!$C144,\"m月\")&TEXT('教育訓練費入力（今期）'!$C144,\"ｄ日\")&\"から\"&'教育訓練費入力（今期）'!$D144&\"日間\")","v":""},{"$f":"IF('教育訓練費入力（今期）'!$F144=\"\",\"\",IF('教育訓練費入力（今期）'!$G144=1,'教育訓練費入力（今期）'!$F144,'教育訓練費入力（今期）'!$F144&\"他\"&'教育訓練費入力（今期）'!$G144-1&\"名\"))","v":""}]
[null,136,null,null,null,null,null,null,null,null,{"$f":"IF('教育訓練費入力（今期）'!$C145=\"\",\"\",TEXT('教育訓練費入力（今期）'!$C145,\"yyyy年\")&TEXT('教育訓練費入力（今期）'!$C145,\"m月\")&TEXT('教育訓練費入力（今期）'!$C145,\"ｄ日\")&\"から\"&'教育訓練費入力（今期）'!$D145&\"日間\")","v":""},{"$f":"IF('教育訓練費入力（今期）'!$F145=\"\",\"\",IF('教育訓練費入力（今期）'!$G145=1,'教育訓練費入力（今期）'!$F145,'教育訓練費入力（今期）'!$F145&\"他\"&'教育訓練費入力（今期）'!$G145-1&\"名\"))","v":""}]
[null,137,null,null,null,null,null,null,null,null,{"$f":"IF('教育訓練費入力（今期）'!$C146=\"\",\"\",TEXT('教育訓練費入力（今期）'!$C146,\"yyyy年\")&TEXT('教育訓練費入力（今期）'!$C146,\"m月\")&TEXT('教育訓練費入力（今期）'!$C146,\"ｄ日\")&\"から\"&'教育訓練費入力（今期）'!$D146&\"日間\")","v":""},{"$f":"IF('教育訓練費入力（今期）'!$F146=\"\",\"\",IF('教育訓練費入力（今期）'!$G146=1,'教育訓練費入力（今期）'!$F146,'教育訓練費入力（今期）'!$F146&\"他\"&'教育訓練費入力（今期）'!$G146-1&\"名\"))","v":""}]
[null,138,null,null,null,null,null,null,null,null,{"$f":"IF('教育訓練費入力（今期）'!$C147=\"\",\"\",TEXT('教育訓練費入力（今期）'!$C147,\"yyyy年\")&TEXT('教育訓練費入力（今期）'!$C147,\"m月\")&TEXT('教育訓練費入力（今期）'!$C147,\"ｄ日\")&\"から\"&'教育訓練費入力（今期）'!$D147&\"日間\")","v":""},{"$f":"IF('教育訓練費入力（今期）'!$F147=\"\",\"\",IF('教育訓練費入力（今期）'!$G147=1,'教育訓練費入力（今期）'!$F147,'教育訓練費入力（今期）'!$F147&\"他\"&'教育訓練費入力（今期）'!$G147-1&\"名\"))","v":""}]
[null,139,null,null,null,null,null,null,null,null,{"$f":"IF('教育訓練費入力（今期）'!$C148=\"\",\"\",TEXT('教育訓練費入力（今期）'!$C148,\"yyyy年\")&TEXT('教育訓練費入力（今期）'!$C148,\"m月\")&TEXT('教育訓練費入力（今期）'!$C148,\"ｄ日\")&\"から\"&'教育訓練費入力（今期）'!$D148&\"日間\")","v":""},{"$f":"IF('教育訓練費入力（今期）'!$F148=\"\",\"\",IF('教育訓練費入力（今期）'!$G148=1,'教育訓練費入力（今期）'!$F148,'教育訓練費入力（今期）'!$F148&\"他\"&'教育訓練費入力（今期）'!$G148-1&\"名\"))","v":""}]
[null,140,null,null,null,null,null,null,null,null,{"$f":"IF('教育訓練費入力（今期）'!$C149=\"\",\"\",TEXT('教育訓練費入力（今期）'!$C149,\"yyyy年\")&TEXT('教育訓練費入力（今期）'!$C149,\"m月\")&TEXT('教育訓練費入力（今期）'!$C149,\"ｄ日\")&\"から\"&'教育訓練費入力（今期）'!$D149&\"日間\")","v":""},{"$f":"IF('教育訓練費入力（今期）'!$F149=\"\",\"\",IF('教育訓練費入力（今期）'!$G149=1,'教育訓練費入力（今期）'!$F149,'教育訓練費入力（今期）'!$F149&\"他\"&'教育訓練費入力（今期）'!$G149-1&\"名\"))","v":""}]
[null,141,null,null,null,null,null,null,null,null,{"$f":"IF('教育訓練費入力（今期）'!$C150=\"\",\"\",TEXT('教育訓練費入力（今期）'!$C150,\"yyyy年\")&TEXT('教育訓練費入力（今期）'!$C150,\"m月\")&TEXT('教育訓練費入力（今期）'!$C150,\"ｄ日\")&\"から\"&'教育訓練費入力（今期）'!$D150&\"日間\")","v":""},{"$f":"IF('教育訓練費入力（今期）'!$F150=\"\",\"\",IF('教育訓練費入力（今期）'!$G150=1,'教育訓練費入力（今期）'!$F150,'教育訓練費入力（今期）'!$F150&\"他\"&'教育訓練費入力（今期）'!$G150-1&\"名\"))","v":""}]
[null,142,null,null,null,null,null,null,null,null,{"$f":"IF('教育訓練費入力（今期）'!$C151=\"\",\"\",TEXT('教育訓練費入力（今期）'!$C151,\"yyyy年\")&TEXT('教育訓練費入力（今期）'!$C151,\"m月\")&TEXT('教育訓練費入力（今期）'!$C151,\"ｄ日\")&\"から\"&'教育訓練費入力（今期）'!$D151&\"日間\")","v":""},{"$f":"IF('教育訓練費入力（今期）'!$F151=\"\",\"\",IF('教育訓練費入力（今期）'!$G151=1,'教育訓練費入力（今期）'!$F151,'教育訓練費入力（今期）'!$F151&\"他\"&'教育訓練費入力（今期）'!$G151-1&\"名\"))","v":""}]
[null,143,null,null,null,null,null,null,null,null,{"$f":"IF('教育訓練費入力（今期）'!$C152=\"\",\"\",TEXT('教育訓練費入力（今期）'!$C152,\"yyyy年\")&TEXT('教育訓練費入力（今期）'!$C152,\"m月\")&TEXT('教育訓練費入力（今期）'!$C152,\"ｄ日\")&\"から\"&'教育訓練費入力（今期）'!$D152&\"日間\")","v":""},{"$f":"IF('教育訓練費入力（今期）'!$F152=\"\",\"\",IF('教育訓練費入力（今期）'!$G152=1,'教育訓練費入力（今期）'!$F152,'教育訓練費入力（今期）'!$F152&\"他\"&'教育訓練費入力（今期）'!$G152-1&\"名\"))","v":""}]
[null,144,null,null,null,null,null,null,null,null,{"$f":"IF('教育訓練費入力（今期）'!$C153=\"\",\"\",TEXT('教育訓練費入力（今期）'!$C153,\"yyyy年\")&TEXT('教育訓練費入力（今期）'!$C153,\"m月\")&TEXT('教育訓練費入力（今期）'!$C153,\"ｄ日\")&\"から\"&'教育訓練費入力（今期）'!$D153&\"日間\")","v":""},{"$f":"IF('教育訓練費入力（今期）'!$F153=\"\",\"\",IF('教育訓練費入力（今期）'!$G153=1,'教育訓練費入力（今期）'!$F153,'教育訓練費入力（今期）'!$F153&\"他\"&'教育訓練費入力（今期）'!$G153-1&\"名\"))","v":""}]
[null,145,null,null,null,null,null,null,null,null,{"$f":"IF('教育訓練費入力（今期）'!$C154=\"\",\"\",TEXT('教育訓練費入力（今期）'!$C154,\"yyyy年\")&TEXT('教育訓練費入力（今期）'!$C154,\"m月\")&TEXT('教育訓練費入力（今期）'!$C154,\"ｄ日\")&\"から\"&'教育訓練費入力（今期）'!$D154&\"日間\")","v":""},{"$f":"IF('教育訓練費入力（今期）'!$F154=\"\",\"\",IF('教育訓練費入力（今期）'!$G154=1,'教育訓練費入力（今期）'!$F154,'教育訓練費入力（今期）'!$F154&\"他\"&'教育訓練費入力（今期）'!$G154-1&\"名\"))","v":""}]
[null,146,null,null,null,null,null,null,null,null,{"$f":"IF('教育訓練費入力（今期）'!$C155=\"\",\"\",TEXT('教育訓練費入力（今期）'!$C155,\"yyyy年\")&TEXT('教育訓練費入力（今期）'!$C155,\"m月\")&TEXT('教育訓練費入力（今期）'!$C155,\"ｄ日\")&\"から\"&'教育訓練費入力（今期）'!$D155&\"日間\")","v":""},{"$f":"IF('教育訓練費入力（今期）'!$F155=\"\",\"\",IF('教育訓練費入力（今期）'!$G155=1,'教育訓練費入力（今期）'!$F155,'教育訓練費入力（今期）'!$F155&\"他\"&'教育訓練費入力（今期）'!$G155-1&\"名\"))","v":""}]
[null,147,null,null,null,null,null,null,null,null,{"$f":"IF('教育訓練費入力（今期）'!$C156=\"\",\"\",TEXT('教育訓練費入力（今期）'!$C156,\"yyyy年\")&TEXT('教育訓練費入力（今期）'!$C156,\"m月\")&TEXT('教育訓練費入力（今期）'!$C156,\"ｄ日\")&\"から\"&'教育訓練費入力（今期）'!$D156&\"日間\")","v":""},{"$f":"IF('教育訓練費入力（今期）'!$F156=\"\",\"\",IF('教育訓練費入力（今期）'!$G156=1,'教育訓練費入力（今期）'!$F156,'教育訓練費入力（今期）'!$F156&\"他\"&'教育訓練費入力（今期）'!$G156-1&\"名\"))","v":""}]
[null,148,null,null,null,null,null,null,null,null,{"$f":"IF('教育訓練費入力（今期）'!$C157=\"\",\"\",TEXT('教育訓練費入力（今期）'!$C157,\"yyyy年\")&TEXT('教育訓練費入力（今期）'!$C157,\"m月\")&TEXT('教育訓練費入力（今期）'!$C157,\"ｄ日\")&\"から\"&'教育訓練費入力（今期）'!$D157&\"日間\")","v":""},{"$f":"IF('教育訓練費入力（今期）'!$F157=\"\",\"\",IF('教育訓練費入力（今期）'!$G157=1,'教育訓練費入力（今期）'!$F157,'教育訓練費入力（今期）'!$F157&\"他\"&'教育訓練費入力（今期）'!$G157-1&\"名\"))","v":""}]
[null,149,null,null,null,null,null,null,null,null,{"$f":"IF('教育訓練費入力（今期）'!$C158=\"\",\"\",TEXT('教育訓練費入力（今期）'!$C158,\"yyyy年\")&TEXT('教育訓練費入力（今期）'!$C158,\"m月\")&TEXT('教育訓練費入力（今期）'!$C158,\"ｄ日\")&\"から\"&'教育訓練費入力（今期）'!$D158&\"日間\")","v":""},{"$f":"IF('教育訓練費入力（今期）'!$F158=\"\",\"\",IF('教育訓練費入力（今期）'!$G158=1,'教育訓練費入力（今期）'!$F158,'教育訓練費入力（今期）'!$F158&\"他\"&'教育訓練費入力（今期）'!$G158-1&\"名\"))","v":""}]
[null,150,null,null,null,null,null,null,null,null,{"$f":"IF('教育訓練費入力（今期）'!$C159=\"\",\"\",TEXT('教育訓練費入力（今期）'!$C159,\"yyyy年\")&TEXT('教育訓練費入力（今期）'!$C159,\"m月\")&TEXT('教育訓練費入力（今期）'!$C159,\"ｄ日\")&\"から\"&'教育訓練費入力（今期）'!$D159&\"日間\")","v":""},{"$f":"IF('教育訓練費入力（今期）'!$F159=\"\",\"\",IF('教育訓練費入力（今期）'!$G159=1,'教育訓練費入力（今期）'!$F159,'教育訓練費入力（今期）'!$F159&\"他\"&'教育訓練費入力（今期）'!$G159-1&\"名\"))","v":""}]
[null,151,null,null,null,null,null,null,null,null,{"$f":"IF('教育訓練費入力（今期）'!$C160=\"\",\"\",TEXT('教育訓練費入力（今期）'!$C160,\"yyyy年\")&TEXT('教育訓練費入力（今期）'!$C160,\"m月\")&TEXT('教育訓練費入力（今期）'!$C160,\"ｄ日\")&\"から\"&'教育訓練費入力（今期）'!$D160&\"日間\")","v":""},{"$f":"IF('教育訓練費入力（今期）'!$F160=\"\",\"\",IF('教育訓練費入力（今期）'!$G160=1,'教育訓練費入力（今期）'!$F160,'教育訓練費入力（今期）'!$F160&\"他\"&'教育訓練費入力（今期）'!$G160-1&\"名\"))","v":""}]
[null,152,null,null,null,null,null,null,null,null,{"$f":"IF('教育訓練費入力（今期）'!$C161=\"\",\"\",TEXT('教育訓練費入力（今期）'!$C161,\"yyyy年\")&TEXT('教育訓練費入力（今期）'!$C161,\"m月\")&TEXT('教育訓練費入力（今期）'!$C161,\"ｄ日\")&\"から\"&'教育訓練費入力（今期）'!$D161&\"日間\")","v":""},{"$f":"IF('教育訓練費入力（今期）'!$F161=\"\",\"\",IF('教育訓練費入力（今期）'!$G161=1,'教育訓練費入力（今期）'!$F161,'教育訓練費入力（今期）'!$F161&\"他\"&'教育訓練費入力（今期）'!$G161-1&\"名\"))","v":""}]
[null,153,null,null,null,null,null,null,null,null,{"$f":"IF('教育訓練費入力（今期）'!$C162=\"\",\"\",TEXT('教育訓練費入力（今期）'!$C162,\"yyyy年\")&TEXT('教育訓練費入力（今期）'!$C162,\"m月\")&TEXT('教育訓練費入力（今期）'!$C162,\"ｄ日\")&\"から\"&'教育訓練費入力（今期）'!$D162&\"日間\")","v":""},{"$f":"IF('教育訓練費入力（今期）'!$F162=\"\",\"\",IF('教育訓練費入力（今期）'!$G162=1,'教育訓練費入力（今期）'!$F162,'教育訓練費入力（今期）'!$F162&\"他\"&'教育訓練費入力（今期）'!$G162-1&\"名\"))","v":""}]
[null,154,null,null,null,null,null,null,null,null,{"$f":"IF('教育訓練費入力（今期）'!$C163=\"\",\"\",TEXT('教育訓練費入力（今期）'!$C163,\"yyyy年\")&TEXT('教育訓練費入力（今期）'!$C163,\"m月\")&TEXT('教育訓練費入力（今期）'!$C163,\"ｄ日\")&\"から\"&'教育訓練費入力（今期）'!$D163&\"日間\")","v":""},{"$f":"IF('教育訓練費入力（今期）'!$F163=\"\",\"\",IF('教育訓練費入力（今期）'!$G163=1,'教育訓練費入力（今期）'!$F163,'教育訓練費入力（今期）'!$F163&\"他\"&'教育訓練費入力（今期）'!$G163-1&\"名\"))","v":""}]
[null,155,null,null,null,null,null,null,null,null,{"$f":"IF('教育訓練費入力（今期）'!$C164=\"\",\"\",TEXT('教育訓練費入力（今期）'!$C164,\"yyyy年\")&TEXT('教育訓練費入力（今期）'!$C164,\"m月\")&TEXT('教育訓練費入力（今期）'!$C164,\"ｄ日\")&\"から\"&'教育訓練費入力（今期）'!$D164&\"日間\")","v":""},{"$f":"IF('教育訓練費入力（今期）'!$F164=\"\",\"\",IF('教育訓練費入力（今期）'!$G164=1,'教育訓練費入力（今期）'!$F164,'教育訓練費入力（今期）'!$F164&\"他\"&'教育訓練費入力（今期）'!$G164-1&\"名\"))","v":""}]
[null,156,null,null,null,null,null,null,null,null,{"$f":"IF('教育訓練費入力（今期）'!$C165=\"\",\"\",TEXT('教育訓練費入力（今期）'!$C165,\"yyyy年\")&TEXT('教育訓練費入力（今期）'!$C165,\"m月\")&TEXT('教育訓練費入力（今期）'!$C165,\"ｄ日\")&\"から\"&'教育訓練費入力（今期）'!$D165&\"日間\")","v":""},{"$f":"IF('教育訓練費入力（今期）'!$F165=\"\",\"\",IF('教育訓練費入力（今期）'!$G165=1,'教育訓練費入力（今期）'!$F165,'教育訓練費入力（今期）'!$F165&\"他\"&'教育訓練費入力（今期）'!$G165-1&\"名\"))","v":""}]
[null,157,null,null,null,null,null,null,null,null,{"$f":"IF('教育訓練費入力（今期）'!$C166=\"\",\"\",TEXT('教育訓練費入力（今期）'!$C166,\"yyyy年\")&TEXT('教育訓練費入力（今期）'!$C166,\"m月\")&TEXT('教育訓練費入力（今期）'!$C166,\"ｄ日\")&\"から\"&'教育訓練費入力（今期）'!$D166&\"日間\")","v":""},{"$f":"IF('教育訓練費入力（今期）'!$F166=\"\",\"\",IF('教育訓練費入力（今期）'!$G166=1,'教育訓練費入力（今期）'!$F166,'教育訓練費入力（今期）'!$F166&\"他\"&'教育訓練費入力（今期）'!$G166-1&\"名\"))","v":""}]
[null,158,null,null,null,null,null,null,null,null,{"$f":"IF('教育訓練費入力（今期）'!$C167=\"\",\"\",TEXT('教育訓練費入力（今期）'!$C167,\"yyyy年\")&TEXT('教育訓練費入力（今期）'!$C167,\"m月\")&TEXT('教育訓練費入力（今期）'!$C167,\"ｄ日\")&\"から\"&'教育訓練費入力（今期）'!$D167&\"日間\")","v":""},{"$f":"IF('教育訓練費入力（今期）'!$F167=\"\",\"\",IF('教育訓練費入力（今期）'!$G167=1,'教育訓練費入力（今期）'!$F167,'教育訓練費入力（今期）'!$F167&\"他\"&'教育訓練費入力（今期）'!$G167-1&\"名\"))","v":""}]
[null,159,null,null,null,null,null,null,null,null,{"$f":"IF('教育訓練費入力（今期）'!$C168=\"\",\"\",TEXT('教育訓練費入力（今期）'!$C168,\"yyyy年\")&TEXT('教育訓練費入力（今期）'!$C168,\"m月\")&TEXT('教育訓練費入力（今期）'!$C168,\"ｄ日\")&\"から\"&'教育訓練費入力（今期）'!$D168&\"日間\")","v":""},{"$f":"IF('教育訓練費入力（今期）'!$F168=\"\",\"\",IF('教育訓練費入力（今期）'!$G168=1,'教育訓練費入力（今期）'!$F168,'教育訓練費入力（今期）'!$F168&\"他\"&'教育訓練費入力（今期）'!$G168-1&\"名\"))","v":""}]
[null,160,null,null,null,null,null,null,null,null,{"$f":"IF('教育訓練費入力（今期）'!$C169=\"\",\"\",TEXT('教育訓練費入力（今期）'!$C169,\"yyyy年\")&TEXT('教育訓練費入力（今期）'!$C169,\"m月\")&TEXT('教育訓練費入力（今期）'!$C169,\"ｄ日\")&\"から\"&'教育訓練費入力（今期）'!$D169&\"日間\")","v":""},{"$f":"IF('教育訓練費入力（今期）'!$F169=\"\",\"\",IF('教育訓練費入力（今期）'!$G169=1,'教育訓練費入力（今期）'!$F169,'教育訓練費入力（今期）'!$F169&\"他\"&'教育訓練費入力（今期）'!$G169-1&\"名\"))","v":""}]
[null,161,null,null,null,null,null,null,null,null,{"$f":"IF('教育訓練費入力（今期）'!$C170=\"\",\"\",TEXT('教育訓練費入力（今期）'!$C170,\"yyyy年\")&TEXT('教育訓練費入力（今期）'!$C170,\"m月\")&TEXT('教育訓練費入力（今期）'!$C170,\"ｄ日\")&\"から\"&'教育訓練費入力（今期）'!$D170&\"日間\")","v":""},{"$f":"IF('教育訓練費入力（今期）'!$F170=\"\",\"\",IF('教育訓練費入力（今期）'!$G170=1,'教育訓練費入力（今期）'!$F170,'教育訓練費入力（今期）'!$F170&\"他\"&'教育訓練費入力（今期）'!$G170-1&\"名\"))","v":""}]
[null,162,null,null,null,null,null,null,null,null,{"$f":"IF('教育訓練費入力（今期）'!$C171=\"\",\"\",TEXT('教育訓練費入力（今期）'!$C171,\"yyyy年\")&TEXT('教育訓練費入力（今期）'!$C171,\"m月\")&TEXT('教育訓練費入力（今期）'!$C171,\"ｄ日\")&\"から\"&'教育訓練費入力（今期）'!$D171&\"日間\")","v":""},{"$f":"IF('教育訓練費入力（今期）'!$F171=\"\",\"\",IF('教育訓練費入力（今期）'!$G171=1,'教育訓練費入力（今期）'!$F171,'教育訓練費入力（今期）'!$F171&\"他\"&'教育訓練費入力（今期）'!$G171-1&\"名\"))","v":""}]
[null,163,null,null,null,null,null,null,null,null,{"$f":"IF('教育訓練費入力（今期）'!$C172=\"\",\"\",TEXT('教育訓練費入力（今期）'!$C172,\"yyyy年\")&TEXT('教育訓練費入力（今期）'!$C172,\"m月\")&TEXT('教育訓練費入力（今期）'!$C172,\"ｄ日\")&\"から\"&'教育訓練費入力（今期）'!$D172&\"日間\")","v":""},{"$f":"IF('教育訓練費入力（今期）'!$F172=\"\",\"\",IF('教育訓練費入力（今期）'!$G172=1,'教育訓練費入力（今期）'!$F172,'教育訓練費入力（今期）'!$F172&\"他\"&'教育訓練費入力（今期）'!$G172-1&\"名\"))","v":""}]
[null,164,null,null,null,null,null,null,null,null,{"$f":"IF('教育訓練費入力（今期）'!$C173=\"\",\"\",TEXT('教育訓練費入力（今期）'!$C173,\"yyyy年\")&TEXT('教育訓練費入力（今期）'!$C173,\"m月\")&TEXT('教育訓練費入力（今期）'!$C173,\"ｄ日\")&\"から\"&'教育訓練費入力（今期）'!$D173&\"日間\")","v":""},{"$f":"IF('教育訓練費入力（今期）'!$F173=\"\",\"\",IF('教育訓練費入力（今期）'!$G173=1,'教育訓練費入力（今期）'!$F173,'教育訓練費入力（今期）'!$F173&\"他\"&'教育訓練費入力（今期）'!$G173-1&\"名\"))","v":""}]
[null,165,null,null,null,null,null,null,null,null,{"$f":"IF('教育訓練費入力（今期）'!$C174=\"\",\"\",TEXT('教育訓練費入力（今期）'!$C174,\"yyyy年\")&TEXT('教育訓練費入力（今期）'!$C174,\"m月\")&TEXT('教育訓練費入力（今期）'!$C174,\"ｄ日\")&\"から\"&'教育訓練費入力（今期）'!$D174&\"日間\")","v":""},{"$f":"IF('教育訓練費入力（今期）'!$F174=\"\",\"\",IF('教育訓練費入力（今期）'!$G174=1,'教育訓練費入力（今期）'!$F174,'教育訓練費入力（今期）'!$F174&\"他\"&'教育訓練費入力（今期）'!$G174-1&\"名\"))","v":""}]
[null,166,null,null,null,null,null,null,null,null,{"$f":"IF('教育訓練費入力（今期）'!$C175=\"\",\"\",TEXT('教育訓練費入力（今期）'!$C175,\"yyyy年\")&TEXT('教育訓練費入力（今期）'!$C175,\"m月\")&TEXT('教育訓練費入力（今期）'!$C175,\"ｄ日\")&\"から\"&'教育訓練費入力（今期）'!$D175&\"日間\")","v":""},{"$f":"IF('教育訓練費入力（今期）'!$F175=\"\",\"\",IF('教育訓練費入力（今期）'!$G175=1,'教育訓練費入力（今期）'!$F175,'教育訓練費入力（今期）'!$F175&\"他\"&'教育訓練費入力（今期）'!$G175-1&\"名\"))","v":""}]
[null,167,null,null,null,null,null,null,null,null,{"$f":"IF('教育訓練費入力（今期）'!$C176=\"\",\"\",TEXT('教育訓練費入力（今期）'!$C176,\"yyyy年\")&TEXT('教育訓練費入力（今期）'!$C176,\"m月\")&TEXT('教育訓練費入力（今期）'!$C176,\"ｄ日\")&\"から\"&'教育訓練費入力（今期）'!$D176&\"日間\")","v":""},{"$f":"IF('教育訓練費入力（今期）'!$F176=\"\",\"\",IF('教育訓練費入力（今期）'!$G176=1,'教育訓練費入力（今期）'!$F176,'教育訓練費入力（今期）'!$F176&\"他\"&'教育訓練費入力（今期）'!$G176-1&\"名\"))","v":""}]
[null,168,null,null,null,null,null,null,null,null,{"$f":"IF('教育訓練費入力（今期）'!$C177=\"\",\"\",TEXT('教育訓練費入力（今期）'!$C177,\"yyyy年\")&TEXT('教育訓練費入力（今期）'!$C177,\"m月\")&TEXT('教育訓練費入力（今期）'!$C177,\"ｄ日\")&\"から\"&'教育訓練費入力（今期）'!$D177&\"日間\")","v":""},{"$f":"IF('教育訓練費入力（今期）'!$F177=\"\",\"\",IF('教育訓練費入力（今期）'!$G177=1,'教育訓練費入力（今期）'!$F177,'教育訓練費入力（今期）'!$F177&\"他\"&'教育訓練費入力（今期）'!$G177-1&\"名\"))","v":""}]
[null,169,null,null,null,null,null,null,null,null,{"$f":"IF('教育訓練費入力（今期）'!$C178=\"\",\"\",TEXT('教育訓練費入力（今期）'!$C178,\"yyyy年\")&TEXT('教育訓練費入力（今期）'!$C178,\"m月\")&TEXT('教育訓練費入力（今期）'!$C178,\"ｄ日\")&\"から\"&'教育訓練費入力（今期）'!$D178&\"日間\")","v":""},{"$f":"IF('教育訓練費入力（今期）'!$F178=\"\",\"\",IF('教育訓練費入力（今期）'!$G178=1,'教育訓練費入力（今期）'!$F178,'教育訓練費入力（今期）'!$F178&\"他\"&'教育訓練費入力（今期）'!$G178-1&\"名\"))","v":""}]
[null,170,null,null,null,null,null,null,null,null,{"$f":"IF('教育訓練費入力（今期）'!$C179=\"\",\"\",TEXT('教育訓練費入力（今期）'!$C179,\"yyyy年\")&TEXT('教育訓練費入力（今期）'!$C179,\"m月\")&TEXT('教育訓練費入力（今期）'!$C179,\"ｄ日\")&\"から\"&'教育訓練費入力（今期）'!$D179&\"日間\")","v":""},{"$f":"IF('教育訓練費入力（今期）'!$F179=\"\",\"\",IF('教育訓練費入力（今期）'!$G179=1,'教育訓練費入力（今期）'!$F179,'教育訓練費入力（今期）'!$F179&\"他\"&'教育訓練費入力（今期）'!$G179-1&\"名\"))","v":""}]
[null,171,null,null,null,null,null,null,null,null,{"$f":"IF('教育訓練費入力（今期）'!$C180=\"\",\"\",TEXT('教育訓練費入力（今期）'!$C180,\"yyyy年\")&TEXT('教育訓練費入力（今期）'!$C180,\"m月\")&TEXT('教育訓練費入力（今期）'!$C180,\"ｄ日\")&\"から\"&'教育訓練費入力（今期）'!$D180&\"日間\")","v":""},{"$f":"IF('教育訓練費入力（今期）'!$F180=\"\",\"\",IF('教育訓練費入力（今期）'!$G180=1,'教育訓練費入力（今期）'!$F180,'教育訓練費入力（今期）'!$F180&\"他\"&'教育訓練費入力（今期）'!$G180-1&\"名\"))","v":""}]
[null,172,null,null,null,null,null,null,null,null,{"$f":"IF('教育訓練費入力（今期）'!$C181=\"\",\"\",TEXT('教育訓練費入力（今期）'!$C181,\"yyyy年\")&TEXT('教育訓練費入力（今期）'!$C181,\"m月\")&TEXT('教育訓練費入力（今期）'!$C181,\"ｄ日\")&\"から\"&'教育訓練費入力（今期）'!$D181&\"日間\")","v":""},{"$f":"IF('教育訓練費入力（今期）'!$F181=\"\",\"\",IF('教育訓練費入力（今期）'!$G181=1,'教育訓練費入力（今期）'!$F181,'教育訓練費入力（今期）'!$F181&\"他\"&'教育訓練費入力（今期）'!$G181-1&\"名\"))","v":""}]
[null,173,null,null,null,null,null,null,null,null,{"$f":"IF('教育訓練費入力（今期）'!$C182=\"\",\"\",TEXT('教育訓練費入力（今期）'!$C182,\"yyyy年\")&TEXT('教育訓練費入力（今期）'!$C182,\"m月\")&TEXT('教育訓練費入力（今期）'!$C182,\"ｄ日\")&\"から\"&'教育訓練費入力（今期）'!$D182&\"日間\")","v":""},{"$f":"IF('教育訓練費入力（今期）'!$F182=\"\",\"\",IF('教育訓練費入力（今期）'!$G182=1,'教育訓練費入力（今期）'!$F182,'教育訓練費入力（今期）'!$F182&\"他\"&'教育訓練費入力（今期）'!$G182-1&\"名\"))","v":""}]
[null,174,null,null,null,null,null,null,null,null,{"$f":"IF('教育訓練費入力（今期）'!$C183=\"\",\"\",TEXT('教育訓練費入力（今期）'!$C183,\"yyyy年\")&TEXT('教育訓練費入力（今期）'!$C183,\"m月\")&TEXT('教育訓練費入力（今期）'!$C183,\"ｄ日\")&\"から\"&'教育訓練費入力（今期）'!$D183&\"日間\")","v":""},{"$f":"IF('教育訓練費入力（今期）'!$F183=\"\",\"\",IF('教育訓練費入力（今期）'!$G183=1,'教育訓練費入力（今期）'!$F183,'教育訓練費入力（今期）'!$F183&\"他\"&'教育訓練費入力（今期）'!$G183-1&\"名\"))","v":""}]
[null,175,null,null,null,null,null,null,null,null,{"$f":"IF('教育訓練費入力（今期）'!$C184=\"\",\"\",TEXT('教育訓練費入力（今期）'!$C184,\"yyyy年\")&TEXT('教育訓練費入力（今期）'!$C184,\"m月\")&TEXT('教育訓練費入力（今期）'!$C184,\"ｄ日\")&\"から\"&'教育訓練費入力（今期）'!$D184&\"日間\")","v":""},{"$f":"IF('教育訓練費入力（今期）'!$F184=\"\",\"\",IF('教育訓練費入力（今期）'!$G184=1,'教育訓練費入力（今期）'!$F184,'教育訓練費入力（今期）'!$F184&\"他\"&'教育訓練費入力（今期）'!$G184-1&\"名\"))","v":""}]
[null,176,null,null,null,null,null,null,null,null,{"$f":"IF('教育訓練費入力（今期）'!$C185=\"\",\"\",TEXT('教育訓練費入力（今期）'!$C185,\"yyyy年\")&TEXT('教育訓練費入力（今期）'!$C185,\"m月\")&TEXT('教育訓練費入力（今期）'!$C185,\"ｄ日\")&\"から\"&'教育訓練費入力（今期）'!$D185&\"日間\")","v":""},{"$f":"IF('教育訓練費入力（今期）'!$F185=\"\",\"\",IF('教育訓練費入力（今期）'!$G185=1,'教育訓練費入力（今期）'!$F185,'教育訓練費入力（今期）'!$F185&\"他\"&'教育訓練費入力（今期）'!$G185-1&\"名\"))","v":""}]
[null,177,null,null,null,null,null,null,null,null,{"$f":"IF('教育訓練費入力（今期）'!$C186=\"\",\"\",TEXT('教育訓練費入力（今期）'!$C186,\"yyyy年\")&TEXT('教育訓練費入力（今期）'!$C186,\"m月\")&TEXT('教育訓練費入力（今期）'!$C186,\"ｄ日\")&\"から\"&'教育訓練費入力（今期）'!$D186&\"日間\")","v":""},{"$f":"IF('教育訓練費入力（今期）'!$F186=\"\",\"\",IF('教育訓練費入力（今期）'!$G186=1,'教育訓練費入力（今期）'!$F186,'教育訓練費入力（今期）'!$F186&\"他\"&'教育訓練費入力（今期）'!$G186-1&\"名\"))","v":""}]
[null,178,null,null,null,null,null,null,null,null,{"$f":"IF('教育訓練費入力（今期）'!$C187=\"\",\"\",TEXT('教育訓練費入力（今期）'!$C187,\"yyyy年\")&TEXT('教育訓練費入力（今期）'!$C187,\"m月\")&TEXT('教育訓練費入力（今期）'!$C187,\"ｄ日\")&\"から\"&'教育訓練費入力（今期）'!$D187&\"日間\")","v":""},{"$f":"IF('教育訓練費入力（今期）'!$F187=\"\",\"\",IF('教育訓練費入力（今期）'!$G187=1,'教育訓練費入力（今期）'!$F187,'教育訓練費入力（今期）'!$F187&\"他\"&'教育訓練費入力（今期）'!$G187-1&\"名\"))","v":""}]
[null,179,null,null,null,null,null,null,null,null,{"$f":"IF('教育訓練費入力（今期）'!$C188=\"\",\"\",TEXT('教育訓練費入力（今期）'!$C188,\"yyyy年\")&TEXT('教育訓練費入力（今期）'!$C188,\"m月\")&TEXT('教育訓練費入力（今期）'!$C188,\"ｄ日\")&\"から\"&'教育訓練費入力（今期）'!$D188&\"日間\")","v":""},{"$f":"IF('教育訓練費入力（今期）'!$F188=\"\",\"\",IF('教育訓練費入力（今期）'!$G188=1,'教育訓練費入力（今期）'!$F188,'教育訓練費入力（今期）'!$F188&\"他\"&'教育訓練費入力（今期）'!$G188-1&\"名\"))","v":""}]
[null,180,null,null,null,null,null,null,null,null,{"$f":"IF('教育訓練費入力（今期）'!$C189=\"\",\"\",TEXT('教育訓練費入力（今期）'!$C189,\"yyyy年\")&TEXT('教育訓練費入力（今期）'!$C189,\"m月\")&TEXT('教育訓練費入力（今期）'!$C189,\"ｄ日\")&\"から\"&'教育訓練費入力（今期）'!$D189&\"日間\")","v":""},{"$f":"IF('教育訓練費入力（今期）'!$F189=\"\",\"\",IF('教育訓練費入力（今期）'!$G189=1,'教育訓練費入力（今期）'!$F189,'教育訓練費入力（今期）'!$F189&\"他\"&'教育訓練費入力（今期）'!$G189-1&\"名\"))","v":""}]
[null,181,null,null,null,null,null,null,null,null,{"$f":"IF('教育訓練費入力（今期）'!$C190=\"\",\"\",TEXT('教育訓練費入力（今期）'!$C190,\"yyyy年\")&TEXT('教育訓練費入力（今期）'!$C190,\"m月\")&TEXT('教育訓練費入力（今期）'!$C190,\"ｄ日\")&\"から\"&'教育訓練費入力（今期）'!$D190&\"日間\")","v":""},{"$f":"IF('教育訓練費入力（今期）'!$F190=\"\",\"\",IF('教育訓練費入力（今期）'!$G190=1,'教育訓練費入力（今期）'!$F190,'教育訓練費入力（今期）'!$F190&\"他\"&'教育訓練費入力（今期）'!$G190-1&\"名\"))","v":""}]
[null,182,null,null,null,null,null,null,null,null,{"$f":"IF('教育訓練費入力（今期）'!$C191=\"\",\"\",TEXT('教育訓練費入力（今期）'!$C191,\"yyyy年\")&TEXT('教育訓練費入力（今期）'!$C191,\"m月\")&TEXT('教育訓練費入力（今期）'!$C191,\"ｄ日\")&\"から\"&'教育訓練費入力（今期）'!$D191&\"日間\")","v":""},{"$f":"IF('教育訓練費入力（今期）'!$F191=\"\",\"\",IF('教育訓練費入力（今期）'!$G191=1,'教育訓練費入力（今期）'!$F191,'教育訓練費入力（今期）'!$F191&\"他\"&'教育訓練費入力（今期）'!$G191-1&\"名\"))","v":""}]
[null,183,null,null,null,null,null,null,null,null,{"$f":"IF('教育訓練費入力（今期）'!$C192=\"\",\"\",TEXT('教育訓練費入力（今期）'!$C192,\"yyyy年\")&TEXT('教育訓練費入力（今期）'!$C192,\"m月\")&TEXT('教育訓練費入力（今期）'!$C192,\"ｄ日\")&\"から\"&'教育訓練費入力（今期）'!$D192&\"日間\")","v":""},{"$f":"IF('教育訓練費入力（今期）'!$F192=\"\",\"\",IF('教育訓練費入力（今期）'!$G192=1,'教育訓練費入力（今期）'!$F192,'教育訓練費入力（今期）'!$F192&\"他\"&'教育訓練費入力（今期）'!$G192-1&\"名\"))","v":""}]
[null,184,null,null,null,null,null,null,null,null,{"$f":"IF('教育訓練費入力（今期）'!$C193=\"\",\"\",TEXT('教育訓練費入力（今期）'!$C193,\"yyyy年\")&TEXT('教育訓練費入力（今期）'!$C193,\"m月\")&TEXT('教育訓練費入力（今期）'!$C193,\"ｄ日\")&\"から\"&'教育訓練費入力（今期）'!$D193&\"日間\")","v":""},{"$f":"IF('教育訓練費入力（今期）'!$F193=\"\",\"\",IF('教育訓練費入力（今期）'!$G193=1,'教育訓練費入力（今期）'!$F193,'教育訓練費入力（今期）'!$F193&\"他\"&'教育訓練費入力（今期）'!$G193-1&\"名\"))","v":""}]
[null,185,null,null,null,null,null,null,null,null,{"$f":"IF('教育訓練費入力（今期）'!$C194=\"\",\"\",TEXT('教育訓練費入力（今期）'!$C194,\"yyyy年\")&TEXT('教育訓練費入力（今期）'!$C194,\"m月\")&TEXT('教育訓練費入力（今期）'!$C194,\"ｄ日\")&\"から\"&'教育訓練費入力（今期）'!$D194&\"日間\")","v":""},{"$f":"IF('教育訓練費入力（今期）'!$F194=\"\",\"\",IF('教育訓練費入力（今期）'!$G194=1,'教育訓練費入力（今期）'!$F194,'教育訓練費入力（今期）'!$F194&\"他\"&'教育訓練費入力（今期）'!$G194-1&\"名\"))","v":""}]
[null,186,null,null,null,null,null,null,null,null,{"$f":"IF('教育訓練費入力（今期）'!$C195=\"\",\"\",TEXT('教育訓練費入力（今期）'!$C195,\"yyyy年\")&TEXT('教育訓練費入力（今期）'!$C195,\"m月\")&TEXT('教育訓練費入力（今期）'!$C195,\"ｄ日\")&\"から\"&'教育訓練費入力（今期）'!$D195&\"日間\")","v":""},{"$f":"IF('教育訓練費入力（今期）'!$F195=\"\",\"\",IF('教育訓練費入力（今期）'!$G195=1,'教育訓練費入力（今期）'!$F195,'教育訓練費入力（今期）'!$F195&\"他\"&'教育訓練費入力（今期）'!$G195-1&\"名\"))","v":""}]
[null,187,null,null,null,null,null,null,null,null,{"$f":"IF('教育訓練費入力（今期）'!$C196=\"\",\"\",TEXT('教育訓練費入力（今期）'!$C196,\"yyyy年\")&TEXT('教育訓練費入力（今期）'!$C196,\"m月\")&TEXT('教育訓練費入力（今期）'!$C196,\"ｄ日\")&\"から\"&'教育訓練費入力（今期）'!$D196&\"日間\")","v":""},{"$f":"IF('教育訓練費入力（今期）'!$F196=\"\",\"\",IF('教育訓練費入力（今期）'!$G196=1,'教育訓練費入力（今期）'!$F196,'教育訓練費入力（今期）'!$F196&\"他\"&'教育訓練費入力（今期）'!$G196-1&\"名\"))","v":""}]
[null,188,null,null,null,null,null,null,null,null,{"$f":"IF('教育訓練費入力（今期）'!$C197=\"\",\"\",TEXT('教育訓練費入力（今期）'!$C197,\"yyyy年\")&TEXT('教育訓練費入力（今期）'!$C197,\"m月\")&TEXT('教育訓練費入力（今期）'!$C197,\"ｄ日\")&\"から\"&'教育訓練費入力（今期）'!$D197&\"日間\")","v":""},{"$f":"IF('教育訓練費入力（今期）'!$F197=\"\",\"\",IF('教育訓練費入力（今期）'!$G197=1,'教育訓練費入力（今期）'!$F197,'教育訓練費入力（今期）'!$F197&\"他\"&'教育訓練費入力（今期）'!$G197-1&\"名\"))","v":""}]
[null,189,null,null,null,null,null,null,null,null,{"$f":"IF('教育訓練費入力（今期）'!$C198=\"\",\"\",TEXT('教育訓練費入力（今期）'!$C198,\"yyyy年\")&TEXT('教育訓練費入力（今期）'!$C198,\"m月\")&TEXT('教育訓練費入力（今期）'!$C198,\"ｄ日\")&\"から\"&'教育訓練費入力（今期）'!$D198&\"日間\")","v":""},{"$f":"IF('教育訓練費入力（今期）'!$F198=\"\",\"\",IF('教育訓練費入力（今期）'!$G198=1,'教育訓練費入力（今期）'!$F198,'教育訓練費入力（今期）'!$F198&\"他\"&'教育訓練費入力（今期）'!$G198-1&\"名\"))","v":""}]
[null,190,null,null,null,null,null,null,null,null,{"$f":"IF('教育訓練費入力（今期）'!$C199=\"\",\"\",TEXT('教育訓練費入力（今期）'!$C199,\"yyyy年\")&TEXT('教育訓練費入力（今期）'!$C199,\"m月\")&TEXT('教育訓練費入力（今期）'!$C199,\"ｄ日\")&\"から\"&'教育訓練費入力（今期）'!$D199&\"日間\")","v":""},{"$f":"IF('教育訓練費入力（今期）'!$F199=\"\",\"\",IF('教育訓練費入力（今期）'!$G199=1,'教育訓練費入力（今期）'!$F199,'教育訓練費入力（今期）'!$F199&\"他\"&'教育訓練費入力（今期）'!$G199-1&\"名\"))","v":""}]
[null,191,null,null,null,null,null,null,null,null,{"$f":"IF('教育訓練費入力（今期）'!$C200=\"\",\"\",TEXT('教育訓練費入力（今期）'!$C200,\"yyyy年\")&TEXT('教育訓練費入力（今期）'!$C200,\"m月\")&TEXT('教育訓練費入力（今期）'!$C200,\"ｄ日\")&\"から\"&'教育訓練費入力（今期）'!$D200&\"日間\")","v":""},{"$f":"IF('教育訓練費入力（今期）'!$F200=\"\",\"\",IF('教育訓練費入力（今期）'!$G200=1,'教育訓練費入力（今期）'!$F200,'教育訓練費入力（今期）'!$F200&\"他\"&'教育訓練費入力（今期）'!$G200-1&\"名\"))","v":""}]
[null,192,null,null,null,null,null,null,null,null,{"$f":"IF('教育訓練費入力（今期）'!$C201=\"\",\"\",TEXT('教育訓練費入力（今期）'!$C201,\"yyyy年\")&TEXT('教育訓練費入力（今期）'!$C201,\"m月\")&TEXT('教育訓練費入力（今期）'!$C201,\"ｄ日\")&\"から\"&'教育訓練費入力（今期）'!$D201&\"日間\")","v":""},{"$f":"IF('教育訓練費入力（今期）'!$F201=\"\",\"\",IF('教育訓練費入力（今期）'!$G201=1,'教育訓練費入力（今期）'!$F201,'教育訓練費入力（今期）'!$F201&\"他\"&'教育訓練費入力（今期）'!$G201-1&\"名\"))","v":""}]
[null,193,null,null,null,null,null,null,null,null,{"$f":"IF('教育訓練費入力（今期）'!$C202=\"\",\"\",TEXT('教育訓練費入力（今期）'!$C202,\"yyyy年\")&TEXT('教育訓練費入力（今期）'!$C202,\"m月\")&TEXT('教育訓練費入力（今期）'!$C202,\"ｄ日\")&\"から\"&'教育訓練費入力（今期）'!$D202&\"日間\")","v":""},{"$f":"IF('教育訓練費入力（今期）'!$F202=\"\",\"\",IF('教育訓練費入力（今期）'!$G202=1,'教育訓練費入力（今期）'!$F202,'教育訓練費入力（今期）'!$F202&\"他\"&'教育訓練費入力（今期）'!$G202-1&\"名\"))","v":""}]
[null,194,null,null,null,null,null,null,null,null,{"$f":"IF('教育訓練費入力（今期）'!$C203=\"\",\"\",TEXT('教育訓練費入力（今期）'!$C203,\"yyyy年\")&TEXT('教育訓練費入力（今期）'!$C203,\"m月\")&TEXT('教育訓練費入力（今期）'!$C203,\"ｄ日\")&\"から\"&'教育訓練費入力（今期）'!$D203&\"日間\")","v":""},{"$f":"IF('教育訓練費入力（今期）'!$F203=\"\",\"\",IF('教育訓練費入力（今期）'!$G203=1,'教育訓練費入力（今期）'!$F203,'教育訓練費入力（今期）'!$F203&\"他\"&'教育訓練費入力（今期）'!$G203-1&\"名\"))","v":""}]
[null,195,null,null,null,null,null,null,null,null,{"$f":"IF('教育訓練費入力（今期）'!$C204=\"\",\"\",TEXT('教育訓練費入力（今期）'!$C204,\"yyyy年\")&TEXT('教育訓練費入力（今期）'!$C204,\"m月\")&TEXT('教育訓練費入力（今期）'!$C204,\"ｄ日\")&\"から\"&'教育訓練費入力（今期）'!$D204&\"日間\")","v":""},{"$f":"IF('教育訓練費入力（今期）'!$F204=\"\",\"\",IF('教育訓練費入力（今期）'!$G204=1,'教育訓練費入力（今期）'!$F204,'教育訓練費入力（今期）'!$F204&\"他\"&'教育訓練費入力（今期）'!$G204-1&\"名\"))","v":""}]
[null,196,null,null,null,null,null,null,null,null,{"$f":"IF('教育訓練費入力（今期）'!$C205=\"\",\"\",TEXT('教育訓練費入力（今期）'!$C205,\"yyyy年\")&TEXT('教育訓練費入力（今期）'!$C205,\"m月\")&TEXT('教育訓練費入力（今期）'!$C205,\"ｄ日\")&\"から\"&'教育訓練費入力（今期）'!$D205&\"日間\")","v":""},{"$f":"IF('教育訓練費入力（今期）'!$F205=\"\",\"\",IF('教育訓練費入力（今期）'!$G205=1,'教育訓練費入力（今期）'!$F205,'教育訓練費入力（今期）'!$F205&\"他\"&'教育訓練費入力（今期）'!$G205-1&\"名\"))","v":""}]
[null,197,null,null,null,null,null,null,null,null,{"$f":"IF('教育訓練費入力（今期）'!$C206=\"\",\"\",TEXT('教育訓練費入力（今期）'!$C206,\"yyyy年\")&TEXT('教育訓練費入力（今期）'!$C206,\"m月\")&TEXT('教育訓練費入力（今期）'!$C206,\"ｄ日\")&\"から\"&'教育訓練費入力（今期）'!$D206&\"日間\")","v":""},{"$f":"IF('教育訓練費入力（今期）'!$F206=\"\",\"\",IF('教育訓練費入力（今期）'!$G206=1,'教育訓練費入力（今期）'!$F206,'教育訓練費入力（今期）'!$F206&\"他\"&'教育訓練費入力（今期）'!$G206-1&\"名\"))","v":""}]
[null,198,null,null,null,null,null,null,null,null,{"$f":"IF('教育訓練費入力（今期）'!$C207=\"\",\"\",TEXT('教育訓練費入力（今期）'!$C207,\"yyyy年\")&TEXT('教育訓練費入力（今期）'!$C207,\"m月\")&TEXT('教育訓練費入力（今期）'!$C207,\"ｄ日\")&\"から\"&'教育訓練費入力（今期）'!$D207&\"日間\")","v":""},{"$f":"IF('教育訓練費入力（今期）'!$F207=\"\",\"\",IF('教育訓練費入力（今期）'!$G207=1,'教育訓練費入力（今期）'!$F207,'教育訓練費入力（今期）'!$F207&\"他\"&'教育訓練費入力（今期）'!$G207-1&\"名\"))","v":""}]
[null,199,null,null,null,null,null,null,null,null,{"$f":"IF('教育訓練費入力（今期）'!$C208=\"\",\"\",TEXT('教育訓練費入力（今期）'!$C208,\"yyyy年\")&TEXT('教育訓練費入力（今期）'!$C208,\"m月\")&TEXT('教育訓練費入力（今期）'!$C208,\"ｄ日\")&\"から\"&'教育訓練費入力（今期）'!$D208&\"日間\")","v":""},{"$f":"IF('教育訓練費入力（今期）'!$F208=\"\",\"\",IF('教育訓練費入力（今期）'!$G208=1,'教育訓練費入力（今期）'!$F208,'教育訓練費入力（今期）'!$F208&\"他\"&'教育訓練費入力（今期）'!$G208-1&\"名\"))","v":""}]
[null,200,null,null,null,null,null,null,null,null,{"$f":"IF('教育訓練費入力（今期）'!$C209=\"\",\"\",TEXT('教育訓練費入力（今期）'!$C209,\"yyyy年\")&TEXT('教育訓練費入力（今期）'!$C209,\"m月\")&TEXT('教育訓練費入力（今期）'!$C209,\"ｄ日\")&\"から\"&'教育訓練費入力（今期）'!$D209&\"日間\")","v":""},{"$f":"IF('教育訓練費入力（今期）'!$F209=\"\",\"\",IF('教育訓練費入力（今期）'!$G209=1,'教育訓練費入力（今期）'!$F209,'教育訓練費入力（今期）'!$F209&\"他\"&'教育訓練費入力（今期）'!$G209-1&\"名\"))","v":""}]
[null,201,null,null,null,null,null,null,null,null,{"$f":"IF('教育訓練費入力（今期）'!$C210=\"\",\"\",TEXT('教育訓練費入力（今期）'!$C210,\"yyyy年\")&TEXT('教育訓練費入力（今期）'!$C210,\"m月\")&TEXT('教育訓練費入力（今期）'!$C210,\"ｄ日\")&\"から\"&'教育訓練費入力（今期）'!$D210&\"日間\")","v":""},{"$f":"IF('教育訓練費入力（今期）'!$F210=\"\",\"\",IF('教育訓練費入力（今期）'!$G210=1,'教育訓練費入力（今期）'!$F210,'教育訓練費入力（今期）'!$F210&\"他\"&'教育訓練費入力（今期）'!$G210-1&\"名\"))","v":""}]
[null,202,null,null,null,null,null,null,null,null,{"$f":"IF('教育訓練費入力（今期）'!$C211=\"\",\"\",TEXT('教育訓練費入力（今期）'!$C211,\"yyyy年\")&TEXT('教育訓練費入力（今期）'!$C211,\"m月\")&TEXT('教育訓練費入力（今期）'!$C211,\"ｄ日\")&\"から\"&'教育訓練費入力（今期）'!$D211&\"日間\")","v":""},{"$f":"IF('教育訓練費入力（今期）'!$F211=\"\",\"\",IF('教育訓練費入力（今期）'!$G211=1,'教育訓練費入力（今期）'!$F211,'教育訓練費入力（今期）'!$F211&\"他\"&'教育訓練費入力（今期）'!$G211-1&\"名\"))","v":""}]
[null,203,null,null,null,null,null,null,null,null,{"$f":"IF('教育訓練費入力（今期）'!$C212=\"\",\"\",TEXT('教育訓練費入力（今期）'!$C212,\"yyyy年\")&TEXT('教育訓練費入力（今期）'!$C212,\"m月\")&TEXT('教育訓練費入力（今期）'!$C212,\"ｄ日\")&\"から\"&'教育訓練費入力（今期）'!$D212&\"日間\")","v":""},{"$f":"IF('教育訓練費入力（今期）'!$F212=\"\",\"\",IF('教育訓練費入力（今期）'!$G212=1,'教育訓練費入力（今期）'!$F212,'教育訓練費入力（今期）'!$F212&\"他\"&'教育訓練費入力（今期）'!$G212-1&\"名\"))","v":""}]
[null,204,null,null,null,null,null,null,null,null,{"$f":"IF('教育訓練費入力（今期）'!$C213=\"\",\"\",TEXT('教育訓練費入力（今期）'!$C213,\"yyyy年\")&TEXT('教育訓練費入力（今期）'!$C213,\"m月\")&TEXT('教育訓練費入力（今期）'!$C213,\"ｄ日\")&\"から\"&'教育訓練費入力（今期）'!$D213&\"日間\")","v":""},{"$f":"IF('教育訓練費入力（今期）'!$F213=\"\",\"\",IF('教育訓練費入力（今期）'!$G213=1,'教育訓練費入力（今期）'!$F213,'教育訓練費入力（今期）'!$F213&\"他\"&'教育訓練費入力（今期）'!$G213-1&\"名\"))","v":""}]
[null,205,null,null,null,null,null,null,null,null,{"$f":"IF('教育訓練費入力（今期）'!$C214=\"\",\"\",TEXT('教育訓練費入力（今期）'!$C214,\"yyyy年\")&TEXT('教育訓練費入力（今期）'!$C214,\"m月\")&TEXT('教育訓練費入力（今期）'!$C214,\"ｄ日\")&\"から\"&'教育訓練費入力（今期）'!$D214&\"日間\")","v":""},{"$f":"IF('教育訓練費入力（今期）'!$F214=\"\",\"\",IF('教育訓練費入力（今期）'!$G214=1,'教育訓練費入力（今期）'!$F214,'教育訓練費入力（今期）'!$F214&\"他\"&'教育訓練費入力（今期）'!$G214-1&\"名\"))","v":""}]
[null,206,null,null,null,null,null,null,null,null,{"$f":"IF('教育訓練費入力（今期）'!$C215=\"\",\"\",TEXT('教育訓練費入力（今期）'!$C215,\"yyyy年\")&TEXT('教育訓練費入力（今期）'!$C215,\"m月\")&TEXT('教育訓練費入力（今期）'!$C215,\"ｄ日\")&\"から\"&'教育訓練費入力（今期）'!$D215&\"日間\")","v":""},{"$f":"IF('教育訓練費入力（今期）'!$F215=\"\",\"\",IF('教育訓練費入力（今期）'!$G215=1,'教育訓練費入力（今期）'!$F215,'教育訓練費入力（今期）'!$F215&\"他\"&'教育訓練費入力（今期）'!$G215-1&\"名\"))","v":""}]
[null,207,null,null,null,null,null,null,null,null,{"$f":"IF('教育訓練費入力（今期）'!$C216=\"\",\"\",TEXT('教育訓練費入力（今期）'!$C216,\"yyyy年\")&TEXT('教育訓練費入力（今期）'!$C216,\"m月\")&TEXT('教育訓練費入力（今期）'!$C216,\"ｄ日\")&\"から\"&'教育訓練費入力（今期）'!$D216&\"日間\")","v":""},{"$f":"IF('教育訓練費入力（今期）'!$F216=\"\",\"\",IF('教育訓練費入力（今期）'!$G216=1,'教育訓練費入力（今期）'!$F216,'教育訓練費入力（今期）'!$F216&\"他\"&'教育訓練費入力（今期）'!$G216-1&\"名\"))","v":""}]
[null,208,null,null,null,null,null,null,null,null,{"$f":"IF('教育訓練費入力（今期）'!$C217=\"\",\"\",TEXT('教育訓練費入力（今期）'!$C217,\"yyyy年\")&TEXT('教育訓練費入力（今期）'!$C217,\"m月\")&TEXT('教育訓練費入力（今期）'!$C217,\"ｄ日\")&\"から\"&'教育訓練費入力（今期）'!$D217&\"日間\")","v":""},{"$f":"IF('教育訓練費入力（今期）'!$F217=\"\",\"\",IF('教育訓練費入力（今期）'!$G217=1,'教育訓練費入力（今期）'!$F217,'教育訓練費入力（今期）'!$F217&\"他\"&'教育訓練費入力（今期）'!$G217-1&\"名\"))","v":""}]
[null,209,null,null,null,null,null,null,null,null,{"$f":"IF('教育訓練費入力（今期）'!$C218=\"\",\"\",TEXT('教育訓練費入力（今期）'!$C218,\"yyyy年\")&TEXT('教育訓練費入力（今期）'!$C218,\"m月\")&TEXT('教育訓練費入力（今期）'!$C218,\"ｄ日\")&\"から\"&'教育訓練費入力（今期）'!$D218&\"日間\")","v":""},{"$f":"IF('教育訓練費入力（今期）'!$F218=\"\",\"\",IF('教育訓練費入力（今期）'!$G218=1,'教育訓練費入力（今期）'!$F218,'教育訓練費入力（今期）'!$F218&\"他\"&'教育訓練費入力（今期）'!$G218-1&\"名\"))","v":""}]
[null,210,null,null,null,null,null,null,null,null,{"$f":"IF('教育訓練費入力（今期）'!$C219=\"\",\"\",TEXT('教育訓練費入力（今期）'!$C219,\"yyyy年\")&TEXT('教育訓練費入力（今期）'!$C219,\"m月\")&TEXT('教育訓練費入力（今期）'!$C219,\"ｄ日\")&\"から\"&'教育訓練費入力（今期）'!$D219&\"日間\")","v":""},{"$f":"IF('教育訓練費入力（今期）'!$F219=\"\",\"\",IF('教育訓練費入力（今期）'!$G219=1,'教育訓練費入力（今期）'!$F219,'教育訓練費入力（今期）'!$F219&\"他\"&'教育訓練費入力（今期）'!$G219-1&\"名\"))","v":""}]
[null,211,null,null,null,null,null,null,null,null,{"$f":"IF('教育訓練費入力（今期）'!$C220=\"\",\"\",TEXT('教育訓練費入力（今期）'!$C220,\"yyyy年\")&TEXT('教育訓練費入力（今期）'!$C220,\"m月\")&TEXT('教育訓練費入力（今期）'!$C220,\"ｄ日\")&\"から\"&'教育訓練費入力（今期）'!$D220&\"日間\")","v":""},{"$f":"IF('教育訓練費入力（今期）'!$F220=\"\",\"\",IF('教育訓練費入力（今期）'!$G220=1,'教育訓練費入力（今期）'!$F220,'教育訓練費入力（今期）'!$F220&\"他\"&'教育訓練費入力（今期）'!$G220-1&\"名\"))","v":""}]
[null,212,null,null,null,null,null,null,null,null,{"$f":"IF('教育訓練費入力（今期）'!$C221=\"\",\"\",TEXT('教育訓練費入力（今期）'!$C221,\"yyyy年\")&TEXT('教育訓練費入力（今期）'!$C221,\"m月\")&TEXT('教育訓練費入力（今期）'!$C221,\"ｄ日\")&\"から\"&'教育訓練費入力（今期）'!$D221&\"日間\")","v":""},{"$f":"IF('教育訓練費入力（今期）'!$F221=\"\",\"\",IF('教育訓練費入力（今期）'!$G221=1,'教育訓練費入力（今期）'!$F221,'教育訓練費入力（今期）'!$F221&\"他\"&'教育訓練費入力（今期）'!$G221-1&\"名\"))","v":""}]
[null,213,null,null,null,null,null,null,null,null,{"$f":"IF('教育訓練費入力（今期）'!$C222=\"\",\"\",TEXT('教育訓練費入力（今期）'!$C222,\"yyyy年\")&TEXT('教育訓練費入力（今期）'!$C222,\"m月\")&TEXT('教育訓練費入力（今期）'!$C222,\"ｄ日\")&\"から\"&'教育訓練費入力（今期）'!$D222&\"日間\")","v":""},{"$f":"IF('教育訓練費入力（今期）'!$F222=\"\",\"\",IF('教育訓練費入力（今期）'!$G222=1,'教育訓練費入力（今期）'!$F222,'教育訓練費入力（今期）'!$F222&\"他\"&'教育訓練費入力（今期）'!$G222-1&\"名\"))","v":""}]
[null,214,null,null,null,null,null,null,null,null,{"$f":"IF('教育訓練費入力（今期）'!$C223=\"\",\"\",TEXT('教育訓練費入力（今期）'!$C223,\"yyyy年\")&TEXT('教育訓練費入力（今期）'!$C223,\"m月\")&TEXT('教育訓練費入力（今期）'!$C223,\"ｄ日\")&\"から\"&'教育訓練費入力（今期）'!$D223&\"日間\")","v":""},{"$f":"IF('教育訓練費入力（今期）'!$F223=\"\",\"\",IF('教育訓練費入力（今期）'!$G223=1,'教育訓練費入力（今期）'!$F223,'教育訓練費入力（今期）'!$F223&\"他\"&'教育訓練費入力（今期）'!$G223-1&\"名\"))","v":""}]
[null,215,null,null,null,null,null,null,null,null,{"$f":"IF('教育訓練費入力（今期）'!$C224=\"\",\"\",TEXT('教育訓練費入力（今期）'!$C224,\"yyyy年\")&TEXT('教育訓練費入力（今期）'!$C224,\"m月\")&TEXT('教育訓練費入力（今期）'!$C224,\"ｄ日\")&\"から\"&'教育訓練費入力（今期）'!$D224&\"日間\")","v":""},{"$f":"IF('教育訓練費入力（今期）'!$F224=\"\",\"\",IF('教育訓練費入力（今期）'!$G224=1,'教育訓練費入力（今期）'!$F224,'教育訓練費入力（今期）'!$F224&\"他\"&'教育訓練費入力（今期）'!$G224-1&\"名\"))","v":""}]
[null,216,null,null,null,null,null,null,null,null,{"$f":"IF('教育訓練費入力（今期）'!$C225=\"\",\"\",TEXT('教育訓練費入力（今期）'!$C225,\"yyyy年\")&TEXT('教育訓練費入力（今期）'!$C225,\"m月\")&TEXT('教育訓練費入力（今期）'!$C225,\"ｄ日\")&\"から\"&'教育訓練費入力（今期）'!$D225&\"日間\")","v":""},{"$f":"IF('教育訓練費入力（今期）'!$F225=\"\",\"\",IF('教育訓練費入力（今期）'!$G225=1,'教育訓練費入力（今期）'!$F225,'教育訓練費入力（今期）'!$F225&\"他\"&'教育訓練費入力（今期）'!$G225-1&\"名\"))","v":""}]
[null,217,null,null,null,null,null,null,null,null,{"$f":"IF('教育訓練費入力（今期）'!$C226=\"\",\"\",TEXT('教育訓練費入力（今期）'!$C226,\"yyyy年\")&TEXT('教育訓練費入力（今期）'!$C226,\"m月\")&TEXT('教育訓練費入力（今期）'!$C226,\"ｄ日\")&\"から\"&'教育訓練費入力（今期）'!$D226&\"日間\")","v":""},{"$f":"IF('教育訓練費入力（今期）'!$F226=\"\",\"\",IF('教育訓練費入力（今期）'!$G226=1,'教育訓練費入力（今期）'!$F226,'教育訓練費入力（今期）'!$F226&\"他\"&'教育訓練費入力（今期）'!$G226-1&\"名\"))","v":""}]
[null,218,null,null,null,null,null,null,null,null,{"$f":"IF('教育訓練費入力（今期）'!$C227=\"\",\"\",TEXT('教育訓練費入力（今期）'!$C227,\"yyyy年\")&TEXT('教育訓練費入力（今期）'!$C227,\"m月\")&TEXT('教育訓練費入力（今期）'!$C227,\"ｄ日\")&\"から\"&'教育訓練費入力（今期）'!$D227&\"日間\")","v":""},{"$f":"IF('教育訓練費入力（今期）'!$F227=\"\",\"\",IF('教育訓練費入力（今期）'!$G227=1,'教育訓練費入力（今期）'!$F227,'教育訓練費入力（今期）'!$F227&\"他\"&'教育訓練費入力（今期）'!$G227-1&\"名\"))","v":""}]
[null,219,null,null,null,null,null,null,null,null,{"$f":"IF('教育訓練費入力（今期）'!$C228=\"\",\"\",TEXT('教育訓練費入力（今期）'!$C228,\"yyyy年\")&TEXT('教育訓練費入力（今期）'!$C228,\"m月\")&TEXT('教育訓練費入力（今期）'!$C228,\"ｄ日\")&\"から\"&'教育訓練費入力（今期）'!$D228&\"日間\")","v":""},{"$f":"IF('教育訓練費入力（今期）'!$F228=\"\",\"\",IF('教育訓練費入力（今期）'!$G228=1,'教育訓練費入力（今期）'!$F228,'教育訓練費入力（今期）'!$F228&\"他\"&'教育訓練費入力（今期）'!$G228-1&\"名\"))","v":""}]
[null,220,null,null,null,null,null,null,null,null,{"$f":"IF('教育訓練費入力（今期）'!$C229=\"\",\"\",TEXT('教育訓練費入力（今期）'!$C229,\"yyyy年\")&TEXT('教育訓練費入力（今期）'!$C229,\"m月\")&TEXT('教育訓練費入力（今期）'!$C229,\"ｄ日\")&\"から\"&'教育訓練費入力（今期）'!$D229&\"日間\")","v":""},{"$f":"IF('教育訓練費入力（今期）'!$F229=\"\",\"\",IF('教育訓練費入力（今期）'!$G229=1,'教育訓練費入力（今期）'!$F229,'教育訓練費入力（今期）'!$F229&\"他\"&'教育訓練費入力（今期）'!$G229-1&\"名\"))","v":""}]
[null,221,null,null,null,null,null,null,null,null,{"$f":"IF('教育訓練費入力（今期）'!$C230=\"\",\"\",TEXT('教育訓練費入力（今期）'!$C230,\"yyyy年\")&TEXT('教育訓練費入力（今期）'!$C230,\"m月\")&TEXT('教育訓練費入力（今期）'!$C230,\"ｄ日\")&\"から\"&'教育訓練費入力（今期）'!$D230&\"日間\")","v":""},{"$f":"IF('教育訓練費入力（今期）'!$F230=\"\",\"\",IF('教育訓練費入力（今期）'!$G230=1,'教育訓練費入力（今期）'!$F230,'教育訓練費入力（今期）'!$F230&\"他\"&'教育訓練費入力（今期）'!$G230-1&\"名\"))","v":""}]
[null,222,null,null,null,null,null,null,null,null,{"$f":"IF('教育訓練費入力（今期）'!$C231=\"\",\"\",TEXT('教育訓練費入力（今期）'!$C231,\"yyyy年\")&TEXT('教育訓練費入力（今期）'!$C231,\"m月\")&TEXT('教育訓練費入力（今期）'!$C231,\"ｄ日\")&\"から\"&'教育訓練費入力（今期）'!$D231&\"日間\")","v":""},{"$f":"IF('教育訓練費入力（今期）'!$F231=\"\",\"\",IF('教育訓練費入力（今期）'!$G231=1,'教育訓練費入力（今期）'!$F231,'教育訓練費入力（今期）'!$F231&\"他\"&'教育訓練費入力（今期）'!$G231-1&\"名\"))","v":""}]
[null,223,null,null,null,null,null,null,null,null,{"$f":"IF('教育訓練費入力（今期）'!$C232=\"\",\"\",TEXT('教育訓練費入力（今期）'!$C232,\"yyyy年\")&TEXT('教育訓練費入力（今期）'!$C232,\"m月\")&TEXT('教育訓練費入力（今期）'!$C232,\"ｄ日\")&\"から\"&'教育訓練費入力（今期）'!$D232&\"日間\")","v":""},{"$f":"IF('教育訓練費入力（今期）'!$F232=\"\",\"\",IF('教育訓練費入力（今期）'!$G232=1,'教育訓練費入力（今期）'!$F232,'教育訓練費入力（今期）'!$F232&\"他\"&'教育訓練費入力（今期）'!$G232-1&\"名\"))","v":""}]
[null,224,null,null,null,null,null,null,null,null,{"$f":"IF('教育訓練費入力（今期）'!$C233=\"\",\"\",TEXT('教育訓練費入力（今期）'!$C233,\"yyyy年\")&TEXT('教育訓練費入力（今期）'!$C233,\"m月\")&TEXT('教育訓練費入力（今期）'!$C233,\"ｄ日\")&\"から\"&'教育訓練費入力（今期）'!$D233&\"日間\")","v":""},{"$f":"IF('教育訓練費入力（今期）'!$F233=\"\",\"\",IF('教育訓練費入力（今期）'!$G233=1,'教育訓練費入力（今期）'!$F233,'教育訓練費入力（今期）'!$F233&\"他\"&'教育訓練費入力（今期）'!$G233-1&\"名\"))","v":""}]
[null,225,null,null,null,null,null,null,null,null,{"$f":"IF('教育訓練費入力（今期）'!$C234=\"\",\"\",TEXT('教育訓練費入力（今期）'!$C234,\"yyyy年\")&TEXT('教育訓練費入力（今期）'!$C234,\"m月\")&TEXT('教育訓練費入力（今期）'!$C234,\"ｄ日\")&\"から\"&'教育訓練費入力（今期）'!$D234&\"日間\")","v":""},{"$f":"IF('教育訓練費入力（今期）'!$F234=\"\",\"\",IF('教育訓練費入力（今期）'!$G234=1,'教育訓練費入力（今期）'!$F234,'教育訓練費入力（今期）'!$F234&\"他\"&'教育訓練費入力（今期）'!$G234-1&\"名\"))","v":""}]
[null,226,null,null,null,null,null,null,null,null,{"$f":"IF('教育訓練費入力（今期）'!$C235=\"\",\"\",TEXT('教育訓練費入力（今期）'!$C235,\"yyyy年\")&TEXT('教育訓練費入力（今期）'!$C235,\"m月\")&TEXT('教育訓練費入力（今期）'!$C235,\"ｄ日\")&\"から\"&'教育訓練費入力（今期）'!$D235&\"日間\")","v":""},{"$f":"IF('教育訓練費入力（今期）'!$F235=\"\",\"\",IF('教育訓練費入力（今期）'!$G235=1,'教育訓練費入力（今期）'!$F235,'教育訓練費入力（今期）'!$F235&\"他\"&'教育訓練費入力（今期）'!$G235-1&\"名\"))","v":""}]
[null,227,null,null,null,null,null,null,null,null,{"$f":"IF('教育訓練費入力（今期）'!$C236=\"\",\"\",TEXT('教育訓練費入力（今期）'!$C236,\"yyyy年\")&TEXT('教育訓練費入力（今期）'!$C236,\"m月\")&TEXT('教育訓練費入力（今期）'!$C236,\"ｄ日\")&\"から\"&'教育訓練費入力（今期）'!$D236&\"日間\")","v":""},{"$f":"IF('教育訓練費入力（今期）'!$F236=\"\",\"\",IF('教育訓練費入力（今期）'!$G236=1,'教育訓練費入力（今期）'!$F236,'教育訓練費入力（今期）'!$F236&\"他\"&'教育訓練費入力（今期）'!$G236-1&\"名\"))","v":""}]
[null,228,null,null,null,null,null,null,null,null,{"$f":"IF('教育訓練費入力（今期）'!$C237=\"\",\"\",TEXT('教育訓練費入力（今期）'!$C237,\"yyyy年\")&TEXT('教育訓練費入力（今期）'!$C237,\"m月\")&TEXT('教育訓練費入力（今期）'!$C237,\"ｄ日\")&\"から\"&'教育訓練費入力（今期）'!$D237&\"日間\")","v":""},{"$f":"IF('教育訓練費入力（今期）'!$F237=\"\",\"\",IF('教育訓練費入力（今期）'!$G237=1,'教育訓練費入力（今期）'!$F237,'教育訓練費入力（今期）'!$F237&\"他\"&'教育訓練費入力（今期）'!$G237-1&\"名\"))","v":""}]
[null,229,null,null,null,null,null,null,null,null,{"$f":"IF('教育訓練費入力（今期）'!$C238=\"\",\"\",TEXT('教育訓練費入力（今期）'!$C238,\"yyyy年\")&TEXT('教育訓練費入力（今期）'!$C238,\"m月\")&TEXT('教育訓練費入力（今期）'!$C238,\"ｄ日\")&\"から\"&'教育訓練費入力（今期）'!$D238&\"日間\")","v":""},{"$f":"IF('教育訓練費入力（今期）'!$F238=\"\",\"\",IF('教育訓練費入力（今期）'!$G238=1,'教育訓練費入力（今期）'!$F238,'教育訓練費入力（今期）'!$F238&\"他\"&'教育訓練費入力（今期）'!$G238-1&\"名\"))","v":""}]
[null,230,null,null,null,null,null,null,null,null,{"$f":"IF('教育訓練費入力（今期）'!$C239=\"\",\"\",TEXT('教育訓練費入力（今期）'!$C239,\"yyyy年\")&TEXT('教育訓練費入力（今期）'!$C239,\"m月\")&TEXT('教育訓練費入力（今期）'!$C239,\"ｄ日\")&\"から\"&'教育訓練費入力（今期）'!$D239&\"日間\")","v":""},{"$f":"IF('教育訓練費入力（今期）'!$F239=\"\",\"\",IF('教育訓練費入力（今期）'!$G239=1,'教育訓練費入力（今期）'!$F239,'教育訓練費入力（今期）'!$F239&\"他\"&'教育訓練費入力（今期）'!$G239-1&\"名\"))","v":""}]
[null,231,null,null,null,null,null,null,null,null,{"$f":"IF('教育訓練費入力（今期）'!$C240=\"\",\"\",TEXT('教育訓練費入力（今期）'!$C240,\"yyyy年\")&TEXT('教育訓練費入力（今期）'!$C240,\"m月\")&TEXT('教育訓練費入力（今期）'!$C240,\"ｄ日\")&\"から\"&'教育訓練費入力（今期）'!$D240&\"日間\")","v":""},{"$f":"IF('教育訓練費入力（今期）'!$F240=\"\",\"\",IF('教育訓練費入力（今期）'!$G240=1,'教育訓練費入力（今期）'!$F240,'教育訓練費入力（今期）'!$F240&\"他\"&'教育訓練費入力（今期）'!$G240-1&\"名\"))","v":""}]
[null,232,null,null,null,null,null,null,null,null,{"$f":"IF('教育訓練費入力（今期）'!$C241=\"\",\"\",TEXT('教育訓練費入力（今期）'!$C241,\"yyyy年\")&TEXT('教育訓練費入力（今期）'!$C241,\"m月\")&TEXT('教育訓練費入力（今期）'!$C241,\"ｄ日\")&\"から\"&'教育訓練費入力（今期）'!$D241&\"日間\")","v":""},{"$f":"IF('教育訓練費入力（今期）'!$F241=\"\",\"\",IF('教育訓練費入力（今期）'!$G241=1,'教育訓練費入力（今期）'!$F241,'教育訓練費入力（今期）'!$F241&\"他\"&'教育訓練費入力（今期）'!$G241-1&\"名\"))","v":""}]
[null,233,null,null,null,null,null,null,null,null,{"$f":"IF('教育訓練費入力（今期）'!$C242=\"\",\"\",TEXT('教育訓練費入力（今期）'!$C242,\"yyyy年\")&TEXT('教育訓練費入力（今期）'!$C242,\"m月\")&TEXT('教育訓練費入力（今期）'!$C242,\"ｄ日\")&\"から\"&'教育訓練費入力（今期）'!$D242&\"日間\")","v":""},{"$f":"IF('教育訓練費入力（今期）'!$F242=\"\",\"\",IF('教育訓練費入力（今期）'!$G242=1,'教育訓練費入力（今期）'!$F242,'教育訓練費入力（今期）'!$F242&\"他\"&'教育訓練費入力（今期）'!$G242-1&\"名\"))","v":""}]
[null,234,null,null,null,null,null,null,null,null,{"$f":"IF('教育訓練費入力（今期）'!$C243=\"\",\"\",TEXT('教育訓練費入力（今期）'!$C243,\"yyyy年\")&TEXT('教育訓練費入力（今期）'!$C243,\"m月\")&TEXT('教育訓練費入力（今期）'!$C243,\"ｄ日\")&\"から\"&'教育訓練費入力（今期）'!$D243&\"日間\")","v":""},{"$f":"IF('教育訓練費入力（今期）'!$F243=\"\",\"\",IF('教育訓練費入力（今期）'!$G243=1,'教育訓練費入力（今期）'!$F243,'教育訓練費入力（今期）'!$F243&\"他\"&'教育訓練費入力（今期）'!$G243-1&\"名\"))","v":""}]
[null,235,null,null,null,null,null,null,null,null,{"$f":"IF('教育訓練費入力（今期）'!$C244=\"\",\"\",TEXT('教育訓練費入力（今期）'!$C244,\"yyyy年\")&TEXT('教育訓練費入力（今期）'!$C244,\"m月\")&TEXT('教育訓練費入力（今期）'!$C244,\"ｄ日\")&\"から\"&'教育訓練費入力（今期）'!$D244&\"日間\")","v":""},{"$f":"IF('教育訓練費入力（今期）'!$F244=\"\",\"\",IF('教育訓練費入力（今期）'!$G244=1,'教育訓練費入力（今期）'!$F244,'教育訓練費入力（今期）'!$F244&\"他\"&'教育訓練費入力（今期）'!$G244-1&\"名\"))","v":""}]
[null,236,null,null,null,null,null,null,null,null,{"$f":"IF('教育訓練費入力（今期）'!$C245=\"\",\"\",TEXT('教育訓練費入力（今期）'!$C245,\"yyyy年\")&TEXT('教育訓練費入力（今期）'!$C245,\"m月\")&TEXT('教育訓練費入力（今期）'!$C245,\"ｄ日\")&\"から\"&'教育訓練費入力（今期）'!$D245&\"日間\")","v":""},{"$f":"IF('教育訓練費入力（今期）'!$F245=\"\",\"\",IF('教育訓練費入力（今期）'!$G245=1,'教育訓練費入力（今期）'!$F245,'教育訓練費入力（今期）'!$F245&\"他\"&'教育訓練費入力（今期）'!$G245-1&\"名\"))","v":""}]
[null,237,null,null,null,null,null,null,null,null,{"$f":"IF('教育訓練費入力（今期）'!$C246=\"\",\"\",TEXT('教育訓練費入力（今期）'!$C246,\"yyyy年\")&TEXT('教育訓練費入力（今期）'!$C246,\"m月\")&TEXT('教育訓練費入力（今期）'!$C246,\"ｄ日\")&\"から\"&'教育訓練費入力（今期）'!$D246&\"日間\")","v":""},{"$f":"IF('教育訓練費入力（今期）'!$F246=\"\",\"\",IF('教育訓練費入力（今期）'!$G246=1,'教育訓練費入力（今期）'!$F246,'教育訓練費入力（今期）'!$F246&\"他\"&'教育訓練費入力（今期）'!$G246-1&\"名\"))","v":""}]
[null,238,null,null,null,null,null,null,null,null,{"$f":"IF('教育訓練費入力（今期）'!$C247=\"\",\"\",TEXT('教育訓練費入力（今期）'!$C247,\"yyyy年\")&TEXT('教育訓練費入力（今期）'!$C247,\"m月\")&TEXT('教育訓練費入力（今期）'!$C247,\"ｄ日\")&\"から\"&'教育訓練費入力（今期）'!$D247&\"日間\")","v":""},{"$f":"IF('教育訓練費入力（今期）'!$F247=\"\",\"\",IF('教育訓練費入力（今期）'!$G247=1,'教育訓練費入力（今期）'!$F247,'教育訓練費入力（今期）'!$F247&\"他\"&'教育訓練費入力（今期）'!$G247-1&\"名\"))","v":""}]
[null,239,null,null,null,null,null,null,null,null,{"$f":"IF('教育訓練費入力（今期）'!$C248=\"\",\"\",TEXT('教育訓練費入力（今期）'!$C248,\"yyyy年\")&TEXT('教育訓練費入力（今期）'!$C248,\"m月\")&TEXT('教育訓練費入力（今期）'!$C248,\"ｄ日\")&\"から\"&'教育訓練費入力（今期）'!$D248&\"日間\")","v":""},{"$f":"IF('教育訓練費入力（今期）'!$F248=\"\",\"\",IF('教育訓練費入力（今期）'!$G248=1,'教育訓練費入力（今期）'!$F248,'教育訓練費入力（今期）'!$F248&\"他\"&'教育訓練費入力（今期）'!$G248-1&\"名\"))","v":""}]
[null,240,null,null,null,null,null,null,null,null,{"$f":"IF('教育訓練費入力（今期）'!$C249=\"\",\"\",TEXT('教育訓練費入力（今期）'!$C249,\"yyyy年\")&TEXT('教育訓練費入力（今期）'!$C249,\"m月\")&TEXT('教育訓練費入力（今期）'!$C249,\"ｄ日\")&\"から\"&'教育訓練費入力（今期）'!$D249&\"日間\")","v":""},{"$f":"IF('教育訓練費入力（今期）'!$F249=\"\",\"\",IF('教育訓練費入力（今期）'!$G249=1,'教育訓練費入力（今期）'!$F249,'教育訓練費入力（今期）'!$F249&\"他\"&'教育訓練費入力（今期）'!$G249-1&\"名\"))","v":""}]
[null,241,null,null,null,null,null,null,null,null,{"$f":"IF('教育訓練費入力（今期）'!$C250=\"\",\"\",TEXT('教育訓練費入力（今期）'!$C250,\"yyyy年\")&TEXT('教育訓練費入力（今期）'!$C250,\"m月\")&TEXT('教育訓練費入力（今期）'!$C250,\"ｄ日\")&\"から\"&'教育訓練費入力（今期）'!$D250&\"日間\")","v":""},{"$f":"IF('教育訓練費入力（今期）'!$F250=\"\",\"\",IF('教育訓練費入力（今期）'!$G250=1,'教育訓練費入力（今期）'!$F250,'教育訓練費入力（今期）'!$F250&\"他\"&'教育訓練費入力（今期）'!$G250-1&\"名\"))","v":""}]
[null,242,null,null,null,null,null,null,null,null,{"$f":"IF('教育訓練費入力（今期）'!$C251=\"\",\"\",TEXT('教育訓練費入力（今期）'!$C251,\"yyyy年\")&TEXT('教育訓練費入力（今期）'!$C251,\"m月\")&TEXT('教育訓練費入力（今期）'!$C251,\"ｄ日\")&\"から\"&'教育訓練費入力（今期）'!$D251&\"日間\")","v":""},{"$f":"IF('教育訓練費入力（今期）'!$F251=\"\",\"\",IF('教育訓練費入力（今期）'!$G251=1,'教育訓練費入力（今期）'!$F251,'教育訓練費入力（今期）'!$F251&\"他\"&'教育訓練費入力（今期）'!$G251-1&\"名\"))","v":""}]
[null,243,null,null,null,null,null,null,null,null,{"$f":"IF('教育訓練費入力（今期）'!$C252=\"\",\"\",TEXT('教育訓練費入力（今期）'!$C252,\"yyyy年\")&TEXT('教育訓練費入力（今期）'!$C252,\"m月\")&TEXT('教育訓練費入力（今期）'!$C252,\"ｄ日\")&\"から\"&'教育訓練費入力（今期）'!$D252&\"日間\")","v":""},{"$f":"IF('教育訓練費入力（今期）'!$F252=\"\",\"\",IF('教育訓練費入力（今期）'!$G252=1,'教育訓練費入力（今期）'!$F252,'教育訓練費入力（今期）'!$F252&\"他\"&'教育訓練費入力（今期）'!$G252-1&\"名\"))","v":""}]
[null,244,null,null,null,null,null,null,null,null,{"$f":"IF('教育訓練費入力（今期）'!$C253=\"\",\"\",TEXT('教育訓練費入力（今期）'!$C253,\"yyyy年\")&TEXT('教育訓練費入力（今期）'!$C253,\"m月\")&TEXT('教育訓練費入力（今期）'!$C253,\"ｄ日\")&\"から\"&'教育訓練費入力（今期）'!$D253&\"日間\")","v":""},{"$f":"IF('教育訓練費入力（今期）'!$F253=\"\",\"\",IF('教育訓練費入力（今期）'!$G253=1,'教育訓練費入力（今期）'!$F253,'教育訓練費入力（今期）'!$F253&\"他\"&'教育訓練費入力（今期）'!$G253-1&\"名\"))","v":""}]
[null,245,null,null,null,null,null,null,null,null,{"$f":"IF('教育訓練費入力（今期）'!$C254=\"\",\"\",TEXT('教育訓練費入力（今期）'!$C254,\"yyyy年\")&TEXT('教育訓練費入力（今期）'!$C254,\"m月\")&TEXT('教育訓練費入力（今期）'!$C254,\"ｄ日\")&\"から\"&'教育訓練費入力（今期）'!$D254&\"日間\")","v":""},{"$f":"IF('教育訓練費入力（今期）'!$F254=\"\",\"\",IF('教育訓練費入力（今期）'!$G254=1,'教育訓練費入力（今期）'!$F254,'教育訓練費入力（今期）'!$F254&\"他\"&'教育訓練費入力（今期）'!$G254-1&\"名\"))","v":""}]
[null,246,null,null,null,null,null,null,null,null,{"$f":"IF('教育訓練費入力（今期）'!$C255=\"\",\"\",TEXT('教育訓練費入力（今期）'!$C255,\"yyyy年\")&TEXT('教育訓練費入力（今期）'!$C255,\"m月\")&TEXT('教育訓練費入力（今期）'!$C255,\"ｄ日\")&\"から\"&'教育訓練費入力（今期）'!$D255&\"日間\")","v":""},{"$f":"IF('教育訓練費入力（今期）'!$F255=\"\",\"\",IF('教育訓練費入力（今期）'!$G255=1,'教育訓練費入力（今期）'!$F255,'教育訓練費入力（今期）'!$F255&\"他\"&'教育訓練費入力（今期）'!$G255-1&\"名\"))","v":""}]
[null,247,null,null,null,null,null,null,null,null,{"$f":"IF('教育訓練費入力（今期）'!$C256=\"\",\"\",TEXT('教育訓練費入力（今期）'!$C256,\"yyyy年\")&TEXT('教育訓練費入力（今期）'!$C256,\"m月\")&TEXT('教育訓練費入力（今期）'!$C256,\"ｄ日\")&\"から\"&'教育訓練費入力（今期）'!$D256&\"日間\")","v":""},{"$f":"IF('教育訓練費入力（今期）'!$F256=\"\",\"\",IF('教育訓練費入力（今期）'!$G256=1,'教育訓練費入力（今期）'!$F256,'教育訓練費入力（今期）'!$F256&\"他\"&'教育訓練費入力（今期）'!$G256-1&\"名\"))","v":""}]
[null,248,null,null,null,null,null,null,null,null,{"$f":"IF('教育訓練費入力（今期）'!$C257=\"\",\"\",TEXT('教育訓練費入力（今期）'!$C257,\"yyyy年\")&TEXT('教育訓練費入力（今期）'!$C257,\"m月\")&TEXT('教育訓練費入力（今期）'!$C257,\"ｄ日\")&\"から\"&'教育訓練費入力（今期）'!$D257&\"日間\")","v":""},{"$f":"IF('教育訓練費入力（今期）'!$F257=\"\",\"\",IF('教育訓練費入力（今期）'!$G257=1,'教育訓練費入力（今期）'!$F257,'教育訓練費入力（今期）'!$F257&\"他\"&'教育訓練費入力（今期）'!$G257-1&\"名\"))","v":""}]
[null,249,null,null,null,null,null,null,null,null,{"$f":"IF('教育訓練費入力（今期）'!$C258=\"\",\"\",TEXT('教育訓練費入力（今期）'!$C258,\"yyyy年\")&TEXT('教育訓練費入力（今期）'!$C258,\"m月\")&TEXT('教育訓練費入力（今期）'!$C258,\"ｄ日\")&\"から\"&'教育訓練費入力（今期）'!$D258&\"日間\")","v":""},{"$f":"IF('教育訓練費入力（今期）'!$F258=\"\",\"\",IF('教育訓練費入力（今期）'!$G258=1,'教育訓練費入力（今期）'!$F258,'教育訓練費入力（今期）'!$F258&\"他\"&'教育訓練費入力（今期）'!$G258-1&\"名\"))","v":""}]
[null,250,null,null,null,null,null,null,null,null,{"$f":"IF('教育訓練費入力（今期）'!$C259=\"\",\"\",TEXT('教育訓練費入力（今期）'!$C259,\"yyyy年\")&TEXT('教育訓練費入力（今期）'!$C259,\"m月\")&TEXT('教育訓練費入力（今期）'!$C259,\"ｄ日\")&\"から\"&'教育訓練費入力（今期）'!$D259&\"日間\")","v":""},{"$f":"IF('教育訓練費入力（今期）'!$F259=\"\",\"\",IF('教育訓練費入力（今期）'!$G259=1,'教育訓練費入力（今期）'!$F259,'教育訓練費入力（今期）'!$F259&\"他\"&'教育訓練費入力（今期）'!$G259-1&\"名\"))","v":""}]
[null,251,null,null,null,null,null,null,null,null,{"$f":"IF('教育訓練費入力（今期）'!$C260=\"\",\"\",TEXT('教育訓練費入力（今期）'!$C260,\"yyyy年\")&TEXT('教育訓練費入力（今期）'!$C260,\"m月\")&TEXT('教育訓練費入力（今期）'!$C260,\"ｄ日\")&\"から\"&'教育訓練費入力（今期）'!$D260&\"日間\")","v":""},{"$f":"IF('教育訓練費入力（今期）'!$F260=\"\",\"\",IF('教育訓練費入力（今期）'!$G260=1,'教育訓練費入力（今期）'!$F260,'教育訓練費入力（今期）'!$F260&\"他\"&'教育訓練費入力（今期）'!$G260-1&\"名\"))","v":""}]
[null,252,null,null,null,null,null,null,null,null,{"$f":"IF('教育訓練費入力（今期）'!$C261=\"\",\"\",TEXT('教育訓練費入力（今期）'!$C261,\"yyyy年\")&TEXT('教育訓練費入力（今期）'!$C261,\"m月\")&TEXT('教育訓練費入力（今期）'!$C261,\"ｄ日\")&\"から\"&'教育訓練費入力（今期）'!$D261&\"日間\")","v":""},{"$f":"IF('教育訓練費入力（今期）'!$F261=\"\",\"\",IF('教育訓練費入力（今期）'!$G261=1,'教育訓練費入力（今期）'!$F261,'教育訓練費入力（今期）'!$F261&\"他\"&'教育訓練費入力（今期）'!$G261-1&\"名\"))","v":""}]
[null,253,null,null,null,null,null,null,null,null,{"$f":"IF('教育訓練費入力（今期）'!$C262=\"\",\"\",TEXT('教育訓練費入力（今期）'!$C262,\"yyyy年\")&TEXT('教育訓練費入力（今期）'!$C262,\"m月\")&TEXT('教育訓練費入力（今期）'!$C262,\"ｄ日\")&\"から\"&'教育訓練費入力（今期）'!$D262&\"日間\")","v":""},{"$f":"IF('教育訓練費入力（今期）'!$F262=\"\",\"\",IF('教育訓練費入力（今期）'!$G262=1,'教育訓練費入力（今期）'!$F262,'教育訓練費入力（今期）'!$F262&\"他\"&'教育訓練費入力（今期）'!$G262-1&\"名\"))","v":""}]
[null,254,null,null,null,null,null,null,null,null,{"$f":"IF('教育訓練費入力（今期）'!$C263=\"\",\"\",TEXT('教育訓練費入力（今期）'!$C263,\"yyyy年\")&TEXT('教育訓練費入力（今期）'!$C263,\"m月\")&TEXT('教育訓練費入力（今期）'!$C263,\"ｄ日\")&\"から\"&'教育訓練費入力（今期）'!$D263&\"日間\")","v":""},{"$f":"IF('教育訓練費入力（今期）'!$F263=\"\",\"\",IF('教育訓練費入力（今期）'!$G263=1,'教育訓練費入力（今期）'!$F263,'教育訓練費入力（今期）'!$F263&\"他\"&'教育訓練費入力（今期）'!$G263-1&\"名\"))","v":""}]
[null,255,null,null,null,null,null,null,null,null,{"$f":"IF('教育訓練費入力（今期）'!$C264=\"\",\"\",TEXT('教育訓練費入力（今期）'!$C264,\"yyyy年\")&TEXT('教育訓練費入力（今期）'!$C264,\"m月\")&TEXT('教育訓練費入力（今期）'!$C264,\"ｄ日\")&\"から\"&'教育訓練費入力（今期）'!$D264&\"日間\")","v":""},{"$f":"IF('教育訓練費入力（今期）'!$F264=\"\",\"\",IF('教育訓練費入力（今期）'!$G264=1,'教育訓練費入力（今期）'!$F264,'教育訓練費入力（今期）'!$F264&\"他\"&'教育訓練費入力（今期）'!$G264-1&\"名\"))","v":""}]
[null,256,null,null,null,null,null,null,null,null,{"$f":"IF('教育訓練費入力（今期）'!$C265=\"\",\"\",TEXT('教育訓練費入力（今期）'!$C265,\"yyyy年\")&TEXT('教育訓練費入力（今期）'!$C265,\"m月\")&TEXT('教育訓練費入力（今期）'!$C265,\"ｄ日\")&\"から\"&'教育訓練費入力（今期）'!$D265&\"日間\")","v":""},{"$f":"IF('教育訓練費入力（今期）'!$F265=\"\",\"\",IF('教育訓練費入力（今期）'!$G265=1,'教育訓練費入力（今期）'!$F265,'教育訓練費入力（今期）'!$F265&\"他\"&'教育訓練費入力（今期）'!$G265-1&\"名\"))","v":""}]
[null,257,null,null,null,null,null,null,null,null,{"$f":"IF('教育訓練費入力（今期）'!$C266=\"\",\"\",TEXT('教育訓練費入力（今期）'!$C266,\"yyyy年\")&TEXT('教育訓練費入力（今期）'!$C266,\"m月\")&TEXT('教育訓練費入力（今期）'!$C266,\"ｄ日\")&\"から\"&'教育訓練費入力（今期）'!$D266&\"日間\")","v":""},{"$f":"IF('教育訓練費入力（今期）'!$F266=\"\",\"\",IF('教育訓練費入力（今期）'!$G266=1,'教育訓練費入力（今期）'!$F266,'教育訓練費入力（今期）'!$F266&\"他\"&'教育訓練費入力（今期）'!$G266-1&\"名\"))","v":""}]
[null,258,null,null,null,null,null,null,null,null,{"$f":"IF('教育訓練費入力（今期）'!$C267=\"\",\"\",TEXT('教育訓練費入力（今期）'!$C267,\"yyyy年\")&TEXT('教育訓練費入力（今期）'!$C267,\"m月\")&TEXT('教育訓練費入力（今期）'!$C267,\"ｄ日\")&\"から\"&'教育訓練費入力（今期）'!$D267&\"日間\")","v":""},{"$f":"IF('教育訓練費入力（今期）'!$F267=\"\",\"\",IF('教育訓練費入力（今期）'!$G267=1,'教育訓練費入力（今期）'!$F267,'教育訓練費入力（今期）'!$F267&\"他\"&'教育訓練費入力（今期）'!$G267-1&\"名\"))","v":""}]
[null,259,null,null,null,null,null,null,null,null,{"$f":"IF('教育訓練費入力（今期）'!$C268=\"\",\"\",TEXT('教育訓練費入力（今期）'!$C268,\"yyyy年\")&TEXT('教育訓練費入力（今期）'!$C268,\"m月\")&TEXT('教育訓練費入力（今期）'!$C268,\"ｄ日\")&\"から\"&'教育訓練費入力（今期）'!$D268&\"日間\")","v":""},{"$f":"IF('教育訓練費入力（今期）'!$F268=\"\",\"\",IF('教育訓練費入力（今期）'!$G268=1,'教育訓練費入力（今期）'!$F268,'教育訓練費入力（今期）'!$F268&\"他\"&'教育訓練費入力（今期）'!$G268-1&\"名\"))","v":""}]
[null,260,null,null,null,null,null,null,null,null,{"$f":"IF('教育訓練費入力（今期）'!$C269=\"\",\"\",TEXT('教育訓練費入力（今期）'!$C269,\"yyyy年\")&TEXT('教育訓練費入力（今期）'!$C269,\"m月\")&TEXT('教育訓練費入力（今期）'!$C269,\"ｄ日\")&\"から\"&'教育訓練費入力（今期）'!$D269&\"日間\")","v":""},{"$f":"IF('教育訓練費入力（今期）'!$F269=\"\",\"\",IF('教育訓練費入力（今期）'!$G269=1,'教育訓練費入力（今期）'!$F269,'教育訓練費入力（今期）'!$F269&\"他\"&'教育訓練費入力（今期）'!$G269-1&\"名\"))","v":""}]
[null,261,null,null,null,null,null,null,null,null,{"$f":"IF('教育訓練費入力（今期）'!$C270=\"\",\"\",TEXT('教育訓練費入力（今期）'!$C270,\"yyyy年\")&TEXT('教育訓練費入力（今期）'!$C270,\"m月\")&TEXT('教育訓練費入力（今期）'!$C270,\"ｄ日\")&\"から\"&'教育訓練費入力（今期）'!$D270&\"日間\")","v":""},{"$f":"IF('教育訓練費入力（今期）'!$F270=\"\",\"\",IF('教育訓練費入力（今期）'!$G270=1,'教育訓練費入力（今期）'!$F270,'教育訓練費入力（今期）'!$F270&\"他\"&'教育訓練費入力（今期）'!$G270-1&\"名\"))","v":""}]
[null,262,null,null,null,null,null,null,null,null,{"$f":"IF('教育訓練費入力（今期）'!$C271=\"\",\"\",TEXT('教育訓練費入力（今期）'!$C271,\"yyyy年\")&TEXT('教育訓練費入力（今期）'!$C271,\"m月\")&TEXT('教育訓練費入力（今期）'!$C271,\"ｄ日\")&\"から\"&'教育訓練費入力（今期）'!$D271&\"日間\")","v":""},{"$f":"IF('教育訓練費入力（今期）'!$F271=\"\",\"\",IF('教育訓練費入力（今期）'!$G271=1,'教育訓練費入力（今期）'!$F271,'教育訓練費入力（今期）'!$F271&\"他\"&'教育訓練費入力（今期）'!$G271-1&\"名\"))","v":""}]
[null,263,null,null,null,null,null,null,null,null,{"$f":"IF('教育訓練費入力（今期）'!$C272=\"\",\"\",TEXT('教育訓練費入力（今期）'!$C272,\"yyyy年\")&TEXT('教育訓練費入力（今期）'!$C272,\"m月\")&TEXT('教育訓練費入力（今期）'!$C272,\"ｄ日\")&\"から\"&'教育訓練費入力（今期）'!$D272&\"日間\")","v":""},{"$f":"IF('教育訓練費入力（今期）'!$F272=\"\",\"\",IF('教育訓練費入力（今期）'!$G272=1,'教育訓練費入力（今期）'!$F272,'教育訓練費入力（今期）'!$F272&\"他\"&'教育訓練費入力（今期）'!$G272-1&\"名\"))","v":""}]
[null,264,null,null,null,null,null,null,null,null,{"$f":"IF('教育訓練費入力（今期）'!$C273=\"\",\"\",TEXT('教育訓練費入力（今期）'!$C273,\"yyyy年\")&TEXT('教育訓練費入力（今期）'!$C273,\"m月\")&TEXT('教育訓練費入力（今期）'!$C273,\"ｄ日\")&\"から\"&'教育訓練費入力（今期）'!$D273&\"日間\")","v":""},{"$f":"IF('教育訓練費入力（今期）'!$F273=\"\",\"\",IF('教育訓練費入力（今期）'!$G273=1,'教育訓練費入力（今期）'!$F273,'教育訓練費入力（今期）'!$F273&\"他\"&'教育訓練費入力（今期）'!$G273-1&\"名\"))","v":""}]
[null,265,null,null,null,null,null,null,null,null,{"$f":"IF('教育訓練費入力（今期）'!$C274=\"\",\"\",TEXT('教育訓練費入力（今期）'!$C274,\"yyyy年\")&TEXT('教育訓練費入力（今期）'!$C274,\"m月\")&TEXT('教育訓練費入力（今期）'!$C274,\"ｄ日\")&\"から\"&'教育訓練費入力（今期）'!$D274&\"日間\")","v":""},{"$f":"IF('教育訓練費入力（今期）'!$F274=\"\",\"\",IF('教育訓練費入力（今期）'!$G274=1,'教育訓練費入力（今期）'!$F274,'教育訓練費入力（今期）'!$F274&\"他\"&'教育訓練費入力（今期）'!$G274-1&\"名\"))","v":""}]
[null,266,null,null,null,null,null,null,null,null,{"$f":"IF('教育訓練費入力（今期）'!$C275=\"\",\"\",TEXT('教育訓練費入力（今期）'!$C275,\"yyyy年\")&TEXT('教育訓練費入力（今期）'!$C275,\"m月\")&TEXT('教育訓練費入力（今期）'!$C275,\"ｄ日\")&\"から\"&'教育訓練費入力（今期）'!$D275&\"日間\")","v":""},{"$f":"IF('教育訓練費入力（今期）'!$F275=\"\",\"\",IF('教育訓練費入力（今期）'!$G275=1,'教育訓練費入力（今期）'!$F275,'教育訓練費入力（今期）'!$F275&\"他\"&'教育訓練費入力（今期）'!$G275-1&\"名\"))","v":""}]
[null,267,null,null,null,null,null,null,null,null,{"$f":"IF('教育訓練費入力（今期）'!$C276=\"\",\"\",TEXT('教育訓練費入力（今期）'!$C276,\"yyyy年\")&TEXT('教育訓練費入力（今期）'!$C276,\"m月\")&TEXT('教育訓練費入力（今期）'!$C276,\"ｄ日\")&\"から\"&'教育訓練費入力（今期）'!$D276&\"日間\")","v":""},{"$f":"IF('教育訓練費入力（今期）'!$F276=\"\",\"\",IF('教育訓練費入力（今期）'!$G276=1,'教育訓練費入力（今期）'!$F276,'教育訓練費入力（今期）'!$F276&\"他\"&'教育訓練費入力（今期）'!$G276-1&\"名\"))","v":""}]
[null,268,null,null,null,null,null,null,null,null,{"$f":"IF('教育訓練費入力（今期）'!$C277=\"\",\"\",TEXT('教育訓練費入力（今期）'!$C277,\"yyyy年\")&TEXT('教育訓練費入力（今期）'!$C277,\"m月\")&TEXT('教育訓練費入力（今期）'!$C277,\"ｄ日\")&\"から\"&'教育訓練費入力（今期）'!$D277&\"日間\")","v":""},{"$f":"IF('教育訓練費入力（今期）'!$F277=\"\",\"\",IF('教育訓練費入力（今期）'!$G277=1,'教育訓練費入力（今期）'!$F277,'教育訓練費入力（今期）'!$F277&\"他\"&'教育訓練費入力（今期）'!$G277-1&\"名\"))","v":""}]
[null,269,null,null,null,null,null,null,null,null,{"$f":"IF('教育訓練費入力（今期）'!$C278=\"\",\"\",TEXT('教育訓練費入力（今期）'!$C278,\"yyyy年\")&TEXT('教育訓練費入力（今期）'!$C278,\"m月\")&TEXT('教育訓練費入力（今期）'!$C278,\"ｄ日\")&\"から\"&'教育訓練費入力（今期）'!$D278&\"日間\")","v":""},{"$f":"IF('教育訓練費入力（今期）'!$F278=\"\",\"\",IF('教育訓練費入力（今期）'!$G278=1,'教育訓練費入力（今期）'!$F278,'教育訓練費入力（今期）'!$F278&\"他\"&'教育訓練費入力（今期）'!$G278-1&\"名\"))","v":""}]
[null,270,null,null,null,null,null,null,null,null,{"$f":"IF('教育訓練費入力（今期）'!$C279=\"\",\"\",TEXT('教育訓練費入力（今期）'!$C279,\"yyyy年\")&TEXT('教育訓練費入力（今期）'!$C279,\"m月\")&TEXT('教育訓練費入力（今期）'!$C279,\"ｄ日\")&\"から\"&'教育訓練費入力（今期）'!$D279&\"日間\")","v":""},{"$f":"IF('教育訓練費入力（今期）'!$F279=\"\",\"\",IF('教育訓練費入力（今期）'!$G279=1,'教育訓練費入力（今期）'!$F279,'教育訓練費入力（今期）'!$F279&\"他\"&'教育訓練費入力（今期）'!$G279-1&\"名\"))","v":""}]
[null,271,null,null,null,null,null,null,null,null,{"$f":"IF('教育訓練費入力（今期）'!$C280=\"\",\"\",TEXT('教育訓練費入力（今期）'!$C280,\"yyyy年\")&TEXT('教育訓練費入力（今期）'!$C280,\"m月\")&TEXT('教育訓練費入力（今期）'!$C280,\"ｄ日\")&\"から\"&'教育訓練費入力（今期）'!$D280&\"日間\")","v":""},{"$f":"IF('教育訓練費入力（今期）'!$F280=\"\",\"\",IF('教育訓練費入力（今期）'!$G280=1,'教育訓練費入力（今期）'!$F280,'教育訓練費入力（今期）'!$F280&\"他\"&'教育訓練費入力（今期）'!$G280-1&\"名\"))","v":""}]
[null,272,null,null,null,null,null,null,null,null,{"$f":"IF('教育訓練費入力（今期）'!$C281=\"\",\"\",TEXT('教育訓練費入力（今期）'!$C281,\"yyyy年\")&TEXT('教育訓練費入力（今期）'!$C281,\"m月\")&TEXT('教育訓練費入力（今期）'!$C281,\"ｄ日\")&\"から\"&'教育訓練費入力（今期）'!$D281&\"日間\")","v":""},{"$f":"IF('教育訓練費入力（今期）'!$F281=\"\",\"\",IF('教育訓練費入力（今期）'!$G281=1,'教育訓練費入力（今期）'!$F281,'教育訓練費入力（今期）'!$F281&\"他\"&'教育訓練費入力（今期）'!$G281-1&\"名\"))","v":""}]
[null,273,null,null,null,null,null,null,null,null,{"$f":"IF('教育訓練費入力（今期）'!$C282=\"\",\"\",TEXT('教育訓練費入力（今期）'!$C282,\"yyyy年\")&TEXT('教育訓練費入力（今期）'!$C282,\"m月\")&TEXT('教育訓練費入力（今期）'!$C282,\"ｄ日\")&\"から\"&'教育訓練費入力（今期）'!$D282&\"日間\")","v":""},{"$f":"IF('教育訓練費入力（今期）'!$F282=\"\",\"\",IF('教育訓練費入力（今期）'!$G282=1,'教育訓練費入力（今期）'!$F282,'教育訓練費入力（今期）'!$F282&\"他\"&'教育訓練費入力（今期）'!$G282-1&\"名\"))","v":""}]
[null,274,null,null,null,null,null,null,null,null,{"$f":"IF('教育訓練費入力（今期）'!$C283=\"\",\"\",TEXT('教育訓練費入力（今期）'!$C283,\"yyyy年\")&TEXT('教育訓練費入力（今期）'!$C283,\"m月\")&TEXT('教育訓練費入力（今期）'!$C283,\"ｄ日\")&\"から\"&'教育訓練費入力（今期）'!$D283&\"日間\")","v":""},{"$f":"IF('教育訓練費入力（今期）'!$F283=\"\",\"\",IF('教育訓練費入力（今期）'!$G283=1,'教育訓練費入力（今期）'!$F283,'教育訓練費入力（今期）'!$F283&\"他\"&'教育訓練費入力（今期）'!$G283-1&\"名\"))","v":""}]
[null,275,null,null,null,null,null,null,null,null,{"$f":"IF('教育訓練費入力（今期）'!$C284=\"\",\"\",TEXT('教育訓練費入力（今期）'!$C284,\"yyyy年\")&TEXT('教育訓練費入力（今期）'!$C284,\"m月\")&TEXT('教育訓練費入力（今期）'!$C284,\"ｄ日\")&\"から\"&'教育訓練費入力（今期）'!$D284&\"日間\")","v":""},{"$f":"IF('教育訓練費入力（今期）'!$F284=\"\",\"\",IF('教育訓練費入力（今期）'!$G284=1,'教育訓練費入力（今期）'!$F284,'教育訓練費入力（今期）'!$F284&\"他\"&'教育訓練費入力（今期）'!$G284-1&\"名\"))","v":""}]
[null,276,null,null,null,null,null,null,null,null,{"$f":"IF('教育訓練費入力（今期）'!$C285=\"\",\"\",TEXT('教育訓練費入力（今期）'!$C285,\"yyyy年\")&TEXT('教育訓練費入力（今期）'!$C285,\"m月\")&TEXT('教育訓練費入力（今期）'!$C285,\"ｄ日\")&\"から\"&'教育訓練費入力（今期）'!$D285&\"日間\")","v":""},{"$f":"IF('教育訓練費入力（今期）'!$F285=\"\",\"\",IF('教育訓練費入力（今期）'!$G285=1,'教育訓練費入力（今期）'!$F285,'教育訓練費入力（今期）'!$F285&\"他\"&'教育訓練費入力（今期）'!$G285-1&\"名\"))","v":""}]
[null,277,null,null,null,null,null,null,null,null,{"$f":"IF('教育訓練費入力（今期）'!$C286=\"\",\"\",TEXT('教育訓練費入力（今期）'!$C286,\"yyyy年\")&TEXT('教育訓練費入力（今期）'!$C286,\"m月\")&TEXT('教育訓練費入力（今期）'!$C286,\"ｄ日\")&\"から\"&'教育訓練費入力（今期）'!$D286&\"日間\")","v":""},{"$f":"IF('教育訓練費入力（今期）'!$F286=\"\",\"\",IF('教育訓練費入力（今期）'!$G286=1,'教育訓練費入力（今期）'!$F286,'教育訓練費入力（今期）'!$F286&\"他\"&'教育訓練費入力（今期）'!$G286-1&\"名\"))","v":""}]
[null,278,null,null,null,null,null,null,null,null,{"$f":"IF('教育訓練費入力（今期）'!$C287=\"\",\"\",TEXT('教育訓練費入力（今期）'!$C287,\"yyyy年\")&TEXT('教育訓練費入力（今期）'!$C287,\"m月\")&TEXT('教育訓練費入力（今期）'!$C287,\"ｄ日\")&\"から\"&'教育訓練費入力（今期）'!$D287&\"日間\")","v":""},{"$f":"IF('教育訓練費入力（今期）'!$F287=\"\",\"\",IF('教育訓練費入力（今期）'!$G287=1,'教育訓練費入力（今期）'!$F287,'教育訓練費入力（今期）'!$F287&\"他\"&'教育訓練費入力（今期）'!$G287-1&\"名\"))","v":""}]
[null,279,null,null,null,null,null,null,null,null,{"$f":"IF('教育訓練費入力（今期）'!$C288=\"\",\"\",TEXT('教育訓練費入力（今期）'!$C288,\"yyyy年\")&TEXT('教育訓練費入力（今期）'!$C288,\"m月\")&TEXT('教育訓練費入力（今期）'!$C288,\"ｄ日\")&\"から\"&'教育訓練費入力（今期）'!$D288&\"日間\")","v":""},{"$f":"IF('教育訓練費入力（今期）'!$F288=\"\",\"\",IF('教育訓練費入力（今期）'!$G288=1,'教育訓練費入力（今期）'!$F288,'教育訓練費入力（今期）'!$F288&\"他\"&'教育訓練費入力（今期）'!$G288-1&\"名\"))","v":""}]
[null,280,null,null,null,null,null,null,null,null,{"$f":"IF('教育訓練費入力（今期）'!$C289=\"\",\"\",TEXT('教育訓練費入力（今期）'!$C289,\"yyyy年\")&TEXT('教育訓練費入力（今期）'!$C289,\"m月\")&TEXT('教育訓練費入力（今期）'!$C289,\"ｄ日\")&\"から\"&'教育訓練費入力（今期）'!$D289&\"日間\")","v":""},{"$f":"IF('教育訓練費入力（今期）'!$F289=\"\",\"\",IF('教育訓練費入力（今期）'!$G289=1,'教育訓練費入力（今期）'!$F289,'教育訓練費入力（今期）'!$F289&\"他\"&'教育訓練費入力（今期）'!$G289-1&\"名\"))","v":""}]
[null,281,null,null,null,null,null,null,null,null,{"$f":"IF('教育訓練費入力（今期）'!$C290=\"\",\"\",TEXT('教育訓練費入力（今期）'!$C290,\"yyyy年\")&TEXT('教育訓練費入力（今期）'!$C290,\"m月\")&TEXT('教育訓練費入力（今期）'!$C290,\"ｄ日\")&\"から\"&'教育訓練費入力（今期）'!$D290&\"日間\")","v":""},{"$f":"IF('教育訓練費入力（今期）'!$F290=\"\",\"\",IF('教育訓練費入力（今期）'!$G290=1,'教育訓練費入力（今期）'!$F290,'教育訓練費入力（今期）'!$F290&\"他\"&'教育訓練費入力（今期）'!$G290-1&\"名\"))","v":""}]
[null,282,null,null,null,null,null,null,null,null,{"$f":"IF('教育訓練費入力（今期）'!$C291=\"\",\"\",TEXT('教育訓練費入力（今期）'!$C291,\"yyyy年\")&TEXT('教育訓練費入力（今期）'!$C291,\"m月\")&TEXT('教育訓練費入力（今期）'!$C291,\"ｄ日\")&\"から\"&'教育訓練費入力（今期）'!$D291&\"日間\")","v":""},{"$f":"IF('教育訓練費入力（今期）'!$F291=\"\",\"\",IF('教育訓練費入力（今期）'!$G291=1,'教育訓練費入力（今期）'!$F291,'教育訓練費入力（今期）'!$F291&\"他\"&'教育訓練費入力（今期）'!$G291-1&\"名\"))","v":""}]
[null,283,null,null,null,null,null,null,null,null,{"$f":"IF('教育訓練費入力（今期）'!$C292=\"\",\"\",TEXT('教育訓練費入力（今期）'!$C292,\"yyyy年\")&TEXT('教育訓練費入力（今期）'!$C292,\"m月\")&TEXT('教育訓練費入力（今期）'!$C292,\"ｄ日\")&\"から\"&'教育訓練費入力（今期）'!$D292&\"日間\")","v":""},{"$f":"IF('教育訓練費入力（今期）'!$F292=\"\",\"\",IF('教育訓練費入力（今期）'!$G292=1,'教育訓練費入力（今期）'!$F292,'教育訓練費入力（今期）'!$F292&\"他\"&'教育訓練費入力（今期）'!$G292-1&\"名\"))","v":""}]
[null,284,null,null,null,null,null,null,null,null,{"$f":"IF('教育訓練費入力（今期）'!$C293=\"\",\"\",TEXT('教育訓練費入力（今期）'!$C293,\"yyyy年\")&TEXT('教育訓練費入力（今期）'!$C293,\"m月\")&TEXT('教育訓練費入力（今期）'!$C293,\"ｄ日\")&\"から\"&'教育訓練費入力（今期）'!$D293&\"日間\")","v":""},{"$f":"IF('教育訓練費入力（今期）'!$F293=\"\",\"\",IF('教育訓練費入力（今期）'!$G293=1,'教育訓練費入力（今期）'!$F293,'教育訓練費入力（今期）'!$F293&\"他\"&'教育訓練費入力（今期）'!$G293-1&\"名\"))","v":""}]
[null,285,null,null,null,null,null,null,null,null,{"$f":"IF('教育訓練費入力（今期）'!$C294=\"\",\"\",TEXT('教育訓練費入力（今期）'!$C294,\"yyyy年\")&TEXT('教育訓練費入力（今期）'!$C294,\"m月\")&TEXT('教育訓練費入力（今期）'!$C294,\"ｄ日\")&\"から\"&'教育訓練費入力（今期）'!$D294&\"日間\")","v":""},{"$f":"IF('教育訓練費入力（今期）'!$F294=\"\",\"\",IF('教育訓練費入力（今期）'!$G294=1,'教育訓練費入力（今期）'!$F294,'教育訓練費入力（今期）'!$F294&\"他\"&'教育訓練費入力（今期）'!$G294-1&\"名\"))","v":""}]
[null,286,null,null,null,null,null,null,null,null,{"$f":"IF('教育訓練費入力（今期）'!$C295=\"\",\"\",TEXT('教育訓練費入力（今期）'!$C295,\"yyyy年\")&TEXT('教育訓練費入力（今期）'!$C295,\"m月\")&TEXT('教育訓練費入力（今期）'!$C295,\"ｄ日\")&\"から\"&'教育訓練費入力（今期）'!$D295&\"日間\")","v":""},{"$f":"IF('教育訓練費入力（今期）'!$F295=\"\",\"\",IF('教育訓練費入力（今期）'!$G295=1,'教育訓練費入力（今期）'!$F295,'教育訓練費入力（今期）'!$F295&\"他\"&'教育訓練費入力（今期）'!$G295-1&\"名\"))","v":""}]
[null,287,null,null,null,null,null,null,null,null,{"$f":"IF('教育訓練費入力（今期）'!$C296=\"\",\"\",TEXT('教育訓練費入力（今期）'!$C296,\"yyyy年\")&TEXT('教育訓練費入力（今期）'!$C296,\"m月\")&TEXT('教育訓練費入力（今期）'!$C296,\"ｄ日\")&\"から\"&'教育訓練費入力（今期）'!$D296&\"日間\")","v":""},{"$f":"IF('教育訓練費入力（今期）'!$F296=\"\",\"\",IF('教育訓練費入力（今期）'!$G296=1,'教育訓練費入力（今期）'!$F296,'教育訓練費入力（今期）'!$F296&\"他\"&'教育訓練費入力（今期）'!$G296-1&\"名\"))","v":""}]
[null,288,null,null,null,null,null,null,null,null,{"$f":"IF('教育訓練費入力（今期）'!$C297=\"\",\"\",TEXT('教育訓練費入力（今期）'!$C297,\"yyyy年\")&TEXT('教育訓練費入力（今期）'!$C297,\"m月\")&TEXT('教育訓練費入力（今期）'!$C297,\"ｄ日\")&\"から\"&'教育訓練費入力（今期）'!$D297&\"日間\")","v":""},{"$f":"IF('教育訓練費入力（今期）'!$F297=\"\",\"\",IF('教育訓練費入力（今期）'!$G297=1,'教育訓練費入力（今期）'!$F297,'教育訓練費入力（今期）'!$F297&\"他\"&'教育訓練費入力（今期）'!$G297-1&\"名\"))","v":""}]
[null,289,null,null,null,null,null,null,null,null,{"$f":"IF('教育訓練費入力（今期）'!$C298=\"\",\"\",TEXT('教育訓練費入力（今期）'!$C298,\"yyyy年\")&TEXT('教育訓練費入力（今期）'!$C298,\"m月\")&TEXT('教育訓練費入力（今期）'!$C298,\"ｄ日\")&\"から\"&'教育訓練費入力（今期）'!$D298&\"日間\")","v":""},{"$f":"IF('教育訓練費入力（今期）'!$F298=\"\",\"\",IF('教育訓練費入力（今期）'!$G298=1,'教育訓練費入力（今期）'!$F298,'教育訓練費入力（今期）'!$F298&\"他\"&'教育訓練費入力（今期）'!$G298-1&\"名\"))","v":""}]
[null,290,null,null,null,null,null,null,null,null,{"$f":"IF('教育訓練費入力（今期）'!$C299=\"\",\"\",TEXT('教育訓練費入力（今期）'!$C299,\"yyyy年\")&TEXT('教育訓練費入力（今期）'!$C299,\"m月\")&TEXT('教育訓練費入力（今期）'!$C299,\"ｄ日\")&\"から\"&'教育訓練費入力（今期）'!$D299&\"日間\")","v":""},{"$f":"IF('教育訓練費入力（今期）'!$F299=\"\",\"\",IF('教育訓練費入力（今期）'!$G299=1,'教育訓練費入力（今期）'!$F299,'教育訓練費入力（今期）'!$F299&\"他\"&'教育訓練費入力（今期）'!$G299-1&\"名\"))","v":""}]
[null,291,null,null,null,null,null,null,null,null,{"$f":"IF('教育訓練費入力（今期）'!$C300=\"\",\"\",TEXT('教育訓練費入力（今期）'!$C300,\"yyyy年\")&TEXT('教育訓練費入力（今期）'!$C300,\"m月\")&TEXT('教育訓練費入力（今期）'!$C300,\"ｄ日\")&\"から\"&'教育訓練費入力（今期）'!$D300&\"日間\")","v":""},{"$f":"IF('教育訓練費入力（今期）'!$F300=\"\",\"\",IF('教育訓練費入力（今期）'!$G300=1,'教育訓練費入力（今期）'!$F300,'教育訓練費入力（今期）'!$F300&\"他\"&'教育訓練費入力（今期）'!$G300-1&\"名\"))","v":""}]
[null,292,null,null,null,null,null,null,null,null,{"$f":"IF('教育訓練費入力（今期）'!$C301=\"\",\"\",TEXT('教育訓練費入力（今期）'!$C301,\"yyyy年\")&TEXT('教育訓練費入力（今期）'!$C301,\"m月\")&TEXT('教育訓練費入力（今期）'!$C301,\"ｄ日\")&\"から\"&'教育訓練費入力（今期）'!$D301&\"日間\")","v":""},{"$f":"IF('教育訓練費入力（今期）'!$F301=\"\",\"\",IF('教育訓練費入力（今期）'!$G301=1,'教育訓練費入力（今期）'!$F301,'教育訓練費入力（今期）'!$F301&\"他\"&'教育訓練費入力（今期）'!$G301-1&\"名\"))","v":""}]
[null,293,null,null,null,null,null,null,null,null,{"$f":"IF('教育訓練費入力（今期）'!$C302=\"\",\"\",TEXT('教育訓練費入力（今期）'!$C302,\"yyyy年\")&TEXT('教育訓練費入力（今期）'!$C302,\"m月\")&TEXT('教育訓練費入力（今期）'!$C302,\"ｄ日\")&\"から\"&'教育訓練費入力（今期）'!$D302&\"日間\")","v":""},{"$f":"IF('教育訓練費入力（今期）'!$F302=\"\",\"\",IF('教育訓練費入力（今期）'!$G302=1,'教育訓練費入力（今期）'!$F302,'教育訓練費入力（今期）'!$F302&\"他\"&'教育訓練費入力（今期）'!$G302-1&\"名\"))","v":""}]
[null,294,null,null,null,null,null,null,null,null,{"$f":"IF('教育訓練費入力（今期）'!$C303=\"\",\"\",TEXT('教育訓練費入力（今期）'!$C303,\"yyyy年\")&TEXT('教育訓練費入力（今期）'!$C303,\"m月\")&TEXT('教育訓練費入力（今期）'!$C303,\"ｄ日\")&\"から\"&'教育訓練費入力（今期）'!$D303&\"日間\")","v":""},{"$f":"IF('教育訓練費入力（今期）'!$F303=\"\",\"\",IF('教育訓練費入力（今期）'!$G303=1,'教育訓練費入力（今期）'!$F303,'教育訓練費入力（今期）'!$F303&\"他\"&'教育訓練費入力（今期）'!$G303-1&\"名\"))","v":""}]
[null,295,null,null,null,null,null,null,null,null,{"$f":"IF('教育訓練費入力（今期）'!$C304=\"\",\"\",TEXT('教育訓練費入力（今期）'!$C304,\"yyyy年\")&TEXT('教育訓練費入力（今期）'!$C304,\"m月\")&TEXT('教育訓練費入力（今期）'!$C304,\"ｄ日\")&\"から\"&'教育訓練費入力（今期）'!$D304&\"日間\")","v":""},{"$f":"IF('教育訓練費入力（今期）'!$F304=\"\",\"\",IF('教育訓練費入力（今期）'!$G304=1,'教育訓練費入力（今期）'!$F304,'教育訓練費入力（今期）'!$F304&\"他\"&'教育訓練費入力（今期）'!$G304-1&\"名\"))","v":""}]
[null,296,null,null,null,null,null,null,null,null,{"$f":"IF('教育訓練費入力（今期）'!$C305=\"\",\"\",TEXT('教育訓練費入力（今期）'!$C305,\"yyyy年\")&TEXT('教育訓練費入力（今期）'!$C305,\"m月\")&TEXT('教育訓練費入力（今期）'!$C305,\"ｄ日\")&\"から\"&'教育訓練費入力（今期）'!$D305&\"日間\")","v":""},{"$f":"IF('教育訓練費入力（今期）'!$F305=\"\",\"\",IF('教育訓練費入力（今期）'!$G305=1,'教育訓練費入力（今期）'!$F305,'教育訓練費入力（今期）'!$F305&\"他\"&'教育訓練費入力（今期）'!$G305-1&\"名\"))","v":""}]
[null,297,null,null,null,null,null,null,null,null,{"$f":"IF('教育訓練費入力（今期）'!$C306=\"\",\"\",TEXT('教育訓練費入力（今期）'!$C306,\"yyyy年\")&TEXT('教育訓練費入力（今期）'!$C306,\"m月\")&TEXT('教育訓練費入力（今期）'!$C306,\"ｄ日\")&\"から\"&'教育訓練費入力（今期）'!$D306&\"日間\")","v":""},{"$f":"IF('教育訓練費入力（今期）'!$F306=\"\",\"\",IF('教育訓練費入力（今期）'!$G306=1,'教育訓練費入力（今期）'!$F306,'教育訓練費入力（今期）'!$F306&\"他\"&'教育訓練費入力（今期）'!$G306-1&\"名\"))","v":""}]
[null,298,null,null,null,null,null,null,null,null,{"$f":"IF('教育訓練費入力（今期）'!$C307=\"\",\"\",TEXT('教育訓練費入力（今期）'!$C307,\"yyyy年\")&TEXT('教育訓練費入力（今期）'!$C307,\"m月\")&TEXT('教育訓練費入力（今期）'!$C307,\"ｄ日\")&\"から\"&'教育訓練費入力（今期）'!$D307&\"日間\")","v":""},{"$f":"IF('教育訓練費入力（今期）'!$F307=\"\",\"\",IF('教育訓練費入力（今期）'!$G307=1,'教育訓練費入力（今期）'!$F307,'教育訓練費入力（今期）'!$F307&\"他\"&'教育訓練費入力（今期）'!$G307-1&\"名\"))","v":""}]
[null,299,null,null,null,null,null,null,null,null,{"$f":"IF('教育訓練費入力（今期）'!$C308=\"\",\"\",TEXT('教育訓練費入力（今期）'!$C308,\"yyyy年\")&TEXT('教育訓練費入力（今期）'!$C308,\"m月\")&TEXT('教育訓練費入力（今期）'!$C308,\"ｄ日\")&\"から\"&'教育訓練費入力（今期）'!$D308&\"日間\")","v":""},{"$f":"IF('教育訓練費入力（今期）'!$F308=\"\",\"\",IF('教育訓練費入力（今期）'!$G308=1,'教育訓練費入力（今期）'!$F308,'教育訓練費入力（今期）'!$F308&\"他\"&'教育訓練費入力（今期）'!$G308-1&\"名\"))","v":""}]
[null,300,null,null,null,null,null,null,null,null,{"$f":"IF('教育訓練費入力（今期）'!$C309=\"\",\"\",TEXT('教育訓練費入力（今期）'!$C309,\"yyyy年\")&TEXT('教育訓練費入力（今期）'!$C309,\"m月\")&TEXT('教育訓練費入力（今期）'!$C309,\"ｄ日\")&\"から\"&'教育訓練費入力（今期）'!$D309&\"日間\")","v":""},{"$f":"IF('教育訓練費入力（今期）'!$F309=\"\",\"\",IF('教育訓練費入力（今期）'!$G309=1,'教育訓練費入力（今期）'!$F309,'教育訓練費入力（今期）'!$F309&\"他\"&'教育訓練費入力（今期）'!$G309-1&\"名\"))","v":""}]
[null,301,null,null,null,null,null,null,null,null,{"$f":"IF('教育訓練費入力（今期）'!$C310=\"\",\"\",TEXT('教育訓練費入力（今期）'!$C310,\"yyyy年\")&TEXT('教育訓練費入力（今期）'!$C310,\"m月\")&TEXT('教育訓練費入力（今期）'!$C310,\"ｄ日\")&\"から\"&'教育訓練費入力（今期）'!$D310&\"日間\")","v":""},{"$f":"IF('教育訓練費入力（今期）'!$F310=\"\",\"\",IF('教育訓練費入力（今期）'!$G310=1,'教育訓練費入力（今期）'!$F310,'教育訓練費入力（今期）'!$F310&\"他\"&'教育訓練費入力（今期）'!$G310-1&\"名\"))","v":""}]
[null,302,null,null,null,null,null,null,null,null,{"$f":"IF('教育訓練費入力（今期）'!$C311=\"\",\"\",TEXT('教育訓練費入力（今期）'!$C311,\"yyyy年\")&TEXT('教育訓練費入力（今期）'!$C311,\"m月\")&TEXT('教育訓練費入力（今期）'!$C311,\"ｄ日\")&\"から\"&'教育訓練費入力（今期）'!$D311&\"日間\")","v":""},{"$f":"IF('教育訓練費入力（今期）'!$F311=\"\",\"\",IF('教育訓練費入力（今期）'!$G311=1,'教育訓練費入力（今期）'!$F311,'教育訓練費入力（今期）'!$F311&\"他\"&'教育訓練費入力（今期）'!$G311-1&\"名\"))","v":""}]
[null,303,null,null,null,null,null,null,null,null,{"$f":"IF('教育訓練費入力（今期）'!$C312=\"\",\"\",TEXT('教育訓練費入力（今期）'!$C312,\"yyyy年\")&TEXT('教育訓練費入力（今期）'!$C312,\"m月\")&TEXT('教育訓練費入力（今期）'!$C312,\"ｄ日\")&\"から\"&'教育訓練費入力（今期）'!$D312&\"日間\")","v":""},{"$f":"IF('教育訓練費入力（今期）'!$F312=\"\",\"\",IF('教育訓練費入力（今期）'!$G312=1,'教育訓練費入力（今期）'!$F312,'教育訓練費入力（今期）'!$F312&\"他\"&'教育訓練費入力（今期）'!$G312-1&\"名\"))","v":""}]
[null,304,null,null,null,null,null,null,null,null,{"$f":"IF('教育訓練費入力（今期）'!$C313=\"\",\"\",TEXT('教育訓練費入力（今期）'!$C313,\"yyyy年\")&TEXT('教育訓練費入力（今期）'!$C313,\"m月\")&TEXT('教育訓練費入力（今期）'!$C313,\"ｄ日\")&\"から\"&'教育訓練費入力（今期）'!$D313&\"日間\")","v":""},{"$f":"IF('教育訓練費入力（今期）'!$F313=\"\",\"\",IF('教育訓練費入力（今期）'!$G313=1,'教育訓練費入力（今期）'!$F313,'教育訓練費入力（今期）'!$F313&\"他\"&'教育訓練費入力（今期）'!$G313-1&\"名\"))","v":""}]
[null,305,null,null,null,null,null,null,null,null,{"$f":"IF('教育訓練費入力（今期）'!$C314=\"\",\"\",TEXT('教育訓練費入力（今期）'!$C314,\"yyyy年\")&TEXT('教育訓練費入力（今期）'!$C314,\"m月\")&TEXT('教育訓練費入力（今期）'!$C314,\"ｄ日\")&\"から\"&'教育訓練費入力（今期）'!$D314&\"日間\")","v":""},{"$f":"IF('教育訓練費入力（今期）'!$F314=\"\",\"\",IF('教育訓練費入力（今期）'!$G314=1,'教育訓練費入力（今期）'!$F314,'教育訓練費入力（今期）'!$F314&\"他\"&'教育訓練費入力（今期）'!$G314-1&\"名\"))","v":""}]
[null,306,null,null,null,null,null,null,null,null,{"$f":"IF('教育訓練費入力（今期）'!$C315=\"\",\"\",TEXT('教育訓練費入力（今期）'!$C315,\"yyyy年\")&TEXT('教育訓練費入力（今期）'!$C315,\"m月\")&TEXT('教育訓練費入力（今期）'!$C315,\"ｄ日\")&\"から\"&'教育訓練費入力（今期）'!$D315&\"日間\")","v":""},{"$f":"IF('教育訓練費入力（今期）'!$F315=\"\",\"\",IF('教育訓練費入力（今期）'!$G315=1,'教育訓練費入力（今期）'!$F315,'教育訓練費入力（今期）'!$F315&\"他\"&'教育訓練費入力（今期）'!$G315-1&\"名\"))","v":""}]
[null,307,null,null,null,null,null,null,null,null,{"$f":"IF('教育訓練費入力（今期）'!$C316=\"\",\"\",TEXT('教育訓練費入力（今期）'!$C316,\"yyyy年\")&TEXT('教育訓練費入力（今期）'!$C316,\"m月\")&TEXT('教育訓練費入力（今期）'!$C316,\"ｄ日\")&\"から\"&'教育訓練費入力（今期）'!$D316&\"日間\")","v":""},{"$f":"IF('教育訓練費入力（今期）'!$F316=\"\",\"\",IF('教育訓練費入力（今期）'!$G316=1,'教育訓練費入力（今期）'!$F316,'教育訓練費入力（今期）'!$F316&\"他\"&'教育訓練費入力（今期）'!$G316-1&\"名\"))","v":""}]
[null,308,null,null,null,null,null,null,null,null,{"$f":"IF('教育訓練費入力（今期）'!$C317=\"\",\"\",TEXT('教育訓練費入力（今期）'!$C317,\"yyyy年\")&TEXT('教育訓練費入力（今期）'!$C317,\"m月\")&TEXT('教育訓練費入力（今期）'!$C317,\"ｄ日\")&\"から\"&'教育訓練費入力（今期）'!$D317&\"日間\")","v":""},{"$f":"IF('教育訓練費入力（今期）'!$F317=\"\",\"\",IF('教育訓練費入力（今期）'!$G317=1,'教育訓練費入力（今期）'!$F317,'教育訓練費入力（今期）'!$F317&\"他\"&'教育訓練費入力（今期）'!$G317-1&\"名\"))","v":""}]
[null,309,null,null,null,null,null,null,null,null,{"$f":"IF('教育訓練費入力（今期）'!$C318=\"\",\"\",TEXT('教育訓練費入力（今期）'!$C318,\"yyyy年\")&TEXT('教育訓練費入力（今期）'!$C318,\"m月\")&TEXT('教育訓練費入力（今期）'!$C318,\"ｄ日\")&\"から\"&'教育訓練費入力（今期）'!$D318&\"日間\")","v":""},{"$f":"IF('教育訓練費入力（今期）'!$F318=\"\",\"\",IF('教育訓練費入力（今期）'!$G318=1,'教育訓練費入力（今期）'!$F318,'教育訓練費入力（今期）'!$F318&\"他\"&'教育訓練費入力（今期）'!$G318-1&\"名\"))","v":""}]
[null,310,null,null,null,null,null,null,null,null,{"$f":"IF('教育訓練費入力（今期）'!$C319=\"\",\"\",TEXT('教育訓練費入力（今期）'!$C319,\"yyyy年\")&TEXT('教育訓練費入力（今期）'!$C319,\"m月\")&TEXT('教育訓練費入力（今期）'!$C319,\"ｄ日\")&\"から\"&'教育訓練費入力（今期）'!$D319&\"日間\")","v":""},{"$f":"IF('教育訓練費入力（今期）'!$F319=\"\",\"\",IF('教育訓練費入力（今期）'!$G319=1,'教育訓練費入力（今期）'!$F319,'教育訓練費入力（今期）'!$F319&\"他\"&'教育訓練費入力（今期）'!$G319-1&\"名\"))","v":""}]
[null,311,null,null,null,null,null,null,null,null,{"$f":"IF('教育訓練費入力（今期）'!$C320=\"\",\"\",TEXT('教育訓練費入力（今期）'!$C320,\"yyyy年\")&TEXT('教育訓練費入力（今期）'!$C320,\"m月\")&TEXT('教育訓練費入力（今期）'!$C320,\"ｄ日\")&\"から\"&'教育訓練費入力（今期）'!$D320&\"日間\")","v":""},{"$f":"IF('教育訓練費入力（今期）'!$F320=\"\",\"\",IF('教育訓練費入力（今期）'!$G320=1,'教育訓練費入力（今期）'!$F320,'教育訓練費入力（今期）'!$F320&\"他\"&'教育訓練費入力（今期）'!$G320-1&\"名\"))","v":""}]
[null,312,null,null,null,null,null,null,null,null,{"$f":"IF('教育訓練費入力（今期）'!$C321=\"\",\"\",TEXT('教育訓練費入力（今期）'!$C321,\"yyyy年\")&TEXT('教育訓練費入力（今期）'!$C321,\"m月\")&TEXT('教育訓練費入力（今期）'!$C321,\"ｄ日\")&\"から\"&'教育訓練費入力（今期）'!$D321&\"日間\")","v":""},{"$f":"IF('教育訓練費入力（今期）'!$F321=\"\",\"\",IF('教育訓練費入力（今期）'!$G321=1,'教育訓練費入力（今期）'!$F321,'教育訓練費入力（今期）'!$F321&\"他\"&'教育訓練費入力（今期）'!$G321-1&\"名\"))","v":""}]
[null,313,null,null,null,null,null,null,null,null,{"$f":"IF('教育訓練費入力（今期）'!$C322=\"\",\"\",TEXT('教育訓練費入力（今期）'!$C322,\"yyyy年\")&TEXT('教育訓練費入力（今期）'!$C322,\"m月\")&TEXT('教育訓練費入力（今期）'!$C322,\"ｄ日\")&\"から\"&'教育訓練費入力（今期）'!$D322&\"日間\")","v":""},{"$f":"IF('教育訓練費入力（今期）'!$F322=\"\",\"\",IF('教育訓練費入力（今期）'!$G322=1,'教育訓練費入力（今期）'!$F322,'教育訓練費入力（今期）'!$F322&\"他\"&'教育訓練費入力（今期）'!$G322-1&\"名\"))","v":""}]
[null,314,null,null,null,null,null,null,null,null,{"$f":"IF('教育訓練費入力（今期）'!$C323=\"\",\"\",TEXT('教育訓練費入力（今期）'!$C323,\"yyyy年\")&TEXT('教育訓練費入力（今期）'!$C323,\"m月\")&TEXT('教育訓練費入力（今期）'!$C323,\"ｄ日\")&\"から\"&'教育訓練費入力（今期）'!$D323&\"日間\")","v":""},{"$f":"IF('教育訓練費入力（今期）'!$F323=\"\",\"\",IF('教育訓練費入力（今期）'!$G323=1,'教育訓練費入力（今期）'!$F323,'教育訓練費入力（今期）'!$F323&\"他\"&'教育訓練費入力（今期）'!$G323-1&\"名\"))","v":""}]
[null,315,null,null,null,null,null,null,null,null,{"$f":"IF('教育訓練費入力（今期）'!$C324=\"\",\"\",TEXT('教育訓練費入力（今期）'!$C324,\"yyyy年\")&TEXT('教育訓練費入力（今期）'!$C324,\"m月\")&TEXT('教育訓練費入力（今期）'!$C324,\"ｄ日\")&\"から\"&'教育訓練費入力（今期）'!$D324&\"日間\")","v":""},{"$f":"IF('教育訓練費入力（今期）'!$F324=\"\",\"\",IF('教育訓練費入力（今期）'!$G324=1,'教育訓練費入力（今期）'!$F324,'教育訓練費入力（今期）'!$F324&\"他\"&'教育訓練費入力（今期）'!$G324-1&\"名\"))","v":""}]
[null,316,null,null,null,null,null,null,null,null,{"$f":"IF('教育訓練費入力（今期）'!$C325=\"\",\"\",TEXT('教育訓練費入力（今期）'!$C325,\"yyyy年\")&TEXT('教育訓練費入力（今期）'!$C325,\"m月\")&TEXT('教育訓練費入力（今期）'!$C325,\"ｄ日\")&\"から\"&'教育訓練費入力（今期）'!$D325&\"日間\")","v":""},{"$f":"IF('教育訓練費入力（今期）'!$F325=\"\",\"\",IF('教育訓練費入力（今期）'!$G325=1,'教育訓練費入力（今期）'!$F325,'教育訓練費入力（今期）'!$F325&\"他\"&'教育訓練費入力（今期）'!$G325-1&\"名\"))","v":""}]
[null,317,null,null,null,null,null,null,null,null,{"$f":"IF('教育訓練費入力（今期）'!$C326=\"\",\"\",TEXT('教育訓練費入力（今期）'!$C326,\"yyyy年\")&TEXT('教育訓練費入力（今期）'!$C326,\"m月\")&TEXT('教育訓練費入力（今期）'!$C326,\"ｄ日\")&\"から\"&'教育訓練費入力（今期）'!$D326&\"日間\")","v":""},{"$f":"IF('教育訓練費入力（今期）'!$F326=\"\",\"\",IF('教育訓練費入力（今期）'!$G326=1,'教育訓練費入力（今期）'!$F326,'教育訓練費入力（今期）'!$F326&\"他\"&'教育訓練費入力（今期）'!$G326-1&\"名\"))","v":""}]
[null,318,null,null,null,null,null,null,null,null,{"$f":"IF('教育訓練費入力（今期）'!$C327=\"\",\"\",TEXT('教育訓練費入力（今期）'!$C327,\"yyyy年\")&TEXT('教育訓練費入力（今期）'!$C327,\"m月\")&TEXT('教育訓練費入力（今期）'!$C327,\"ｄ日\")&\"から\"&'教育訓練費入力（今期）'!$D327&\"日間\")","v":""},{"$f":"IF('教育訓練費入力（今期）'!$F327=\"\",\"\",IF('教育訓練費入力（今期）'!$G327=1,'教育訓練費入力（今期）'!$F327,'教育訓練費入力（今期）'!$F327&\"他\"&'教育訓練費入力（今期）'!$G327-1&\"名\"))","v":""}]
[null,319,null,null,null,null,null,null,null,null,{"$f":"IF('教育訓練費入力（今期）'!$C328=\"\",\"\",TEXT('教育訓練費入力（今期）'!$C328,\"yyyy年\")&TEXT('教育訓練費入力（今期）'!$C328,\"m月\")&TEXT('教育訓練費入力（今期）'!$C328,\"ｄ日\")&\"から\"&'教育訓練費入力（今期）'!$D328&\"日間\")","v":""},{"$f":"IF('教育訓練費入力（今期）'!$F328=\"\",\"\",IF('教育訓練費入力（今期）'!$G328=1,'教育訓練費入力（今期）'!$F328,'教育訓練費入力（今期）'!$F328&\"他\"&'教育訓練費入力（今期）'!$G328-1&\"名\"))","v":""}]
[null,320,null,null,null,null,null,null,null,null,{"$f":"IF('教育訓練費入力（今期）'!$C329=\"\",\"\",TEXT('教育訓練費入力（今期）'!$C329,\"yyyy年\")&TEXT('教育訓練費入力（今期）'!$C329,\"m月\")&TEXT('教育訓練費入力（今期）'!$C329,\"ｄ日\")&\"から\"&'教育訓練費入力（今期）'!$D329&\"日間\")","v":""},{"$f":"IF('教育訓練費入力（今期）'!$F329=\"\",\"\",IF('教育訓練費入力（今期）'!$G329=1,'教育訓練費入力（今期）'!$F329,'教育訓練費入力（今期）'!$F329&\"他\"&'教育訓練費入力（今期）'!$G329-1&\"名\"))","v":""}]
[null,321,null,null,null,null,null,null,null,null,{"$f":"IF('教育訓練費入力（今期）'!$C330=\"\",\"\",TEXT('教育訓練費入力（今期）'!$C330,\"yyyy年\")&TEXT('教育訓練費入力（今期）'!$C330,\"m月\")&TEXT('教育訓練費入力（今期）'!$C330,\"ｄ日\")&\"から\"&'教育訓練費入力（今期）'!$D330&\"日間\")","v":""},{"$f":"IF('教育訓練費入力（今期）'!$F330=\"\",\"\",IF('教育訓練費入力（今期）'!$G330=1,'教育訓練費入力（今期）'!$F330,'教育訓練費入力（今期）'!$F330&\"他\"&'教育訓練費入力（今期）'!$G330-1&\"名\"))","v":""}]
[null,322,null,null,null,null,null,null,null,null,{"$f":"IF('教育訓練費入力（今期）'!$C331=\"\",\"\",TEXT('教育訓練費入力（今期）'!$C331,\"yyyy年\")&TEXT('教育訓練費入力（今期）'!$C331,\"m月\")&TEXT('教育訓練費入力（今期）'!$C331,\"ｄ日\")&\"から\"&'教育訓練費入力（今期）'!$D331&\"日間\")","v":""},{"$f":"IF('教育訓練費入力（今期）'!$F331=\"\",\"\",IF('教育訓練費入力（今期）'!$G331=1,'教育訓練費入力（今期）'!$F331,'教育訓練費入力（今期）'!$F331&\"他\"&'教育訓練費入力（今期）'!$G331-1&\"名\"))","v":""}]
[null,323,null,null,null,null,null,null,null,null,{"$f":"IF('教育訓練費入力（今期）'!$C332=\"\",\"\",TEXT('教育訓練費入力（今期）'!$C332,\"yyyy年\")&TEXT('教育訓練費入力（今期）'!$C332,\"m月\")&TEXT('教育訓練費入力（今期）'!$C332,\"ｄ日\")&\"から\"&'教育訓練費入力（今期）'!$D332&\"日間\")","v":""},{"$f":"IF('教育訓練費入力（今期）'!$F332=\"\",\"\",IF('教育訓練費入力（今期）'!$G332=1,'教育訓練費入力（今期）'!$F332,'教育訓練費入力（今期）'!$F332&\"他\"&'教育訓練費入力（今期）'!$G332-1&\"名\"))","v":""}]
[null,324,null,null,null,null,null,null,null,null,{"$f":"IF('教育訓練費入力（今期）'!$C333=\"\",\"\",TEXT('教育訓練費入力（今期）'!$C333,\"yyyy年\")&TEXT('教育訓練費入力（今期）'!$C333,\"m月\")&TEXT('教育訓練費入力（今期）'!$C333,\"ｄ日\")&\"から\"&'教育訓練費入力（今期）'!$D333&\"日間\")","v":""},{"$f":"IF('教育訓練費入力（今期）'!$F333=\"\",\"\",IF('教育訓練費入力（今期）'!$G333=1,'教育訓練費入力（今期）'!$F333,'教育訓練費入力（今期）'!$F333&\"他\"&'教育訓練費入力（今期）'!$G333-1&\"名\"))","v":""}]
[null,325,null,null,null,null,null,null,null,null,{"$f":"IF('教育訓練費入力（今期）'!$C334=\"\",\"\",TEXT('教育訓練費入力（今期）'!$C334,\"yyyy年\")&TEXT('教育訓練費入力（今期）'!$C334,\"m月\")&TEXT('教育訓練費入力（今期）'!$C334,\"ｄ日\")&\"から\"&'教育訓練費入力（今期）'!$D334&\"日間\")","v":""},{"$f":"IF('教育訓練費入力（今期）'!$F334=\"\",\"\",IF('教育訓練費入力（今期）'!$G334=1,'教育訓練費入力（今期）'!$F334,'教育訓練費入力（今期）'!$F334&\"他\"&'教育訓練費入力（今期）'!$G334-1&\"名\"))","v":""}]
[null,326,null,null,null,null,null,null,null,null,{"$f":"IF('教育訓練費入力（今期）'!$C335=\"\",\"\",TEXT('教育訓練費入力（今期）'!$C335,\"yyyy年\")&TEXT('教育訓練費入力（今期）'!$C335,\"m月\")&TEXT('教育訓練費入力（今期）'!$C335,\"ｄ日\")&\"から\"&'教育訓練費入力（今期）'!$D335&\"日間\")","v":""},{"$f":"IF('教育訓練費入力（今期）'!$F335=\"\",\"\",IF('教育訓練費入力（今期）'!$G335=1,'教育訓練費入力（今期）'!$F335,'教育訓練費入力（今期）'!$F335&\"他\"&'教育訓練費入力（今期）'!$G335-1&\"名\"))","v":""}]
[null,327,null,null,null,null,null,null,null,null,{"$f":"IF('教育訓練費入力（今期）'!$C336=\"\",\"\",TEXT('教育訓練費入力（今期）'!$C336,\"yyyy年\")&TEXT('教育訓練費入力（今期）'!$C336,\"m月\")&TEXT('教育訓練費入力（今期）'!$C336,\"ｄ日\")&\"から\"&'教育訓練費入力（今期）'!$D336&\"日間\")","v":""},{"$f":"IF('教育訓練費入力（今期）'!$F336=\"\",\"\",IF('教育訓練費入力（今期）'!$G336=1,'教育訓練費入力（今期）'!$F336,'教育訓練費入力（今期）'!$F336&\"他\"&'教育訓練費入力（今期）'!$G336-1&\"名\"))","v":""}]
[null,328,null,null,null,null,null,null,null,null,{"$f":"IF('教育訓練費入力（今期）'!$C337=\"\",\"\",TEXT('教育訓練費入力（今期）'!$C337,\"yyyy年\")&TEXT('教育訓練費入力（今期）'!$C337,\"m月\")&TEXT('教育訓練費入力（今期）'!$C337,\"ｄ日\")&\"から\"&'教育訓練費入力（今期）'!$D337&\"日間\")","v":""},{"$f":"IF('教育訓練費入力（今期）'!$F337=\"\",\"\",IF('教育訓練費入力（今期）'!$G337=1,'教育訓練費入力（今期）'!$F337,'教育訓練費入力（今期）'!$F337&\"他\"&'教育訓練費入力（今期）'!$G337-1&\"名\"))","v":""}]
[null,329,null,null,null,null,null,null,null,null,{"$f":"IF('教育訓練費入力（今期）'!$C338=\"\",\"\",TEXT('教育訓練費入力（今期）'!$C338,\"yyyy年\")&TEXT('教育訓練費入力（今期）'!$C338,\"m月\")&TEXT('教育訓練費入力（今期）'!$C338,\"ｄ日\")&\"から\"&'教育訓練費入力（今期）'!$D338&\"日間\")","v":""},{"$f":"IF('教育訓練費入力（今期）'!$F338=\"\",\"\",IF('教育訓練費入力（今期）'!$G338=1,'教育訓練費入力（今期）'!$F338,'教育訓練費入力（今期）'!$F338&\"他\"&'教育訓練費入力（今期）'!$G338-1&\"名\"))","v":""}]
[null,330,null,null,null,null,null,null,null,null,{"$f":"IF('教育訓練費入力（今期）'!$C339=\"\",\"\",TEXT('教育訓練費入力（今期）'!$C339,\"yyyy年\")&TEXT('教育訓練費入力（今期）'!$C339,\"m月\")&TEXT('教育訓練費入力（今期）'!$C339,\"ｄ日\")&\"から\"&'教育訓練費入力（今期）'!$D339&\"日間\")","v":""},{"$f":"IF('教育訓練費入力（今期）'!$F339=\"\",\"\",IF('教育訓練費入力（今期）'!$G339=1,'教育訓練費入力（今期）'!$F339,'教育訓練費入力（今期）'!$F339&\"他\"&'教育訓練費入力（今期）'!$G339-1&\"名\"))","v":""}]
[null,331,null,null,null,null,null,null,null,null,{"$f":"IF('教育訓練費入力（今期）'!$C340=\"\",\"\",TEXT('教育訓練費入力（今期）'!$C340,\"yyyy年\")&TEXT('教育訓練費入力（今期）'!$C340,\"m月\")&TEXT('教育訓練費入力（今期）'!$C340,\"ｄ日\")&\"から\"&'教育訓練費入力（今期）'!$D340&\"日間\")","v":""},{"$f":"IF('教育訓練費入力（今期）'!$F340=\"\",\"\",IF('教育訓練費入力（今期）'!$G340=1,'教育訓練費入力（今期）'!$F340,'教育訓練費入力（今期）'!$F340&\"他\"&'教育訓練費入力（今期）'!$G340-1&\"名\"))","v":""}]
[null,332,null,null,null,null,null,null,null,null,{"$f":"IF('教育訓練費入力（今期）'!$C341=\"\",\"\",TEXT('教育訓練費入力（今期）'!$C341,\"yyyy年\")&TEXT('教育訓練費入力（今期）'!$C341,\"m月\")&TEXT('教育訓練費入力（今期）'!$C341,\"ｄ日\")&\"から\"&'教育訓練費入力（今期）'!$D341&\"日間\")","v":""},{"$f":"IF('教育訓練費入力（今期）'!$F341=\"\",\"\",IF('教育訓練費入力（今期）'!$G341=1,'教育訓練費入力（今期）'!$F341,'教育訓練費入力（今期）'!$F341&\"他\"&'教育訓練費入力（今期）'!$G341-1&\"名\"))","v":""}]
[null,333,null,null,null,null,null,null,null,null,{"$f":"IF('教育訓練費入力（今期）'!$C342=\"\",\"\",TEXT('教育訓練費入力（今期）'!$C342,\"yyyy年\")&TEXT('教育訓練費入力（今期）'!$C342,\"m月\")&TEXT('教育訓練費入力（今期）'!$C342,\"ｄ日\")&\"から\"&'教育訓練費入力（今期）'!$D342&\"日間\")","v":""},{"$f":"IF('教育訓練費入力（今期）'!$F342=\"\",\"\",IF('教育訓練費入力（今期）'!$G342=1,'教育訓練費入力（今期）'!$F342,'教育訓練費入力（今期）'!$F342&\"他\"&'教育訓練費入力（今期）'!$G342-1&\"名\"))","v":""}]
[null,334,null,null,null,null,null,null,null,null,{"$f":"IF('教育訓練費入力（今期）'!$C343=\"\",\"\",TEXT('教育訓練費入力（今期）'!$C343,\"yyyy年\")&TEXT('教育訓練費入力（今期）'!$C343,\"m月\")&TEXT('教育訓練費入力（今期）'!$C343,\"ｄ日\")&\"から\"&'教育訓練費入力（今期）'!$D343&\"日間\")","v":""},{"$f":"IF('教育訓練費入力（今期）'!$F343=\"\",\"\",IF('教育訓練費入力（今期）'!$G343=1,'教育訓練費入力（今期）'!$F343,'教育訓練費入力（今期）'!$F343&\"他\"&'教育訓練費入力（今期）'!$G343-1&\"名\"))","v":""}]
[null,335,null,null,null,null,null,null,null,null,{"$f":"IF('教育訓練費入力（今期）'!$C344=\"\",\"\",TEXT('教育訓練費入力（今期）'!$C344,\"yyyy年\")&TEXT('教育訓練費入力（今期）'!$C344,\"m月\")&TEXT('教育訓練費入力（今期）'!$C344,\"ｄ日\")&\"から\"&'教育訓練費入力（今期）'!$D344&\"日間\")","v":""},{"$f":"IF('教育訓練費入力（今期）'!$F344=\"\",\"\",IF('教育訓練費入力（今期）'!$G344=1,'教育訓練費入力（今期）'!$F344,'教育訓練費入力（今期）'!$F344&\"他\"&'教育訓練費入力（今期）'!$G344-1&\"名\"))","v":""}]
[null,336,null,null,null,null,null,null,null,null,{"$f":"IF('教育訓練費入力（今期）'!$C345=\"\",\"\",TEXT('教育訓練費入力（今期）'!$C345,\"yyyy年\")&TEXT('教育訓練費入力（今期）'!$C345,\"m月\")&TEXT('教育訓練費入力（今期）'!$C345,\"ｄ日\")&\"から\"&'教育訓練費入力（今期）'!$D345&\"日間\")","v":""},{"$f":"IF('教育訓練費入力（今期）'!$F345=\"\",\"\",IF('教育訓練費入力（今期）'!$G345=1,'教育訓練費入力（今期）'!$F345,'教育訓練費入力（今期）'!$F345&\"他\"&'教育訓練費入力（今期）'!$G345-1&\"名\"))","v":""}]
[null,337,null,null,null,null,null,null,null,null,{"$f":"IF('教育訓練費入力（今期）'!$C346=\"\",\"\",TEXT('教育訓練費入力（今期）'!$C346,\"yyyy年\")&TEXT('教育訓練費入力（今期）'!$C346,\"m月\")&TEXT('教育訓練費入力（今期）'!$C346,\"ｄ日\")&\"から\"&'教育訓練費入力（今期）'!$D346&\"日間\")","v":""},{"$f":"IF('教育訓練費入力（今期）'!$F346=\"\",\"\",IF('教育訓練費入力（今期）'!$G346=1,'教育訓練費入力（今期）'!$F346,'教育訓練費入力（今期）'!$F346&\"他\"&'教育訓練費入力（今期）'!$G346-1&\"名\"))","v":""}]
[null,338,null,null,null,null,null,null,null,null,{"$f":"IF('教育訓練費入力（今期）'!$C347=\"\",\"\",TEXT('教育訓練費入力（今期）'!$C347,\"yyyy年\")&TEXT('教育訓練費入力（今期）'!$C347,\"m月\")&TEXT('教育訓練費入力（今期）'!$C347,\"ｄ日\")&\"から\"&'教育訓練費入力（今期）'!$D347&\"日間\")","v":""},{"$f":"IF('教育訓練費入力（今期）'!$F347=\"\",\"\",IF('教育訓練費入力（今期）'!$G347=1,'教育訓練費入力（今期）'!$F347,'教育訓練費入力（今期）'!$F347&\"他\"&'教育訓練費入力（今期）'!$G347-1&\"名\"))","v":""}]
[null,339,null,null,null,null,null,null,null,null,{"$f":"IF('教育訓練費入力（今期）'!$C348=\"\",\"\",TEXT('教育訓練費入力（今期）'!$C348,\"yyyy年\")&TEXT('教育訓練費入力（今期）'!$C348,\"m月\")&TEXT('教育訓練費入力（今期）'!$C348,\"ｄ日\")&\"から\"&'教育訓練費入力（今期）'!$D348&\"日間\")","v":""},{"$f":"IF('教育訓練費入力（今期）'!$F348=\"\",\"\",IF('教育訓練費入力（今期）'!$G348=1,'教育訓練費入力（今期）'!$F348,'教育訓練費入力（今期）'!$F348&\"他\"&'教育訓練費入力（今期）'!$G348-1&\"名\"))","v":""}]
[null,340,null,null,null,null,null,null,null,null,{"$f":"IF('教育訓練費入力（今期）'!$C349=\"\",\"\",TEXT('教育訓練費入力（今期）'!$C349,\"yyyy年\")&TEXT('教育訓練費入力（今期）'!$C349,\"m月\")&TEXT('教育訓練費入力（今期）'!$C349,\"ｄ日\")&\"から\"&'教育訓練費入力（今期）'!$D349&\"日間\")","v":""},{"$f":"IF('教育訓練費入力（今期）'!$F349=\"\",\"\",IF('教育訓練費入力（今期）'!$G349=1,'教育訓練費入力（今期）'!$F349,'教育訓練費入力（今期）'!$F349&\"他\"&'教育訓練費入力（今期）'!$G349-1&\"名\"))","v":""}]
[null,341,null,null,null,null,null,null,null,null,{"$f":"IF('教育訓練費入力（今期）'!$C350=\"\",\"\",TEXT('教育訓練費入力（今期）'!$C350,\"yyyy年\")&TEXT('教育訓練費入力（今期）'!$C350,\"m月\")&TEXT('教育訓練費入力（今期）'!$C350,\"ｄ日\")&\"から\"&'教育訓練費入力（今期）'!$D350&\"日間\")","v":""},{"$f":"IF('教育訓練費入力（今期）'!$F350=\"\",\"\",IF('教育訓練費入力（今期）'!$G350=1,'教育訓練費入力（今期）'!$F350,'教育訓練費入力（今期）'!$F350&\"他\"&'教育訓練費入力（今期）'!$G350-1&\"名\"))","v":""}]
[null,342,null,null,null,null,null,null,null,null,{"$f":"IF('教育訓練費入力（今期）'!$C351=\"\",\"\",TEXT('教育訓練費入力（今期）'!$C351,\"yyyy年\")&TEXT('教育訓練費入力（今期）'!$C351,\"m月\")&TEXT('教育訓練費入力（今期）'!$C351,\"ｄ日\")&\"から\"&'教育訓練費入力（今期）'!$D351&\"日間\")","v":""},{"$f":"IF('教育訓練費入力（今期）'!$F351=\"\",\"\",IF('教育訓練費入力（今期）'!$G351=1,'教育訓練費入力（今期）'!$F351,'教育訓練費入力（今期）'!$F351&\"他\"&'教育訓練費入力（今期）'!$G351-1&\"名\"))","v":""}]
[null,343,null,null,null,null,null,null,null,null,{"$f":"IF('教育訓練費入力（今期）'!$C352=\"\",\"\",TEXT('教育訓練費入力（今期）'!$C352,\"yyyy年\")&TEXT('教育訓練費入力（今期）'!$C352,\"m月\")&TEXT('教育訓練費入力（今期）'!$C352,\"ｄ日\")&\"から\"&'教育訓練費入力（今期）'!$D352&\"日間\")","v":""},{"$f":"IF('教育訓練費入力（今期）'!$F352=\"\",\"\",IF('教育訓練費入力（今期）'!$G352=1,'教育訓練費入力（今期）'!$F352,'教育訓練費入力（今期）'!$F352&\"他\"&'教育訓練費入力（今期）'!$G352-1&\"名\"))","v":""}]
[null,344,null,null,null,null,null,null,null,null,{"$f":"IF('教育訓練費入力（今期）'!$C353=\"\",\"\",TEXT('教育訓練費入力（今期）'!$C353,\"yyyy年\")&TEXT('教育訓練費入力（今期）'!$C353,\"m月\")&TEXT('教育訓練費入力（今期）'!$C353,\"ｄ日\")&\"から\"&'教育訓練費入力（今期）'!$D353&\"日間\")","v":""},{"$f":"IF('教育訓練費入力（今期）'!$F353=\"\",\"\",IF('教育訓練費入力（今期）'!$G353=1,'教育訓練費入力（今期）'!$F353,'教育訓練費入力（今期）'!$F353&\"他\"&'教育訓練費入力（今期）'!$G353-1&\"名\"))","v":""}]
[null,345,null,null,null,null,null,null,null,null,{"$f":"IF('教育訓練費入力（今期）'!$C354=\"\",\"\",TEXT('教育訓練費入力（今期）'!$C354,\"yyyy年\")&TEXT('教育訓練費入力（今期）'!$C354,\"m月\")&TEXT('教育訓練費入力（今期）'!$C354,\"ｄ日\")&\"から\"&'教育訓練費入力（今期）'!$D354&\"日間\")","v":""},{"$f":"IF('教育訓練費入力（今期）'!$F354=\"\",\"\",IF('教育訓練費入力（今期）'!$G354=1,'教育訓練費入力（今期）'!$F354,'教育訓練費入力（今期）'!$F354&\"他\"&'教育訓練費入力（今期）'!$G354-1&\"名\"))","v":""}]
[null,346,null,null,null,null,null,null,null,null,{"$f":"IF('教育訓練費入力（今期）'!$C355=\"\",\"\",TEXT('教育訓練費入力（今期）'!$C355,\"yyyy年\")&TEXT('教育訓練費入力（今期）'!$C355,\"m月\")&TEXT('教育訓練費入力（今期）'!$C355,\"ｄ日\")&\"から\"&'教育訓練費入力（今期）'!$D355&\"日間\")","v":""},{"$f":"IF('教育訓練費入力（今期）'!$F355=\"\",\"\",IF('教育訓練費入力（今期）'!$G355=1,'教育訓練費入力（今期）'!$F355,'教育訓練費入力（今期）'!$F355&\"他\"&'教育訓練費入力（今期）'!$G355-1&\"名\"))","v":""}]
[null,347,null,null,null,null,null,null,null,null,{"$f":"IF('教育訓練費入力（今期）'!$C356=\"\",\"\",TEXT('教育訓練費入力（今期）'!$C356,\"yyyy年\")&TEXT('教育訓練費入力（今期）'!$C356,\"m月\")&TEXT('教育訓練費入力（今期）'!$C356,\"ｄ日\")&\"から\"&'教育訓練費入力（今期）'!$D356&\"日間\")","v":""},{"$f":"IF('教育訓練費入力（今期）'!$F356=\"\",\"\",IF('教育訓練費入力（今期）'!$G356=1,'教育訓練費入力（今期）'!$F356,'教育訓練費入力（今期）'!$F356&\"他\"&'教育訓練費入力（今期）'!$G356-1&\"名\"))","v":""}]
[null,348,null,null,null,null,null,null,null,null,{"$f":"IF('教育訓練費入力（今期）'!$C357=\"\",\"\",TEXT('教育訓練費入力（今期）'!$C357,\"yyyy年\")&TEXT('教育訓練費入力（今期）'!$C357,\"m月\")&TEXT('教育訓練費入力（今期）'!$C357,\"ｄ日\")&\"から\"&'教育訓練費入力（今期）'!$D357&\"日間\")","v":""},{"$f":"IF('教育訓練費入力（今期）'!$F357=\"\",\"\",IF('教育訓練費入力（今期）'!$G357=1,'教育訓練費入力（今期）'!$F357,'教育訓練費入力（今期）'!$F357&\"他\"&'教育訓練費入力（今期）'!$G357-1&\"名\"))","v":""}]
[null,349,null,null,null,null,null,null,null,null,{"$f":"IF('教育訓練費入力（今期）'!$C358=\"\",\"\",TEXT('教育訓練費入力（今期）'!$C358,\"yyyy年\")&TEXT('教育訓練費入力（今期）'!$C358,\"m月\")&TEXT('教育訓練費入力（今期）'!$C358,\"ｄ日\")&\"から\"&'教育訓練費入力（今期）'!$D358&\"日間\")","v":""},{"$f":"IF('教育訓練費入力（今期）'!$F358=\"\",\"\",IF('教育訓練費入力（今期）'!$G358=1,'教育訓練費入力（今期）'!$F358,'教育訓練費入力（今期）'!$F358&\"他\"&'教育訓練費入力（今期）'!$G358-1&\"名\"))","v":""}]
[null,350,null,null,null,null,null,null,null,null,{"$f":"IF('教育訓練費入力（今期）'!$C359=\"\",\"\",TEXT('教育訓練費入力（今期）'!$C359,\"yyyy年\")&TEXT('教育訓練費入力（今期）'!$C359,\"m月\")&TEXT('教育訓練費入力（今期）'!$C359,\"ｄ日\")&\"から\"&'教育訓練費入力（今期）'!$D359&\"日間\")","v":""},{"$f":"IF('教育訓練費入力（今期）'!$F359=\"\",\"\",IF('教育訓練費入力（今期）'!$G359=1,'教育訓練費入力（今期）'!$F359,'教育訓練費入力（今期）'!$F359&\"他\"&'教育訓練費入力（今期）'!$G359-1&\"名\"))","v":""}]
[null,351,null,null,null,null,null,null,null,null,{"$f":"IF('教育訓練費入力（今期）'!$C360=\"\",\"\",TEXT('教育訓練費入力（今期）'!$C360,\"yyyy年\")&TEXT('教育訓練費入力（今期）'!$C360,\"m月\")&TEXT('教育訓練費入力（今期）'!$C360,\"ｄ日\")&\"から\"&'教育訓練費入力（今期）'!$D360&\"日間\")","v":""},{"$f":"IF('教育訓練費入力（今期）'!$F360=\"\",\"\",IF('教育訓練費入力（今期）'!$G360=1,'教育訓練費入力（今期）'!$F360,'教育訓練費入力（今期）'!$F360&\"他\"&'教育訓練費入力（今期）'!$G360-1&\"名\"))","v":""}]
[null,352,null,null,null,null,null,null,null,null,{"$f":"IF('教育訓練費入力（今期）'!$C361=\"\",\"\",TEXT('教育訓練費入力（今期）'!$C361,\"yyyy年\")&TEXT('教育訓練費入力（今期）'!$C361,\"m月\")&TEXT('教育訓練費入力（今期）'!$C361,\"ｄ日\")&\"から\"&'教育訓練費入力（今期）'!$D361&\"日間\")","v":""},{"$f":"IF('教育訓練費入力（今期）'!$F361=\"\",\"\",IF('教育訓練費入力（今期）'!$G361=1,'教育訓練費入力（今期）'!$F361,'教育訓練費入力（今期）'!$F361&\"他\"&'教育訓練費入力（今期）'!$G361-1&\"名\"))","v":""}]
[null,353,null,null,null,null,null,null,null,null,{"$f":"IF('教育訓練費入力（今期）'!$C362=\"\",\"\",TEXT('教育訓練費入力（今期）'!$C362,\"yyyy年\")&TEXT('教育訓練費入力（今期）'!$C362,\"m月\")&TEXT('教育訓練費入力（今期）'!$C362,\"ｄ日\")&\"から\"&'教育訓練費入力（今期）'!$D362&\"日間\")","v":""},{"$f":"IF('教育訓練費入力（今期）'!$F362=\"\",\"\",IF('教育訓練費入力（今期）'!$G362=1,'教育訓練費入力（今期）'!$F362,'教育訓練費入力（今期）'!$F362&\"他\"&'教育訓練費入力（今期）'!$G362-1&\"名\"))","v":""}]
[null,354,null,null,null,null,null,null,null,null,{"$f":"IF('教育訓練費入力（今期）'!$C363=\"\",\"\",TEXT('教育訓練費入力（今期）'!$C363,\"yyyy年\")&TEXT('教育訓練費入力（今期）'!$C363,\"m月\")&TEXT('教育訓練費入力（今期）'!$C363,\"ｄ日\")&\"から\"&'教育訓練費入力（今期）'!$D363&\"日間\")","v":""},{"$f":"IF('教育訓練費入力（今期）'!$F363=\"\",\"\",IF('教育訓練費入力（今期）'!$G363=1,'教育訓練費入力（今期）'!$F363,'教育訓練費入力（今期）'!$F363&\"他\"&'教育訓練費入力（今期）'!$G363-1&\"名\"))","v":""}]
[null,355,null,null,null,null,null,null,null,null,{"$f":"IF('教育訓練費入力（今期）'!$C364=\"\",\"\",TEXT('教育訓練費入力（今期）'!$C364,\"yyyy年\")&TEXT('教育訓練費入力（今期）'!$C364,\"m月\")&TEXT('教育訓練費入力（今期）'!$C364,\"ｄ日\")&\"から\"&'教育訓練費入力（今期）'!$D364&\"日間\")","v":""},{"$f":"IF('教育訓練費入力（今期）'!$F364=\"\",\"\",IF('教育訓練費入力（今期）'!$G364=1,'教育訓練費入力（今期）'!$F364,'教育訓練費入力（今期）'!$F364&\"他\"&'教育訓練費入力（今期）'!$G364-1&\"名\"))","v":""}]
[null,356,null,null,null,null,null,null,null,null,{"$f":"IF('教育訓練費入力（今期）'!$C365=\"\",\"\",TEXT('教育訓練費入力（今期）'!$C365,\"yyyy年\")&TEXT('教育訓練費入力（今期）'!$C365,\"m月\")&TEXT('教育訓練費入力（今期）'!$C365,\"ｄ日\")&\"から\"&'教育訓練費入力（今期）'!$D365&\"日間\")","v":""},{"$f":"IF('教育訓練費入力（今期）'!$F365=\"\",\"\",IF('教育訓練費入力（今期）'!$G365=1,'教育訓練費入力（今期）'!$F365,'教育訓練費入力（今期）'!$F365&\"他\"&'教育訓練費入力（今期）'!$G365-1&\"名\"))","v":""}]
[null,357,null,null,null,null,null,null,null,null,{"$f":"IF('教育訓練費入力（今期）'!$C366=\"\",\"\",TEXT('教育訓練費入力（今期）'!$C366,\"yyyy年\")&TEXT('教育訓練費入力（今期）'!$C366,\"m月\")&TEXT('教育訓練費入力（今期）'!$C366,\"ｄ日\")&\"から\"&'教育訓練費入力（今期）'!$D366&\"日間\")","v":""},{"$f":"IF('教育訓練費入力（今期）'!$F366=\"\",\"\",IF('教育訓練費入力（今期）'!$G366=1,'教育訓練費入力（今期）'!$F366,'教育訓練費入力（今期）'!$F366&\"他\"&'教育訓練費入力（今期）'!$G366-1&\"名\"))","v":""}]
[null,358,null,null,null,null,null,null,null,null,{"$f":"IF('教育訓練費入力（今期）'!$C367=\"\",\"\",TEXT('教育訓練費入力（今期）'!$C367,\"yyyy年\")&TEXT('教育訓練費入力（今期）'!$C367,\"m月\")&TEXT('教育訓練費入力（今期）'!$C367,\"ｄ日\")&\"から\"&'教育訓練費入力（今期）'!$D367&\"日間\")","v":""},{"$f":"IF('教育訓練費入力（今期）'!$F367=\"\",\"\",IF('教育訓練費入力（今期）'!$G367=1,'教育訓練費入力（今期）'!$F367,'教育訓練費入力（今期）'!$F367&\"他\"&'教育訓練費入力（今期）'!$G367-1&\"名\"))","v":""}]
[null,359,null,null,null,null,null,null,null,null,{"$f":"IF('教育訓練費入力（今期）'!$C368=\"\",\"\",TEXT('教育訓練費入力（今期）'!$C368,\"yyyy年\")&TEXT('教育訓練費入力（今期）'!$C368,\"m月\")&TEXT('教育訓練費入力（今期）'!$C368,\"ｄ日\")&\"から\"&'教育訓練費入力（今期）'!$D368&\"日間\")","v":""},{"$f":"IF('教育訓練費入力（今期）'!$F368=\"\",\"\",IF('教育訓練費入力（今期）'!$G368=1,'教育訓練費入力（今期）'!$F368,'教育訓練費入力（今期）'!$F368&\"他\"&'教育訓練費入力（今期）'!$G368-1&\"名\"))","v":""}]
[null,360,null,null,null,null,null,null,null,null,{"$f":"IF('教育訓練費入力（今期）'!$C369=\"\",\"\",TEXT('教育訓練費入力（今期）'!$C369,\"yyyy年\")&TEXT('教育訓練費入力（今期）'!$C369,\"m月\")&TEXT('教育訓練費入力（今期）'!$C369,\"ｄ日\")&\"から\"&'教育訓練費入力（今期）'!$D369&\"日間\")","v":""},{"$f":"IF('教育訓練費入力（今期）'!$F369=\"\",\"\",IF('教育訓練費入力（今期）'!$G369=1,'教育訓練費入力（今期）'!$F369,'教育訓練費入力（今期）'!$F369&\"他\"&'教育訓練費入力（今期）'!$G369-1&\"名\"))","v":""}]
[null,361,null,null,null,null,null,null,null,null,{"$f":"IF('教育訓練費入力（今期）'!$C370=\"\",\"\",TEXT('教育訓練費入力（今期）'!$C370,\"yyyy年\")&TEXT('教育訓練費入力（今期）'!$C370,\"m月\")&TEXT('教育訓練費入力（今期）'!$C370,\"ｄ日\")&\"から\"&'教育訓練費入力（今期）'!$D370&\"日間\")","v":""},{"$f":"IF('教育訓練費入力（今期）'!$F370=\"\",\"\",IF('教育訓練費入力（今期）'!$G370=1,'教育訓練費入力（今期）'!$F370,'教育訓練費入力（今期）'!$F370&\"他\"&'教育訓練費入力（今期）'!$G370-1&\"名\"))","v":""}]
[null,362,null,null,null,null,null,null,null,null,{"$f":"IF('教育訓練費入力（今期）'!$C371=\"\",\"\",TEXT('教育訓練費入力（今期）'!$C371,\"yyyy年\")&TEXT('教育訓練費入力（今期）'!$C371,\"m月\")&TEXT('教育訓練費入力（今期）'!$C371,\"ｄ日\")&\"から\"&'教育訓練費入力（今期）'!$D371&\"日間\")","v":""},{"$f":"IF('教育訓練費入力（今期）'!$F371=\"\",\"\",IF('教育訓練費入力（今期）'!$G371=1,'教育訓練費入力（今期）'!$F371,'教育訓練費入力（今期）'!$F371&\"他\"&'教育訓練費入力（今期）'!$G371-1&\"名\"))","v":""}]
[null,363,null,null,null,null,null,null,null,null,{"$f":"IF('教育訓練費入力（今期）'!$C372=\"\",\"\",TEXT('教育訓練費入力（今期）'!$C372,\"yyyy年\")&TEXT('教育訓練費入力（今期）'!$C372,\"m月\")&TEXT('教育訓練費入力（今期）'!$C372,\"ｄ日\")&\"から\"&'教育訓練費入力（今期）'!$D372&\"日間\")","v":""},{"$f":"IF('教育訓練費入力（今期）'!$F372=\"\",\"\",IF('教育訓練費入力（今期）'!$G372=1,'教育訓練費入力（今期）'!$F372,'教育訓練費入力（今期）'!$F372&\"他\"&'教育訓練費入力（今期）'!$G372-1&\"名\"))","v":""}]
[null,364,null,null,null,null,null,null,null,null,{"$f":"IF('教育訓練費入力（今期）'!$C373=\"\",\"\",TEXT('教育訓練費入力（今期）'!$C373,\"yyyy年\")&TEXT('教育訓練費入力（今期）'!$C373,\"m月\")&TEXT('教育訓練費入力（今期）'!$C373,\"ｄ日\")&\"から\"&'教育訓練費入力（今期）'!$D373&\"日間\")","v":""},{"$f":"IF('教育訓練費入力（今期）'!$F373=\"\",\"\",IF('教育訓練費入力（今期）'!$G373=1,'教育訓練費入力（今期）'!$F373,'教育訓練費入力（今期）'!$F373&\"他\"&'教育訓練費入力（今期）'!$G373-1&\"名\"))","v":""}]
[null,365,null,null,null,null,null,null,null,null,{"$f":"IF('教育訓練費入力（今期）'!$C374=\"\",\"\",TEXT('教育訓練費入力（今期）'!$C374,\"yyyy年\")&TEXT('教育訓練費入力（今期）'!$C374,\"m月\")&TEXT('教育訓練費入力（今期）'!$C374,\"ｄ日\")&\"から\"&'教育訓練費入力（今期）'!$D374&\"日間\")","v":""},{"$f":"IF('教育訓練費入力（今期）'!$F374=\"\",\"\",IF('教育訓練費入力（今期）'!$G374=1,'教育訓練費入力（今期）'!$F374,'教育訓練費入力（今期）'!$F374&\"他\"&'教育訓練費入力（今期）'!$G374-1&\"名\"))","v":""}]
[null,366,null,null,null,null,null,null,null,null,{"$f":"IF('教育訓練費入力（今期）'!$C375=\"\",\"\",TEXT('教育訓練費入力（今期）'!$C375,\"yyyy年\")&TEXT('教育訓練費入力（今期）'!$C375,\"m月\")&TEXT('教育訓練費入力（今期）'!$C375,\"ｄ日\")&\"から\"&'教育訓練費入力（今期）'!$D375&\"日間\")","v":""},{"$f":"IF('教育訓練費入力（今期）'!$F375=\"\",\"\",IF('教育訓練費入力（今期）'!$G375=1,'教育訓練費入力（今期）'!$F375,'教育訓練費入力（今期）'!$F375&\"他\"&'教育訓練費入力（今期）'!$G375-1&\"名\"))","v":""}]
[null,367,null,null,null,null,null,null,null,null,{"$f":"IF('教育訓練費入力（今期）'!$C376=\"\",\"\",TEXT('教育訓練費入力（今期）'!$C376,\"yyyy年\")&TEXT('教育訓練費入力（今期）'!$C376,\"m月\")&TEXT('教育訓練費入力（今期）'!$C376,\"ｄ日\")&\"から\"&'教育訓練費入力（今期）'!$D376&\"日間\")","v":""},{"$f":"IF('教育訓練費入力（今期）'!$F376=\"\",\"\",IF('教育訓練費入力（今期）'!$G376=1,'教育訓練費入力（今期）'!$F376,'教育訓練費入力（今期）'!$F376&\"他\"&'教育訓練費入力（今期）'!$G376-1&\"名\"))","v":""}]
[null,368,null,null,null,null,null,null,null,null,{"$f":"IF('教育訓練費入力（今期）'!$C377=\"\",\"\",TEXT('教育訓練費入力（今期）'!$C377,\"yyyy年\")&TEXT('教育訓練費入力（今期）'!$C377,\"m月\")&TEXT('教育訓練費入力（今期）'!$C377,\"ｄ日\")&\"から\"&'教育訓練費入力（今期）'!$D377&\"日間\")","v":""},{"$f":"IF('教育訓練費入力（今期）'!$F377=\"\",\"\",IF('教育訓練費入力（今期）'!$G377=1,'教育訓練費入力（今期）'!$F377,'教育訓練費入力（今期）'!$F377&\"他\"&'教育訓練費入力（今期）'!$G377-1&\"名\"))","v":""}]
[null,369,null,null,null,null,null,null,null,null,{"$f":"IF('教育訓練費入力（今期）'!$C378=\"\",\"\",TEXT('教育訓練費入力（今期）'!$C378,\"yyyy年\")&TEXT('教育訓練費入力（今期）'!$C378,\"m月\")&TEXT('教育訓練費入力（今期）'!$C378,\"ｄ日\")&\"から\"&'教育訓練費入力（今期）'!$D378&\"日間\")","v":""},{"$f":"IF('教育訓練費入力（今期）'!$F378=\"\",\"\",IF('教育訓練費入力（今期）'!$G378=1,'教育訓練費入力（今期）'!$F378,'教育訓練費入力（今期）'!$F378&\"他\"&'教育訓練費入力（今期）'!$G378-1&\"名\"))","v":""}]
[null,370,null,null,null,null,null,null,null,null,{"$f":"IF('教育訓練費入力（今期）'!$C379=\"\",\"\",TEXT('教育訓練費入力（今期）'!$C379,\"yyyy年\")&TEXT('教育訓練費入力（今期）'!$C379,\"m月\")&TEXT('教育訓練費入力（今期）'!$C379,\"ｄ日\")&\"から\"&'教育訓練費入力（今期）'!$D379&\"日間\")","v":""},{"$f":"IF('教育訓練費入力（今期）'!$F379=\"\",\"\",IF('教育訓練費入力（今期）'!$G379=1,'教育訓練費入力（今期）'!$F379,'教育訓練費入力（今期）'!$F379&\"他\"&'教育訓練費入力（今期）'!$G379-1&\"名\"))","v":""}]
[null,371,null,null,null,null,null,null,null,null,{"$f":"IF('教育訓練費入力（今期）'!$C380=\"\",\"\",TEXT('教育訓練費入力（今期）'!$C380,\"yyyy年\")&TEXT('教育訓練費入力（今期）'!$C380,\"m月\")&TEXT('教育訓練費入力（今期）'!$C380,\"ｄ日\")&\"から\"&'教育訓練費入力（今期）'!$D380&\"日間\")","v":""},{"$f":"IF('教育訓練費入力（今期）'!$F380=\"\",\"\",IF('教育訓練費入力（今期）'!$G380=1,'教育訓練費入力（今期）'!$F380,'教育訓練費入力（今期）'!$F380&\"他\"&'教育訓練費入力（今期）'!$G380-1&\"名\"))","v":""}]
[null,372,null,null,null,null,null,null,null,null,{"$f":"IF('教育訓練費入力（今期）'!$C381=\"\",\"\",TEXT('教育訓練費入力（今期）'!$C381,\"yyyy年\")&TEXT('教育訓練費入力（今期）'!$C381,\"m月\")&TEXT('教育訓練費入力（今期）'!$C381,\"ｄ日\")&\"から\"&'教育訓練費入力（今期）'!$D381&\"日間\")","v":""},{"$f":"IF('教育訓練費入力（今期）'!$F381=\"\",\"\",IF('教育訓練費入力（今期）'!$G381=1,'教育訓練費入力（今期）'!$F381,'教育訓練費入力（今期）'!$F381&\"他\"&'教育訓練費入力（今期）'!$G381-1&\"名\"))","v":""}]
[null,373,null,null,null,null,null,null,null,null,{"$f":"IF('教育訓練費入力（今期）'!$C382=\"\",\"\",TEXT('教育訓練費入力（今期）'!$C382,\"yyyy年\")&TEXT('教育訓練費入力（今期）'!$C382,\"m月\")&TEXT('教育訓練費入力（今期）'!$C382,\"ｄ日\")&\"から\"&'教育訓練費入力（今期）'!$D382&\"日間\")","v":""},{"$f":"IF('教育訓練費入力（今期）'!$F382=\"\",\"\",IF('教育訓練費入力（今期）'!$G382=1,'教育訓練費入力（今期）'!$F382,'教育訓練費入力（今期）'!$F382&\"他\"&'教育訓練費入力（今期）'!$G382-1&\"名\"))","v":""}]
[null,374,null,null,null,null,null,null,null,null,{"$f":"IF('教育訓練費入力（今期）'!$C383=\"\",\"\",TEXT('教育訓練費入力（今期）'!$C383,\"yyyy年\")&TEXT('教育訓練費入力（今期）'!$C383,\"m月\")&TEXT('教育訓練費入力（今期）'!$C383,\"ｄ日\")&\"から\"&'教育訓練費入力（今期）'!$D383&\"日間\")","v":""},{"$f":"IF('教育訓練費入力（今期）'!$F383=\"\",\"\",IF('教育訓練費入力（今期）'!$G383=1,'教育訓練費入力（今期）'!$F383,'教育訓練費入力（今期）'!$F383&\"他\"&'教育訓練費入力（今期）'!$G383-1&\"名\"))","v":""}]
[null,375,null,null,null,null,null,null,null,null,{"$f":"IF('教育訓練費入力（今期）'!$C384=\"\",\"\",TEXT('教育訓練費入力（今期）'!$C384,\"yyyy年\")&TEXT('教育訓練費入力（今期）'!$C384,\"m月\")&TEXT('教育訓練費入力（今期）'!$C384,\"ｄ日\")&\"から\"&'教育訓練費入力（今期）'!$D384&\"日間\")","v":""},{"$f":"IF('教育訓練費入力（今期）'!$F384=\"\",\"\",IF('教育訓練費入力（今期）'!$G384=1,'教育訓練費入力（今期）'!$F384,'教育訓練費入力（今期）'!$F384&\"他\"&'教育訓練費入力（今期）'!$G384-1&\"名\"))","v":""}]
[null,376,null,null,null,null,null,null,null,null,{"$f":"IF('教育訓練費入力（今期）'!$C385=\"\",\"\",TEXT('教育訓練費入力（今期）'!$C385,\"yyyy年\")&TEXT('教育訓練費入力（今期）'!$C385,\"m月\")&TEXT('教育訓練費入力（今期）'!$C385,\"ｄ日\")&\"から\"&'教育訓練費入力（今期）'!$D385&\"日間\")","v":""},{"$f":"IF('教育訓練費入力（今期）'!$F385=\"\",\"\",IF('教育訓練費入力（今期）'!$G385=1,'教育訓練費入力（今期）'!$F385,'教育訓練費入力（今期）'!$F385&\"他\"&'教育訓練費入力（今期）'!$G385-1&\"名\"))","v":""}]
[null,377,null,null,null,null,null,null,null,null,{"$f":"IF('教育訓練費入力（今期）'!$C386=\"\",\"\",TEXT('教育訓練費入力（今期）'!$C386,\"yyyy年\")&TEXT('教育訓練費入力（今期）'!$C386,\"m月\")&TEXT('教育訓練費入力（今期）'!$C386,\"ｄ日\")&\"から\"&'教育訓練費入力（今期）'!$D386&\"日間\")","v":""},{"$f":"IF('教育訓練費入力（今期）'!$F386=\"\",\"\",IF('教育訓練費入力（今期）'!$G386=1,'教育訓練費入力（今期）'!$F386,'教育訓練費入力（今期）'!$F386&\"他\"&'教育訓練費入力（今期）'!$G386-1&\"名\"))","v":""}]
[null,378,null,null,null,null,null,null,null,null,{"$f":"IF('教育訓練費入力（今期）'!$C387=\"\",\"\",TEXT('教育訓練費入力（今期）'!$C387,\"yyyy年\")&TEXT('教育訓練費入力（今期）'!$C387,\"m月\")&TEXT('教育訓練費入力（今期）'!$C387,\"ｄ日\")&\"から\"&'教育訓練費入力（今期）'!$D387&\"日間\")","v":""},{"$f":"IF('教育訓練費入力（今期）'!$F387=\"\",\"\",IF('教育訓練費入力（今期）'!$G387=1,'教育訓練費入力（今期）'!$F387,'教育訓練費入力（今期）'!$F387&\"他\"&'教育訓練費入力（今期）'!$G387-1&\"名\"))","v":""}]
[null,379,null,null,null,null,null,null,null,null,{"$f":"IF('教育訓練費入力（今期）'!$C388=\"\",\"\",TEXT('教育訓練費入力（今期）'!$C388,\"yyyy年\")&TEXT('教育訓練費入力（今期）'!$C388,\"m月\")&TEXT('教育訓練費入力（今期）'!$C388,\"ｄ日\")&\"から\"&'教育訓練費入力（今期）'!$D388&\"日間\")","v":""},{"$f":"IF('教育訓練費入力（今期）'!$F388=\"\",\"\",IF('教育訓練費入力（今期）'!$G388=1,'教育訓練費入力（今期）'!$F388,'教育訓練費入力（今期）'!$F388&\"他\"&'教育訓練費入力（今期）'!$G388-1&\"名\"))","v":""}]
[null,380,null,null,null,null,null,null,null,null,{"$f":"IF('教育訓練費入力（今期）'!$C389=\"\",\"\",TEXT('教育訓練費入力（今期）'!$C389,\"yyyy年\")&TEXT('教育訓練費入力（今期）'!$C389,\"m月\")&TEXT('教育訓練費入力（今期）'!$C389,\"ｄ日\")&\"から\"&'教育訓練費入力（今期）'!$D389&\"日間\")","v":""},{"$f":"IF('教育訓練費入力（今期）'!$F389=\"\",\"\",IF('教育訓練費入力（今期）'!$G389=1,'教育訓練費入力（今期）'!$F389,'教育訓練費入力（今期）'!$F389&\"他\"&'教育訓練費入力（今期）'!$G389-1&\"名\"))","v":""}]
[null,381,null,null,null,null,null,null,null,null,{"$f":"IF('教育訓練費入力（今期）'!$C390=\"\",\"\",TEXT('教育訓練費入力（今期）'!$C390,\"yyyy年\")&TEXT('教育訓練費入力（今期）'!$C390,\"m月\")&TEXT('教育訓練費入力（今期）'!$C390,\"ｄ日\")&\"から\"&'教育訓練費入力（今期）'!$D390&\"日間\")","v":""},{"$f":"IF('教育訓練費入力（今期）'!$F390=\"\",\"\",IF('教育訓練費入力（今期）'!$G390=1,'教育訓練費入力（今期）'!$F390,'教育訓練費入力（今期）'!$F390&\"他\"&'教育訓練費入力（今期）'!$G390-1&\"名\"))","v":""}]
[null,382,null,null,null,null,null,null,null,null,{"$f":"IF('教育訓練費入力（今期）'!$C391=\"\",\"\",TEXT('教育訓練費入力（今期）'!$C391,\"yyyy年\")&TEXT('教育訓練費入力（今期）'!$C391,\"m月\")&TEXT('教育訓練費入力（今期）'!$C391,\"ｄ日\")&\"から\"&'教育訓練費入力（今期）'!$D391&\"日間\")","v":""},{"$f":"IF('教育訓練費入力（今期）'!$F391=\"\",\"\",IF('教育訓練費入力（今期）'!$G391=1,'教育訓練費入力（今期）'!$F391,'教育訓練費入力（今期）'!$F391&\"他\"&'教育訓練費入力（今期）'!$G391-1&\"名\"))","v":""}]
[null,383,null,null,null,null,null,null,null,null,{"$f":"IF('教育訓練費入力（今期）'!$C392=\"\",\"\",TEXT('教育訓練費入力（今期）'!$C392,\"yyyy年\")&TEXT('教育訓練費入力（今期）'!$C392,\"m月\")&TEXT('教育訓練費入力（今期）'!$C392,\"ｄ日\")&\"から\"&'教育訓練費入力（今期）'!$D392&\"日間\")","v":""},{"$f":"IF('教育訓練費入力（今期）'!$F392=\"\",\"\",IF('教育訓練費入力（今期）'!$G392=1,'教育訓練費入力（今期）'!$F392,'教育訓練費入力（今期）'!$F392&\"他\"&'教育訓練費入力（今期）'!$G392-1&\"名\"))","v":""}]
[null,384,null,null,null,null,null,null,null,null,{"$f":"IF('教育訓練費入力（今期）'!$C393=\"\",\"\",TEXT('教育訓練費入力（今期）'!$C393,\"yyyy年\")&TEXT('教育訓練費入力（今期）'!$C393,\"m月\")&TEXT('教育訓練費入力（今期）'!$C393,\"ｄ日\")&\"から\"&'教育訓練費入力（今期）'!$D393&\"日間\")","v":""},{"$f":"IF('教育訓練費入力（今期）'!$F393=\"\",\"\",IF('教育訓練費入力（今期）'!$G393=1,'教育訓練費入力（今期）'!$F393,'教育訓練費入力（今期）'!$F393&\"他\"&'教育訓練費入力（今期）'!$G393-1&\"名\"))","v":""}]
[null,385,null,null,null,null,null,null,null,null,{"$f":"IF('教育訓練費入力（今期）'!$C394=\"\",\"\",TEXT('教育訓練費入力（今期）'!$C394,\"yyyy年\")&TEXT('教育訓練費入力（今期）'!$C394,\"m月\")&TEXT('教育訓練費入力（今期）'!$C394,\"ｄ日\")&\"から\"&'教育訓練費入力（今期）'!$D394&\"日間\")","v":""},{"$f":"IF('教育訓練費入力（今期）'!$F394=\"\",\"\",IF('教育訓練費入力（今期）'!$G394=1,'教育訓練費入力（今期）'!$F394,'教育訓練費入力（今期）'!$F394&\"他\"&'教育訓練費入力（今期）'!$G394-1&\"名\"))","v":""}]
[null,386,null,null,null,null,null,null,null,null,{"$f":"IF('教育訓練費入力（今期）'!$C395=\"\",\"\",TEXT('教育訓練費入力（今期）'!$C395,\"yyyy年\")&TEXT('教育訓練費入力（今期）'!$C395,\"m月\")&TEXT('教育訓練費入力（今期）'!$C395,\"ｄ日\")&\"から\"&'教育訓練費入力（今期）'!$D395&\"日間\")","v":""},{"$f":"IF('教育訓練費入力（今期）'!$F395=\"\",\"\",IF('教育訓練費入力（今期）'!$G395=1,'教育訓練費入力（今期）'!$F395,'教育訓練費入力（今期）'!$F395&\"他\"&'教育訓練費入力（今期）'!$G395-1&\"名\"))","v":""}]
[null,387,null,null,null,null,null,null,null,null,{"$f":"IF('教育訓練費入力（今期）'!$C396=\"\",\"\",TEXT('教育訓練費入力（今期）'!$C396,\"yyyy年\")&TEXT('教育訓練費入力（今期）'!$C396,\"m月\")&TEXT('教育訓練費入力（今期）'!$C396,\"ｄ日\")&\"から\"&'教育訓練費入力（今期）'!$D396&\"日間\")","v":""},{"$f":"IF('教育訓練費入力（今期）'!$F396=\"\",\"\",IF('教育訓練費入力（今期）'!$G396=1,'教育訓練費入力（今期）'!$F396,'教育訓練費入力（今期）'!$F396&\"他\"&'教育訓練費入力（今期）'!$G396-1&\"名\"))","v":""}]
[null,388,null,null,null,null,null,null,null,null,{"$f":"IF('教育訓練費入力（今期）'!$C397=\"\",\"\",TEXT('教育訓練費入力（今期）'!$C397,\"yyyy年\")&TEXT('教育訓練費入力（今期）'!$C397,\"m月\")&TEXT('教育訓練費入力（今期）'!$C397,\"ｄ日\")&\"から\"&'教育訓練費入力（今期）'!$D397&\"日間\")","v":""},{"$f":"IF('教育訓練費入力（今期）'!$F397=\"\",\"\",IF('教育訓練費入力（今期）'!$G397=1,'教育訓練費入力（今期）'!$F397,'教育訓練費入力（今期）'!$F397&\"他\"&'教育訓練費入力（今期）'!$G397-1&\"名\"))","v":""}]
[null,389,null,null,null,null,null,null,null,null,{"$f":"IF('教育訓練費入力（今期）'!$C398=\"\",\"\",TEXT('教育訓練費入力（今期）'!$C398,\"yyyy年\")&TEXT('教育訓練費入力（今期）'!$C398,\"m月\")&TEXT('教育訓練費入力（今期）'!$C398,\"ｄ日\")&\"から\"&'教育訓練費入力（今期）'!$D398&\"日間\")","v":""},{"$f":"IF('教育訓練費入力（今期）'!$F398=\"\",\"\",IF('教育訓練費入力（今期）'!$G398=1,'教育訓練費入力（今期）'!$F398,'教育訓練費入力（今期）'!$F398&\"他\"&'教育訓練費入力（今期）'!$G398-1&\"名\"))","v":""}]
[null,390,null,null,null,null,null,null,null,null,{"$f":"IF('教育訓練費入力（今期）'!$C399=\"\",\"\",TEXT('教育訓練費入力（今期）'!$C399,\"yyyy年\")&TEXT('教育訓練費入力（今期）'!$C399,\"m月\")&TEXT('教育訓練費入力（今期）'!$C399,\"ｄ日\")&\"から\"&'教育訓練費入力（今期）'!$D399&\"日間\")","v":""},{"$f":"IF('教育訓練費入力（今期）'!$F399=\"\",\"\",IF('教育訓練費入力（今期）'!$G399=1,'教育訓練費入力（今期）'!$F399,'教育訓練費入力（今期）'!$F399&\"他\"&'教育訓練費入力（今期）'!$G399-1&\"名\"))","v":""}]
[null,391,null,null,null,null,null,null,null,null,{"$f":"IF('教育訓練費入力（今期）'!$C400=\"\",\"\",TEXT('教育訓練費入力（今期）'!$C400,\"yyyy年\")&TEXT('教育訓練費入力（今期）'!$C400,\"m月\")&TEXT('教育訓練費入力（今期）'!$C400,\"ｄ日\")&\"から\"&'教育訓練費入力（今期）'!$D400&\"日間\")","v":""},{"$f":"IF('教育訓練費入力（今期）'!$F400=\"\",\"\",IF('教育訓練費入力（今期）'!$G400=1,'教育訓練費入力（今期）'!$F400,'教育訓練費入力（今期）'!$F400&\"他\"&'教育訓練費入力（今期）'!$G400-1&\"名\"))","v":""}]
[null,392,null,null,null,null,null,null,null,null,{"$f":"IF('教育訓練費入力（今期）'!$C401=\"\",\"\",TEXT('教育訓練費入力（今期）'!$C401,\"yyyy年\")&TEXT('教育訓練費入力（今期）'!$C401,\"m月\")&TEXT('教育訓練費入力（今期）'!$C401,\"ｄ日\")&\"から\"&'教育訓練費入力（今期）'!$D401&\"日間\")","v":""},{"$f":"IF('教育訓練費入力（今期）'!$F401=\"\",\"\",IF('教育訓練費入力（今期）'!$G401=1,'教育訓練費入力（今期）'!$F401,'教育訓練費入力（今期）'!$F401&\"他\"&'教育訓練費入力（今期）'!$G401-1&\"名\"))","v":""}]
[null,393,null,null,null,null,null,null,null,null,{"$f":"IF('教育訓練費入力（今期）'!$C402=\"\",\"\",TEXT('教育訓練費入力（今期）'!$C402,\"yyyy年\")&TEXT('教育訓練費入力（今期）'!$C402,\"m月\")&TEXT('教育訓練費入力（今期）'!$C402,\"ｄ日\")&\"から\"&'教育訓練費入力（今期）'!$D402&\"日間\")","v":""},{"$f":"IF('教育訓練費入力（今期）'!$F402=\"\",\"\",IF('教育訓練費入力（今期）'!$G402=1,'教育訓練費入力（今期）'!$F402,'教育訓練費入力（今期）'!$F402&\"他\"&'教育訓練費入力（今期）'!$G402-1&\"名\"))","v":""}]
[null,394,null,null,null,null,null,null,null,null,{"$f":"IF('教育訓練費入力（今期）'!$C403=\"\",\"\",TEXT('教育訓練費入力（今期）'!$C403,\"yyyy年\")&TEXT('教育訓練費入力（今期）'!$C403,\"m月\")&TEXT('教育訓練費入力（今期）'!$C403,\"ｄ日\")&\"から\"&'教育訓練費入力（今期）'!$D403&\"日間\")","v":""},{"$f":"IF('教育訓練費入力（今期）'!$F403=\"\",\"\",IF('教育訓練費入力（今期）'!$G403=1,'教育訓練費入力（今期）'!$F403,'教育訓練費入力（今期）'!$F403&\"他\"&'教育訓練費入力（今期）'!$G403-1&\"名\"))","v":""}]
[null,395,null,null,null,null,null,null,null,null,{"$f":"IF('教育訓練費入力（今期）'!$C404=\"\",\"\",TEXT('教育訓練費入力（今期）'!$C404,\"yyyy年\")&TEXT('教育訓練費入力（今期）'!$C404,\"m月\")&TEXT('教育訓練費入力（今期）'!$C404,\"ｄ日\")&\"から\"&'教育訓練費入力（今期）'!$D404&\"日間\")","v":""},{"$f":"IF('教育訓練費入力（今期）'!$F404=\"\",\"\",IF('教育訓練費入力（今期）'!$G404=1,'教育訓練費入力（今期）'!$F404,'教育訓練費入力（今期）'!$F404&\"他\"&'教育訓練費入力（今期）'!$G404-1&\"名\"))","v":""}]
[null,396,null,null,null,null,null,null,null,null,{"$f":"IF('教育訓練費入力（今期）'!$C405=\"\",\"\",TEXT('教育訓練費入力（今期）'!$C405,\"yyyy年\")&TEXT('教育訓練費入力（今期）'!$C405,\"m月\")&TEXT('教育訓練費入力（今期）'!$C405,\"ｄ日\")&\"から\"&'教育訓練費入力（今期）'!$D405&\"日間\")","v":""},{"$f":"IF('教育訓練費入力（今期）'!$F405=\"\",\"\",IF('教育訓練費入力（今期）'!$G405=1,'教育訓練費入力（今期）'!$F405,'教育訓練費入力（今期）'!$F405&\"他\"&'教育訓練費入力（今期）'!$G405-1&\"名\"))","v":""}]
[null,397,null,null,null,null,null,null,null,null,{"$f":"IF('教育訓練費入力（今期）'!$C406=\"\",\"\",TEXT('教育訓練費入力（今期）'!$C406,\"yyyy年\")&TEXT('教育訓練費入力（今期）'!$C406,\"m月\")&TEXT('教育訓練費入力（今期）'!$C406,\"ｄ日\")&\"から\"&'教育訓練費入力（今期）'!$D406&\"日間\")","v":""},{"$f":"IF('教育訓練費入力（今期）'!$F406=\"\",\"\",IF('教育訓練費入力（今期）'!$G406=1,'教育訓練費入力（今期）'!$F406,'教育訓練費入力（今期）'!$F406&\"他\"&'教育訓練費入力（今期）'!$G406-1&\"名\"))","v":""}]
[null,398,null,null,null,null,null,null,null,null,{"$f":"IF('教育訓練費入力（今期）'!$C407=\"\",\"\",TEXT('教育訓練費入力（今期）'!$C407,\"yyyy年\")&TEXT('教育訓練費入力（今期）'!$C407,\"m月\")&TEXT('教育訓練費入力（今期）'!$C407,\"ｄ日\")&\"から\"&'教育訓練費入力（今期）'!$D407&\"日間\")","v":""},{"$f":"IF('教育訓練費入力（今期）'!$F407=\"\",\"\",IF('教育訓練費入力（今期）'!$G407=1,'教育訓練費入力（今期）'!$F407,'教育訓練費入力（今期）'!$F407&\"他\"&'教育訓練費入力（今期）'!$G407-1&\"名\"))","v":""}]
[null,399,null,null,null,null,null,null,null,null,{"$f":"IF('教育訓練費入力（今期）'!$C408=\"\",\"\",TEXT('教育訓練費入力（今期）'!$C408,\"yyyy年\")&TEXT('教育訓練費入力（今期）'!$C408,\"m月\")&TEXT('教育訓練費入力（今期）'!$C408,\"ｄ日\")&\"から\"&'教育訓練費入力（今期）'!$D408&\"日間\")","v":""},{"$f":"IF('教育訓練費入力（今期）'!$F408=\"\",\"\",IF('教育訓練費入力（今期）'!$G408=1,'教育訓練費入力（今期）'!$F408,'教育訓練費入力（今期）'!$F408&\"他\"&'教育訓練費入力（今期）'!$G408-1&\"名\"))","v":""}]
[null,400,null,null,null,null,null,null,null,null,{"$f":"IF('教育訓練費入力（今期）'!$C409=\"\",\"\",TEXT('教育訓練費入力（今期）'!$C409,\"yyyy年\")&TEXT('教育訓練費入力（今期）'!$C409,\"m月\")&TEXT('教育訓練費入力（今期）'!$C409,\"ｄ日\")&\"から\"&'教育訓練費入力（今期）'!$D409&\"日間\")","v":""},{"$f":"IF('教育訓練費入力（今期）'!$F409=\"\",\"\",IF('教育訓練費入力（今期）'!$G409=1,'教育訓練費入力（今期）'!$F409,'教育訓練費入力（今期）'!$F409&\"他\"&'教育訓練費入力（今期）'!$G409-1&\"名\"))","v":""}]
[null,401,null,null,null,null,null,null,null,null,{"$f":"IF('教育訓練費入力（今期）'!$C410=\"\",\"\",TEXT('教育訓練費入力（今期）'!$C410,\"yyyy年\")&TEXT('教育訓練費入力（今期）'!$C410,\"m月\")&TEXT('教育訓練費入力（今期）'!$C410,\"ｄ日\")&\"から\"&'教育訓練費入力（今期）'!$D410&\"日間\")","v":""},{"$f":"IF('教育訓練費入力（今期）'!$F410=\"\",\"\",IF('教育訓練費入力（今期）'!$G410=1,'教育訓練費入力（今期）'!$F410,'教育訓練費入力（今期）'!$F410&\"他\"&'教育訓練費入力（今期）'!$G410-1&\"名\"))","v":""}]
[null,402,null,null,null,null,null,null,null,null,{"$f":"IF('教育訓練費入力（今期）'!$C411=\"\",\"\",TEXT('教育訓練費入力（今期）'!$C411,\"yyyy年\")&TEXT('教育訓練費入力（今期）'!$C411,\"m月\")&TEXT('教育訓練費入力（今期）'!$C411,\"ｄ日\")&\"から\"&'教育訓練費入力（今期）'!$D411&\"日間\")","v":""},{"$f":"IF('教育訓練費入力（今期）'!$F411=\"\",\"\",IF('教育訓練費入力（今期）'!$G411=1,'教育訓練費入力（今期）'!$F411,'教育訓練費入力（今期）'!$F411&\"他\"&'教育訓練費入力（今期）'!$G411-1&\"名\"))","v":""}]
[null,403,null,null,null,null,null,null,null,null,{"$f":"IF('教育訓練費入力（今期）'!$C412=\"\",\"\",TEXT('教育訓練費入力（今期）'!$C412,\"yyyy年\")&TEXT('教育訓練費入力（今期）'!$C412,\"m月\")&TEXT('教育訓練費入力（今期）'!$C412,\"ｄ日\")&\"から\"&'教育訓練費入力（今期）'!$D412&\"日間\")","v":""},{"$f":"IF('教育訓練費入力（今期）'!$F412=\"\",\"\",IF('教育訓練費入力（今期）'!$G412=1,'教育訓練費入力（今期）'!$F412,'教育訓練費入力（今期）'!$F412&\"他\"&'教育訓練費入力（今期）'!$G412-1&\"名\"))","v":""}]
[null,404,null,null,null,null,null,null,null,null,{"$f":"IF('教育訓練費入力（今期）'!$C413=\"\",\"\",TEXT('教育訓練費入力（今期）'!$C413,\"yyyy年\")&TEXT('教育訓練費入力（今期）'!$C413,\"m月\")&TEXT('教育訓練費入力（今期）'!$C413,\"ｄ日\")&\"から\"&'教育訓練費入力（今期）'!$D413&\"日間\")","v":""},{"$f":"IF('教育訓練費入力（今期）'!$F413=\"\",\"\",IF('教育訓練費入力（今期）'!$G413=1,'教育訓練費入力（今期）'!$F413,'教育訓練費入力（今期）'!$F413&\"他\"&'教育訓練費入力（今期）'!$G413-1&\"名\"))","v":""}]
[null,405,null,null,null,null,null,null,null,null,{"$f":"IF('教育訓練費入力（今期）'!$C414=\"\",\"\",TEXT('教育訓練費入力（今期）'!$C414,\"yyyy年\")&TEXT('教育訓練費入力（今期）'!$C414,\"m月\")&TEXT('教育訓練費入力（今期）'!$C414,\"ｄ日\")&\"から\"&'教育訓練費入力（今期）'!$D414&\"日間\")","v":""},{"$f":"IF('教育訓練費入力（今期）'!$F414=\"\",\"\",IF('教育訓練費入力（今期）'!$G414=1,'教育訓練費入力（今期）'!$F414,'教育訓練費入力（今期）'!$F414&\"他\"&'教育訓練費入力（今期）'!$G414-1&\"名\"))","v":""}]
[null,406,null,null,null,null,null,null,null,null,{"$f":"IF('教育訓練費入力（今期）'!$C415=\"\",\"\",TEXT('教育訓練費入力（今期）'!$C415,\"yyyy年\")&TEXT('教育訓練費入力（今期）'!$C415,\"m月\")&TEXT('教育訓練費入力（今期）'!$C415,\"ｄ日\")&\"から\"&'教育訓練費入力（今期）'!$D415&\"日間\")","v":""},{"$f":"IF('教育訓練費入力（今期）'!$F415=\"\",\"\",IF('教育訓練費入力（今期）'!$G415=1,'教育訓練費入力（今期）'!$F415,'教育訓練費入力（今期）'!$F415&\"他\"&'教育訓練費入力（今期）'!$G415-1&\"名\"))","v":""}]
[null,407,null,null,null,null,null,null,null,null,{"$f":"IF('教育訓練費入力（今期）'!$C416=\"\",\"\",TEXT('教育訓練費入力（今期）'!$C416,\"yyyy年\")&TEXT('教育訓練費入力（今期）'!$C416,\"m月\")&TEXT('教育訓練費入力（今期）'!$C416,\"ｄ日\")&\"から\"&'教育訓練費入力（今期）'!$D416&\"日間\")","v":""},{"$f":"IF('教育訓練費入力（今期）'!$F416=\"\",\"\",IF('教育訓練費入力（今期）'!$G416=1,'教育訓練費入力（今期）'!$F416,'教育訓練費入力（今期）'!$F416&\"他\"&'教育訓練費入力（今期）'!$G416-1&\"名\"))","v":""}]
[null,408,null,null,null,null,null,null,null,null,{"$f":"IF('教育訓練費入力（今期）'!$C417=\"\",\"\",TEXT('教育訓練費入力（今期）'!$C417,\"yyyy年\")&TEXT('教育訓練費入力（今期）'!$C417,\"m月\")&TEXT('教育訓練費入力（今期）'!$C417,\"ｄ日\")&\"から\"&'教育訓練費入力（今期）'!$D417&\"日間\")","v":""},{"$f":"IF('教育訓練費入力（今期）'!$F417=\"\",\"\",IF('教育訓練費入力（今期）'!$G417=1,'教育訓練費入力（今期）'!$F417,'教育訓練費入力（今期）'!$F417&\"他\"&'教育訓練費入力（今期）'!$G417-1&\"名\"))","v":""}]
[null,409,null,null,null,null,null,null,null,null,{"$f":"IF('教育訓練費入力（今期）'!$C418=\"\",\"\",TEXT('教育訓練費入力（今期）'!$C418,\"yyyy年\")&TEXT('教育訓練費入力（今期）'!$C418,\"m月\")&TEXT('教育訓練費入力（今期）'!$C418,\"ｄ日\")&\"から\"&'教育訓練費入力（今期）'!$D418&\"日間\")","v":""},{"$f":"IF('教育訓練費入力（今期）'!$F418=\"\",\"\",IF('教育訓練費入力（今期）'!$G418=1,'教育訓練費入力（今期）'!$F418,'教育訓練費入力（今期）'!$F418&\"他\"&'教育訓練費入力（今期）'!$G418-1&\"名\"))","v":""}]
[null,410,null,null,null,null,null,null,null,null,{"$f":"IF('教育訓練費入力（今期）'!$C419=\"\",\"\",TEXT('教育訓練費入力（今期）'!$C419,\"yyyy年\")&TEXT('教育訓練費入力（今期）'!$C419,\"m月\")&TEXT('教育訓練費入力（今期）'!$C419,\"ｄ日\")&\"から\"&'教育訓練費入力（今期）'!$D419&\"日間\")","v":""},{"$f":"IF('教育訓練費入力（今期）'!$F419=\"\",\"\",IF('教育訓練費入力（今期）'!$G419=1,'教育訓練費入力（今期）'!$F419,'教育訓練費入力（今期）'!$F419&\"他\"&'教育訓練費入力（今期）'!$G419-1&\"名\"))","v":""}]
[null,411,null,null,null,null,null,null,null,null,{"$f":"IF('教育訓練費入力（今期）'!$C420=\"\",\"\",TEXT('教育訓練費入力（今期）'!$C420,\"yyyy年\")&TEXT('教育訓練費入力（今期）'!$C420,\"m月\")&TEXT('教育訓練費入力（今期）'!$C420,\"ｄ日\")&\"から\"&'教育訓練費入力（今期）'!$D420&\"日間\")","v":""},{"$f":"IF('教育訓練費入力（今期）'!$F420=\"\",\"\",IF('教育訓練費入力（今期）'!$G420=1,'教育訓練費入力（今期）'!$F420,'教育訓練費入力（今期）'!$F420&\"他\"&'教育訓練費入力（今期）'!$G420-1&\"名\"))","v":""}]
[null,412,null,null,null,null,null,null,null,null,{"$f":"IF('教育訓練費入力（今期）'!$C421=\"\",\"\",TEXT('教育訓練費入力（今期）'!$C421,\"yyyy年\")&TEXT('教育訓練費入力（今期）'!$C421,\"m月\")&TEXT('教育訓練費入力（今期）'!$C421,\"ｄ日\")&\"から\"&'教育訓練費入力（今期）'!$D421&\"日間\")","v":""},{"$f":"IF('教育訓練費入力（今期）'!$F421=\"\",\"\",IF('教育訓練費入力（今期）'!$G421=1,'教育訓練費入力（今期）'!$F421,'教育訓練費入力（今期）'!$F421&\"他\"&'教育訓練費入力（今期）'!$G421-1&\"名\"))","v":""}]
[null,413,null,null,null,null,null,null,null,null,{"$f":"IF('教育訓練費入力（今期）'!$C422=\"\",\"\",TEXT('教育訓練費入力（今期）'!$C422,\"yyyy年\")&TEXT('教育訓練費入力（今期）'!$C422,\"m月\")&TEXT('教育訓練費入力（今期）'!$C422,\"ｄ日\")&\"から\"&'教育訓練費入力（今期）'!$D422&\"日間\")","v":""},{"$f":"IF('教育訓練費入力（今期）'!$F422=\"\",\"\",IF('教育訓練費入力（今期）'!$G422=1,'教育訓練費入力（今期）'!$F422,'教育訓練費入力（今期）'!$F422&\"他\"&'教育訓練費入力（今期）'!$G422-1&\"名\"))","v":""}]
[null,414,null,null,null,null,null,null,null,null,{"$f":"IF('教育訓練費入力（今期）'!$C423=\"\",\"\",TEXT('教育訓練費入力（今期）'!$C423,\"yyyy年\")&TEXT('教育訓練費入力（今期）'!$C423,\"m月\")&TEXT('教育訓練費入力（今期）'!$C423,\"ｄ日\")&\"から\"&'教育訓練費入力（今期）'!$D423&\"日間\")","v":""},{"$f":"IF('教育訓練費入力（今期）'!$F423=\"\",\"\",IF('教育訓練費入力（今期）'!$G423=1,'教育訓練費入力（今期）'!$F423,'教育訓練費入力（今期）'!$F423&\"他\"&'教育訓練費入力（今期）'!$G423-1&\"名\"))","v":""}]
[null,415,null,null,null,null,null,null,null,null,{"$f":"IF('教育訓練費入力（今期）'!$C424=\"\",\"\",TEXT('教育訓練費入力（今期）'!$C424,\"yyyy年\")&TEXT('教育訓練費入力（今期）'!$C424,\"m月\")&TEXT('教育訓練費入力（今期）'!$C424,\"ｄ日\")&\"から\"&'教育訓練費入力（今期）'!$D424&\"日間\")","v":""},{"$f":"IF('教育訓練費入力（今期）'!$F424=\"\",\"\",IF('教育訓練費入力（今期）'!$G424=1,'教育訓練費入力（今期）'!$F424,'教育訓練費入力（今期）'!$F424&\"他\"&'教育訓練費入力（今期）'!$G424-1&\"名\"))","v":""}]
[null,416,null,null,null,null,null,null,null,null,{"$f":"IF('教育訓練費入力（今期）'!$C425=\"\",\"\",TEXT('教育訓練費入力（今期）'!$C425,\"yyyy年\")&TEXT('教育訓練費入力（今期）'!$C425,\"m月\")&TEXT('教育訓練費入力（今期）'!$C425,\"ｄ日\")&\"から\"&'教育訓練費入力（今期）'!$D425&\"日間\")","v":""},{"$f":"IF('教育訓練費入力（今期）'!$F425=\"\",\"\",IF('教育訓練費入力（今期）'!$G425=1,'教育訓練費入力（今期）'!$F425,'教育訓練費入力（今期）'!$F425&\"他\"&'教育訓練費入力（今期）'!$G425-1&\"名\"))","v":""}]
[null,417,null,null,null,null,null,null,null,null,{"$f":"IF('教育訓練費入力（今期）'!$C426=\"\",\"\",TEXT('教育訓練費入力（今期）'!$C426,\"yyyy年\")&TEXT('教育訓練費入力（今期）'!$C426,\"m月\")&TEXT('教育訓練費入力（今期）'!$C426,\"ｄ日\")&\"から\"&'教育訓練費入力（今期）'!$D426&\"日間\")","v":""},{"$f":"IF('教育訓練費入力（今期）'!$F426=\"\",\"\",IF('教育訓練費入力（今期）'!$G426=1,'教育訓練費入力（今期）'!$F426,'教育訓練費入力（今期）'!$F426&\"他\"&'教育訓練費入力（今期）'!$G426-1&\"名\"))","v":""}]
[null,418,null,null,null,null,null,null,null,null,{"$f":"IF('教育訓練費入力（今期）'!$C427=\"\",\"\",TEXT('教育訓練費入力（今期）'!$C427,\"yyyy年\")&TEXT('教育訓練費入力（今期）'!$C427,\"m月\")&TEXT('教育訓練費入力（今期）'!$C427,\"ｄ日\")&\"から\"&'教育訓練費入力（今期）'!$D427&\"日間\")","v":""},{"$f":"IF('教育訓練費入力（今期）'!$F427=\"\",\"\",IF('教育訓練費入力（今期）'!$G427=1,'教育訓練費入力（今期）'!$F427,'教育訓練費入力（今期）'!$F427&\"他\"&'教育訓練費入力（今期）'!$G427-1&\"名\"))","v":""}]
[null,419,null,null,null,null,null,null,null,null,{"$f":"IF('教育訓練費入力（今期）'!$C428=\"\",\"\",TEXT('教育訓練費入力（今期）'!$C428,\"yyyy年\")&TEXT('教育訓練費入力（今期）'!$C428,\"m月\")&TEXT('教育訓練費入力（今期）'!$C428,\"ｄ日\")&\"から\"&'教育訓練費入力（今期）'!$D428&\"日間\")","v":""},{"$f":"IF('教育訓練費入力（今期）'!$F428=\"\",\"\",IF('教育訓練費入力（今期）'!$G428=1,'教育訓練費入力（今期）'!$F428,'教育訓練費入力（今期）'!$F428&\"他\"&'教育訓練費入力（今期）'!$G428-1&\"名\"))","v":""}]
[null,420,null,null,null,null,null,null,null,null,{"$f":"IF('教育訓練費入力（今期）'!$C429=\"\",\"\",TEXT('教育訓練費入力（今期）'!$C429,\"yyyy年\")&TEXT('教育訓練費入力（今期）'!$C429,\"m月\")&TEXT('教育訓練費入力（今期）'!$C429,\"ｄ日\")&\"から\"&'教育訓練費入力（今期）'!$D429&\"日間\")","v":""},{"$f":"IF('教育訓練費入力（今期）'!$F429=\"\",\"\",IF('教育訓練費入力（今期）'!$G429=1,'教育訓練費入力（今期）'!$F429,'教育訓練費入力（今期）'!$F429&\"他\"&'教育訓練費入力（今期）'!$G429-1&\"名\"))","v":""}]
[null,421,null,null,null,null,null,null,null,null,{"$f":"IF('教育訓練費入力（今期）'!$C430=\"\",\"\",TEXT('教育訓練費入力（今期）'!$C430,\"yyyy年\")&TEXT('教育訓練費入力（今期）'!$C430,\"m月\")&TEXT('教育訓練費入力（今期）'!$C430,\"ｄ日\")&\"から\"&'教育訓練費入力（今期）'!$D430&\"日間\")","v":""},{"$f":"IF('教育訓練費入力（今期）'!$F430=\"\",\"\",IF('教育訓練費入力（今期）'!$G430=1,'教育訓練費入力（今期）'!$F430,'教育訓練費入力（今期）'!$F430&\"他\"&'教育訓練費入力（今期）'!$G430-1&\"名\"))","v":""}]
[null,422,null,null,null,null,null,null,null,null,{"$f":"IF('教育訓練費入力（今期）'!$C431=\"\",\"\",TEXT('教育訓練費入力（今期）'!$C431,\"yyyy年\")&TEXT('教育訓練費入力（今期）'!$C431,\"m月\")&TEXT('教育訓練費入力（今期）'!$C431,\"ｄ日\")&\"から\"&'教育訓練費入力（今期）'!$D431&\"日間\")","v":""},{"$f":"IF('教育訓練費入力（今期）'!$F431=\"\",\"\",IF('教育訓練費入力（今期）'!$G431=1,'教育訓練費入力（今期）'!$F431,'教育訓練費入力（今期）'!$F431&\"他\"&'教育訓練費入力（今期）'!$G431-1&\"名\"))","v":""}]
[null,423,null,null,null,null,null,null,null,null,{"$f":"IF('教育訓練費入力（今期）'!$C432=\"\",\"\",TEXT('教育訓練費入力（今期）'!$C432,\"yyyy年\")&TEXT('教育訓練費入力（今期）'!$C432,\"m月\")&TEXT('教育訓練費入力（今期）'!$C432,\"ｄ日\")&\"から\"&'教育訓練費入力（今期）'!$D432&\"日間\")","v":""},{"$f":"IF('教育訓練費入力（今期）'!$F432=\"\",\"\",IF('教育訓練費入力（今期）'!$G432=1,'教育訓練費入力（今期）'!$F432,'教育訓練費入力（今期）'!$F432&\"他\"&'教育訓練費入力（今期）'!$G432-1&\"名\"))","v":""}]
[null,424,null,null,null,null,null,null,null,null,{"$f":"IF('教育訓練費入力（今期）'!$C433=\"\",\"\",TEXT('教育訓練費入力（今期）'!$C433,\"yyyy年\")&TEXT('教育訓練費入力（今期）'!$C433,\"m月\")&TEXT('教育訓練費入力（今期）'!$C433,\"ｄ日\")&\"から\"&'教育訓練費入力（今期）'!$D433&\"日間\")","v":""},{"$f":"IF('教育訓練費入力（今期）'!$F433=\"\",\"\",IF('教育訓練費入力（今期）'!$G433=1,'教育訓練費入力（今期）'!$F433,'教育訓練費入力（今期）'!$F433&\"他\"&'教育訓練費入力（今期）'!$G433-1&\"名\"))","v":""}]
[null,425,null,null,null,null,null,null,null,null,{"$f":"IF('教育訓練費入力（今期）'!$C434=\"\",\"\",TEXT('教育訓練費入力（今期）'!$C434,\"yyyy年\")&TEXT('教育訓練費入力（今期）'!$C434,\"m月\")&TEXT('教育訓練費入力（今期）'!$C434,\"ｄ日\")&\"から\"&'教育訓練費入力（今期）'!$D434&\"日間\")","v":""},{"$f":"IF('教育訓練費入力（今期）'!$F434=\"\",\"\",IF('教育訓練費入力（今期）'!$G434=1,'教育訓練費入力（今期）'!$F434,'教育訓練費入力（今期）'!$F434&\"他\"&'教育訓練費入力（今期）'!$G434-1&\"名\"))","v":""}]
[null,426,null,null,null,null,null,null,null,null,{"$f":"IF('教育訓練費入力（今期）'!$C435=\"\",\"\",TEXT('教育訓練費入力（今期）'!$C435,\"yyyy年\")&TEXT('教育訓練費入力（今期）'!$C435,\"m月\")&TEXT('教育訓練費入力（今期）'!$C435,\"ｄ日\")&\"から\"&'教育訓練費入力（今期）'!$D435&\"日間\")","v":""},{"$f":"IF('教育訓練費入力（今期）'!$F435=\"\",\"\",IF('教育訓練費入力（今期）'!$G435=1,'教育訓練費入力（今期）'!$F435,'教育訓練費入力（今期）'!$F435&\"他\"&'教育訓練費入力（今期）'!$G435-1&\"名\"))","v":""}]
[null,427,null,null,null,null,null,null,null,null,{"$f":"IF('教育訓練費入力（今期）'!$C436=\"\",\"\",TEXT('教育訓練費入力（今期）'!$C436,\"yyyy年\")&TEXT('教育訓練費入力（今期）'!$C436,\"m月\")&TEXT('教育訓練費入力（今期）'!$C436,\"ｄ日\")&\"から\"&'教育訓練費入力（今期）'!$D436&\"日間\")","v":""},{"$f":"IF('教育訓練費入力（今期）'!$F436=\"\",\"\",IF('教育訓練費入力（今期）'!$G436=1,'教育訓練費入力（今期）'!$F436,'教育訓練費入力（今期）'!$F436&\"他\"&'教育訓練費入力（今期）'!$G436-1&\"名\"))","v":""}]
[null,428,null,null,null,null,null,null,null,null,{"$f":"IF('教育訓練費入力（今期）'!$C437=\"\",\"\",TEXT('教育訓練費入力（今期）'!$C437,\"yyyy年\")&TEXT('教育訓練費入力（今期）'!$C437,\"m月\")&TEXT('教育訓練費入力（今期）'!$C437,\"ｄ日\")&\"から\"&'教育訓練費入力（今期）'!$D437&\"日間\")","v":""},{"$f":"IF('教育訓練費入力（今期）'!$F437=\"\",\"\",IF('教育訓練費入力（今期）'!$G437=1,'教育訓練費入力（今期）'!$F437,'教育訓練費入力（今期）'!$F437&\"他\"&'教育訓練費入力（今期）'!$G437-1&\"名\"))","v":""}]
[null,429,null,null,null,null,null,null,null,null,{"$f":"IF('教育訓練費入力（今期）'!$C438=\"\",\"\",TEXT('教育訓練費入力（今期）'!$C438,\"yyyy年\")&TEXT('教育訓練費入力（今期）'!$C438,\"m月\")&TEXT('教育訓練費入力（今期）'!$C438,\"ｄ日\")&\"から\"&'教育訓練費入力（今期）'!$D438&\"日間\")","v":""},{"$f":"IF('教育訓練費入力（今期）'!$F438=\"\",\"\",IF('教育訓練費入力（今期）'!$G438=1,'教育訓練費入力（今期）'!$F438,'教育訓練費入力（今期）'!$F438&\"他\"&'教育訓練費入力（今期）'!$G438-1&\"名\"))","v":""}]
[null,430,null,null,null,null,null,null,null,null,{"$f":"IF('教育訓練費入力（今期）'!$C439=\"\",\"\",TEXT('教育訓練費入力（今期）'!$C439,\"yyyy年\")&TEXT('教育訓練費入力（今期）'!$C439,\"m月\")&TEXT('教育訓練費入力（今期）'!$C439,\"ｄ日\")&\"から\"&'教育訓練費入力（今期）'!$D439&\"日間\")","v":""},{"$f":"IF('教育訓練費入力（今期）'!$F439=\"\",\"\",IF('教育訓練費入力（今期）'!$G439=1,'教育訓練費入力（今期）'!$F439,'教育訓練費入力（今期）'!$F439&\"他\"&'教育訓練費入力（今期）'!$G439-1&\"名\"))","v":""}]
[null,431,null,null,null,null,null,null,null,null,{"$f":"IF('教育訓練費入力（今期）'!$C440=\"\",\"\",TEXT('教育訓練費入力（今期）'!$C440,\"yyyy年\")&TEXT('教育訓練費入力（今期）'!$C440,\"m月\")&TEXT('教育訓練費入力（今期）'!$C440,\"ｄ日\")&\"から\"&'教育訓練費入力（今期）'!$D440&\"日間\")","v":""},{"$f":"IF('教育訓練費入力（今期）'!$F440=\"\",\"\",IF('教育訓練費入力（今期）'!$G440=1,'教育訓練費入力（今期）'!$F440,'教育訓練費入力（今期）'!$F440&\"他\"&'教育訓練費入力（今期）'!$G440-1&\"名\"))","v":""}]
[null,432,null,null,null,null,null,null,null,null,{"$f":"IF('教育訓練費入力（今期）'!$C441=\"\",\"\",TEXT('教育訓練費入力（今期）'!$C441,\"yyyy年\")&TEXT('教育訓練費入力（今期）'!$C441,\"m月\")&TEXT('教育訓練費入力（今期）'!$C441,\"ｄ日\")&\"から\"&'教育訓練費入力（今期）'!$D441&\"日間\")","v":""},{"$f":"IF('教育訓練費入力（今期）'!$F441=\"\",\"\",IF('教育訓練費入力（今期）'!$G441=1,'教育訓練費入力（今期）'!$F441,'教育訓練費入力（今期）'!$F441&\"他\"&'教育訓練費入力（今期）'!$G441-1&\"名\"))","v":""}]
[null,433,null,null,null,null,null,null,null,null,{"$f":"IF('教育訓練費入力（今期）'!$C442=\"\",\"\",TEXT('教育訓練費入力（今期）'!$C442,\"yyyy年\")&TEXT('教育訓練費入力（今期）'!$C442,\"m月\")&TEXT('教育訓練費入力（今期）'!$C442,\"ｄ日\")&\"から\"&'教育訓練費入力（今期）'!$D442&\"日間\")","v":""},{"$f":"IF('教育訓練費入力（今期）'!$F442=\"\",\"\",IF('教育訓練費入力（今期）'!$G442=1,'教育訓練費入力（今期）'!$F442,'教育訓練費入力（今期）'!$F442&\"他\"&'教育訓練費入力（今期）'!$G442-1&\"名\"))","v":""}]
[null,434,null,null,null,null,null,null,null,null,{"$f":"IF('教育訓練費入力（今期）'!$C443=\"\",\"\",TEXT('教育訓練費入力（今期）'!$C443,\"yyyy年\")&TEXT('教育訓練費入力（今期）'!$C443,\"m月\")&TEXT('教育訓練費入力（今期）'!$C443,\"ｄ日\")&\"から\"&'教育訓練費入力（今期）'!$D443&\"日間\")","v":""},{"$f":"IF('教育訓練費入力（今期）'!$F443=\"\",\"\",IF('教育訓練費入力（今期）'!$G443=1,'教育訓練費入力（今期）'!$F443,'教育訓練費入力（今期）'!$F443&\"他\"&'教育訓練費入力（今期）'!$G443-1&\"名\"))","v":""}]
[null,435,null,null,null,null,null,null,null,null,{"$f":"IF('教育訓練費入力（今期）'!$C444=\"\",\"\",TEXT('教育訓練費入力（今期）'!$C444,\"yyyy年\")&TEXT('教育訓練費入力（今期）'!$C444,\"m月\")&TEXT('教育訓練費入力（今期）'!$C444,\"ｄ日\")&\"から\"&'教育訓練費入力（今期）'!$D444&\"日間\")","v":""},{"$f":"IF('教育訓練費入力（今期）'!$F444=\"\",\"\",IF('教育訓練費入力（今期）'!$G444=1,'教育訓練費入力（今期）'!$F444,'教育訓練費入力（今期）'!$F444&\"他\"&'教育訓練費入力（今期）'!$G444-1&\"名\"))","v":""}]
[null,436,null,null,null,null,null,null,null,null,{"$f":"IF('教育訓練費入力（今期）'!$C445=\"\",\"\",TEXT('教育訓練費入力（今期）'!$C445,\"yyyy年\")&TEXT('教育訓練費入力（今期）'!$C445,\"m月\")&TEXT('教育訓練費入力（今期）'!$C445,\"ｄ日\")&\"から\"&'教育訓練費入力（今期）'!$D445&\"日間\")","v":""},{"$f":"IF('教育訓練費入力（今期）'!$F445=\"\",\"\",IF('教育訓練費入力（今期）'!$G445=1,'教育訓練費入力（今期）'!$F445,'教育訓練費入力（今期）'!$F445&\"他\"&'教育訓練費入力（今期）'!$G445-1&\"名\"))","v":""}]
[null,437,null,null,null,null,null,null,null,null,{"$f":"IF('教育訓練費入力（今期）'!$C446=\"\",\"\",TEXT('教育訓練費入力（今期）'!$C446,\"yyyy年\")&TEXT('教育訓練費入力（今期）'!$C446,\"m月\")&TEXT('教育訓練費入力（今期）'!$C446,\"ｄ日\")&\"から\"&'教育訓練費入力（今期）'!$D446&\"日間\")","v":""},{"$f":"IF('教育訓練費入力（今期）'!$F446=\"\",\"\",IF('教育訓練費入力（今期）'!$G446=1,'教育訓練費入力（今期）'!$F446,'教育訓練費入力（今期）'!$F446&\"他\"&'教育訓練費入力（今期）'!$G446-1&\"名\"))","v":""}]
[null,438,null,null,null,null,null,null,null,null,{"$f":"IF('教育訓練費入力（今期）'!$C447=\"\",\"\",TEXT('教育訓練費入力（今期）'!$C447,\"yyyy年\")&TEXT('教育訓練費入力（今期）'!$C447,\"m月\")&TEXT('教育訓練費入力（今期）'!$C447,\"ｄ日\")&\"から\"&'教育訓練費入力（今期）'!$D447&\"日間\")","v":""},{"$f":"IF('教育訓練費入力（今期）'!$F447=\"\",\"\",IF('教育訓練費入力（今期）'!$G447=1,'教育訓練費入力（今期）'!$F447,'教育訓練費入力（今期）'!$F447&\"他\"&'教育訓練費入力（今期）'!$G447-1&\"名\"))","v":""}]
[null,439,null,null,null,null,null,null,null,null,{"$f":"IF('教育訓練費入力（今期）'!$C448=\"\",\"\",TEXT('教育訓練費入力（今期）'!$C448,\"yyyy年\")&TEXT('教育訓練費入力（今期）'!$C448,\"m月\")&TEXT('教育訓練費入力（今期）'!$C448,\"ｄ日\")&\"から\"&'教育訓練費入力（今期）'!$D448&\"日間\")","v":""},{"$f":"IF('教育訓練費入力（今期）'!$F448=\"\",\"\",IF('教育訓練費入力（今期）'!$G448=1,'教育訓練費入力（今期）'!$F448,'教育訓練費入力（今期）'!$F448&\"他\"&'教育訓練費入力（今期）'!$G448-1&\"名\"))","v":""}]
[null,440,null,null,null,null,null,null,null,null,{"$f":"IF('教育訓練費入力（今期）'!$C449=\"\",\"\",TEXT('教育訓練費入力（今期）'!$C449,\"yyyy年\")&TEXT('教育訓練費入力（今期）'!$C449,\"m月\")&TEXT('教育訓練費入力（今期）'!$C449,\"ｄ日\")&\"から\"&'教育訓練費入力（今期）'!$D449&\"日間\")","v":""},{"$f":"IF('教育訓練費入力（今期）'!$F449=\"\",\"\",IF('教育訓練費入力（今期）'!$G449=1,'教育訓練費入力（今期）'!$F449,'教育訓練費入力（今期）'!$F449&\"他\"&'教育訓練費入力（今期）'!$G449-1&\"名\"))","v":""}]
[null,441,null,null,null,null,null,null,null,null,{"$f":"IF('教育訓練費入力（今期）'!$C450=\"\",\"\",TEXT('教育訓練費入力（今期）'!$C450,\"yyyy年\")&TEXT('教育訓練費入力（今期）'!$C450,\"m月\")&TEXT('教育訓練費入力（今期）'!$C450,\"ｄ日\")&\"から\"&'教育訓練費入力（今期）'!$D450&\"日間\")","v":""},{"$f":"IF('教育訓練費入力（今期）'!$F450=\"\",\"\",IF('教育訓練費入力（今期）'!$G450=1,'教育訓練費入力（今期）'!$F450,'教育訓練費入力（今期）'!$F450&\"他\"&'教育訓練費入力（今期）'!$G450-1&\"名\"))","v":""}]
[null,442,null,null,null,null,null,null,null,null,{"$f":"IF('教育訓練費入力（今期）'!$C451=\"\",\"\",TEXT('教育訓練費入力（今期）'!$C451,\"yyyy年\")&TEXT('教育訓練費入力（今期）'!$C451,\"m月\")&TEXT('教育訓練費入力（今期）'!$C451,\"ｄ日\")&\"から\"&'教育訓練費入力（今期）'!$D451&\"日間\")","v":""},{"$f":"IF('教育訓練費入力（今期）'!$F451=\"\",\"\",IF('教育訓練費入力（今期）'!$G451=1,'教育訓練費入力（今期）'!$F451,'教育訓練費入力（今期）'!$F451&\"他\"&'教育訓練費入力（今期）'!$G451-1&\"名\"))","v":""}]
[null,443,null,null,null,null,null,null,null,null,{"$f":"IF('教育訓練費入力（今期）'!$C452=\"\",\"\",TEXT('教育訓練費入力（今期）'!$C452,\"yyyy年\")&TEXT('教育訓練費入力（今期）'!$C452,\"m月\")&TEXT('教育訓練費入力（今期）'!$C452,\"ｄ日\")&\"から\"&'教育訓練費入力（今期）'!$D452&\"日間\")","v":""},{"$f":"IF('教育訓練費入力（今期）'!$F452=\"\",\"\",IF('教育訓練費入力（今期）'!$G452=1,'教育訓練費入力（今期）'!$F452,'教育訓練費入力（今期）'!$F452&\"他\"&'教育訓練費入力（今期）'!$G452-1&\"名\"))","v":""}]
[null,444,null,null,null,null,null,null,null,null,{"$f":"IF('教育訓練費入力（今期）'!$C453=\"\",\"\",TEXT('教育訓練費入力（今期）'!$C453,\"yyyy年\")&TEXT('教育訓練費入力（今期）'!$C453,\"m月\")&TEXT('教育訓練費入力（今期）'!$C453,\"ｄ日\")&\"から\"&'教育訓練費入力（今期）'!$D453&\"日間\")","v":""},{"$f":"IF('教育訓練費入力（今期）'!$F453=\"\",\"\",IF('教育訓練費入力（今期）'!$G453=1,'教育訓練費入力（今期）'!$F453,'教育訓練費入力（今期）'!$F453&\"他\"&'教育訓練費入力（今期）'!$G453-1&\"名\"))","v":""}]
[null,445,null,null,null,null,null,null,null,null,{"$f":"IF('教育訓練費入力（今期）'!$C454=\"\",\"\",TEXT('教育訓練費入力（今期）'!$C454,\"yyyy年\")&TEXT('教育訓練費入力（今期）'!$C454,\"m月\")&TEXT('教育訓練費入力（今期）'!$C454,\"ｄ日\")&\"から\"&'教育訓練費入力（今期）'!$D454&\"日間\")","v":""},{"$f":"IF('教育訓練費入力（今期）'!$F454=\"\",\"\",IF('教育訓練費入力（今期）'!$G454=1,'教育訓練費入力（今期）'!$F454,'教育訓練費入力（今期）'!$F454&\"他\"&'教育訓練費入力（今期）'!$G454-1&\"名\"))","v":""}]
[null,446,null,null,null,null,null,null,null,null,{"$f":"IF('教育訓練費入力（今期）'!$C455=\"\",\"\",TEXT('教育訓練費入力（今期）'!$C455,\"yyyy年\")&TEXT('教育訓練費入力（今期）'!$C455,\"m月\")&TEXT('教育訓練費入力（今期）'!$C455,\"ｄ日\")&\"から\"&'教育訓練費入力（今期）'!$D455&\"日間\")","v":""},{"$f":"IF('教育訓練費入力（今期）'!$F455=\"\",\"\",IF('教育訓練費入力（今期）'!$G455=1,'教育訓練費入力（今期）'!$F455,'教育訓練費入力（今期）'!$F455&\"他\"&'教育訓練費入力（今期）'!$G455-1&\"名\"))","v":""}]
[null,447,null,null,null,null,null,null,null,null,{"$f":"IF('教育訓練費入力（今期）'!$C456=\"\",\"\",TEXT('教育訓練費入力（今期）'!$C456,\"yyyy年\")&TEXT('教育訓練費入力（今期）'!$C456,\"m月\")&TEXT('教育訓練費入力（今期）'!$C456,\"ｄ日\")&\"から\"&'教育訓練費入力（今期）'!$D456&\"日間\")","v":""},{"$f":"IF('教育訓練費入力（今期）'!$F456=\"\",\"\",IF('教育訓練費入力（今期）'!$G456=1,'教育訓練費入力（今期）'!$F456,'教育訓練費入力（今期）'!$F456&\"他\"&'教育訓練費入力（今期）'!$G456-1&\"名\"))","v":""}]
[null,448,null,null,null,null,null,null,null,null,{"$f":"IF('教育訓練費入力（今期）'!$C457=\"\",\"\",TEXT('教育訓練費入力（今期）'!$C457,\"yyyy年\")&TEXT('教育訓練費入力（今期）'!$C457,\"m月\")&TEXT('教育訓練費入力（今期）'!$C457,\"ｄ日\")&\"から\"&'教育訓練費入力（今期）'!$D457&\"日間\")","v":""},{"$f":"IF('教育訓練費入力（今期）'!$F457=\"\",\"\",IF('教育訓練費入力（今期）'!$G457=1,'教育訓練費入力（今期）'!$F457,'教育訓練費入力（今期）'!$F457&\"他\"&'教育訓練費入力（今期）'!$G457-1&\"名\"))","v":""}]
[null,449,null,null,null,null,null,null,null,null,{"$f":"IF('教育訓練費入力（今期）'!$C458=\"\",\"\",TEXT('教育訓練費入力（今期）'!$C458,\"yyyy年\")&TEXT('教育訓練費入力（今期）'!$C458,\"m月\")&TEXT('教育訓練費入力（今期）'!$C458,\"ｄ日\")&\"から\"&'教育訓練費入力（今期）'!$D458&\"日間\")","v":""},{"$f":"IF('教育訓練費入力（今期）'!$F458=\"\",\"\",IF('教育訓練費入力（今期）'!$G458=1,'教育訓練費入力（今期）'!$F458,'教育訓練費入力（今期）'!$F458&\"他\"&'教育訓練費入力（今期）'!$G458-1&\"名\"))","v":""}]
[null,450,null,null,null,null,null,null,null,null,{"$f":"IF('教育訓練費入力（今期）'!$C459=\"\",\"\",TEXT('教育訓練費入力（今期）'!$C459,\"yyyy年\")&TEXT('教育訓練費入力（今期）'!$C459,\"m月\")&TEXT('教育訓練費入力（今期）'!$C459,\"ｄ日\")&\"から\"&'教育訓練費入力（今期）'!$D459&\"日間\")","v":""},{"$f":"IF('教育訓練費入力（今期）'!$F459=\"\",\"\",IF('教育訓練費入力（今期）'!$G459=1,'教育訓練費入力（今期）'!$F459,'教育訓練費入力（今期）'!$F459&\"他\"&'教育訓練費入力（今期）'!$G459-1&\"名\"))","v":""}]
[null,451,null,null,null,null,null,null,null,null,{"$f":"IF('教育訓練費入力（今期）'!$C460=\"\",\"\",TEXT('教育訓練費入力（今期）'!$C460,\"yyyy年\")&TEXT('教育訓練費入力（今期）'!$C460,\"m月\")&TEXT('教育訓練費入力（今期）'!$C460,\"ｄ日\")&\"から\"&'教育訓練費入力（今期）'!$D460&\"日間\")","v":""},{"$f":"IF('教育訓練費入力（今期）'!$F460=\"\",\"\",IF('教育訓練費入力（今期）'!$G460=1,'教育訓練費入力（今期）'!$F460,'教育訓練費入力（今期）'!$F460&\"他\"&'教育訓練費入力（今期）'!$G460-1&\"名\"))","v":""}]
[null,452,null,null,null,null,null,null,null,null,{"$f":"IF('教育訓練費入力（今期）'!$C461=\"\",\"\",TEXT('教育訓練費入力（今期）'!$C461,\"yyyy年\")&TEXT('教育訓練費入力（今期）'!$C461,\"m月\")&TEXT('教育訓練費入力（今期）'!$C461,\"ｄ日\")&\"から\"&'教育訓練費入力（今期）'!$D461&\"日間\")","v":""},{"$f":"IF('教育訓練費入力（今期）'!$F461=\"\",\"\",IF('教育訓練費入力（今期）'!$G461=1,'教育訓練費入力（今期）'!$F461,'教育訓練費入力（今期）'!$F461&\"他\"&'教育訓練費入力（今期）'!$G461-1&\"名\"))","v":""}]
[null,453,null,null,null,null,null,null,null,null,{"$f":"IF('教育訓練費入力（今期）'!$C462=\"\",\"\",TEXT('教育訓練費入力（今期）'!$C462,\"yyyy年\")&TEXT('教育訓練費入力（今期）'!$C462,\"m月\")&TEXT('教育訓練費入力（今期）'!$C462,\"ｄ日\")&\"から\"&'教育訓練費入力（今期）'!$D462&\"日間\")","v":""},{"$f":"IF('教育訓練費入力（今期）'!$F462=\"\",\"\",IF('教育訓練費入力（今期）'!$G462=1,'教育訓練費入力（今期）'!$F462,'教育訓練費入力（今期）'!$F462&\"他\"&'教育訓練費入力（今期）'!$G462-1&\"名\"))","v":""}]
[null,454,null,null,null,null,null,null,null,null,{"$f":"IF('教育訓練費入力（今期）'!$C463=\"\",\"\",TEXT('教育訓練費入力（今期）'!$C463,\"yyyy年\")&TEXT('教育訓練費入力（今期）'!$C463,\"m月\")&TEXT('教育訓練費入力（今期）'!$C463,\"ｄ日\")&\"から\"&'教育訓練費入力（今期）'!$D463&\"日間\")","v":""},{"$f":"IF('教育訓練費入力（今期）'!$F463=\"\",\"\",IF('教育訓練費入力（今期）'!$G463=1,'教育訓練費入力（今期）'!$F463,'教育訓練費入力（今期）'!$F463&\"他\"&'教育訓練費入力（今期）'!$G463-1&\"名\"))","v":""}]
[null,455,null,null,null,null,null,null,null,null,{"$f":"IF('教育訓練費入力（今期）'!$C464=\"\",\"\",TEXT('教育訓練費入力（今期）'!$C464,\"yyyy年\")&TEXT('教育訓練費入力（今期）'!$C464,\"m月\")&TEXT('教育訓練費入力（今期）'!$C464,\"ｄ日\")&\"から\"&'教育訓練費入力（今期）'!$D464&\"日間\")","v":""},{"$f":"IF('教育訓練費入力（今期）'!$F464=\"\",\"\",IF('教育訓練費入力（今期）'!$G464=1,'教育訓練費入力（今期）'!$F464,'教育訓練費入力（今期）'!$F464&\"他\"&'教育訓練費入力（今期）'!$G464-1&\"名\"))","v":""}]
[null,456,null,null,null,null,null,null,null,null,{"$f":"IF('教育訓練費入力（今期）'!$C465=\"\",\"\",TEXT('教育訓練費入力（今期）'!$C465,\"yyyy年\")&TEXT('教育訓練費入力（今期）'!$C465,\"m月\")&TEXT('教育訓練費入力（今期）'!$C465,\"ｄ日\")&\"から\"&'教育訓練費入力（今期）'!$D465&\"日間\")","v":""},{"$f":"IF('教育訓練費入力（今期）'!$F465=\"\",\"\",IF('教育訓練費入力（今期）'!$G465=1,'教育訓練費入力（今期）'!$F465,'教育訓練費入力（今期）'!$F465&\"他\"&'教育訓練費入力（今期）'!$G465-1&\"名\"))","v":""}]
[null,457,null,null,null,null,null,null,null,null,{"$f":"IF('教育訓練費入力（今期）'!$C466=\"\",\"\",TEXT('教育訓練費入力（今期）'!$C466,\"yyyy年\")&TEXT('教育訓練費入力（今期）'!$C466,\"m月\")&TEXT('教育訓練費入力（今期）'!$C466,\"ｄ日\")&\"から\"&'教育訓練費入力（今期）'!$D466&\"日間\")","v":""},{"$f":"IF('教育訓練費入力（今期）'!$F466=\"\",\"\",IF('教育訓練費入力（今期）'!$G466=1,'教育訓練費入力（今期）'!$F466,'教育訓練費入力（今期）'!$F466&\"他\"&'教育訓練費入力（今期）'!$G466-1&\"名\"))","v":""}]
[null,458,null,null,null,null,null,null,null,null,{"$f":"IF('教育訓練費入力（今期）'!$C467=\"\",\"\",TEXT('教育訓練費入力（今期）'!$C467,\"yyyy年\")&TEXT('教育訓練費入力（今期）'!$C467,\"m月\")&TEXT('教育訓練費入力（今期）'!$C467,\"ｄ日\")&\"から\"&'教育訓練費入力（今期）'!$D467&\"日間\")","v":""},{"$f":"IF('教育訓練費入力（今期）'!$F467=\"\",\"\",IF('教育訓練費入力（今期）'!$G467=1,'教育訓練費入力（今期）'!$F467,'教育訓練費入力（今期）'!$F467&\"他\"&'教育訓練費入力（今期）'!$G467-1&\"名\"))","v":""}]
[null,459,null,null,null,null,null,null,null,null,{"$f":"IF('教育訓練費入力（今期）'!$C468=\"\",\"\",TEXT('教育訓練費入力（今期）'!$C468,\"yyyy年\")&TEXT('教育訓練費入力（今期）'!$C468,\"m月\")&TEXT('教育訓練費入力（今期）'!$C468,\"ｄ日\")&\"から\"&'教育訓練費入力（今期）'!$D468&\"日間\")","v":""},{"$f":"IF('教育訓練費入力（今期）'!$F468=\"\",\"\",IF('教育訓練費入力（今期）'!$G468=1,'教育訓練費入力（今期）'!$F468,'教育訓練費入力（今期）'!$F468&\"他\"&'教育訓練費入力（今期）'!$G468-1&\"名\"))","v":""}]
[null,460,null,null,null,null,null,null,null,null,{"$f":"IF('教育訓練費入力（今期）'!$C469=\"\",\"\",TEXT('教育訓練費入力（今期）'!$C469,\"yyyy年\")&TEXT('教育訓練費入力（今期）'!$C469,\"m月\")&TEXT('教育訓練費入力（今期）'!$C469,\"ｄ日\")&\"から\"&'教育訓練費入力（今期）'!$D469&\"日間\")","v":""},{"$f":"IF('教育訓練費入力（今期）'!$F469=\"\",\"\",IF('教育訓練費入力（今期）'!$G469=1,'教育訓練費入力（今期）'!$F469,'教育訓練費入力（今期）'!$F469&\"他\"&'教育訓練費入力（今期）'!$G469-1&\"名\"))","v":""}]
[null,461,null,null,null,null,null,null,null,null,{"$f":"IF('教育訓練費入力（今期）'!$C470=\"\",\"\",TEXT('教育訓練費入力（今期）'!$C470,\"yyyy年\")&TEXT('教育訓練費入力（今期）'!$C470,\"m月\")&TEXT('教育訓練費入力（今期）'!$C470,\"ｄ日\")&\"から\"&'教育訓練費入力（今期）'!$D470&\"日間\")","v":""},{"$f":"IF('教育訓練費入力（今期）'!$F470=\"\",\"\",IF('教育訓練費入力（今期）'!$G470=1,'教育訓練費入力（今期）'!$F470,'教育訓練費入力（今期）'!$F470&\"他\"&'教育訓練費入力（今期）'!$G470-1&\"名\"))","v":""}]
[null,462,null,null,null,null,null,null,null,null,{"$f":"IF('教育訓練費入力（今期）'!$C471=\"\",\"\",TEXT('教育訓練費入力（今期）'!$C471,\"yyyy年\")&TEXT('教育訓練費入力（今期）'!$C471,\"m月\")&TEXT('教育訓練費入力（今期）'!$C471,\"ｄ日\")&\"から\"&'教育訓練費入力（今期）'!$D471&\"日間\")","v":""},{"$f":"IF('教育訓練費入力（今期）'!$F471=\"\",\"\",IF('教育訓練費入力（今期）'!$G471=1,'教育訓練費入力（今期）'!$F471,'教育訓練費入力（今期）'!$F471&\"他\"&'教育訓練費入力（今期）'!$G471-1&\"名\"))","v":""}]
[null,463,null,null,null,null,null,null,null,null,{"$f":"IF('教育訓練費入力（今期）'!$C472=\"\",\"\",TEXT('教育訓練費入力（今期）'!$C472,\"yyyy年\")&TEXT('教育訓練費入力（今期）'!$C472,\"m月\")&TEXT('教育訓練費入力（今期）'!$C472,\"ｄ日\")&\"から\"&'教育訓練費入力（今期）'!$D472&\"日間\")","v":""},{"$f":"IF('教育訓練費入力（今期）'!$F472=\"\",\"\",IF('教育訓練費入力（今期）'!$G472=1,'教育訓練費入力（今期）'!$F472,'教育訓練費入力（今期）'!$F472&\"他\"&'教育訓練費入力（今期）'!$G472-1&\"名\"))","v":""}]
[null,464,null,null,null,null,null,null,null,null,{"$f":"IF('教育訓練費入力（今期）'!$C473=\"\",\"\",TEXT('教育訓練費入力（今期）'!$C473,\"yyyy年\")&TEXT('教育訓練費入力（今期）'!$C473,\"m月\")&TEXT('教育訓練費入力（今期）'!$C473,\"ｄ日\")&\"から\"&'教育訓練費入力（今期）'!$D473&\"日間\")","v":""},{"$f":"IF('教育訓練費入力（今期）'!$F473=\"\",\"\",IF('教育訓練費入力（今期）'!$G473=1,'教育訓練費入力（今期）'!$F473,'教育訓練費入力（今期）'!$F473&\"他\"&'教育訓練費入力（今期）'!$G473-1&\"名\"))","v":""}]
[null,465,null,null,null,null,null,null,null,null,{"$f":"IF('教育訓練費入力（今期）'!$C474=\"\",\"\",TEXT('教育訓練費入力（今期）'!$C474,\"yyyy年\")&TEXT('教育訓練費入力（今期）'!$C474,\"m月\")&TEXT('教育訓練費入力（今期）'!$C474,\"ｄ日\")&\"から\"&'教育訓練費入力（今期）'!$D474&\"日間\")","v":""},{"$f":"IF('教育訓練費入力（今期）'!$F474=\"\",\"\",IF('教育訓練費入力（今期）'!$G474=1,'教育訓練費入力（今期）'!$F474,'教育訓練費入力（今期）'!$F474&\"他\"&'教育訓練費入力（今期）'!$G474-1&\"名\"))","v":""}]
[null,466,null,null,null,null,null,null,null,null,{"$f":"IF('教育訓練費入力（今期）'!$C475=\"\",\"\",TEXT('教育訓練費入力（今期）'!$C475,\"yyyy年\")&TEXT('教育訓練費入力（今期）'!$C475,\"m月\")&TEXT('教育訓練費入力（今期）'!$C475,\"ｄ日\")&\"から\"&'教育訓練費入力（今期）'!$D475&\"日間\")","v":""},{"$f":"IF('教育訓練費入力（今期）'!$F475=\"\",\"\",IF('教育訓練費入力（今期）'!$G475=1,'教育訓練費入力（今期）'!$F475,'教育訓練費入力（今期）'!$F475&\"他\"&'教育訓練費入力（今期）'!$G475-1&\"名\"))","v":""}]
[null,467,null,null,null,null,null,null,null,null,{"$f":"IF('教育訓練費入力（今期）'!$C476=\"\",\"\",TEXT('教育訓練費入力（今期）'!$C476,\"yyyy年\")&TEXT('教育訓練費入力（今期）'!$C476,\"m月\")&TEXT('教育訓練費入力（今期）'!$C476,\"ｄ日\")&\"から\"&'教育訓練費入力（今期）'!$D476&\"日間\")","v":""},{"$f":"IF('教育訓練費入力（今期）'!$F476=\"\",\"\",IF('教育訓練費入力（今期）'!$G476=1,'教育訓練費入力（今期）'!$F476,'教育訓練費入力（今期）'!$F476&\"他\"&'教育訓練費入力（今期）'!$G476-1&\"名\"))","v":""}]
[null,468,null,null,null,null,null,null,null,null,{"$f":"IF('教育訓練費入力（今期）'!$C477=\"\",\"\",TEXT('教育訓練費入力（今期）'!$C477,\"yyyy年\")&TEXT('教育訓練費入力（今期）'!$C477,\"m月\")&TEXT('教育訓練費入力（今期）'!$C477,\"ｄ日\")&\"から\"&'教育訓練費入力（今期）'!$D477&\"日間\")","v":""},{"$f":"IF('教育訓練費入力（今期）'!$F477=\"\",\"\",IF('教育訓練費入力（今期）'!$G477=1,'教育訓練費入力（今期）'!$F477,'教育訓練費入力（今期）'!$F477&\"他\"&'教育訓練費入力（今期）'!$G477-1&\"名\"))","v":""}]
[null,469,null,null,null,null,null,null,null,null,{"$f":"IF('教育訓練費入力（今期）'!$C478=\"\",\"\",TEXT('教育訓練費入力（今期）'!$C478,\"yyyy年\")&TEXT('教育訓練費入力（今期）'!$C478,\"m月\")&TEXT('教育訓練費入力（今期）'!$C478,\"ｄ日\")&\"から\"&'教育訓練費入力（今期）'!$D478&\"日間\")","v":""},{"$f":"IF('教育訓練費入力（今期）'!$F478=\"\",\"\",IF('教育訓練費入力（今期）'!$G478=1,'教育訓練費入力（今期）'!$F478,'教育訓練費入力（今期）'!$F478&\"他\"&'教育訓練費入力（今期）'!$G478-1&\"名\"))","v":""}]
[null,470,null,null,null,null,null,null,null,null,{"$f":"IF('教育訓練費入力（今期）'!$C479=\"\",\"\",TEXT('教育訓練費入力（今期）'!$C479,\"yyyy年\")&TEXT('教育訓練費入力（今期）'!$C479,\"m月\")&TEXT('教育訓練費入力（今期）'!$C479,\"ｄ日\")&\"から\"&'教育訓練費入力（今期）'!$D479&\"日間\")","v":""},{"$f":"IF('教育訓練費入力（今期）'!$F479=\"\",\"\",IF('教育訓練費入力（今期）'!$G479=1,'教育訓練費入力（今期）'!$F479,'教育訓練費入力（今期）'!$F479&\"他\"&'教育訓練費入力（今期）'!$G479-1&\"名\"))","v":""}]
[null,471,null,null,null,null,null,null,null,null,{"$f":"IF('教育訓練費入力（今期）'!$C480=\"\",\"\",TEXT('教育訓練費入力（今期）'!$C480,\"yyyy年\")&TEXT('教育訓練費入力（今期）'!$C480,\"m月\")&TEXT('教育訓練費入力（今期）'!$C480,\"ｄ日\")&\"から\"&'教育訓練費入力（今期）'!$D480&\"日間\")","v":""},{"$f":"IF('教育訓練費入力（今期）'!$F480=\"\",\"\",IF('教育訓練費入力（今期）'!$G480=1,'教育訓練費入力（今期）'!$F480,'教育訓練費入力（今期）'!$F480&\"他\"&'教育訓練費入力（今期）'!$G480-1&\"名\"))","v":""}]
[null,472,null,null,null,null,null,null,null,null,{"$f":"IF('教育訓練費入力（今期）'!$C481=\"\",\"\",TEXT('教育訓練費入力（今期）'!$C481,\"yyyy年\")&TEXT('教育訓練費入力（今期）'!$C481,\"m月\")&TEXT('教育訓練費入力（今期）'!$C481,\"ｄ日\")&\"から\"&'教育訓練費入力（今期）'!$D481&\"日間\")","v":""},{"$f":"IF('教育訓練費入力（今期）'!$F481=\"\",\"\",IF('教育訓練費入力（今期）'!$G481=1,'教育訓練費入力（今期）'!$F481,'教育訓練費入力（今期）'!$F481&\"他\"&'教育訓練費入力（今期）'!$G481-1&\"名\"))","v":""}]
[null,473,null,null,null,null,null,null,null,null,{"$f":"IF('教育訓練費入力（今期）'!$C482=\"\",\"\",TEXT('教育訓練費入力（今期）'!$C482,\"yyyy年\")&TEXT('教育訓練費入力（今期）'!$C482,\"m月\")&TEXT('教育訓練費入力（今期）'!$C482,\"ｄ日\")&\"から\"&'教育訓練費入力（今期）'!$D482&\"日間\")","v":""},{"$f":"IF('教育訓練費入力（今期）'!$F482=\"\",\"\",IF('教育訓練費入力（今期）'!$G482=1,'教育訓練費入力（今期）'!$F482,'教育訓練費入力（今期）'!$F482&\"他\"&'教育訓練費入力（今期）'!$G482-1&\"名\"))","v":""}]
[null,474,null,null,null,null,null,null,null,null,{"$f":"IF('教育訓練費入力（今期）'!$C483=\"\",\"\",TEXT('教育訓練費入力（今期）'!$C483,\"yyyy年\")&TEXT('教育訓練費入力（今期）'!$C483,\"m月\")&TEXT('教育訓練費入力（今期）'!$C483,\"ｄ日\")&\"から\"&'教育訓練費入力（今期）'!$D483&\"日間\")","v":""},{"$f":"IF('教育訓練費入力（今期）'!$F483=\"\",\"\",IF('教育訓練費入力（今期）'!$G483=1,'教育訓練費入力（今期）'!$F483,'教育訓練費入力（今期）'!$F483&\"他\"&'教育訓練費入力（今期）'!$G483-1&\"名\"))","v":""}]
[null,475,null,null,null,null,null,null,null,null,{"$f":"IF('教育訓練費入力（今期）'!$C484=\"\",\"\",TEXT('教育訓練費入力（今期）'!$C484,\"yyyy年\")&TEXT('教育訓練費入力（今期）'!$C484,\"m月\")&TEXT('教育訓練費入力（今期）'!$C484,\"ｄ日\")&\"から\"&'教育訓練費入力（今期）'!$D484&\"日間\")","v":""},{"$f":"IF('教育訓練費入力（今期）'!$F484=\"\",\"\",IF('教育訓練費入力（今期）'!$G484=1,'教育訓練費入力（今期）'!$F484,'教育訓練費入力（今期）'!$F484&\"他\"&'教育訓練費入力（今期）'!$G484-1&\"名\"))","v":""}]
[null,476,null,null,null,null,null,null,null,null,{"$f":"IF('教育訓練費入力（今期）'!$C485=\"\",\"\",TEXT('教育訓練費入力（今期）'!$C485,\"yyyy年\")&TEXT('教育訓練費入力（今期）'!$C485,\"m月\")&TEXT('教育訓練費入力（今期）'!$C485,\"ｄ日\")&\"から\"&'教育訓練費入力（今期）'!$D485&\"日間\")","v":""},{"$f":"IF('教育訓練費入力（今期）'!$F485=\"\",\"\",IF('教育訓練費入力（今期）'!$G485=1,'教育訓練費入力（今期）'!$F485,'教育訓練費入力（今期）'!$F485&\"他\"&'教育訓練費入力（今期）'!$G485-1&\"名\"))","v":""}]
[null,477,null,null,null,null,null,null,null,null,{"$f":"IF('教育訓練費入力（今期）'!$C486=\"\",\"\",TEXT('教育訓練費入力（今期）'!$C486,\"yyyy年\")&TEXT('教育訓練費入力（今期）'!$C486,\"m月\")&TEXT('教育訓練費入力（今期）'!$C486,\"ｄ日\")&\"から\"&'教育訓練費入力（今期）'!$D486&\"日間\")","v":""},{"$f":"IF('教育訓練費入力（今期）'!$F486=\"\",\"\",IF('教育訓練費入力（今期）'!$G486=1,'教育訓練費入力（今期）'!$F486,'教育訓練費入力（今期）'!$F486&\"他\"&'教育訓練費入力（今期）'!$G486-1&\"名\"))","v":""}]
[null,478,null,null,null,null,null,null,null,null,{"$f":"IF('教育訓練費入力（今期）'!$C487=\"\",\"\",TEXT('教育訓練費入力（今期）'!$C487,\"yyyy年\")&TEXT('教育訓練費入力（今期）'!$C487,\"m月\")&TEXT('教育訓練費入力（今期）'!$C487,\"ｄ日\")&\"から\"&'教育訓練費入力（今期）'!$D487&\"日間\")","v":""},{"$f":"IF('教育訓練費入力（今期）'!$F487=\"\",\"\",IF('教育訓練費入力（今期）'!$G487=1,'教育訓練費入力（今期）'!$F487,'教育訓練費入力（今期）'!$F487&\"他\"&'教育訓練費入力（今期）'!$G487-1&\"名\"))","v":""}]
[null,479,null,null,null,null,null,null,null,null,{"$f":"IF('教育訓練費入力（今期）'!$C488=\"\",\"\",TEXT('教育訓練費入力（今期）'!$C488,\"yyyy年\")&TEXT('教育訓練費入力（今期）'!$C488,\"m月\")&TEXT('教育訓練費入力（今期）'!$C488,\"ｄ日\")&\"から\"&'教育訓練費入力（今期）'!$D488&\"日間\")","v":""},{"$f":"IF('教育訓練費入力（今期）'!$F488=\"\",\"\",IF('教育訓練費入力（今期）'!$G488=1,'教育訓練費入力（今期）'!$F488,'教育訓練費入力（今期）'!$F488&\"他\"&'教育訓練費入力（今期）'!$G488-1&\"名\"))","v":""}]
[null,480,null,null,null,null,null,null,null,null,{"$f":"IF('教育訓練費入力（今期）'!$C489=\"\",\"\",TEXT('教育訓練費入力（今期）'!$C489,\"yyyy年\")&TEXT('教育訓練費入力（今期）'!$C489,\"m月\")&TEXT('教育訓練費入力（今期）'!$C489,\"ｄ日\")&\"から\"&'教育訓練費入力（今期）'!$D489&\"日間\")","v":""},{"$f":"IF('教育訓練費入力（今期）'!$F489=\"\",\"\",IF('教育訓練費入力（今期）'!$G489=1,'教育訓練費入力（今期）'!$F489,'教育訓練費入力（今期）'!$F489&\"他\"&'教育訓練費入力（今期）'!$G489-1&\"名\"))","v":""}]
[null,481,null,null,null,null,null,null,null,null,{"$f":"IF('教育訓練費入力（今期）'!$C490=\"\",\"\",TEXT('教育訓練費入力（今期）'!$C490,\"yyyy年\")&TEXT('教育訓練費入力（今期）'!$C490,\"m月\")&TEXT('教育訓練費入力（今期）'!$C490,\"ｄ日\")&\"から\"&'教育訓練費入力（今期）'!$D490&\"日間\")","v":""},{"$f":"IF('教育訓練費入力（今期）'!$F490=\"\",\"\",IF('教育訓練費入力（今期）'!$G490=1,'教育訓練費入力（今期）'!$F490,'教育訓練費入力（今期）'!$F490&\"他\"&'教育訓練費入力（今期）'!$G490-1&\"名\"))","v":""}]
[null,482,null,null,null,null,null,null,null,null,{"$f":"IF('教育訓練費入力（今期）'!$C491=\"\",\"\",TEXT('教育訓練費入力（今期）'!$C491,\"yyyy年\")&TEXT('教育訓練費入力（今期）'!$C491,\"m月\")&TEXT('教育訓練費入力（今期）'!$C491,\"ｄ日\")&\"から\"&'教育訓練費入力（今期）'!$D491&\"日間\")","v":""},{"$f":"IF('教育訓練費入力（今期）'!$F491=\"\",\"\",IF('教育訓練費入力（今期）'!$G491=1,'教育訓練費入力（今期）'!$F491,'教育訓練費入力（今期）'!$F491&\"他\"&'教育訓練費入力（今期）'!$G491-1&\"名\"))","v":""}]
[null,483,null,null,null,null,null,null,null,null,{"$f":"IF('教育訓練費入力（今期）'!$C492=\"\",\"\",TEXT('教育訓練費入力（今期）'!$C492,\"yyyy年\")&TEXT('教育訓練費入力（今期）'!$C492,\"m月\")&TEXT('教育訓練費入力（今期）'!$C492,\"ｄ日\")&\"から\"&'教育訓練費入力（今期）'!$D492&\"日間\")","v":""},{"$f":"IF('教育訓練費入力（今期）'!$F492=\"\",\"\",IF('教育訓練費入力（今期）'!$G492=1,'教育訓練費入力（今期）'!$F492,'教育訓練費入力（今期）'!$F492&\"他\"&'教育訓練費入力（今期）'!$G492-1&\"名\"))","v":""}]
[null,484,null,null,null,null,null,null,null,null,{"$f":"IF('教育訓練費入力（今期）'!$C493=\"\",\"\",TEXT('教育訓練費入力（今期）'!$C493,\"yyyy年\")&TEXT('教育訓練費入力（今期）'!$C493,\"m月\")&TEXT('教育訓練費入力（今期）'!$C493,\"ｄ日\")&\"から\"&'教育訓練費入力（今期）'!$D493&\"日間\")","v":""},{"$f":"IF('教育訓練費入力（今期）'!$F493=\"\",\"\",IF('教育訓練費入力（今期）'!$G493=1,'教育訓練費入力（今期）'!$F493,'教育訓練費入力（今期）'!$F493&\"他\"&'教育訓練費入力（今期）'!$G493-1&\"名\"))","v":""}]
[null,485,null,null,null,null,null,null,null,null,{"$f":"IF('教育訓練費入力（今期）'!$C494=\"\",\"\",TEXT('教育訓練費入力（今期）'!$C494,\"yyyy年\")&TEXT('教育訓練費入力（今期）'!$C494,\"m月\")&TEXT('教育訓練費入力（今期）'!$C494,\"ｄ日\")&\"から\"&'教育訓練費入力（今期）'!$D494&\"日間\")","v":""},{"$f":"IF('教育訓練費入力（今期）'!$F494=\"\",\"\",IF('教育訓練費入力（今期）'!$G494=1,'教育訓練費入力（今期）'!$F494,'教育訓練費入力（今期）'!$F494&\"他\"&'教育訓練費入力（今期）'!$G494-1&\"名\"))","v":""}]
[null,486,null,null,null,null,null,null,null,null,{"$f":"IF('教育訓練費入力（今期）'!$C495=\"\",\"\",TEXT('教育訓練費入力（今期）'!$C495,\"yyyy年\")&TEXT('教育訓練費入力（今期）'!$C495,\"m月\")&TEXT('教育訓練費入力（今期）'!$C495,\"ｄ日\")&\"から\"&'教育訓練費入力（今期）'!$D495&\"日間\")","v":""},{"$f":"IF('教育訓練費入力（今期）'!$F495=\"\",\"\",IF('教育訓練費入力（今期）'!$G495=1,'教育訓練費入力（今期）'!$F495,'教育訓練費入力（今期）'!$F495&\"他\"&'教育訓練費入力（今期）'!$G495-1&\"名\"))","v":""}]
[null,487,null,null,null,null,null,null,null,null,{"$f":"IF('教育訓練費入力（今期）'!$C496=\"\",\"\",TEXT('教育訓練費入力（今期）'!$C496,\"yyyy年\")&TEXT('教育訓練費入力（今期）'!$C496,\"m月\")&TEXT('教育訓練費入力（今期）'!$C496,\"ｄ日\")&\"から\"&'教育訓練費入力（今期）'!$D496&\"日間\")","v":""},{"$f":"IF('教育訓練費入力（今期）'!$F496=\"\",\"\",IF('教育訓練費入力（今期）'!$G496=1,'教育訓練費入力（今期）'!$F496,'教育訓練費入力（今期）'!$F496&\"他\"&'教育訓練費入力（今期）'!$G496-1&\"名\"))","v":""}]
[null,488,null,null,null,null,null,null,null,null,{"$f":"IF('教育訓練費入力（今期）'!$C497=\"\",\"\",TEXT('教育訓練費入力（今期）'!$C497,\"yyyy年\")&TEXT('教育訓練費入力（今期）'!$C497,\"m月\")&TEXT('教育訓練費入力（今期）'!$C497,\"ｄ日\")&\"から\"&'教育訓練費入力（今期）'!$D497&\"日間\")","v":""},{"$f":"IF('教育訓練費入力（今期）'!$F497=\"\",\"\",IF('教育訓練費入力（今期）'!$G497=1,'教育訓練費入力（今期）'!$F497,'教育訓練費入力（今期）'!$F497&\"他\"&'教育訓練費入力（今期）'!$G497-1&\"名\"))","v":""}]
[null,489,null,null,null,null,null,null,null,null,{"$f":"IF('教育訓練費入力（今期）'!$C498=\"\",\"\",TEXT('教育訓練費入力（今期）'!$C498,\"yyyy年\")&TEXT('教育訓練費入力（今期）'!$C498,\"m月\")&TEXT('教育訓練費入力（今期）'!$C498,\"ｄ日\")&\"から\"&'教育訓練費入力（今期）'!$D498&\"日間\")","v":""},{"$f":"IF('教育訓練費入力（今期）'!$F498=\"\",\"\",IF('教育訓練費入力（今期）'!$G498=1,'教育訓練費入力（今期）'!$F498,'教育訓練費入力（今期）'!$F498&\"他\"&'教育訓練費入力（今期）'!$G498-1&\"名\"))","v":""}]
[null,490,null,null,null,null,null,null,null,null,{"$f":"IF('教育訓練費入力（今期）'!$C499=\"\",\"\",TEXT('教育訓練費入力（今期）'!$C499,\"yyyy年\")&TEXT('教育訓練費入力（今期）'!$C499,\"m月\")&TEXT('教育訓練費入力（今期）'!$C499,\"ｄ日\")&\"から\"&'教育訓練費入力（今期）'!$D499&\"日間\")","v":""},{"$f":"IF('教育訓練費入力（今期）'!$F499=\"\",\"\",IF('教育訓練費入力（今期）'!$G499=1,'教育訓練費入力（今期）'!$F499,'教育訓練費入力（今期）'!$F499&\"他\"&'教育訓練費入力（今期）'!$G499-1&\"名\"))","v":""}]
[null,491,null,null,null,null,null,null,null,null,{"$f":"IF('教育訓練費入力（今期）'!$C500=\"\",\"\",TEXT('教育訓練費入力（今期）'!$C500,\"yyyy年\")&TEXT('教育訓練費入力（今期）'!$C500,\"m月\")&TEXT('教育訓練費入力（今期）'!$C500,\"ｄ日\")&\"から\"&'教育訓練費入力（今期）'!$D500&\"日間\")","v":""},{"$f":"IF('教育訓練費入力（今期）'!$F500=\"\",\"\",IF('教育訓練費入力（今期）'!$G500=1,'教育訓練費入力（今期）'!$F500,'教育訓練費入力（今期）'!$F500&\"他\"&'教育訓練費入力（今期）'!$G500-1&\"名\"))","v":""}]
[null,492,null,null,null,null,null,null,null,null,{"$f":"IF('教育訓練費入力（今期）'!$C501=\"\",\"\",TEXT('教育訓練費入力（今期）'!$C501,\"yyyy年\")&TEXT('教育訓練費入力（今期）'!$C501,\"m月\")&TEXT('教育訓練費入力（今期）'!$C501,\"ｄ日\")&\"から\"&'教育訓練費入力（今期）'!$D501&\"日間\")","v":""},{"$f":"IF('教育訓練費入力（今期）'!$F501=\"\",\"\",IF('教育訓練費入力（今期）'!$G501=1,'教育訓練費入力（今期）'!$F501,'教育訓練費入力（今期）'!$F501&\"他\"&'教育訓練費入力（今期）'!$G501-1&\"名\"))","v":""}]
[null,493,null,null,null,null,null,null,null,null,{"$f":"IF('教育訓練費入力（今期）'!$C502=\"\",\"\",TEXT('教育訓練費入力（今期）'!$C502,\"yyyy年\")&TEXT('教育訓練費入力（今期）'!$C502,\"m月\")&TEXT('教育訓練費入力（今期）'!$C502,\"ｄ日\")&\"から\"&'教育訓練費入力（今期）'!$D502&\"日間\")","v":""},{"$f":"IF('教育訓練費入力（今期）'!$F502=\"\",\"\",IF('教育訓練費入力（今期）'!$G502=1,'教育訓練費入力（今期）'!$F502,'教育訓練費入力（今期）'!$F502&\"他\"&'教育訓練費入力（今期）'!$G502-1&\"名\"))","v":""}]
[null,494,null,null,null,null,null,null,null,null,{"$f":"IF('教育訓練費入力（今期）'!$C503=\"\",\"\",TEXT('教育訓練費入力（今期）'!$C503,\"yyyy年\")&TEXT('教育訓練費入力（今期）'!$C503,\"m月\")&TEXT('教育訓練費入力（今期）'!$C503,\"ｄ日\")&\"から\"&'教育訓練費入力（今期）'!$D503&\"日間\")","v":""},{"$f":"IF('教育訓練費入力（今期）'!$F503=\"\",\"\",IF('教育訓練費入力（今期）'!$G503=1,'教育訓練費入力（今期）'!$F503,'教育訓練費入力（今期）'!$F503&\"他\"&'教育訓練費入力（今期）'!$G503-1&\"名\"))","v":""}]
[null,495,null,null,null,null,null,null,null,null,{"$f":"IF('教育訓練費入力（今期）'!$C504=\"\",\"\",TEXT('教育訓練費入力（今期）'!$C504,\"yyyy年\")&TEXT('教育訓練費入力（今期）'!$C504,\"m月\")&TEXT('教育訓練費入力（今期）'!$C504,\"ｄ日\")&\"から\"&'教育訓練費入力（今期）'!$D504&\"日間\")","v":""},{"$f":"IF('教育訓練費入力（今期）'!$F504=\"\",\"\",IF('教育訓練費入力（今期）'!$G504=1,'教育訓練費入力（今期）'!$F504,'教育訓練費入力（今期）'!$F504&\"他\"&'教育訓練費入力（今期）'!$G504-1&\"名\"))","v":""}]
[null,496,null,null,null,null,null,null,null,null,{"$f":"IF('教育訓練費入力（今期）'!$C505=\"\",\"\",TEXT('教育訓練費入力（今期）'!$C505,\"yyyy年\")&TEXT('教育訓練費入力（今期）'!$C505,\"m月\")&TEXT('教育訓練費入力（今期）'!$C505,\"ｄ日\")&\"から\"&'教育訓練費入力（今期）'!$D505&\"日間\")","v":""},{"$f":"IF('教育訓練費入力（今期）'!$F505=\"\",\"\",IF('教育訓練費入力（今期）'!$G505=1,'教育訓練費入力（今期）'!$F505,'教育訓練費入力（今期）'!$F505&\"他\"&'教育訓練費入力（今期）'!$G505-1&\"名\"))","v":""}]
[null,497,null,null,null,null,null,null,null,null,{"$f":"IF('教育訓練費入力（今期）'!$C506=\"\",\"\",TEXT('教育訓練費入力（今期）'!$C506,\"yyyy年\")&TEXT('教育訓練費入力（今期）'!$C506,\"m月\")&TEXT('教育訓練費入力（今期）'!$C506,\"ｄ日\")&\"から\"&'教育訓練費入力（今期）'!$D506&\"日間\")","v":""},{"$f":"IF('教育訓練費入力（今期）'!$F506=\"\",\"\",IF('教育訓練費入力（今期）'!$G506=1,'教育訓練費入力（今期）'!$F506,'教育訓練費入力（今期）'!$F506&\"他\"&'教育訓練費入力（今期）'!$G506-1&\"名\"))","v":""}]
[null,498,null,null,null,null,null,null,null,null,{"$f":"IF('教育訓練費入力（今期）'!$C507=\"\",\"\",TEXT('教育訓練費入力（今期）'!$C507,\"yyyy年\")&TEXT('教育訓練費入力（今期）'!$C507,\"m月\")&TEXT('教育訓練費入力（今期）'!$C507,\"ｄ日\")&\"から\"&'教育訓練費入力（今期）'!$D507&\"日間\")","v":""},{"$f":"IF('教育訓練費入力（今期）'!$F507=\"\",\"\",IF('教育訓練費入力（今期）'!$G507=1,'教育訓練費入力（今期）'!$F507,'教育訓練費入力（今期）'!$F507&\"他\"&'教育訓練費入力（今期）'!$G507-1&\"名\"))","v":""}]
[null,499,null,null,null,null,null,null,null,null,{"$f":"IF('教育訓練費入力（今期）'!$C508=\"\",\"\",TEXT('教育訓練費入力（今期）'!$C508,\"yyyy年\")&TEXT('教育訓練費入力（今期）'!$C508,\"m月\")&TEXT('教育訓練費入力（今期）'!$C508,\"ｄ日\")&\"から\"&'教育訓練費入力（今期）'!$D508&\"日間\")","v":""},{"$f":"IF('教育訓練費入力（今期）'!$F508=\"\",\"\",IF('教育訓練費入力（今期）'!$G508=1,'教育訓練費入力（今期）'!$F508,'教育訓練費入力（今期）'!$F508&\"他\"&'教育訓練費入力（今期）'!$G508-1&\"名\"))","v":""}]
[null,500,null,null,null,null,null,null,null,null,{"$f":"IF('教育訓練費入力（今期）'!$C509=\"\",\"\",TEXT('教育訓練費入力（今期）'!$C509,\"yyyy年\")&TEXT('教育訓練費入力（今期）'!$C509,\"m月\")&TEXT('教育訓練費入力（今期）'!$C509,\"ｄ日\")&\"から\"&'教育訓練費入力（今期）'!$D509&\"日間\")","v":""},{"$f":"IF('教育訓練費入力（今期）'!$F509=\"\",\"\",IF('教育訓練費入力（今期）'!$G509=1,'教育訓練費入力（今期）'!$F509,'教育訓練費入力（今期）'!$F509&\"他\"&'教育訓練費入力（今期）'!$G509-1&\"名\"))","v":""}]
[null,501,null,null,null,null,null,null,null,null,{"$f":"IF('教育訓練費入力（今期）'!$C510=\"\",\"\",TEXT('教育訓練費入力（今期）'!$C510,\"yyyy年\")&TEXT('教育訓練費入力（今期）'!$C510,\"m月\")&TEXT('教育訓練費入力（今期）'!$C510,\"ｄ日\")&\"から\"&'教育訓練費入力（今期）'!$D510&\"日間\")","v":""},{"$f":"IF('教育訓練費入力（今期）'!$F510=\"\",\"\",IF('教育訓練費入力（今期）'!$G510=1,'教育訓練費入力（今期）'!$F510,'教育訓練費入力（今期）'!$F510&\"他\"&'教育訓練費入力（今期）'!$G510-1&\"名\"))","v":""}]
[null,502,null,null,null,null,null,null,null,null,{"$f":"IF('教育訓練費入力（今期）'!$C511=\"\",\"\",TEXT('教育訓練費入力（今期）'!$C511,\"yyyy年\")&TEXT('教育訓練費入力（今期）'!$C511,\"m月\")&TEXT('教育訓練費入力（今期）'!$C511,\"ｄ日\")&\"から\"&'教育訓練費入力（今期）'!$D511&\"日間\")","v":""},{"$f":"IF('教育訓練費入力（今期）'!$F511=\"\",\"\",IF('教育訓練費入力（今期）'!$G511=1,'教育訓練費入力（今期）'!$F511,'教育訓練費入力（今期）'!$F511&\"他\"&'教育訓練費入力（今期）'!$G511-1&\"名\"))","v":""}]
[null,503,null,null,null,null,null,null,null,null,{"$f":"IF('教育訓練費入力（今期）'!$C512=\"\",\"\",TEXT('教育訓練費入力（今期）'!$C512,\"yyyy年\")&TEXT('教育訓練費入力（今期）'!$C512,\"m月\")&TEXT('教育訓練費入力（今期）'!$C512,\"ｄ日\")&\"から\"&'教育訓練費入力（今期）'!$D512&\"日間\")","v":""},{"$f":"IF('教育訓練費入力（今期）'!$F512=\"\",\"\",IF('教育訓練費入力（今期）'!$G512=1,'教育訓練費入力（今期）'!$F512,'教育訓練費入力（今期）'!$F512&\"他\"&'教育訓練費入力（今期）'!$G512-1&\"名\"))","v":""}]
[null,504,null,null,null,null,null,null,null,null,{"$f":"IF('教育訓練費入力（今期）'!$C513=\"\",\"\",TEXT('教育訓練費入力（今期）'!$C513,\"yyyy年\")&TEXT('教育訓練費入力（今期）'!$C513,\"m月\")&TEXT('教育訓練費入力（今期）'!$C513,\"ｄ日\")&\"から\"&'教育訓練費入力（今期）'!$D513&\"日間\")","v":""},{"$f":"IF('教育訓練費入力（今期）'!$F513=\"\",\"\",IF('教育訓練費入力（今期）'!$G513=1,'教育訓練費入力（今期）'!$F513,'教育訓練費入力（今期）'!$F513&\"他\"&'教育訓練費入力（今期）'!$G513-1&\"名\"))","v":""}]
[null,505,null,null,null,null,null,null,null,null,{"$f":"IF('教育訓練費入力（今期）'!$C514=\"\",\"\",TEXT('教育訓練費入力（今期）'!$C514,\"yyyy年\")&TEXT('教育訓練費入力（今期）'!$C514,\"m月\")&TEXT('教育訓練費入力（今期）'!$C514,\"ｄ日\")&\"から\"&'教育訓練費入力（今期）'!$D514&\"日間\")","v":""},{"$f":"IF('教育訓練費入力（今期）'!$F514=\"\",\"\",IF('教育訓練費入力（今期）'!$G514=1,'教育訓練費入力（今期）'!$F514,'教育訓練費入力（今期）'!$F514&\"他\"&'教育訓練費入力（今期）'!$G514-1&\"名\"))","v":""}]
[null,506,null,null,null,null,null,null,null,null,{"$f":"IF('教育訓練費入力（今期）'!$C515=\"\",\"\",TEXT('教育訓練費入力（今期）'!$C515,\"yyyy年\")&TEXT('教育訓練費入力（今期）'!$C515,\"m月\")&TEXT('教育訓練費入力（今期）'!$C515,\"ｄ日\")&\"から\"&'教育訓練費入力（今期）'!$D515&\"日間\")","v":""},{"$f":"IF('教育訓練費入力（今期）'!$F515=\"\",\"\",IF('教育訓練費入力（今期）'!$G515=1,'教育訓練費入力（今期）'!$F515,'教育訓練費入力（今期）'!$F515&\"他\"&'教育訓練費入力（今期）'!$G515-1&\"名\"))","v":""}]
[null,507,null,null,null,null,null,null,null,null,{"$f":"IF('教育訓練費入力（今期）'!$C516=\"\",\"\",TEXT('教育訓練費入力（今期）'!$C516,\"yyyy年\")&TEXT('教育訓練費入力（今期）'!$C516,\"m月\")&TEXT('教育訓練費入力（今期）'!$C516,\"ｄ日\")&\"から\"&'教育訓練費入力（今期）'!$D516&\"日間\")","v":""},{"$f":"IF('教育訓練費入力（今期）'!$F516=\"\",\"\",IF('教育訓練費入力（今期）'!$G516=1,'教育訓練費入力（今期）'!$F516,'教育訓練費入力（今期）'!$F516&\"他\"&'教育訓練費入力（今期）'!$G516-1&\"名\"))","v":""}]
[null,508,null,null,null,null,null,null,null,null,{"$f":"IF('教育訓練費入力（今期）'!$C517=\"\",\"\",TEXT('教育訓練費入力（今期）'!$C517,\"yyyy年\")&TEXT('教育訓練費入力（今期）'!$C517,\"m月\")&TEXT('教育訓練費入力（今期）'!$C517,\"ｄ日\")&\"から\"&'教育訓練費入力（今期）'!$D517&\"日間\")","v":""},{"$f":"IF('教育訓練費入力（今期）'!$F517=\"\",\"\",IF('教育訓練費入力（今期）'!$G517=1,'教育訓練費入力（今期）'!$F517,'教育訓練費入力（今期）'!$F517&\"他\"&'教育訓練費入力（今期）'!$G517-1&\"名\"))","v":""}]
[null,509,null,null,null,null,null,null,null,null,{"$f":"IF('教育訓練費入力（今期）'!$C518=\"\",\"\",TEXT('教育訓練費入力（今期）'!$C518,\"yyyy年\")&TEXT('教育訓練費入力（今期）'!$C518,\"m月\")&TEXT('教育訓練費入力（今期）'!$C518,\"ｄ日\")&\"から\"&'教育訓練費入力（今期）'!$D518&\"日間\")","v":""},{"$f":"IF('教育訓練費入力（今期）'!$F518=\"\",\"\",IF('教育訓練費入力（今期）'!$G518=1,'教育訓練費入力（今期）'!$F518,'教育訓練費入力（今期）'!$F518&\"他\"&'教育訓練費入力（今期）'!$G518-1&\"名\"))","v":""}]
[null,510,null,null,null,null,null,null,null,null,{"$f":"IF('教育訓練費入力（今期）'!$C519=\"\",\"\",TEXT('教育訓練費入力（今期）'!$C519,\"yyyy年\")&TEXT('教育訓練費入力（今期）'!$C519,\"m月\")&TEXT('教育訓練費入力（今期）'!$C519,\"ｄ日\")&\"から\"&'教育訓練費入力（今期）'!$D519&\"日間\")","v":""},{"$f":"IF('教育訓練費入力（今期）'!$F519=\"\",\"\",IF('教育訓練費入力（今期）'!$G519=1,'教育訓練費入力（今期）'!$F519,'教育訓練費入力（今期）'!$F519&\"他\"&'教育訓練費入力（今期）'!$G519-1&\"名\"))","v":""}]
[null,511,null,null,null,null,null,null,null,null,{"$f":"IF('教育訓練費入力（今期）'!$C520=\"\",\"\",TEXT('教育訓練費入力（今期）'!$C520,\"yyyy年\")&TEXT('教育訓練費入力（今期）'!$C520,\"m月\")&TEXT('教育訓練費入力（今期）'!$C520,\"ｄ日\")&\"から\"&'教育訓練費入力（今期）'!$D520&\"日間\")","v":""},{"$f":"IF('教育訓練費入力（今期）'!$F520=\"\",\"\",IF('教育訓練費入力（今期）'!$G520=1,'教育訓練費入力（今期）'!$F520,'教育訓練費入力（今期）'!$F520&\"他\"&'教育訓練費入力（今期）'!$G520-1&\"名\"))","v":""}]
[null,512,null,null,null,null,null,null,null,null,{"$f":"IF('教育訓練費入力（今期）'!$C521=\"\",\"\",TEXT('教育訓練費入力（今期）'!$C521,\"yyyy年\")&TEXT('教育訓練費入力（今期）'!$C521,\"m月\")&TEXT('教育訓練費入力（今期）'!$C521,\"ｄ日\")&\"から\"&'教育訓練費入力（今期）'!$D521&\"日間\")","v":""},{"$f":"IF('教育訓練費入力（今期）'!$F521=\"\",\"\",IF('教育訓練費入力（今期）'!$G521=1,'教育訓練費入力（今期）'!$F521,'教育訓練費入力（今期）'!$F521&\"他\"&'教育訓練費入力（今期）'!$G521-1&\"名\"))","v":""}]
[null,513,null,null,null,null,null,null,null,null,{"$f":"IF('教育訓練費入力（今期）'!$C522=\"\",\"\",TEXT('教育訓練費入力（今期）'!$C522,\"yyyy年\")&TEXT('教育訓練費入力（今期）'!$C522,\"m月\")&TEXT('教育訓練費入力（今期）'!$C522,\"ｄ日\")&\"から\"&'教育訓練費入力（今期）'!$D522&\"日間\")","v":""},{"$f":"IF('教育訓練費入力（今期）'!$F522=\"\",\"\",IF('教育訓練費入力（今期）'!$G522=1,'教育訓練費入力（今期）'!$F522,'教育訓練費入力（今期）'!$F522&\"他\"&'教育訓練費入力（今期）'!$G522-1&\"名\"))","v":""}]
[null,514,null,null,null,null,null,null,null,null,{"$f":"IF('教育訓練費入力（今期）'!$C523=\"\",\"\",TEXT('教育訓練費入力（今期）'!$C523,\"yyyy年\")&TEXT('教育訓練費入力（今期）'!$C523,\"m月\")&TEXT('教育訓練費入力（今期）'!$C523,\"ｄ日\")&\"から\"&'教育訓練費入力（今期）'!$D523&\"日間\")","v":""},{"$f":"IF('教育訓練費入力（今期）'!$F523=\"\",\"\",IF('教育訓練費入力（今期）'!$G523=1,'教育訓練費入力（今期）'!$F523,'教育訓練費入力（今期）'!$F523&\"他\"&'教育訓練費入力（今期）'!$G523-1&\"名\"))","v":""}]
[null,515,null,null,null,null,null,null,null,null,{"$f":"IF('教育訓練費入力（今期）'!$C524=\"\",\"\",TEXT('教育訓練費入力（今期）'!$C524,\"yyyy年\")&TEXT('教育訓練費入力（今期）'!$C524,\"m月\")&TEXT('教育訓練費入力（今期）'!$C524,\"ｄ日\")&\"から\"&'教育訓練費入力（今期）'!$D524&\"日間\")","v":""},{"$f":"IF('教育訓練費入力（今期）'!$F524=\"\",\"\",IF('教育訓練費入力（今期）'!$G524=1,'教育訓練費入力（今期）'!$F524,'教育訓練費入力（今期）'!$F524&\"他\"&'教育訓練費入力（今期）'!$G524-1&\"名\"))","v":""}]
[null,516,null,null,null,null,null,null,null,null,{"$f":"IF('教育訓練費入力（今期）'!$C525=\"\",\"\",TEXT('教育訓練費入力（今期）'!$C525,\"yyyy年\")&TEXT('教育訓練費入力（今期）'!$C525,\"m月\")&TEXT('教育訓練費入力（今期）'!$C525,\"ｄ日\")&\"から\"&'教育訓練費入力（今期）'!$D525&\"日間\")","v":""},{"$f":"IF('教育訓練費入力（今期）'!$F525=\"\",\"\",IF('教育訓練費入力（今期）'!$G525=1,'教育訓練費入力（今期）'!$F525,'教育訓練費入力（今期）'!$F525&\"他\"&'教育訓練費入力（今期）'!$G525-1&\"名\"))","v":""}]
[null,517,null,null,null,null,null,null,null,null,{"$f":"IF('教育訓練費入力（今期）'!$C526=\"\",\"\",TEXT('教育訓練費入力（今期）'!$C526,\"yyyy年\")&TEXT('教育訓練費入力（今期）'!$C526,\"m月\")&TEXT('教育訓練費入力（今期）'!$C526,\"ｄ日\")&\"から\"&'教育訓練費入力（今期）'!$D526&\"日間\")","v":""},{"$f":"IF('教育訓練費入力（今期）'!$F526=\"\",\"\",IF('教育訓練費入力（今期）'!$G526=1,'教育訓練費入力（今期）'!$F526,'教育訓練費入力（今期）'!$F526&\"他\"&'教育訓練費入力（今期）'!$G526-1&\"名\"))","v":""}]
[null,518,null,null,null,null,null,null,null,null,{"$f":"IF('教育訓練費入力（今期）'!$C527=\"\",\"\",TEXT('教育訓練費入力（今期）'!$C527,\"yyyy年\")&TEXT('教育訓練費入力（今期）'!$C527,\"m月\")&TEXT('教育訓練費入力（今期）'!$C527,\"ｄ日\")&\"から\"&'教育訓練費入力（今期）'!$D527&\"日間\")","v":""},{"$f":"IF('教育訓練費入力（今期）'!$F527=\"\",\"\",IF('教育訓練費入力（今期）'!$G527=1,'教育訓練費入力（今期）'!$F527,'教育訓練費入力（今期）'!$F527&\"他\"&'教育訓練費入力（今期）'!$G527-1&\"名\"))","v":""}]
[null,519,null,null,null,null,null,null,null,null,{"$f":"IF('教育訓練費入力（今期）'!$C528=\"\",\"\",TEXT('教育訓練費入力（今期）'!$C528,\"yyyy年\")&TEXT('教育訓練費入力（今期）'!$C528,\"m月\")&TEXT('教育訓練費入力（今期）'!$C528,\"ｄ日\")&\"から\"&'教育訓練費入力（今期）'!$D528&\"日間\")","v":""},{"$f":"IF('教育訓練費入力（今期）'!$F528=\"\",\"\",IF('教育訓練費入力（今期）'!$G528=1,'教育訓練費入力（今期）'!$F528,'教育訓練費入力（今期）'!$F528&\"他\"&'教育訓練費入力（今期）'!$G528-1&\"名\"))","v":""}]
[null,520,null,null,null,null,null,null,null,null,{"$f":"IF('教育訓練費入力（今期）'!$C529=\"\",\"\",TEXT('教育訓練費入力（今期）'!$C529,\"yyyy年\")&TEXT('教育訓練費入力（今期）'!$C529,\"m月\")&TEXT('教育訓練費入力（今期）'!$C529,\"ｄ日\")&\"から\"&'教育訓練費入力（今期）'!$D529&\"日間\")","v":""},{"$f":"IF('教育訓練費入力（今期）'!$F529=\"\",\"\",IF('教育訓練費入力（今期）'!$G529=1,'教育訓練費入力（今期）'!$F529,'教育訓練費入力（今期）'!$F529&\"他\"&'教育訓練費入力（今期）'!$G529-1&\"名\"))","v":""}]
[null,521,null,null,null,null,null,null,null,null,{"$f":"IF('教育訓練費入力（今期）'!$C530=\"\",\"\",TEXT('教育訓練費入力（今期）'!$C530,\"yyyy年\")&TEXT('教育訓練費入力（今期）'!$C530,\"m月\")&TEXT('教育訓練費入力（今期）'!$C530,\"ｄ日\")&\"から\"&'教育訓練費入力（今期）'!$D530&\"日間\")","v":""},{"$f":"IF('教育訓練費入力（今期）'!$F530=\"\",\"\",IF('教育訓練費入力（今期）'!$G530=1,'教育訓練費入力（今期）'!$F530,'教育訓練費入力（今期）'!$F530&\"他\"&'教育訓練費入力（今期）'!$G530-1&\"名\"))","v":""}]
[null,522,null,null,null,null,null,null,null,null,{"$f":"IF('教育訓練費入力（今期）'!$C531=\"\",\"\",TEXT('教育訓練費入力（今期）'!$C531,\"yyyy年\")&TEXT('教育訓練費入力（今期）'!$C531,\"m月\")&TEXT('教育訓練費入力（今期）'!$C531,\"ｄ日\")&\"から\"&'教育訓練費入力（今期）'!$D531&\"日間\")","v":""},{"$f":"IF('教育訓練費入力（今期）'!$F531=\"\",\"\",IF('教育訓練費入力（今期）'!$G531=1,'教育訓練費入力（今期）'!$F531,'教育訓練費入力（今期）'!$F531&\"他\"&'教育訓練費入力（今期）'!$G531-1&\"名\"))","v":""}]
[null,523,null,null,null,null,null,null,null,null,{"$f":"IF('教育訓練費入力（今期）'!$C532=\"\",\"\",TEXT('教育訓練費入力（今期）'!$C532,\"yyyy年\")&TEXT('教育訓練費入力（今期）'!$C532,\"m月\")&TEXT('教育訓練費入力（今期）'!$C532,\"ｄ日\")&\"から\"&'教育訓練費入力（今期）'!$D532&\"日間\")","v":""},{"$f":"IF('教育訓練費入力（今期）'!$F532=\"\",\"\",IF('教育訓練費入力（今期）'!$G532=1,'教育訓練費入力（今期）'!$F532,'教育訓練費入力（今期）'!$F532&\"他\"&'教育訓練費入力（今期）'!$G532-1&\"名\"))","v":""}]
[null,524,null,null,null,null,null,null,null,null,{"$f":"IF('教育訓練費入力（今期）'!$C533=\"\",\"\",TEXT('教育訓練費入力（今期）'!$C533,\"yyyy年\")&TEXT('教育訓練費入力（今期）'!$C533,\"m月\")&TEXT('教育訓練費入力（今期）'!$C533,\"ｄ日\")&\"から\"&'教育訓練費入力（今期）'!$D533&\"日間\")","v":""},{"$f":"IF('教育訓練費入力（今期）'!$F533=\"\",\"\",IF('教育訓練費入力（今期）'!$G533=1,'教育訓練費入力（今期）'!$F533,'教育訓練費入力（今期）'!$F533&\"他\"&'教育訓練費入力（今期）'!$G533-1&\"名\"))","v":""}]
[null,525,null,null,null,null,null,null,null,null,{"$f":"IF('教育訓練費入力（今期）'!$C534=\"\",\"\",TEXT('教育訓練費入力（今期）'!$C534,\"yyyy年\")&TEXT('教育訓練費入力（今期）'!$C534,\"m月\")&TEXT('教育訓練費入力（今期）'!$C534,\"ｄ日\")&\"から\"&'教育訓練費入力（今期）'!$D534&\"日間\")","v":""},{"$f":"IF('教育訓練費入力（今期）'!$F534=\"\",\"\",IF('教育訓練費入力（今期）'!$G534=1,'教育訓練費入力（今期）'!$F534,'教育訓練費入力（今期）'!$F534&\"他\"&'教育訓練費入力（今期）'!$G534-1&\"名\"))","v":""}]
[null,526,null,null,null,null,null,null,null,null,{"$f":"IF('教育訓練費入力（今期）'!$C535=\"\",\"\",TEXT('教育訓練費入力（今期）'!$C535,\"yyyy年\")&TEXT('教育訓練費入力（今期）'!$C535,\"m月\")&TEXT('教育訓練費入力（今期）'!$C535,\"ｄ日\")&\"から\"&'教育訓練費入力（今期）'!$D535&\"日間\")","v":""},{"$f":"IF('教育訓練費入力（今期）'!$F535=\"\",\"\",IF('教育訓練費入力（今期）'!$G535=1,'教育訓練費入力（今期）'!$F535,'教育訓練費入力（今期）'!$F535&\"他\"&'教育訓練費入力（今期）'!$G535-1&\"名\"))","v":""}]
[null,527,null,null,null,null,null,null,null,null,{"$f":"IF('教育訓練費入力（今期）'!$C536=\"\",\"\",TEXT('教育訓練費入力（今期）'!$C536,\"yyyy年\")&TEXT('教育訓練費入力（今期）'!$C536,\"m月\")&TEXT('教育訓練費入力（今期）'!$C536,\"ｄ日\")&\"から\"&'教育訓練費入力（今期）'!$D536&\"日間\")","v":""},{"$f":"IF('教育訓練費入力（今期）'!$F536=\"\",\"\",IF('教育訓練費入力（今期）'!$G536=1,'教育訓練費入力（今期）'!$F536,'教育訓練費入力（今期）'!$F536&\"他\"&'教育訓練費入力（今期）'!$G536-1&\"名\"))","v":""}]
[null,528,null,null,null,null,null,null,null,null,{"$f":"IF('教育訓練費入力（今期）'!$C537=\"\",\"\",TEXT('教育訓練費入力（今期）'!$C537,\"yyyy年\")&TEXT('教育訓練費入力（今期）'!$C537,\"m月\")&TEXT('教育訓練費入力（今期）'!$C537,\"ｄ日\")&\"から\"&'教育訓練費入力（今期）'!$D537&\"日間\")","v":""},{"$f":"IF('教育訓練費入力（今期）'!$F537=\"\",\"\",IF('教育訓練費入力（今期）'!$G537=1,'教育訓練費入力（今期）'!$F537,'教育訓練費入力（今期）'!$F537&\"他\"&'教育訓練費入力（今期）'!$G537-1&\"名\"))","v":""}]
[null,529,null,null,null,null,null,null,null,null,{"$f":"IF('教育訓練費入力（今期）'!$C538=\"\",\"\",TEXT('教育訓練費入力（今期）'!$C538,\"yyyy年\")&TEXT('教育訓練費入力（今期）'!$C538,\"m月\")&TEXT('教育訓練費入力（今期）'!$C538,\"ｄ日\")&\"から\"&'教育訓練費入力（今期）'!$D538&\"日間\")","v":""},{"$f":"IF('教育訓練費入力（今期）'!$F538=\"\",\"\",IF('教育訓練費入力（今期）'!$G538=1,'教育訓練費入力（今期）'!$F538,'教育訓練費入力（今期）'!$F538&\"他\"&'教育訓練費入力（今期）'!$G538-1&\"名\"))","v":""}]
[null,530,null,null,null,null,null,null,null,null,{"$f":"IF('教育訓練費入力（今期）'!$C539=\"\",\"\",TEXT('教育訓練費入力（今期）'!$C539,\"yyyy年\")&TEXT('教育訓練費入力（今期）'!$C539,\"m月\")&TEXT('教育訓練費入力（今期）'!$C539,\"ｄ日\")&\"から\"&'教育訓練費入力（今期）'!$D539&\"日間\")","v":""},{"$f":"IF('教育訓練費入力（今期）'!$F539=\"\",\"\",IF('教育訓練費入力（今期）'!$G539=1,'教育訓練費入力（今期）'!$F539,'教育訓練費入力（今期）'!$F539&\"他\"&'教育訓練費入力（今期）'!$G539-1&\"名\"))","v":""}]
[null,531,null,null,null,null,null,null,null,null,{"$f":"IF('教育訓練費入力（今期）'!$C540=\"\",\"\",TEXT('教育訓練費入力（今期）'!$C540,\"yyyy年\")&TEXT('教育訓練費入力（今期）'!$C540,\"m月\")&TEXT('教育訓練費入力（今期）'!$C540,\"ｄ日\")&\"から\"&'教育訓練費入力（今期）'!$D540&\"日間\")","v":""},{"$f":"IF('教育訓練費入力（今期）'!$F540=\"\",\"\",IF('教育訓練費入力（今期）'!$G540=1,'教育訓練費入力（今期）'!$F540,'教育訓練費入力（今期）'!$F540&\"他\"&'教育訓練費入力（今期）'!$G540-1&\"名\"))","v":""}]
[null,532,null,null,null,null,null,null,null,null,{"$f":"IF('教育訓練費入力（今期）'!$C541=\"\",\"\",TEXT('教育訓練費入力（今期）'!$C541,\"yyyy年\")&TEXT('教育訓練費入力（今期）'!$C541,\"m月\")&TEXT('教育訓練費入力（今期）'!$C541,\"ｄ日\")&\"から\"&'教育訓練費入力（今期）'!$D541&\"日間\")","v":""},{"$f":"IF('教育訓練費入力（今期）'!$F541=\"\",\"\",IF('教育訓練費入力（今期）'!$G541=1,'教育訓練費入力（今期）'!$F541,'教育訓練費入力（今期）'!$F541&\"他\"&'教育訓練費入力（今期）'!$G541-1&\"名\"))","v":""}]
[null,533,null,null,null,null,null,null,null,null,{"$f":"IF('教育訓練費入力（今期）'!$C542=\"\",\"\",TEXT('教育訓練費入力（今期）'!$C542,\"yyyy年\")&TEXT('教育訓練費入力（今期）'!$C542,\"m月\")&TEXT('教育訓練費入力（今期）'!$C542,\"ｄ日\")&\"から\"&'教育訓練費入力（今期）'!$D542&\"日間\")","v":""},{"$f":"IF('教育訓練費入力（今期）'!$F542=\"\",\"\",IF('教育訓練費入力（今期）'!$G542=1,'教育訓練費入力（今期）'!$F542,'教育訓練費入力（今期）'!$F542&\"他\"&'教育訓練費入力（今期）'!$G542-1&\"名\"))","v":""}]
[null,534,null,null,null,null,null,null,null,null,{"$f":"IF('教育訓練費入力（今期）'!$C543=\"\",\"\",TEXT('教育訓練費入力（今期）'!$C543,\"yyyy年\")&TEXT('教育訓練費入力（今期）'!$C543,\"m月\")&TEXT('教育訓練費入力（今期）'!$C543,\"ｄ日\")&\"から\"&'教育訓練費入力（今期）'!$D543&\"日間\")","v":""},{"$f":"IF('教育訓練費入力（今期）'!$F543=\"\",\"\",IF('教育訓練費入力（今期）'!$G543=1,'教育訓練費入力（今期）'!$F543,'教育訓練費入力（今期）'!$F543&\"他\"&'教育訓練費入力（今期）'!$G543-1&\"名\"))","v":""}]
[null,535,null,null,null,null,null,null,null,null,{"$f":"IF('教育訓練費入力（今期）'!$C544=\"\",\"\",TEXT('教育訓練費入力（今期）'!$C544,\"yyyy年\")&TEXT('教育訓練費入力（今期）'!$C544,\"m月\")&TEXT('教育訓練費入力（今期）'!$C544,\"ｄ日\")&\"から\"&'教育訓練費入力（今期）'!$D544&\"日間\")","v":""},{"$f":"IF('教育訓練費入力（今期）'!$F544=\"\",\"\",IF('教育訓練費入力（今期）'!$G544=1,'教育訓練費入力（今期）'!$F544,'教育訓練費入力（今期）'!$F544&\"他\"&'教育訓練費入力（今期）'!$G544-1&\"名\"))","v":""}]
[null,536,null,null,null,null,null,null,null,null,{"$f":"IF('教育訓練費入力（今期）'!$C545=\"\",\"\",TEXT('教育訓練費入力（今期）'!$C545,\"yyyy年\")&TEXT('教育訓練費入力（今期）'!$C545,\"m月\")&TEXT('教育訓練費入力（今期）'!$C545,\"ｄ日\")&\"から\"&'教育訓練費入力（今期）'!$D545&\"日間\")","v":""},{"$f":"IF('教育訓練費入力（今期）'!$F545=\"\",\"\",IF('教育訓練費入力（今期）'!$G545=1,'教育訓練費入力（今期）'!$F545,'教育訓練費入力（今期）'!$F545&\"他\"&'教育訓練費入力（今期）'!$G545-1&\"名\"))","v":""}]
[null,537,null,null,null,null,null,null,null,null,{"$f":"IF('教育訓練費入力（今期）'!$C546=\"\",\"\",TEXT('教育訓練費入力（今期）'!$C546,\"yyyy年\")&TEXT('教育訓練費入力（今期）'!$C546,\"m月\")&TEXT('教育訓練費入力（今期）'!$C546,\"ｄ日\")&\"から\"&'教育訓練費入力（今期）'!$D546&\"日間\")","v":""},{"$f":"IF('教育訓練費入力（今期）'!$F546=\"\",\"\",IF('教育訓練費入力（今期）'!$G546=1,'教育訓練費入力（今期）'!$F546,'教育訓練費入力（今期）'!$F546&\"他\"&'教育訓練費入力（今期）'!$G546-1&\"名\"))","v":""}]
[null,538,null,null,null,null,null,null,null,null,{"$f":"IF('教育訓練費入力（今期）'!$C547=\"\",\"\",TEXT('教育訓練費入力（今期）'!$C547,\"yyyy年\")&TEXT('教育訓練費入力（今期）'!$C547,\"m月\")&TEXT('教育訓練費入力（今期）'!$C547,\"ｄ日\")&\"から\"&'教育訓練費入力（今期）'!$D547&\"日間\")","v":""},{"$f":"IF('教育訓練費入力（今期）'!$F547=\"\",\"\",IF('教育訓練費入力（今期）'!$G547=1,'教育訓練費入力（今期）'!$F547,'教育訓練費入力（今期）'!$F547&\"他\"&'教育訓練費入力（今期）'!$G547-1&\"名\"))","v":""}]
[null,539,null,null,null,null,null,null,null,null,{"$f":"IF('教育訓練費入力（今期）'!$C548=\"\",\"\",TEXT('教育訓練費入力（今期）'!$C548,\"yyyy年\")&TEXT('教育訓練費入力（今期）'!$C548,\"m月\")&TEXT('教育訓練費入力（今期）'!$C548,\"ｄ日\")&\"から\"&'教育訓練費入力（今期）'!$D548&\"日間\")","v":""},{"$f":"IF('教育訓練費入力（今期）'!$F548=\"\",\"\",IF('教育訓練費入力（今期）'!$G548=1,'教育訓練費入力（今期）'!$F548,'教育訓練費入力（今期）'!$F548&\"他\"&'教育訓練費入力（今期）'!$G548-1&\"名\"))","v":""}]
[null,540,null,null,null,null,null,null,null,null,{"$f":"IF('教育訓練費入力（今期）'!$C549=\"\",\"\",TEXT('教育訓練費入力（今期）'!$C549,\"yyyy年\")&TEXT('教育訓練費入力（今期）'!$C549,\"m月\")&TEXT('教育訓練費入力（今期）'!$C549,\"ｄ日\")&\"から\"&'教育訓練費入力（今期）'!$D549&\"日間\")","v":""},{"$f":"IF('教育訓練費入力（今期）'!$F549=\"\",\"\",IF('教育訓練費入力（今期）'!$G549=1,'教育訓練費入力（今期）'!$F549,'教育訓練費入力（今期）'!$F549&\"他\"&'教育訓練費入力（今期）'!$G549-1&\"名\"))","v":""}]
[null,541,null,null,null,null,null,null,null,null,{"$f":"IF('教育訓練費入力（今期）'!$C550=\"\",\"\",TEXT('教育訓練費入力（今期）'!$C550,\"yyyy年\")&TEXT('教育訓練費入力（今期）'!$C550,\"m月\")&TEXT('教育訓練費入力（今期）'!$C550,\"ｄ日\")&\"から\"&'教育訓練費入力（今期）'!$D550&\"日間\")","v":""},{"$f":"IF('教育訓練費入力（今期）'!$F550=\"\",\"\",IF('教育訓練費入力（今期）'!$G550=1,'教育訓練費入力（今期）'!$F550,'教育訓練費入力（今期）'!$F550&\"他\"&'教育訓練費入力（今期）'!$G550-1&\"名\"))","v":""}]
[null,542,null,null,null,null,null,null,null,null,{"$f":"IF('教育訓練費入力（今期）'!$C551=\"\",\"\",TEXT('教育訓練費入力（今期）'!$C551,\"yyyy年\")&TEXT('教育訓練費入力（今期）'!$C551,\"m月\")&TEXT('教育訓練費入力（今期）'!$C551,\"ｄ日\")&\"から\"&'教育訓練費入力（今期）'!$D551&\"日間\")","v":""},{"$f":"IF('教育訓練費入力（今期）'!$F551=\"\",\"\",IF('教育訓練費入力（今期）'!$G551=1,'教育訓練費入力（今期）'!$F551,'教育訓練費入力（今期）'!$F551&\"他\"&'教育訓練費入力（今期）'!$G551-1&\"名\"))","v":""}]
[null,543,null,null,null,null,null,null,null,null,{"$f":"IF('教育訓練費入力（今期）'!$C552=\"\",\"\",TEXT('教育訓練費入力（今期）'!$C552,\"yyyy年\")&TEXT('教育訓練費入力（今期）'!$C552,\"m月\")&TEXT('教育訓練費入力（今期）'!$C552,\"ｄ日\")&\"から\"&'教育訓練費入力（今期）'!$D552&\"日間\")","v":""},{"$f":"IF('教育訓練費入力（今期）'!$F552=\"\",\"\",IF('教育訓練費入力（今期）'!$G552=1,'教育訓練費入力（今期）'!$F552,'教育訓練費入力（今期）'!$F552&\"他\"&'教育訓練費入力（今期）'!$G552-1&\"名\"))","v":""}]
[null,544,null,null,null,null,null,null,null,null,{"$f":"IF('教育訓練費入力（今期）'!$C553=\"\",\"\",TEXT('教育訓練費入力（今期）'!$C553,\"yyyy年\")&TEXT('教育訓練費入力（今期）'!$C553,\"m月\")&TEXT('教育訓練費入力（今期）'!$C553,\"ｄ日\")&\"から\"&'教育訓練費入力（今期）'!$D553&\"日間\")","v":""},{"$f":"IF('教育訓練費入力（今期）'!$F553=\"\",\"\",IF('教育訓練費入力（今期）'!$G553=1,'教育訓練費入力（今期）'!$F553,'教育訓練費入力（今期）'!$F553&\"他\"&'教育訓練費入力（今期）'!$G553-1&\"名\"))","v":""}]
[null,545,null,null,null,null,null,null,null,null,{"$f":"IF('教育訓練費入力（今期）'!$C554=\"\",\"\",TEXT('教育訓練費入力（今期）'!$C554,\"yyyy年\")&TEXT('教育訓練費入力（今期）'!$C554,\"m月\")&TEXT('教育訓練費入力（今期）'!$C554,\"ｄ日\")&\"から\"&'教育訓練費入力（今期）'!$D554&\"日間\")","v":""},{"$f":"IF('教育訓練費入力（今期）'!$F554=\"\",\"\",IF('教育訓練費入力（今期）'!$G554=1,'教育訓練費入力（今期）'!$F554,'教育訓練費入力（今期）'!$F554&\"他\"&'教育訓練費入力（今期）'!$G554-1&\"名\"))","v":""}]
[null,546,null,null,null,null,null,null,null,null,{"$f":"IF('教育訓練費入力（今期）'!$C555=\"\",\"\",TEXT('教育訓練費入力（今期）'!$C555,\"yyyy年\")&TEXT('教育訓練費入力（今期）'!$C555,\"m月\")&TEXT('教育訓練費入力（今期）'!$C555,\"ｄ日\")&\"から\"&'教育訓練費入力（今期）'!$D555&\"日間\")","v":""},{"$f":"IF('教育訓練費入力（今期）'!$F555=\"\",\"\",IF('教育訓練費入力（今期）'!$G555=1,'教育訓練費入力（今期）'!$F555,'教育訓練費入力（今期）'!$F555&\"他\"&'教育訓練費入力（今期）'!$G555-1&\"名\"))","v":""}]
[null,547,null,null,null,null,null,null,null,null,{"$f":"IF('教育訓練費入力（今期）'!$C556=\"\",\"\",TEXT('教育訓練費入力（今期）'!$C556,\"yyyy年\")&TEXT('教育訓練費入力（今期）'!$C556,\"m月\")&TEXT('教育訓練費入力（今期）'!$C556,\"ｄ日\")&\"から\"&'教育訓練費入力（今期）'!$D556&\"日間\")","v":""},{"$f":"IF('教育訓練費入力（今期）'!$F556=\"\",\"\",IF('教育訓練費入力（今期）'!$G556=1,'教育訓練費入力（今期）'!$F556,'教育訓練費入力（今期）'!$F556&\"他\"&'教育訓練費入力（今期）'!$G556-1&\"名\"))","v":""}]
[null,548,null,null,null,null,null,null,null,null,{"$f":"IF('教育訓練費入力（今期）'!$C557=\"\",\"\",TEXT('教育訓練費入力（今期）'!$C557,\"yyyy年\")&TEXT('教育訓練費入力（今期）'!$C557,\"m月\")&TEXT('教育訓練費入力（今期）'!$C557,\"ｄ日\")&\"から\"&'教育訓練費入力（今期）'!$D557&\"日間\")","v":""},{"$f":"IF('教育訓練費入力（今期）'!$F557=\"\",\"\",IF('教育訓練費入力（今期）'!$G557=1,'教育訓練費入力（今期）'!$F557,'教育訓練費入力（今期）'!$F557&\"他\"&'教育訓練費入力（今期）'!$G557-1&\"名\"))","v":""}]
[null,549,null,null,null,null,null,null,null,null,{"$f":"IF('教育訓練費入力（今期）'!$C558=\"\",\"\",TEXT('教育訓練費入力（今期）'!$C558,\"yyyy年\")&TEXT('教育訓練費入力（今期）'!$C558,\"m月\")&TEXT('教育訓練費入力（今期）'!$C558,\"ｄ日\")&\"から\"&'教育訓練費入力（今期）'!$D558&\"日間\")","v":""},{"$f":"IF('教育訓練費入力（今期）'!$F558=\"\",\"\",IF('教育訓練費入力（今期）'!$G558=1,'教育訓練費入力（今期）'!$F558,'教育訓練費入力（今期）'!$F558&\"他\"&'教育訓練費入力（今期）'!$G558-1&\"名\"))","v":""}]
[null,550,null,null,null,null,null,null,null,null,{"$f":"IF('教育訓練費入力（今期）'!$C559=\"\",\"\",TEXT('教育訓練費入力（今期）'!$C559,\"yyyy年\")&TEXT('教育訓練費入力（今期）'!$C559,\"m月\")&TEXT('教育訓練費入力（今期）'!$C559,\"ｄ日\")&\"から\"&'教育訓練費入力（今期）'!$D559&\"日間\")","v":""},{"$f":"IF('教育訓練費入力（今期）'!$F559=\"\",\"\",IF('教育訓練費入力（今期）'!$G559=1,'教育訓練費入力（今期）'!$F559,'教育訓練費入力（今期）'!$F559&\"他\"&'教育訓練費入力（今期）'!$G559-1&\"名\"))","v":""}]
[null,551,null,null,null,null,null,null,null,null,{"$f":"IF('教育訓練費入力（今期）'!$C560=\"\",\"\",TEXT('教育訓練費入力（今期）'!$C560,\"yyyy年\")&TEXT('教育訓練費入力（今期）'!$C560,\"m月\")&TEXT('教育訓練費入力（今期）'!$C560,\"ｄ日\")&\"から\"&'教育訓練費入力（今期）'!$D560&\"日間\")","v":""},{"$f":"IF('教育訓練費入力（今期）'!$F560=\"\",\"\",IF('教育訓練費入力（今期）'!$G560=1,'教育訓練費入力（今期）'!$F560,'教育訓練費入力（今期）'!$F560&\"他\"&'教育訓練費入力（今期）'!$G560-1&\"名\"))","v":""}]
[null,552,null,null,null,null,null,null,null,null,{"$f":"IF('教育訓練費入力（今期）'!$C561=\"\",\"\",TEXT('教育訓練費入力（今期）'!$C561,\"yyyy年\")&TEXT('教育訓練費入力（今期）'!$C561,\"m月\")&TEXT('教育訓練費入力（今期）'!$C561,\"ｄ日\")&\"から\"&'教育訓練費入力（今期）'!$D561&\"日間\")","v":""},{"$f":"IF('教育訓練費入力（今期）'!$F561=\"\",\"\",IF('教育訓練費入力（今期）'!$G561=1,'教育訓練費入力（今期）'!$F561,'教育訓練費入力（今期）'!$F561&\"他\"&'教育訓練費入力（今期）'!$G561-1&\"名\"))","v":""}]
[null,553,null,null,null,null,null,null,null,null,{"$f":"IF('教育訓練費入力（今期）'!$C562=\"\",\"\",TEXT('教育訓練費入力（今期）'!$C562,\"yyyy年\")&TEXT('教育訓練費入力（今期）'!$C562,\"m月\")&TEXT('教育訓練費入力（今期）'!$C562,\"ｄ日\")&\"から\"&'教育訓練費入力（今期）'!$D562&\"日間\")","v":""},{"$f":"IF('教育訓練費入力（今期）'!$F562=\"\",\"\",IF('教育訓練費入力（今期）'!$G562=1,'教育訓練費入力（今期）'!$F562,'教育訓練費入力（今期）'!$F562&\"他\"&'教育訓練費入力（今期）'!$G562-1&\"名\"))","v":""}]
[null,554,null,null,null,null,null,null,null,null,{"$f":"IF('教育訓練費入力（今期）'!$C563=\"\",\"\",TEXT('教育訓練費入力（今期）'!$C563,\"yyyy年\")&TEXT('教育訓練費入力（今期）'!$C563,\"m月\")&TEXT('教育訓練費入力（今期）'!$C563,\"ｄ日\")&\"から\"&'教育訓練費入力（今期）'!$D563&\"日間\")","v":""},{"$f":"IF('教育訓練費入力（今期）'!$F563=\"\",\"\",IF('教育訓練費入力（今期）'!$G563=1,'教育訓練費入力（今期）'!$F563,'教育訓練費入力（今期）'!$F563&\"他\"&'教育訓練費入力（今期）'!$G563-1&\"名\"))","v":""}]
[null,555,null,null,null,null,null,null,null,null,{"$f":"IF('教育訓練費入力（今期）'!$C564=\"\",\"\",TEXT('教育訓練費入力（今期）'!$C564,\"yyyy年\")&TEXT('教育訓練費入力（今期）'!$C564,\"m月\")&TEXT('教育訓練費入力（今期）'!$C564,\"ｄ日\")&\"から\"&'教育訓練費入力（今期）'!$D564&\"日間\")","v":""},{"$f":"IF('教育訓練費入力（今期）'!$F564=\"\",\"\",IF('教育訓練費入力（今期）'!$G564=1,'教育訓練費入力（今期）'!$F564,'教育訓練費入力（今期）'!$F564&\"他\"&'教育訓練費入力（今期）'!$G564-1&\"名\"))","v":""}]
[null,556,null,null,null,null,null,null,null,null,{"$f":"IF('教育訓練費入力（今期）'!$C565=\"\",\"\",TEXT('教育訓練費入力（今期）'!$C565,\"yyyy年\")&TEXT('教育訓練費入力（今期）'!$C565,\"m月\")&TEXT('教育訓練費入力（今期）'!$C565,\"ｄ日\")&\"から\"&'教育訓練費入力（今期）'!$D565&\"日間\")","v":""},{"$f":"IF('教育訓練費入力（今期）'!$F565=\"\",\"\",IF('教育訓練費入力（今期）'!$G565=1,'教育訓練費入力（今期）'!$F565,'教育訓練費入力（今期）'!$F565&\"他\"&'教育訓練費入力（今期）'!$G565-1&\"名\"))","v":""}]
[null,557,null,null,null,null,null,null,null,null,{"$f":"IF('教育訓練費入力（今期）'!$C566=\"\",\"\",TEXT('教育訓練費入力（今期）'!$C566,\"yyyy年\")&TEXT('教育訓練費入力（今期）'!$C566,\"m月\")&TEXT('教育訓練費入力（今期）'!$C566,\"ｄ日\")&\"から\"&'教育訓練費入力（今期）'!$D566&\"日間\")","v":""},{"$f":"IF('教育訓練費入力（今期）'!$F566=\"\",\"\",IF('教育訓練費入力（今期）'!$G566=1,'教育訓練費入力（今期）'!$F566,'教育訓練費入力（今期）'!$F566&\"他\"&'教育訓練費入力（今期）'!$G566-1&\"名\"))","v":""}]
[null,558,null,null,null,null,null,null,null,null,{"$f":"IF('教育訓練費入力（今期）'!$C567=\"\",\"\",TEXT('教育訓練費入力（今期）'!$C567,\"yyyy年\")&TEXT('教育訓練費入力（今期）'!$C567,\"m月\")&TEXT('教育訓練費入力（今期）'!$C567,\"ｄ日\")&\"から\"&'教育訓練費入力（今期）'!$D567&\"日間\")","v":""},{"$f":"IF('教育訓練費入力（今期）'!$F567=\"\",\"\",IF('教育訓練費入力（今期）'!$G567=1,'教育訓練費入力（今期）'!$F567,'教育訓練費入力（今期）'!$F567&\"他\"&'教育訓練費入力（今期）'!$G567-1&\"名\"))","v":""}]
[null,559,null,null,null,null,null,null,null,null,{"$f":"IF('教育訓練費入力（今期）'!$C568=\"\",\"\",TEXT('教育訓練費入力（今期）'!$C568,\"yyyy年\")&TEXT('教育訓練費入力（今期）'!$C568,\"m月\")&TEXT('教育訓練費入力（今期）'!$C568,\"ｄ日\")&\"から\"&'教育訓練費入力（今期）'!$D568&\"日間\")","v":""},{"$f":"IF('教育訓練費入力（今期）'!$F568=\"\",\"\",IF('教育訓練費入力（今期）'!$G568=1,'教育訓練費入力（今期）'!$F568,'教育訓練費入力（今期）'!$F568&\"他\"&'教育訓練費入力（今期）'!$G568-1&\"名\"))","v":""}]
[null,560,null,null,null,null,null,null,null,null,{"$f":"IF('教育訓練費入力（今期）'!$C569=\"\",\"\",TEXT('教育訓練費入力（今期）'!$C569,\"yyyy年\")&TEXT('教育訓練費入力（今期）'!$C569,\"m月\")&TEXT('教育訓練費入力（今期）'!$C569,\"ｄ日\")&\"から\"&'教育訓練費入力（今期）'!$D569&\"日間\")","v":""},{"$f":"IF('教育訓練費入力（今期）'!$F569=\"\",\"\",IF('教育訓練費入力（今期）'!$G569=1,'教育訓練費入力（今期）'!$F569,'教育訓練費入力（今期）'!$F569&\"他\"&'教育訓練費入力（今期）'!$G569-1&\"名\"))","v":""}]
[null,561,null,null,null,null,null,null,null,null,{"$f":"IF('教育訓練費入力（今期）'!$C570=\"\",\"\",TEXT('教育訓練費入力（今期）'!$C570,\"yyyy年\")&TEXT('教育訓練費入力（今期）'!$C570,\"m月\")&TEXT('教育訓練費入力（今期）'!$C570,\"ｄ日\")&\"から\"&'教育訓練費入力（今期）'!$D570&\"日間\")","v":""},{"$f":"IF('教育訓練費入力（今期）'!$F570=\"\",\"\",IF('教育訓練費入力（今期）'!$G570=1,'教育訓練費入力（今期）'!$F570,'教育訓練費入力（今期）'!$F570&\"他\"&'教育訓練費入力（今期）'!$G570-1&\"名\"))","v":""}]
[null,562,null,null,null,null,null,null,null,null,{"$f":"IF('教育訓練費入力（今期）'!$C571=\"\",\"\",TEXT('教育訓練費入力（今期）'!$C571,\"yyyy年\")&TEXT('教育訓練費入力（今期）'!$C571,\"m月\")&TEXT('教育訓練費入力（今期）'!$C571,\"ｄ日\")&\"から\"&'教育訓練費入力（今期）'!$D571&\"日間\")","v":""},{"$f":"IF('教育訓練費入力（今期）'!$F571=\"\",\"\",IF('教育訓練費入力（今期）'!$G571=1,'教育訓練費入力（今期）'!$F571,'教育訓練費入力（今期）'!$F571&\"他\"&'教育訓練費入力（今期）'!$G571-1&\"名\"))","v":""}]
[null,563,null,null,null,null,null,null,null,null,{"$f":"IF('教育訓練費入力（今期）'!$C572=\"\",\"\",TEXT('教育訓練費入力（今期）'!$C572,\"yyyy年\")&TEXT('教育訓練費入力（今期）'!$C572,\"m月\")&TEXT('教育訓練費入力（今期）'!$C572,\"ｄ日\")&\"から\"&'教育訓練費入力（今期）'!$D572&\"日間\")","v":""},{"$f":"IF('教育訓練費入力（今期）'!$F572=\"\",\"\",IF('教育訓練費入力（今期）'!$G572=1,'教育訓練費入力（今期）'!$F572,'教育訓練費入力（今期）'!$F572&\"他\"&'教育訓練費入力（今期）'!$G572-1&\"名\"))","v":""}]
[null,564,null,null,null,null,null,null,null,null,{"$f":"IF('教育訓練費入力（今期）'!$C573=\"\",\"\",TEXT('教育訓練費入力（今期）'!$C573,\"yyyy年\")&TEXT('教育訓練費入力（今期）'!$C573,\"m月\")&TEXT('教育訓練費入力（今期）'!$C573,\"ｄ日\")&\"から\"&'教育訓練費入力（今期）'!$D573&\"日間\")","v":""},{"$f":"IF('教育訓練費入力（今期）'!$F573=\"\",\"\",IF('教育訓練費入力（今期）'!$G573=1,'教育訓練費入力（今期）'!$F573,'教育訓練費入力（今期）'!$F573&\"他\"&'教育訓練費入力（今期）'!$G573-1&\"名\"))","v":""}]
[null,565,null,null,null,null,null,null,null,null,{"$f":"IF('教育訓練費入力（今期）'!$C574=\"\",\"\",TEXT('教育訓練費入力（今期）'!$C574,\"yyyy年\")&TEXT('教育訓練費入力（今期）'!$C574,\"m月\")&TEXT('教育訓練費入力（今期）'!$C574,\"ｄ日\")&\"から\"&'教育訓練費入力（今期）'!$D574&\"日間\")","v":""},{"$f":"IF('教育訓練費入力（今期）'!$F574=\"\",\"\",IF('教育訓練費入力（今期）'!$G574=1,'教育訓練費入力（今期）'!$F574,'教育訓練費入力（今期）'!$F574&\"他\"&'教育訓練費入力（今期）'!$G574-1&\"名\"))","v":""}]
[null,566,null,null,null,null,null,null,null,null,{"$f":"IF('教育訓練費入力（今期）'!$C575=\"\",\"\",TEXT('教育訓練費入力（今期）'!$C575,\"yyyy年\")&TEXT('教育訓練費入力（今期）'!$C575,\"m月\")&TEXT('教育訓練費入力（今期）'!$C575,\"ｄ日\")&\"から\"&'教育訓練費入力（今期）'!$D575&\"日間\")","v":""},{"$f":"IF('教育訓練費入力（今期）'!$F575=\"\",\"\",IF('教育訓練費入力（今期）'!$G575=1,'教育訓練費入力（今期）'!$F575,'教育訓練費入力（今期）'!$F575&\"他\"&'教育訓練費入力（今期）'!$G575-1&\"名\"))","v":""}]
[null,567,null,null,null,null,null,null,null,null,{"$f":"IF('教育訓練費入力（今期）'!$C576=\"\",\"\",TEXT('教育訓練費入力（今期）'!$C576,\"yyyy年\")&TEXT('教育訓練費入力（今期）'!$C576,\"m月\")&TEXT('教育訓練費入力（今期）'!$C576,\"ｄ日\")&\"から\"&'教育訓練費入力（今期）'!$D576&\"日間\")","v":""},{"$f":"IF('教育訓練費入力（今期）'!$F576=\"\",\"\",IF('教育訓練費入力（今期）'!$G576=1,'教育訓練費入力（今期）'!$F576,'教育訓練費入力（今期）'!$F576&\"他\"&'教育訓練費入力（今期）'!$G576-1&\"名\"))","v":""}]
[null,568,null,null,null,null,null,null,null,null,{"$f":"IF('教育訓練費入力（今期）'!$C577=\"\",\"\",TEXT('教育訓練費入力（今期）'!$C577,\"yyyy年\")&TEXT('教育訓練費入力（今期）'!$C577,\"m月\")&TEXT('教育訓練費入力（今期）'!$C577,\"ｄ日\")&\"から\"&'教育訓練費入力（今期）'!$D577&\"日間\")","v":""},{"$f":"IF('教育訓練費入力（今期）'!$F577=\"\",\"\",IF('教育訓練費入力（今期）'!$G577=1,'教育訓練費入力（今期）'!$F577,'教育訓練費入力（今期）'!$F577&\"他\"&'教育訓練費入力（今期）'!$G577-1&\"名\"))","v":""}]
[null,569,null,null,null,null,null,null,null,null,{"$f":"IF('教育訓練費入力（今期）'!$C578=\"\",\"\",TEXT('教育訓練費入力（今期）'!$C578,\"yyyy年\")&TEXT('教育訓練費入力（今期）'!$C578,\"m月\")&TEXT('教育訓練費入力（今期）'!$C578,\"ｄ日\")&\"から\"&'教育訓練費入力（今期）'!$D578&\"日間\")","v":""},{"$f":"IF('教育訓練費入力（今期）'!$F578=\"\",\"\",IF('教育訓練費入力（今期）'!$G578=1,'教育訓練費入力（今期）'!$F578,'教育訓練費入力（今期）'!$F578&\"他\"&'教育訓練費入力（今期）'!$G578-1&\"名\"))","v":""}]
[null,570,null,null,null,null,null,null,null,null,{"$f":"IF('教育訓練費入力（今期）'!$C579=\"\",\"\",TEXT('教育訓練費入力（今期）'!$C579,\"yyyy年\")&TEXT('教育訓練費入力（今期）'!$C579,\"m月\")&TEXT('教育訓練費入力（今期）'!$C579,\"ｄ日\")&\"から\"&'教育訓練費入力（今期）'!$D579&\"日間\")","v":""},{"$f":"IF('教育訓練費入力（今期）'!$F579=\"\",\"\",IF('教育訓練費入力（今期）'!$G579=1,'教育訓練費入力（今期）'!$F579,'教育訓練費入力（今期）'!$F579&\"他\"&'教育訓練費入力（今期）'!$G579-1&\"名\"))","v":""}]
[null,571,null,null,null,null,null,null,null,null,{"$f":"IF('教育訓練費入力（今期）'!$C580=\"\",\"\",TEXT('教育訓練費入力（今期）'!$C580,\"yyyy年\")&TEXT('教育訓練費入力（今期）'!$C580,\"m月\")&TEXT('教育訓練費入力（今期）'!$C580,\"ｄ日\")&\"から\"&'教育訓練費入力（今期）'!$D580&\"日間\")","v":""},{"$f":"IF('教育訓練費入力（今期）'!$F580=\"\",\"\",IF('教育訓練費入力（今期）'!$G580=1,'教育訓練費入力（今期）'!$F580,'教育訓練費入力（今期）'!$F580&\"他\"&'教育訓練費入力（今期）'!$G580-1&\"名\"))","v":""}]
[null,572,null,null,null,null,null,null,null,null,{"$f":"IF('教育訓練費入力（今期）'!$C581=\"\",\"\",TEXT('教育訓練費入力（今期）'!$C581,\"yyyy年\")&TEXT('教育訓練費入力（今期）'!$C581,\"m月\")&TEXT('教育訓練費入力（今期）'!$C581,\"ｄ日\")&\"から\"&'教育訓練費入力（今期）'!$D581&\"日間\")","v":""},{"$f":"IF('教育訓練費入力（今期）'!$F581=\"\",\"\",IF('教育訓練費入力（今期）'!$G581=1,'教育訓練費入力（今期）'!$F581,'教育訓練費入力（今期）'!$F581&\"他\"&'教育訓練費入力（今期）'!$G581-1&\"名\"))","v":""}]
[null,573,null,null,null,null,null,null,null,null,{"$f":"IF('教育訓練費入力（今期）'!$C582=\"\",\"\",TEXT('教育訓練費入力（今期）'!$C582,\"yyyy年\")&TEXT('教育訓練費入力（今期）'!$C582,\"m月\")&TEXT('教育訓練費入力（今期）'!$C582,\"ｄ日\")&\"から\"&'教育訓練費入力（今期）'!$D582&\"日間\")","v":""},{"$f":"IF('教育訓練費入力（今期）'!$F582=\"\",\"\",IF('教育訓練費入力（今期）'!$G582=1,'教育訓練費入力（今期）'!$F582,'教育訓練費入力（今期）'!$F582&\"他\"&'教育訓練費入力（今期）'!$G582-1&\"名\"))","v":""}]
[null,574,null,null,null,null,null,null,null,null,{"$f":"IF('教育訓練費入力（今期）'!$C583=\"\",\"\",TEXT('教育訓練費入力（今期）'!$C583,\"yyyy年\")&TEXT('教育訓練費入力（今期）'!$C583,\"m月\")&TEXT('教育訓練費入力（今期）'!$C583,\"ｄ日\")&\"から\"&'教育訓練費入力（今期）'!$D583&\"日間\")","v":""},{"$f":"IF('教育訓練費入力（今期）'!$F583=\"\",\"\",IF('教育訓練費入力（今期）'!$G583=1,'教育訓練費入力（今期）'!$F583,'教育訓練費入力（今期）'!$F583&\"他\"&'教育訓練費入力（今期）'!$G583-1&\"名\"))","v":""}]
[null,575,null,null,null,null,null,null,null,null,{"$f":"IF('教育訓練費入力（今期）'!$C584=\"\",\"\",TEXT('教育訓練費入力（今期）'!$C584,\"yyyy年\")&TEXT('教育訓練費入力（今期）'!$C584,\"m月\")&TEXT('教育訓練費入力（今期）'!$C584,\"ｄ日\")&\"から\"&'教育訓練費入力（今期）'!$D584&\"日間\")","v":""},{"$f":"IF('教育訓練費入力（今期）'!$F584=\"\",\"\",IF('教育訓練費入力（今期）'!$G584=1,'教育訓練費入力（今期）'!$F584,'教育訓練費入力（今期）'!$F584&\"他\"&'教育訓練費入力（今期）'!$G584-1&\"名\"))","v":""}]
[null,576,null,null,null,null,null,null,null,null,{"$f":"IF('教育訓練費入力（今期）'!$C585=\"\",\"\",TEXT('教育訓練費入力（今期）'!$C585,\"yyyy年\")&TEXT('教育訓練費入力（今期）'!$C585,\"m月\")&TEXT('教育訓練費入力（今期）'!$C585,\"ｄ日\")&\"から\"&'教育訓練費入力（今期）'!$D585&\"日間\")","v":""},{"$f":"IF('教育訓練費入力（今期）'!$F585=\"\",\"\",IF('教育訓練費入力（今期）'!$G585=1,'教育訓練費入力（今期）'!$F585,'教育訓練費入力（今期）'!$F585&\"他\"&'教育訓練費入力（今期）'!$G585-1&\"名\"))","v":""}]
[null,577,null,null,null,null,null,null,null,null,{"$f":"IF('教育訓練費入力（今期）'!$C586=\"\",\"\",TEXT('教育訓練費入力（今期）'!$C586,\"yyyy年\")&TEXT('教育訓練費入力（今期）'!$C586,\"m月\")&TEXT('教育訓練費入力（今期）'!$C586,\"ｄ日\")&\"から\"&'教育訓練費入力（今期）'!$D586&\"日間\")","v":""},{"$f":"IF('教育訓練費入力（今期）'!$F586=\"\",\"\",IF('教育訓練費入力（今期）'!$G586=1,'教育訓練費入力（今期）'!$F586,'教育訓練費入力（今期）'!$F586&\"他\"&'教育訓練費入力（今期）'!$G586-1&\"名\"))","v":""}]
[null,578,null,null,null,null,null,null,null,null,{"$f":"IF('教育訓練費入力（今期）'!$C587=\"\",\"\",TEXT('教育訓練費入力（今期）'!$C587,\"yyyy年\")&TEXT('教育訓練費入力（今期）'!$C587,\"m月\")&TEXT('教育訓練費入力（今期）'!$C587,\"ｄ日\")&\"から\"&'教育訓練費入力（今期）'!$D587&\"日間\")","v":""},{"$f":"IF('教育訓練費入力（今期）'!$F587=\"\",\"\",IF('教育訓練費入力（今期）'!$G587=1,'教育訓練費入力（今期）'!$F587,'教育訓練費入力（今期）'!$F587&\"他\"&'教育訓練費入力（今期）'!$G587-1&\"名\"))","v":""}]
[null,579,null,null,null,null,null,null,null,null,{"$f":"IF('教育訓練費入力（今期）'!$C588=\"\",\"\",TEXT('教育訓練費入力（今期）'!$C588,\"yyyy年\")&TEXT('教育訓練費入力（今期）'!$C588,\"m月\")&TEXT('教育訓練費入力（今期）'!$C588,\"ｄ日\")&\"から\"&'教育訓練費入力（今期）'!$D588&\"日間\")","v":""},{"$f":"IF('教育訓練費入力（今期）'!$F588=\"\",\"\",IF('教育訓練費入力（今期）'!$G588=1,'教育訓練費入力（今期）'!$F588,'教育訓練費入力（今期）'!$F588&\"他\"&'教育訓練費入力（今期）'!$G588-1&\"名\"))","v":""}]
[null,580,null,null,null,null,null,null,null,null,{"$f":"IF('教育訓練費入力（今期）'!$C589=\"\",\"\",TEXT('教育訓練費入力（今期）'!$C589,\"yyyy年\")&TEXT('教育訓練費入力（今期）'!$C589,\"m月\")&TEXT('教育訓練費入力（今期）'!$C589,\"ｄ日\")&\"から\"&'教育訓練費入力（今期）'!$D589&\"日間\")","v":""},{"$f":"IF('教育訓練費入力（今期）'!$F589=\"\",\"\",IF('教育訓練費入力（今期）'!$G589=1,'教育訓練費入力（今期）'!$F589,'教育訓練費入力（今期）'!$F589&\"他\"&'教育訓練費入力（今期）'!$G589-1&\"名\"))","v":""}]
[null,581,null,null,null,null,null,null,null,null,{"$f":"IF('教育訓練費入力（今期）'!$C590=\"\",\"\",TEXT('教育訓練費入力（今期）'!$C590,\"yyyy年\")&TEXT('教育訓練費入力（今期）'!$C590,\"m月\")&TEXT('教育訓練費入力（今期）'!$C590,\"ｄ日\")&\"から\"&'教育訓練費入力（今期）'!$D590&\"日間\")","v":""},{"$f":"IF('教育訓練費入力（今期）'!$F590=\"\",\"\",IF('教育訓練費入力（今期）'!$G590=1,'教育訓練費入力（今期）'!$F590,'教育訓練費入力（今期）'!$F590&\"他\"&'教育訓練費入力（今期）'!$G590-1&\"名\"))","v":""}]
[null,582,null,null,null,null,null,null,null,null,{"$f":"IF('教育訓練費入力（今期）'!$C591=\"\",\"\",TEXT('教育訓練費入力（今期）'!$C591,\"yyyy年\")&TEXT('教育訓練費入力（今期）'!$C591,\"m月\")&TEXT('教育訓練費入力（今期）'!$C591,\"ｄ日\")&\"から\"&'教育訓練費入力（今期）'!$D591&\"日間\")","v":""},{"$f":"IF('教育訓練費入力（今期）'!$F591=\"\",\"\",IF('教育訓練費入力（今期）'!$G591=1,'教育訓練費入力（今期）'!$F591,'教育訓練費入力（今期）'!$F591&\"他\"&'教育訓練費入力（今期）'!$G591-1&\"名\"))","v":""}]
[null,583,null,null,null,null,null,null,null,null,{"$f":"IF('教育訓練費入力（今期）'!$C592=\"\",\"\",TEXT('教育訓練費入力（今期）'!$C592,\"yyyy年\")&TEXT('教育訓練費入力（今期）'!$C592,\"m月\")&TEXT('教育訓練費入力（今期）'!$C592,\"ｄ日\")&\"から\"&'教育訓練費入力（今期）'!$D592&\"日間\")","v":""},{"$f":"IF('教育訓練費入力（今期）'!$F592=\"\",\"\",IF('教育訓練費入力（今期）'!$G592=1,'教育訓練費入力（今期）'!$F592,'教育訓練費入力（今期）'!$F592&\"他\"&'教育訓練費入力（今期）'!$G592-1&\"名\"))","v":""}]
[null,584,null,null,null,null,null,null,null,null,{"$f":"IF('教育訓練費入力（今期）'!$C593=\"\",\"\",TEXT('教育訓練費入力（今期）'!$C593,\"yyyy年\")&TEXT('教育訓練費入力（今期）'!$C593,\"m月\")&TEXT('教育訓練費入力（今期）'!$C593,\"ｄ日\")&\"から\"&'教育訓練費入力（今期）'!$D593&\"日間\")","v":""},{"$f":"IF('教育訓練費入力（今期）'!$F593=\"\",\"\",IF('教育訓練費入力（今期）'!$G593=1,'教育訓練費入力（今期）'!$F593,'教育訓練費入力（今期）'!$F593&\"他\"&'教育訓練費入力（今期）'!$G593-1&\"名\"))","v":""}]
[null,585,null,null,null,null,null,null,null,null,{"$f":"IF('教育訓練費入力（今期）'!$C594=\"\",\"\",TEXT('教育訓練費入力（今期）'!$C594,\"yyyy年\")&TEXT('教育訓練費入力（今期）'!$C594,\"m月\")&TEXT('教育訓練費入力（今期）'!$C594,\"ｄ日\")&\"から\"&'教育訓練費入力（今期）'!$D594&\"日間\")","v":""},{"$f":"IF('教育訓練費入力（今期）'!$F594=\"\",\"\",IF('教育訓練費入力（今期）'!$G594=1,'教育訓練費入力（今期）'!$F594,'教育訓練費入力（今期）'!$F594&\"他\"&'教育訓練費入力（今期）'!$G594-1&\"名\"))","v":""}]
[null,586,null,null,null,null,null,null,null,null,{"$f":"IF('教育訓練費入力（今期）'!$C595=\"\",\"\",TEXT('教育訓練費入力（今期）'!$C595,\"yyyy年\")&TEXT('教育訓練費入力（今期）'!$C595,\"m月\")&TEXT('教育訓練費入力（今期）'!$C595,\"ｄ日\")&\"から\"&'教育訓練費入力（今期）'!$D595&\"日間\")","v":""},{"$f":"IF('教育訓練費入力（今期）'!$F595=\"\",\"\",IF('教育訓練費入力（今期）'!$G595=1,'教育訓練費入力（今期）'!$F595,'教育訓練費入力（今期）'!$F595&\"他\"&'教育訓練費入力（今期）'!$G595-1&\"名\"))","v":""}]
[null,587,null,null,null,null,null,null,null,null,{"$f":"IF('教育訓練費入力（今期）'!$C596=\"\",\"\",TEXT('教育訓練費入力（今期）'!$C596,\"yyyy年\")&TEXT('教育訓練費入力（今期）'!$C596,\"m月\")&TEXT('教育訓練費入力（今期）'!$C596,\"ｄ日\")&\"から\"&'教育訓練費入力（今期）'!$D596&\"日間\")","v":""},{"$f":"IF('教育訓練費入力（今期）'!$F596=\"\",\"\",IF('教育訓練費入力（今期）'!$G596=1,'教育訓練費入力（今期）'!$F596,'教育訓練費入力（今期）'!$F596&\"他\"&'教育訓練費入力（今期）'!$G596-1&\"名\"))","v":""}]
[null,588,null,null,null,null,null,null,null,null,{"$f":"IF('教育訓練費入力（今期）'!$C597=\"\",\"\",TEXT('教育訓練費入力（今期）'!$C597,\"yyyy年\")&TEXT('教育訓練費入力（今期）'!$C597,\"m月\")&TEXT('教育訓練費入力（今期）'!$C597,\"ｄ日\")&\"から\"&'教育訓練費入力（今期）'!$D597&\"日間\")","v":""},{"$f":"IF('教育訓練費入力（今期）'!$F597=\"\",\"\",IF('教育訓練費入力（今期）'!$G597=1,'教育訓練費入力（今期）'!$F597,'教育訓練費入力（今期）'!$F597&\"他\"&'教育訓練費入力（今期）'!$G597-1&\"名\"))","v":""}]
[null,589,null,null,null,null,null,null,null,null,{"$f":"IF('教育訓練費入力（今期）'!$C598=\"\",\"\",TEXT('教育訓練費入力（今期）'!$C598,\"yyyy年\")&TEXT('教育訓練費入力（今期）'!$C598,\"m月\")&TEXT('教育訓練費入力（今期）'!$C598,\"ｄ日\")&\"から\"&'教育訓練費入力（今期）'!$D598&\"日間\")","v":""},{"$f":"IF('教育訓練費入力（今期）'!$F598=\"\",\"\",IF('教育訓練費入力（今期）'!$G598=1,'教育訓練費入力（今期）'!$F598,'教育訓練費入力（今期）'!$F598&\"他\"&'教育訓練費入力（今期）'!$G598-1&\"名\"))","v":""}]
[null,590,null,null,null,null,null,null,null,null,{"$f":"IF('教育訓練費入力（今期）'!$C599=\"\",\"\",TEXT('教育訓練費入力（今期）'!$C599,\"yyyy年\")&TEXT('教育訓練費入力（今期）'!$C599,\"m月\")&TEXT('教育訓練費入力（今期）'!$C599,\"ｄ日\")&\"から\"&'教育訓練費入力（今期）'!$D599&\"日間\")","v":""},{"$f":"IF('教育訓練費入力（今期）'!$F599=\"\",\"\",IF('教育訓練費入力（今期）'!$G599=1,'教育訓練費入力（今期）'!$F599,'教育訓練費入力（今期）'!$F599&\"他\"&'教育訓練費入力（今期）'!$G599-1&\"名\"))","v":""}]
[null,591,null,null,null,null,null,null,null,null,{"$f":"IF('教育訓練費入力（今期）'!$C600=\"\",\"\",TEXT('教育訓練費入力（今期）'!$C600,\"yyyy年\")&TEXT('教育訓練費入力（今期）'!$C600,\"m月\")&TEXT('教育訓練費入力（今期）'!$C600,\"ｄ日\")&\"から\"&'教育訓練費入力（今期）'!$D600&\"日間\")","v":""},{"$f":"IF('教育訓練費入力（今期）'!$F600=\"\",\"\",IF('教育訓練費入力（今期）'!$G600=1,'教育訓練費入力（今期）'!$F600,'教育訓練費入力（今期）'!$F600&\"他\"&'教育訓練費入力（今期）'!$G600-1&\"名\"))","v":""}]
[null,592,null,null,null,null,null,null,null,null,{"$f":"IF('教育訓練費入力（今期）'!$C601=\"\",\"\",TEXT('教育訓練費入力（今期）'!$C601,\"yyyy年\")&TEXT('教育訓練費入力（今期）'!$C601,\"m月\")&TEXT('教育訓練費入力（今期）'!$C601,\"ｄ日\")&\"から\"&'教育訓練費入力（今期）'!$D601&\"日間\")","v":""},{"$f":"IF('教育訓練費入力（今期）'!$F601=\"\",\"\",IF('教育訓練費入力（今期）'!$G601=1,'教育訓練費入力（今期）'!$F601,'教育訓練費入力（今期）'!$F601&\"他\"&'教育訓練費入力（今期）'!$G601-1&\"名\"))","v":""}]
[null,593,null,null,null,null,null,null,null,null,{"$f":"IF('教育訓練費入力（今期）'!$C602=\"\",\"\",TEXT('教育訓練費入力（今期）'!$C602,\"yyyy年\")&TEXT('教育訓練費入力（今期）'!$C602,\"m月\")&TEXT('教育訓練費入力（今期）'!$C602,\"ｄ日\")&\"から\"&'教育訓練費入力（今期）'!$D602&\"日間\")","v":""},{"$f":"IF('教育訓練費入力（今期）'!$F602=\"\",\"\",IF('教育訓練費入力（今期）'!$G602=1,'教育訓練費入力（今期）'!$F602,'教育訓練費入力（今期）'!$F602&\"他\"&'教育訓練費入力（今期）'!$G602-1&\"名\"))","v":""}]
[null,594,null,null,null,null,null,null,null,null,{"$f":"IF('教育訓練費入力（今期）'!$C603=\"\",\"\",TEXT('教育訓練費入力（今期）'!$C603,\"yyyy年\")&TEXT('教育訓練費入力（今期）'!$C603,\"m月\")&TEXT('教育訓練費入力（今期）'!$C603,\"ｄ日\")&\"から\"&'教育訓練費入力（今期）'!$D603&\"日間\")","v":""},{"$f":"IF('教育訓練費入力（今期）'!$F603=\"\",\"\",IF('教育訓練費入力（今期）'!$G603=1,'教育訓練費入力（今期）'!$F603,'教育訓練費入力（今期）'!$F603&\"他\"&'教育訓練費入力（今期）'!$G603-1&\"名\"))","v":""}]
[null,595,null,null,null,null,null,null,null,null,{"$f":"IF('教育訓練費入力（今期）'!$C604=\"\",\"\",TEXT('教育訓練費入力（今期）'!$C604,\"yyyy年\")&TEXT('教育訓練費入力（今期）'!$C604,\"m月\")&TEXT('教育訓練費入力（今期）'!$C604,\"ｄ日\")&\"から\"&'教育訓練費入力（今期）'!$D604&\"日間\")","v":""},{"$f":"IF('教育訓練費入力（今期）'!$F604=\"\",\"\",IF('教育訓練費入力（今期）'!$G604=1,'教育訓練費入力（今期）'!$F604,'教育訓練費入力（今期）'!$F604&\"他\"&'教育訓練費入力（今期）'!$G604-1&\"名\"))","v":""}]
[null,596,null,null,null,null,null,null,null,null,{"$f":"IF('教育訓練費入力（今期）'!$C605=\"\",\"\",TEXT('教育訓練費入力（今期）'!$C605,\"yyyy年\")&TEXT('教育訓練費入力（今期）'!$C605,\"m月\")&TEXT('教育訓練費入力（今期）'!$C605,\"ｄ日\")&\"から\"&'教育訓練費入力（今期）'!$D605&\"日間\")","v":""},{"$f":"IF('教育訓練費入力（今期）'!$F605=\"\",\"\",IF('教育訓練費入力（今期）'!$G605=1,'教育訓練費入力（今期）'!$F605,'教育訓練費入力（今期）'!$F605&\"他\"&'教育訓練費入力（今期）'!$G605-1&\"名\"))","v":""}]
[null,597,null,null,null,null,null,null,null,null,{"$f":"IF('教育訓練費入力（今期）'!$C606=\"\",\"\",TEXT('教育訓練費入力（今期）'!$C606,\"yyyy年\")&TEXT('教育訓練費入力（今期）'!$C606,\"m月\")&TEXT('教育訓練費入力（今期）'!$C606,\"ｄ日\")&\"から\"&'教育訓練費入力（今期）'!$D606&\"日間\")","v":""},{"$f":"IF('教育訓練費入力（今期）'!$F606=\"\",\"\",IF('教育訓練費入力（今期）'!$G606=1,'教育訓練費入力（今期）'!$F606,'教育訓練費入力（今期）'!$F606&\"他\"&'教育訓練費入力（今期）'!$G606-1&\"名\"))","v":""}]
[null,598,null,null,null,null,null,null,null,null,{"$f":"IF('教育訓練費入力（今期）'!$C607=\"\",\"\",TEXT('教育訓練費入力（今期）'!$C607,\"yyyy年\")&TEXT('教育訓練費入力（今期）'!$C607,\"m月\")&TEXT('教育訓練費入力（今期）'!$C607,\"ｄ日\")&\"から\"&'教育訓練費入力（今期）'!$D607&\"日間\")","v":""},{"$f":"IF('教育訓練費入力（今期）'!$F607=\"\",\"\",IF('教育訓練費入力（今期）'!$G607=1,'教育訓練費入力（今期）'!$F607,'教育訓練費入力（今期）'!$F607&\"他\"&'教育訓練費入力（今期）'!$G607-1&\"名\"))","v":""}]
[null,599,null,null,null,null,null,null,null,null,{"$f":"IF('教育訓練費入力（今期）'!$C608=\"\",\"\",TEXT('教育訓練費入力（今期）'!$C608,\"yyyy年\")&TEXT('教育訓練費入力（今期）'!$C608,\"m月\")&TEXT('教育訓練費入力（今期）'!$C608,\"ｄ日\")&\"から\"&'教育訓練費入力（今期）'!$D608&\"日間\")","v":""},{"$f":"IF('教育訓練費入力（今期）'!$F608=\"\",\"\",IF('教育訓練費入力（今期）'!$G608=1,'教育訓練費入力（今期）'!$F608,'教育訓練費入力（今期）'!$F608&\"他\"&'教育訓練費入力（今期）'!$G608-1&\"名\"))","v":""}]
[null,600,null,null,null,null,null,null,null,null,{"$f":"IF('教育訓練費入力（今期）'!$C609=\"\",\"\",TEXT('教育訓練費入力（今期）'!$C609,\"yyyy年\")&TEXT('教育訓練費入力（今期）'!$C609,\"m月\")&TEXT('教育訓練費入力（今期）'!$C609,\"ｄ日\")&\"から\"&'教育訓練費入力（今期）'!$D609&\"日間\")","v":""},{"$f":"IF('教育訓練費入力（今期）'!$F609=\"\",\"\",IF('教育訓練費入力（今期）'!$G609=1,'教育訓練費入力（今期）'!$F609,'教育訓練費入力（今期）'!$F609&\"他\"&'教育訓練費入力（今期）'!$G609-1&\"名\"))","v":""}]
[null,601,null,null,null,null,null,null,null,null,{"$f":"IF('教育訓練費入力（今期）'!$C610=\"\",\"\",TEXT('教育訓練費入力（今期）'!$C610,\"yyyy年\")&TEXT('教育訓練費入力（今期）'!$C610,\"m月\")&TEXT('教育訓練費入力（今期）'!$C610,\"ｄ日\")&\"から\"&'教育訓練費入力（今期）'!$D610&\"日間\")","v":""},{"$f":"IF('教育訓練費入力（今期）'!$F610=\"\",\"\",IF('教育訓練費入力（今期）'!$G610=1,'教育訓練費入力（今期）'!$F610,'教育訓練費入力（今期）'!$F610&\"他\"&'教育訓練費入力（今期）'!$G610-1&\"名\"))","v":""}]
[null,602,null,null,null,null,null,null,null,null,{"$f":"IF('教育訓練費入力（今期）'!$C611=\"\",\"\",TEXT('教育訓練費入力（今期）'!$C611,\"yyyy年\")&TEXT('教育訓練費入力（今期）'!$C611,\"m月\")&TEXT('教育訓練費入力（今期）'!$C611,\"ｄ日\")&\"から\"&'教育訓練費入力（今期）'!$D611&\"日間\")","v":""},{"$f":"IF('教育訓練費入力（今期）'!$F611=\"\",\"\",IF('教育訓練費入力（今期）'!$G611=1,'教育訓練費入力（今期）'!$F611,'教育訓練費入力（今期）'!$F611&\"他\"&'教育訓練費入力（今期）'!$G611-1&\"名\"))","v":""}]
[null,603,null,null,null,null,null,null,null,null,{"$f":"IF('教育訓練費入力（今期）'!$C612=\"\",\"\",TEXT('教育訓練費入力（今期）'!$C612,\"yyyy年\")&TEXT('教育訓練費入力（今期）'!$C612,\"m月\")&TEXT('教育訓練費入力（今期）'!$C612,\"ｄ日\")&\"から\"&'教育訓練費入力（今期）'!$D612&\"日間\")","v":""},{"$f":"IF('教育訓練費入力（今期）'!$F612=\"\",\"\",IF('教育訓練費入力（今期）'!$G612=1,'教育訓練費入力（今期）'!$F612,'教育訓練費入力（今期）'!$F612&\"他\"&'教育訓練費入力（今期）'!$G612-1&\"名\"))","v":""}]
[null,604,null,null,null,null,null,null,null,null,{"$f":"IF('教育訓練費入力（今期）'!$C613=\"\",\"\",TEXT('教育訓練費入力（今期）'!$C613,\"yyyy年\")&TEXT('教育訓練費入力（今期）'!$C613,\"m月\")&TEXT('教育訓練費入力（今期）'!$C613,\"ｄ日\")&\"から\"&'教育訓練費入力（今期）'!$D613&\"日間\")","v":""},{"$f":"IF('教育訓練費入力（今期）'!$F613=\"\",\"\",IF('教育訓練費入力（今期）'!$G613=1,'教育訓練費入力（今期）'!$F613,'教育訓練費入力（今期）'!$F613&\"他\"&'教育訓練費入力（今期）'!$G613-1&\"名\"))","v":""}]
[null,605,null,null,null,null,null,null,null,null,{"$f":"IF('教育訓練費入力（今期）'!$C614=\"\",\"\",TEXT('教育訓練費入力（今期）'!$C614,\"yyyy年\")&TEXT('教育訓練費入力（今期）'!$C614,\"m月\")&TEXT('教育訓練費入力（今期）'!$C614,\"ｄ日\")&\"から\"&'教育訓練費入力（今期）'!$D614&\"日間\")","v":""},{"$f":"IF('教育訓練費入力（今期）'!$F614=\"\",\"\",IF('教育訓練費入力（今期）'!$G614=1,'教育訓練費入力（今期）'!$F614,'教育訓練費入力（今期）'!$F614&\"他\"&'教育訓練費入力（今期）'!$G614-1&\"名\"))","v":""}]
[null,606,null,null,null,null,null,null,null,null,{"$f":"IF('教育訓練費入力（今期）'!$C615=\"\",\"\",TEXT('教育訓練費入力（今期）'!$C615,\"yyyy年\")&TEXT('教育訓練費入力（今期）'!$C615,\"m月\")&TEXT('教育訓練費入力（今期）'!$C615,\"ｄ日\")&\"から\"&'教育訓練費入力（今期）'!$D615&\"日間\")","v":""},{"$f":"IF('教育訓練費入力（今期）'!$F615=\"\",\"\",IF('教育訓練費入力（今期）'!$G615=1,'教育訓練費入力（今期）'!$F615,'教育訓練費入力（今期）'!$F615&\"他\"&'教育訓練費入力（今期）'!$G615-1&\"名\"))","v":""}]
[null,607,null,null,null,null,null,null,null,null,{"$f":"IF('教育訓練費入力（今期）'!$C616=\"\",\"\",TEXT('教育訓練費入力（今期）'!$C616,\"yyyy年\")&TEXT('教育訓練費入力（今期）'!$C616,\"m月\")&TEXT('教育訓練費入力（今期）'!$C616,\"ｄ日\")&\"から\"&'教育訓練費入力（今期）'!$D616&\"日間\")","v":""},{"$f":"IF('教育訓練費入力（今期）'!$F616=\"\",\"\",IF('教育訓練費入力（今期）'!$G616=1,'教育訓練費入力（今期）'!$F616,'教育訓練費入力（今期）'!$F616&\"他\"&'教育訓練費入力（今期）'!$G616-1&\"名\"))","v":""}]
[null,608,null,null,null,null,null,null,null,null,{"$f":"IF('教育訓練費入力（今期）'!$C617=\"\",\"\",TEXT('教育訓練費入力（今期）'!$C617,\"yyyy年\")&TEXT('教育訓練費入力（今期）'!$C617,\"m月\")&TEXT('教育訓練費入力（今期）'!$C617,\"ｄ日\")&\"から\"&'教育訓練費入力（今期）'!$D617&\"日間\")","v":""},{"$f":"IF('教育訓練費入力（今期）'!$F617=\"\",\"\",IF('教育訓練費入力（今期）'!$G617=1,'教育訓練費入力（今期）'!$F617,'教育訓練費入力（今期）'!$F617&\"他\"&'教育訓練費入力（今期）'!$G617-1&\"名\"))","v":""}]
[null,609,null,null,null,null,null,null,null,null,{"$f":"IF('教育訓練費入力（今期）'!$C618=\"\",\"\",TEXT('教育訓練費入力（今期）'!$C618,\"yyyy年\")&TEXT('教育訓練費入力（今期）'!$C618,\"m月\")&TEXT('教育訓練費入力（今期）'!$C618,\"ｄ日\")&\"から\"&'教育訓練費入力（今期）'!$D618&\"日間\")","v":""},{"$f":"IF('教育訓練費入力（今期）'!$F618=\"\",\"\",IF('教育訓練費入力（今期）'!$G618=1,'教育訓練費入力（今期）'!$F618,'教育訓練費入力（今期）'!$F618&\"他\"&'教育訓練費入力（今期）'!$G618-1&\"名\"))","v":""}]
[null,610,null,null,null,null,null,null,null,null,{"$f":"IF('教育訓練費入力（今期）'!$C619=\"\",\"\",TEXT('教育訓練費入力（今期）'!$C619,\"yyyy年\")&TEXT('教育訓練費入力（今期）'!$C619,\"m月\")&TEXT('教育訓練費入力（今期）'!$C619,\"ｄ日\")&\"から\"&'教育訓練費入力（今期）'!$D619&\"日間\")","v":""},{"$f":"IF('教育訓練費入力（今期）'!$F619=\"\",\"\",IF('教育訓練費入力（今期）'!$G619=1,'教育訓練費入力（今期）'!$F619,'教育訓練費入力（今期）'!$F619&\"他\"&'教育訓練費入力（今期）'!$G619-1&\"名\"))","v":""}]
[null,611,null,null,null,null,null,null,null,null,{"$f":"IF('教育訓練費入力（今期）'!$C620=\"\",\"\",TEXT('教育訓練費入力（今期）'!$C620,\"yyyy年\")&TEXT('教育訓練費入力（今期）'!$C620,\"m月\")&TEXT('教育訓練費入力（今期）'!$C620,\"ｄ日\")&\"から\"&'教育訓練費入力（今期）'!$D620&\"日間\")","v":""},{"$f":"IF('教育訓練費入力（今期）'!$F620=\"\",\"\",IF('教育訓練費入力（今期）'!$G620=1,'教育訓練費入力（今期）'!$F620,'教育訓練費入力（今期）'!$F620&\"他\"&'教育訓練費入力（今期）'!$G620-1&\"名\"))","v":""}]
[null,612,null,null,null,null,null,null,null,null,{"$f":"IF('教育訓練費入力（今期）'!$C621=\"\",\"\",TEXT('教育訓練費入力（今期）'!$C621,\"yyyy年\")&TEXT('教育訓練費入力（今期）'!$C621,\"m月\")&TEXT('教育訓練費入力（今期）'!$C621,\"ｄ日\")&\"から\"&'教育訓練費入力（今期）'!$D621&\"日間\")","v":""},{"$f":"IF('教育訓練費入力（今期）'!$F621=\"\",\"\",IF('教育訓練費入力（今期）'!$G621=1,'教育訓練費入力（今期）'!$F621,'教育訓練費入力（今期）'!$F621&\"他\"&'教育訓練費入力（今期）'!$G621-1&\"名\"))","v":""}]
[null,613,null,null,null,null,null,null,null,null,{"$f":"IF('教育訓練費入力（今期）'!$C622=\"\",\"\",TEXT('教育訓練費入力（今期）'!$C622,\"yyyy年\")&TEXT('教育訓練費入力（今期）'!$C622,\"m月\")&TEXT('教育訓練費入力（今期）'!$C622,\"ｄ日\")&\"から\"&'教育訓練費入力（今期）'!$D622&\"日間\")","v":""},{"$f":"IF('教育訓練費入力（今期）'!$F622=\"\",\"\",IF('教育訓練費入力（今期）'!$G622=1,'教育訓練費入力（今期）'!$F622,'教育訓練費入力（今期）'!$F622&\"他\"&'教育訓練費入力（今期）'!$G622-1&\"名\"))","v":""}]
[null,614,null,null,null,null,null,null,null,null,{"$f":"IF('教育訓練費入力（今期）'!$C623=\"\",\"\",TEXT('教育訓練費入力（今期）'!$C623,\"yyyy年\")&TEXT('教育訓練費入力（今期）'!$C623,\"m月\")&TEXT('教育訓練費入力（今期）'!$C623,\"ｄ日\")&\"から\"&'教育訓練費入力（今期）'!$D623&\"日間\")","v":""},{"$f":"IF('教育訓練費入力（今期）'!$F623=\"\",\"\",IF('教育訓練費入力（今期）'!$G623=1,'教育訓練費入力（今期）'!$F623,'教育訓練費入力（今期）'!$F623&\"他\"&'教育訓練費入力（今期）'!$G623-1&\"名\"))","v":""}]
[null,615,null,null,null,null,null,null,null,null,{"$f":"IF('教育訓練費入力（今期）'!$C624=\"\",\"\",TEXT('教育訓練費入力（今期）'!$C624,\"yyyy年\")&TEXT('教育訓練費入力（今期）'!$C624,\"m月\")&TEXT('教育訓練費入力（今期）'!$C624,\"ｄ日\")&\"から\"&'教育訓練費入力（今期）'!$D624&\"日間\")","v":""},{"$f":"IF('教育訓練費入力（今期）'!$F624=\"\",\"\",IF('教育訓練費入力（今期）'!$G624=1,'教育訓練費入力（今期）'!$F624,'教育訓練費入力（今期）'!$F624&\"他\"&'教育訓練費入力（今期）'!$G624-1&\"名\"))","v":""}]
[null,616,null,null,null,null,null,null,null,null,{"$f":"IF('教育訓練費入力（今期）'!$C625=\"\",\"\",TEXT('教育訓練費入力（今期）'!$C625,\"yyyy年\")&TEXT('教育訓練費入力（今期）'!$C625,\"m月\")&TEXT('教育訓練費入力（今期）'!$C625,\"ｄ日\")&\"から\"&'教育訓練費入力（今期）'!$D625&\"日間\")","v":""},{"$f":"IF('教育訓練費入力（今期）'!$F625=\"\",\"\",IF('教育訓練費入力（今期）'!$G625=1,'教育訓練費入力（今期）'!$F625,'教育訓練費入力（今期）'!$F625&\"他\"&'教育訓練費入力（今期）'!$G625-1&\"名\"))","v":""}]
[null,617,null,null,null,null,null,null,null,null,{"$f":"IF('教育訓練費入力（今期）'!$C626=\"\",\"\",TEXT('教育訓練費入力（今期）'!$C626,\"yyyy年\")&TEXT('教育訓練費入力（今期）'!$C626,\"m月\")&TEXT('教育訓練費入力（今期）'!$C626,\"ｄ日\")&\"から\"&'教育訓練費入力（今期）'!$D626&\"日間\")","v":""},{"$f":"IF('教育訓練費入力（今期）'!$F626=\"\",\"\",IF('教育訓練費入力（今期）'!$G626=1,'教育訓練費入力（今期）'!$F626,'教育訓練費入力（今期）'!$F626&\"他\"&'教育訓練費入力（今期）'!$G626-1&\"名\"))","v":""}]
[null,618,null,null,null,null,null,null,null,null,{"$f":"IF('教育訓練費入力（今期）'!$C627=\"\",\"\",TEXT('教育訓練費入力（今期）'!$C627,\"yyyy年\")&TEXT('教育訓練費入力（今期）'!$C627,\"m月\")&TEXT('教育訓練費入力（今期）'!$C627,\"ｄ日\")&\"から\"&'教育訓練費入力（今期）'!$D627&\"日間\")","v":""},{"$f":"IF('教育訓練費入力（今期）'!$F627=\"\",\"\",IF('教育訓練費入力（今期）'!$G627=1,'教育訓練費入力（今期）'!$F627,'教育訓練費入力（今期）'!$F627&\"他\"&'教育訓練費入力（今期）'!$G627-1&\"名\"))","v":""}]
[null,619,null,null,null,null,null,null,null,null,{"$f":"IF('教育訓練費入力（今期）'!$C628=\"\",\"\",TEXT('教育訓練費入力（今期）'!$C628,\"yyyy年\")&TEXT('教育訓練費入力（今期）'!$C628,\"m月\")&TEXT('教育訓練費入力（今期）'!$C628,\"ｄ日\")&\"から\"&'教育訓練費入力（今期）'!$D628&\"日間\")","v":""},{"$f":"IF('教育訓練費入力（今期）'!$F628=\"\",\"\",IF('教育訓練費入力（今期）'!$G628=1,'教育訓練費入力（今期）'!$F628,'教育訓練費入力（今期）'!$F628&\"他\"&'教育訓練費入力（今期）'!$G628-1&\"名\"))","v":""}]
[null,620,null,null,null,null,null,null,null,null,{"$f":"IF('教育訓練費入力（今期）'!$C629=\"\",\"\",TEXT('教育訓練費入力（今期）'!$C629,\"yyyy年\")&TEXT('教育訓練費入力（今期）'!$C629,\"m月\")&TEXT('教育訓練費入力（今期）'!$C629,\"ｄ日\")&\"から\"&'教育訓練費入力（今期）'!$D629&\"日間\")","v":""},{"$f":"IF('教育訓練費入力（今期）'!$F629=\"\",\"\",IF('教育訓練費入力（今期）'!$G629=1,'教育訓練費入力（今期）'!$F629,'教育訓練費入力（今期）'!$F629&\"他\"&'教育訓練費入力（今期）'!$G629-1&\"名\"))","v":""}]
[null,621,null,null,null,null,null,null,null,null,{"$f":"IF('教育訓練費入力（今期）'!$C630=\"\",\"\",TEXT('教育訓練費入力（今期）'!$C630,\"yyyy年\")&TEXT('教育訓練費入力（今期）'!$C630,\"m月\")&TEXT('教育訓練費入力（今期）'!$C630,\"ｄ日\")&\"から\"&'教育訓練費入力（今期）'!$D630&\"日間\")","v":""},{"$f":"IF('教育訓練費入力（今期）'!$F630=\"\",\"\",IF('教育訓練費入力（今期）'!$G630=1,'教育訓練費入力（今期）'!$F630,'教育訓練費入力（今期）'!$F630&\"他\"&'教育訓練費入力（今期）'!$G630-1&\"名\"))","v":""}]
[null,622,null,null,null,null,null,null,null,null,{"$f":"IF('教育訓練費入力（今期）'!$C631=\"\",\"\",TEXT('教育訓練費入力（今期）'!$C631,\"yyyy年\")&TEXT('教育訓練費入力（今期）'!$C631,\"m月\")&TEXT('教育訓練費入力（今期）'!$C631,\"ｄ日\")&\"から\"&'教育訓練費入力（今期）'!$D631&\"日間\")","v":""},{"$f":"IF('教育訓練費入力（今期）'!$F631=\"\",\"\",IF('教育訓練費入力（今期）'!$G631=1,'教育訓練費入力（今期）'!$F631,'教育訓練費入力（今期）'!$F631&\"他\"&'教育訓練費入力（今期）'!$G631-1&\"名\"))","v":""}]
[null,623,null,null,null,null,null,null,null,null,{"$f":"IF('教育訓練費入力（今期）'!$C632=\"\",\"\",TEXT('教育訓練費入力（今期）'!$C632,\"yyyy年\")&TEXT('教育訓練費入力（今期）'!$C632,\"m月\")&TEXT('教育訓練費入力（今期）'!$C632,\"ｄ日\")&\"から\"&'教育訓練費入力（今期）'!$D632&\"日間\")","v":""},{"$f":"IF('教育訓練費入力（今期）'!$F632=\"\",\"\",IF('教育訓練費入力（今期）'!$G632=1,'教育訓練費入力（今期）'!$F632,'教育訓練費入力（今期）'!$F632&\"他\"&'教育訓練費入力（今期）'!$G632-1&\"名\"))","v":""}]
[null,624,null,null,null,null,null,null,null,null,{"$f":"IF('教育訓練費入力（今期）'!$C633=\"\",\"\",TEXT('教育訓練費入力（今期）'!$C633,\"yyyy年\")&TEXT('教育訓練費入力（今期）'!$C633,\"m月\")&TEXT('教育訓練費入力（今期）'!$C633,\"ｄ日\")&\"から\"&'教育訓練費入力（今期）'!$D633&\"日間\")","v":""},{"$f":"IF('教育訓練費入力（今期）'!$F633=\"\",\"\",IF('教育訓練費入力（今期）'!$G633=1,'教育訓練費入力（今期）'!$F633,'教育訓練費入力（今期）'!$F633&\"他\"&'教育訓練費入力（今期）'!$G633-1&\"名\"))","v":""}]
[null,625,null,null,null,null,null,null,null,null,{"$f":"IF('教育訓練費入力（今期）'!$C634=\"\",\"\",TEXT('教育訓練費入力（今期）'!$C634,\"yyyy年\")&TEXT('教育訓練費入力（今期）'!$C634,\"m月\")&TEXT('教育訓練費入力（今期）'!$C634,\"ｄ日\")&\"から\"&'教育訓練費入力（今期）'!$D634&\"日間\")","v":""},{"$f":"IF('教育訓練費入力（今期）'!$F634=\"\",\"\",IF('教育訓練費入力（今期）'!$G634=1,'教育訓練費入力（今期）'!$F634,'教育訓練費入力（今期）'!$F634&\"他\"&'教育訓練費入力（今期）'!$G634-1&\"名\"))","v":""}]
[null,626,null,null,null,null,null,null,null,null,{"$f":"IF('教育訓練費入力（今期）'!$C635=\"\",\"\",TEXT('教育訓練費入力（今期）'!$C635,\"yyyy年\")&TEXT('教育訓練費入力（今期）'!$C635,\"m月\")&TEXT('教育訓練費入力（今期）'!$C635,\"ｄ日\")&\"から\"&'教育訓練費入力（今期）'!$D635&\"日間\")","v":""},{"$f":"IF('教育訓練費入力（今期）'!$F635=\"\",\"\",IF('教育訓練費入力（今期）'!$G635=1,'教育訓練費入力（今期）'!$F635,'教育訓練費入力（今期）'!$F635&\"他\"&'教育訓練費入力（今期）'!$G635-1&\"名\"))","v":""}]
[null,627,null,null,null,null,null,null,null,null,{"$f":"IF('教育訓練費入力（今期）'!$C636=\"\",\"\",TEXT('教育訓練費入力（今期）'!$C636,\"yyyy年\")&TEXT('教育訓練費入力（今期）'!$C636,\"m月\")&TEXT('教育訓練費入力（今期）'!$C636,\"ｄ日\")&\"から\"&'教育訓練費入力（今期）'!$D636&\"日間\")","v":""},{"$f":"IF('教育訓練費入力（今期）'!$F636=\"\",\"\",IF('教育訓練費入力（今期）'!$G636=1,'教育訓練費入力（今期）'!$F636,'教育訓練費入力（今期）'!$F636&\"他\"&'教育訓練費入力（今期）'!$G636-1&\"名\"))","v":""}]
[null,628,null,null,null,null,null,null,null,null,{"$f":"IF('教育訓練費入力（今期）'!$C637=\"\",\"\",TEXT('教育訓練費入力（今期）'!$C637,\"yyyy年\")&TEXT('教育訓練費入力（今期）'!$C637,\"m月\")&TEXT('教育訓練費入力（今期）'!$C637,\"ｄ日\")&\"から\"&'教育訓練費入力（今期）'!$D637&\"日間\")","v":""},{"$f":"IF('教育訓練費入力（今期）'!$F637=\"\",\"\",IF('教育訓練費入力（今期）'!$G637=1,'教育訓練費入力（今期）'!$F637,'教育訓練費入力（今期）'!$F637&\"他\"&'教育訓練費入力（今期）'!$G637-1&\"名\"))","v":""}]
[null,629,null,null,null,null,null,null,null,null,{"$f":"IF('教育訓練費入力（今期）'!$C638=\"\",\"\",TEXT('教育訓練費入力（今期）'!$C638,\"yyyy年\")&TEXT('教育訓練費入力（今期）'!$C638,\"m月\")&TEXT('教育訓練費入力（今期）'!$C638,\"ｄ日\")&\"から\"&'教育訓練費入力（今期）'!$D638&\"日間\")","v":""},{"$f":"IF('教育訓練費入力（今期）'!$F638=\"\",\"\",IF('教育訓練費入力（今期）'!$G638=1,'教育訓練費入力（今期）'!$F638,'教育訓練費入力（今期）'!$F638&\"他\"&'教育訓練費入力（今期）'!$G638-1&\"名\"))","v":""}]
[null,630,null,null,null,null,null,null,null,null,{"$f":"IF('教育訓練費入力（今期）'!$C639=\"\",\"\",TEXT('教育訓練費入力（今期）'!$C639,\"yyyy年\")&TEXT('教育訓練費入力（今期）'!$C639,\"m月\")&TEXT('教育訓練費入力（今期）'!$C639,\"ｄ日\")&\"から\"&'教育訓練費入力（今期）'!$D639&\"日間\")","v":""},{"$f":"IF('教育訓練費入力（今期）'!$F639=\"\",\"\",IF('教育訓練費入力（今期）'!$G639=1,'教育訓練費入力（今期）'!$F639,'教育訓練費入力（今期）'!$F639&\"他\"&'教育訓練費入力（今期）'!$G639-1&\"名\"))","v":""}]
[null,631,null,null,null,null,null,null,null,null,{"$f":"IF('教育訓練費入力（今期）'!$C640=\"\",\"\",TEXT('教育訓練費入力（今期）'!$C640,\"yyyy年\")&TEXT('教育訓練費入力（今期）'!$C640,\"m月\")&TEXT('教育訓練費入力（今期）'!$C640,\"ｄ日\")&\"から\"&'教育訓練費入力（今期）'!$D640&\"日間\")","v":""},{"$f":"IF('教育訓練費入力（今期）'!$F640=\"\",\"\",IF('教育訓練費入力（今期）'!$G640=1,'教育訓練費入力（今期）'!$F640,'教育訓練費入力（今期）'!$F640&\"他\"&'教育訓練費入力（今期）'!$G640-1&\"名\"))","v":""}]
[null,632,null,null,null,null,null,null,null,null,{"$f":"IF('教育訓練費入力（今期）'!$C641=\"\",\"\",TEXT('教育訓練費入力（今期）'!$C641,\"yyyy年\")&TEXT('教育訓練費入力（今期）'!$C641,\"m月\")&TEXT('教育訓練費入力（今期）'!$C641,\"ｄ日\")&\"から\"&'教育訓練費入力（今期）'!$D641&\"日間\")","v":""},{"$f":"IF('教育訓練費入力（今期）'!$F641=\"\",\"\",IF('教育訓練費入力（今期）'!$G641=1,'教育訓練費入力（今期）'!$F641,'教育訓練費入力（今期）'!$F641&\"他\"&'教育訓練費入力（今期）'!$G641-1&\"名\"))","v":""}]
[null,633,null,null,null,null,null,null,null,null,{"$f":"IF('教育訓練費入力（今期）'!$C642=\"\",\"\",TEXT('教育訓練費入力（今期）'!$C642,\"yyyy年\")&TEXT('教育訓練費入力（今期）'!$C642,\"m月\")&TEXT('教育訓練費入力（今期）'!$C642,\"ｄ日\")&\"から\"&'教育訓練費入力（今期）'!$D642&\"日間\")","v":""},{"$f":"IF('教育訓練費入力（今期）'!$F642=\"\",\"\",IF('教育訓練費入力（今期）'!$G642=1,'教育訓練費入力（今期）'!$F642,'教育訓練費入力（今期）'!$F642&\"他\"&'教育訓練費入力（今期）'!$G642-1&\"名\"))","v":""}]
[null,634,null,null,null,null,null,null,null,null,{"$f":"IF('教育訓練費入力（今期）'!$C643=\"\",\"\",TEXT('教育訓練費入力（今期）'!$C643,\"yyyy年\")&TEXT('教育訓練費入力（今期）'!$C643,\"m月\")&TEXT('教育訓練費入力（今期）'!$C643,\"ｄ日\")&\"から\"&'教育訓練費入力（今期）'!$D643&\"日間\")","v":""},{"$f":"IF('教育訓練費入力（今期）'!$F643=\"\",\"\",IF('教育訓練費入力（今期）'!$G643=1,'教育訓練費入力（今期）'!$F643,'教育訓練費入力（今期）'!$F643&\"他\"&'教育訓練費入力（今期）'!$G643-1&\"名\"))","v":""}]
[null,635,null,null,null,null,null,null,null,null,{"$f":"IF('教育訓練費入力（今期）'!$C644=\"\",\"\",TEXT('教育訓練費入力（今期）'!$C644,\"yyyy年\")&TEXT('教育訓練費入力（今期）'!$C644,\"m月\")&TEXT('教育訓練費入力（今期）'!$C644,\"ｄ日\")&\"から\"&'教育訓練費入力（今期）'!$D644&\"日間\")","v":""},{"$f":"IF('教育訓練費入力（今期）'!$F644=\"\",\"\",IF('教育訓練費入力（今期）'!$G644=1,'教育訓練費入力（今期）'!$F644,'教育訓練費入力（今期）'!$F644&\"他\"&'教育訓練費入力（今期）'!$G644-1&\"名\"))","v":""}]
[null,636,null,null,null,null,null,null,null,null,{"$f":"IF('教育訓練費入力（今期）'!$C645=\"\",\"\",TEXT('教育訓練費入力（今期）'!$C645,\"yyyy年\")&TEXT('教育訓練費入力（今期）'!$C645,\"m月\")&TEXT('教育訓練費入力（今期）'!$C645,\"ｄ日\")&\"から\"&'教育訓練費入力（今期）'!$D645&\"日間\")","v":""},{"$f":"IF('教育訓練費入力（今期）'!$F645=\"\",\"\",IF('教育訓練費入力（今期）'!$G645=1,'教育訓練費入力（今期）'!$F645,'教育訓練費入力（今期）'!$F645&\"他\"&'教育訓練費入力（今期）'!$G645-1&\"名\"))","v":""}]
[null,637,null,null,null,null,null,null,null,null,{"$f":"IF('教育訓練費入力（今期）'!$C646=\"\",\"\",TEXT('教育訓練費入力（今期）'!$C646,\"yyyy年\")&TEXT('教育訓練費入力（今期）'!$C646,\"m月\")&TEXT('教育訓練費入力（今期）'!$C646,\"ｄ日\")&\"から\"&'教育訓練費入力（今期）'!$D646&\"日間\")","v":""},{"$f":"IF('教育訓練費入力（今期）'!$F646=\"\",\"\",IF('教育訓練費入力（今期）'!$G646=1,'教育訓練費入力（今期）'!$F646,'教育訓練費入力（今期）'!$F646&\"他\"&'教育訓練費入力（今期）'!$G646-1&\"名\"))","v":""}]
[null,638,null,null,null,null,null,null,null,null,{"$f":"IF('教育訓練費入力（今期）'!$C647=\"\",\"\",TEXT('教育訓練費入力（今期）'!$C647,\"yyyy年\")&TEXT('教育訓練費入力（今期）'!$C647,\"m月\")&TEXT('教育訓練費入力（今期）'!$C647,\"ｄ日\")&\"から\"&'教育訓練費入力（今期）'!$D647&\"日間\")","v":""},{"$f":"IF('教育訓練費入力（今期）'!$F647=\"\",\"\",IF('教育訓練費入力（今期）'!$G647=1,'教育訓練費入力（今期）'!$F647,'教育訓練費入力（今期）'!$F647&\"他\"&'教育訓練費入力（今期）'!$G647-1&\"名\"))","v":""}]
[null,639,null,null,null,null,null,null,null,null,{"$f":"IF('教育訓練費入力（今期）'!$C648=\"\",\"\",TEXT('教育訓練費入力（今期）'!$C648,\"yyyy年\")&TEXT('教育訓練費入力（今期）'!$C648,\"m月\")&TEXT('教育訓練費入力（今期）'!$C648,\"ｄ日\")&\"から\"&'教育訓練費入力（今期）'!$D648&\"日間\")","v":""},{"$f":"IF('教育訓練費入力（今期）'!$F648=\"\",\"\",IF('教育訓練費入力（今期）'!$G648=1,'教育訓練費入力（今期）'!$F648,'教育訓練費入力（今期）'!$F648&\"他\"&'教育訓練費入力（今期）'!$G648-1&\"名\"))","v":""}]
[null,640,null,null,null,null,null,null,null,null,{"$f":"IF('教育訓練費入力（今期）'!$C649=\"\",\"\",TEXT('教育訓練費入力（今期）'!$C649,\"yyyy年\")&TEXT('教育訓練費入力（今期）'!$C649,\"m月\")&TEXT('教育訓練費入力（今期）'!$C649,\"ｄ日\")&\"から\"&'教育訓練費入力（今期）'!$D649&\"日間\")","v":""},{"$f":"IF('教育訓練費入力（今期）'!$F649=\"\",\"\",IF('教育訓練費入力（今期）'!$G649=1,'教育訓練費入力（今期）'!$F649,'教育訓練費入力（今期）'!$F649&\"他\"&'教育訓練費入力（今期）'!$G649-1&\"名\"))","v":""}]
[null,641,null,null,null,null,null,null,null,null,{"$f":"IF('教育訓練費入力（今期）'!$C650=\"\",\"\",TEXT('教育訓練費入力（今期）'!$C650,\"yyyy年\")&TEXT('教育訓練費入力（今期）'!$C650,\"m月\")&TEXT('教育訓練費入力（今期）'!$C650,\"ｄ日\")&\"から\"&'教育訓練費入力（今期）'!$D650&\"日間\")","v":""},{"$f":"IF('教育訓練費入力（今期）'!$F650=\"\",\"\",IF('教育訓練費入力（今期）'!$G650=1,'教育訓練費入力（今期）'!$F650,'教育訓練費入力（今期）'!$F650&\"他\"&'教育訓練費入力（今期）'!$G650-1&\"名\"))","v":""}]
[null,642,null,null,null,null,null,null,null,null,{"$f":"IF('教育訓練費入力（今期）'!$C651=\"\",\"\",TEXT('教育訓練費入力（今期）'!$C651,\"yyyy年\")&TEXT('教育訓練費入力（今期）'!$C651,\"m月\")&TEXT('教育訓練費入力（今期）'!$C651,\"ｄ日\")&\"から\"&'教育訓練費入力（今期）'!$D651&\"日間\")","v":""},{"$f":"IF('教育訓練費入力（今期）'!$F651=\"\",\"\",IF('教育訓練費入力（今期）'!$G651=1,'教育訓練費入力（今期）'!$F651,'教育訓練費入力（今期）'!$F651&\"他\"&'教育訓練費入力（今期）'!$G651-1&\"名\"))","v":""}]
[null,643,null,null,null,null,null,null,null,null,{"$f":"IF('教育訓練費入力（今期）'!$C652=\"\",\"\",TEXT('教育訓練費入力（今期）'!$C652,\"yyyy年\")&TEXT('教育訓練費入力（今期）'!$C652,\"m月\")&TEXT('教育訓練費入力（今期）'!$C652,\"ｄ日\")&\"から\"&'教育訓練費入力（今期）'!$D652&\"日間\")","v":""},{"$f":"IF('教育訓練費入力（今期）'!$F652=\"\",\"\",IF('教育訓練費入力（今期）'!$G652=1,'教育訓練費入力（今期）'!$F652,'教育訓練費入力（今期）'!$F652&\"他\"&'教育訓練費入力（今期）'!$G652-1&\"名\"))","v":""}]
[null,644,null,null,null,null,null,null,null,null,{"$f":"IF('教育訓練費入力（今期）'!$C653=\"\",\"\",TEXT('教育訓練費入力（今期）'!$C653,\"yyyy年\")&TEXT('教育訓練費入力（今期）'!$C653,\"m月\")&TEXT('教育訓練費入力（今期）'!$C653,\"ｄ日\")&\"から\"&'教育訓練費入力（今期）'!$D653&\"日間\")","v":""},{"$f":"IF('教育訓練費入力（今期）'!$F653=\"\",\"\",IF('教育訓練費入力（今期）'!$G653=1,'教育訓練費入力（今期）'!$F653,'教育訓練費入力（今期）'!$F653&\"他\"&'教育訓練費入力（今期）'!$G653-1&\"名\"))","v":""}]
[null,645,null,null,null,null,null,null,null,null,{"$f":"IF('教育訓練費入力（今期）'!$C654=\"\",\"\",TEXT('教育訓練費入力（今期）'!$C654,\"yyyy年\")&TEXT('教育訓練費入力（今期）'!$C654,\"m月\")&TEXT('教育訓練費入力（今期）'!$C654,\"ｄ日\")&\"から\"&'教育訓練費入力（今期）'!$D654&\"日間\")","v":""},{"$f":"IF('教育訓練費入力（今期）'!$F654=\"\",\"\",IF('教育訓練費入力（今期）'!$G654=1,'教育訓練費入力（今期）'!$F654,'教育訓練費入力（今期）'!$F654&\"他\"&'教育訓練費入力（今期）'!$G654-1&\"名\"))","v":""}]
[null,646,null,null,null,null,null,null,null,null,{"$f":"IF('教育訓練費入力（今期）'!$C655=\"\",\"\",TEXT('教育訓練費入力（今期）'!$C655,\"yyyy年\")&TEXT('教育訓練費入力（今期）'!$C655,\"m月\")&TEXT('教育訓練費入力（今期）'!$C655,\"ｄ日\")&\"から\"&'教育訓練費入力（今期）'!$D655&\"日間\")","v":""},{"$f":"IF('教育訓練費入力（今期）'!$F655=\"\",\"\",IF('教育訓練費入力（今期）'!$G655=1,'教育訓練費入力（今期）'!$F655,'教育訓練費入力（今期）'!$F655&\"他\"&'教育訓練費入力（今期）'!$G655-1&\"名\"))","v":""}]
[null,647,null,null,null,null,null,null,null,null,{"$f":"IF('教育訓練費入力（今期）'!$C656=\"\",\"\",TEXT('教育訓練費入力（今期）'!$C656,\"yyyy年\")&TEXT('教育訓練費入力（今期）'!$C656,\"m月\")&TEXT('教育訓練費入力（今期）'!$C656,\"ｄ日\")&\"から\"&'教育訓練費入力（今期）'!$D656&\"日間\")","v":""},{"$f":"IF('教育訓練費入力（今期）'!$F656=\"\",\"\",IF('教育訓練費入力（今期）'!$G656=1,'教育訓練費入力（今期）'!$F656,'教育訓練費入力（今期）'!$F656&\"他\"&'教育訓練費入力（今期）'!$G656-1&\"名\"))","v":""}]
[null,648,null,null,null,null,null,null,null,null,{"$f":"IF('教育訓練費入力（今期）'!$C657=\"\",\"\",TEXT('教育訓練費入力（今期）'!$C657,\"yyyy年\")&TEXT('教育訓練費入力（今期）'!$C657,\"m月\")&TEXT('教育訓練費入力（今期）'!$C657,\"ｄ日\")&\"から\"&'教育訓練費入力（今期）'!$D657&\"日間\")","v":""},{"$f":"IF('教育訓練費入力（今期）'!$F657=\"\",\"\",IF('教育訓練費入力（今期）'!$G657=1,'教育訓練費入力（今期）'!$F657,'教育訓練費入力（今期）'!$F657&\"他\"&'教育訓練費入力（今期）'!$G657-1&\"名\"))","v":""}]
[null,649,null,null,null,null,null,null,null,null,{"$f":"IF('教育訓練費入力（今期）'!$C658=\"\",\"\",TEXT('教育訓練費入力（今期）'!$C658,\"yyyy年\")&TEXT('教育訓練費入力（今期）'!$C658,\"m月\")&TEXT('教育訓練費入力（今期）'!$C658,\"ｄ日\")&\"から\"&'教育訓練費入力（今期）'!$D658&\"日間\")","v":""},{"$f":"IF('教育訓練費入力（今期）'!$F658=\"\",\"\",IF('教育訓練費入力（今期）'!$G658=1,'教育訓練費入力（今期）'!$F658,'教育訓練費入力（今期）'!$F658&\"他\"&'教育訓練費入力（今期）'!$G658-1&\"名\"))","v":""}]
[null,650,null,null,null,null,null,null,null,null,{"$f":"IF('教育訓練費入力（今期）'!$C659=\"\",\"\",TEXT('教育訓練費入力（今期）'!$C659,\"yyyy年\")&TEXT('教育訓練費入力（今期）'!$C659,\"m月\")&TEXT('教育訓練費入力（今期）'!$C659,\"ｄ日\")&\"から\"&'教育訓練費入力（今期）'!$D659&\"日間\")","v":""},{"$f":"IF('教育訓練費入力（今期）'!$F659=\"\",\"\",IF('教育訓練費入力（今期）'!$G659=1,'教育訓練費入力（今期）'!$F659,'教育訓練費入力（今期）'!$F659&\"他\"&'教育訓練費入力（今期）'!$G659-1&\"名\"))","v":""}]
[null,651,null,null,null,null,null,null,null,null,{"$f":"IF('教育訓練費入力（今期）'!$C660=\"\",\"\",TEXT('教育訓練費入力（今期）'!$C660,\"yyyy年\")&TEXT('教育訓練費入力（今期）'!$C660,\"m月\")&TEXT('教育訓練費入力（今期）'!$C660,\"ｄ日\")&\"から\"&'教育訓練費入力（今期）'!$D660&\"日間\")","v":""},{"$f":"IF('教育訓練費入力（今期）'!$F660=\"\",\"\",IF('教育訓練費入力（今期）'!$G660=1,'教育訓練費入力（今期）'!$F660,'教育訓練費入力（今期）'!$F660&\"他\"&'教育訓練費入力（今期）'!$G660-1&\"名\"))","v":""}]
[null,652,null,null,null,null,null,null,null,null,{"$f":"IF('教育訓練費入力（今期）'!$C661=\"\",\"\",TEXT('教育訓練費入力（今期）'!$C661,\"yyyy年\")&TEXT('教育訓練費入力（今期）'!$C661,\"m月\")&TEXT('教育訓練費入力（今期）'!$C661,\"ｄ日\")&\"から\"&'教育訓練費入力（今期）'!$D661&\"日間\")","v":""},{"$f":"IF('教育訓練費入力（今期）'!$F661=\"\",\"\",IF('教育訓練費入力（今期）'!$G661=1,'教育訓練費入力（今期）'!$F661,'教育訓練費入力（今期）'!$F661&\"他\"&'教育訓練費入力（今期）'!$G661-1&\"名\"))","v":""}]
[null,653,null,null,null,null,null,null,null,null,{"$f":"IF('教育訓練費入力（今期）'!$C662=\"\",\"\",TEXT('教育訓練費入力（今期）'!$C662,\"yyyy年\")&TEXT('教育訓練費入力（今期）'!$C662,\"m月\")&TEXT('教育訓練費入力（今期）'!$C662,\"ｄ日\")&\"から\"&'教育訓練費入力（今期）'!$D662&\"日間\")","v":""},{"$f":"IF('教育訓練費入力（今期）'!$F662=\"\",\"\",IF('教育訓練費入力（今期）'!$G662=1,'教育訓練費入力（今期）'!$F662,'教育訓練費入力（今期）'!$F662&\"他\"&'教育訓練費入力（今期）'!$G662-1&\"名\"))","v":""}]
[null,654,null,null,null,null,null,null,null,null,{"$f":"IF('教育訓練費入力（今期）'!$C663=\"\",\"\",TEXT('教育訓練費入力（今期）'!$C663,\"yyyy年\")&TEXT('教育訓練費入力（今期）'!$C663,\"m月\")&TEXT('教育訓練費入力（今期）'!$C663,\"ｄ日\")&\"から\"&'教育訓練費入力（今期）'!$D663&\"日間\")","v":""},{"$f":"IF('教育訓練費入力（今期）'!$F663=\"\",\"\",IF('教育訓練費入力（今期）'!$G663=1,'教育訓練費入力（今期）'!$F663,'教育訓練費入力（今期）'!$F663&\"他\"&'教育訓練費入力（今期）'!$G663-1&\"名\"))","v":""}]
[null,655,null,null,null,null,null,null,null,null,{"$f":"IF('教育訓練費入力（今期）'!$C664=\"\",\"\",TEXT('教育訓練費入力（今期）'!$C664,\"yyyy年\")&TEXT('教育訓練費入力（今期）'!$C664,\"m月\")&TEXT('教育訓練費入力（今期）'!$C664,\"ｄ日\")&\"から\"&'教育訓練費入力（今期）'!$D664&\"日間\")","v":""},{"$f":"IF('教育訓練費入力（今期）'!$F664=\"\",\"\",IF('教育訓練費入力（今期）'!$G664=1,'教育訓練費入力（今期）'!$F664,'教育訓練費入力（今期）'!$F664&\"他\"&'教育訓練費入力（今期）'!$G664-1&\"名\"))","v":""}]
[null,656,null,null,null,null,null,null,null,null,{"$f":"IF('教育訓練費入力（今期）'!$C665=\"\",\"\",TEXT('教育訓練費入力（今期）'!$C665,\"yyyy年\")&TEXT('教育訓練費入力（今期）'!$C665,\"m月\")&TEXT('教育訓練費入力（今期）'!$C665,\"ｄ日\")&\"から\"&'教育訓練費入力（今期）'!$D665&\"日間\")","v":""},{"$f":"IF('教育訓練費入力（今期）'!$F665=\"\",\"\",IF('教育訓練費入力（今期）'!$G665=1,'教育訓練費入力（今期）'!$F665,'教育訓練費入力（今期）'!$F665&\"他\"&'教育訓練費入力（今期）'!$G665-1&\"名\"))","v":""}]
[null,657,null,null,null,null,null,null,null,null,{"$f":"IF('教育訓練費入力（今期）'!$C666=\"\",\"\",TEXT('教育訓練費入力（今期）'!$C666,\"yyyy年\")&TEXT('教育訓練費入力（今期）'!$C666,\"m月\")&TEXT('教育訓練費入力（今期）'!$C666,\"ｄ日\")&\"から\"&'教育訓練費入力（今期）'!$D666&\"日間\")","v":""},{"$f":"IF('教育訓練費入力（今期）'!$F666=\"\",\"\",IF('教育訓練費入力（今期）'!$G666=1,'教育訓練費入力（今期）'!$F666,'教育訓練費入力（今期）'!$F666&\"他\"&'教育訓練費入力（今期）'!$G666-1&\"名\"))","v":""}]
[null,658,null,null,null,null,null,null,null,null,{"$f":"IF('教育訓練費入力（今期）'!$C667=\"\",\"\",TEXT('教育訓練費入力（今期）'!$C667,\"yyyy年\")&TEXT('教育訓練費入力（今期）'!$C667,\"m月\")&TEXT('教育訓練費入力（今期）'!$C667,\"ｄ日\")&\"から\"&'教育訓練費入力（今期）'!$D667&\"日間\")","v":""},{"$f":"IF('教育訓練費入力（今期）'!$F667=\"\",\"\",IF('教育訓練費入力（今期）'!$G667=1,'教育訓練費入力（今期）'!$F667,'教育訓練費入力（今期）'!$F667&\"他\"&'教育訓練費入力（今期）'!$G667-1&\"名\"))","v":""}]
[null,659,null,null,null,null,null,null,null,null,{"$f":"IF('教育訓練費入力（今期）'!$C668=\"\",\"\",TEXT('教育訓練費入力（今期）'!$C668,\"yyyy年\")&TEXT('教育訓練費入力（今期）'!$C668,\"m月\")&TEXT('教育訓練費入力（今期）'!$C668,\"ｄ日\")&\"から\"&'教育訓練費入力（今期）'!$D668&\"日間\")","v":""},{"$f":"IF('教育訓練費入力（今期）'!$F668=\"\",\"\",IF('教育訓練費入力（今期）'!$G668=1,'教育訓練費入力（今期）'!$F668,'教育訓練費入力（今期）'!$F668&\"他\"&'教育訓練費入力（今期）'!$G668-1&\"名\"))","v":""}]
[null,660,null,null,null,null,null,null,null,null,{"$f":"IF('教育訓練費入力（今期）'!$C669=\"\",\"\",TEXT('教育訓練費入力（今期）'!$C669,\"yyyy年\")&TEXT('教育訓練費入力（今期）'!$C669,\"m月\")&TEXT('教育訓練費入力（今期）'!$C669,\"ｄ日\")&\"から\"&'教育訓練費入力（今期）'!$D669&\"日間\")","v":""},{"$f":"IF('教育訓練費入力（今期）'!$F669=\"\",\"\",IF('教育訓練費入力（今期）'!$G669=1,'教育訓練費入力（今期）'!$F669,'教育訓練費入力（今期）'!$F669&\"他\"&'教育訓練費入力（今期）'!$G669-1&\"名\"))","v":""}]
[null,661,null,null,null,null,null,null,null,null,{"$f":"IF('教育訓練費入力（今期）'!$C670=\"\",\"\",TEXT('教育訓練費入力（今期）'!$C670,\"yyyy年\")&TEXT('教育訓練費入力（今期）'!$C670,\"m月\")&TEXT('教育訓練費入力（今期）'!$C670,\"ｄ日\")&\"から\"&'教育訓練費入力（今期）'!$D670&\"日間\")","v":""},{"$f":"IF('教育訓練費入力（今期）'!$F670=\"\",\"\",IF('教育訓練費入力（今期）'!$G670=1,'教育訓練費入力（今期）'!$F670,'教育訓練費入力（今期）'!$F670&\"他\"&'教育訓練費入力（今期）'!$G670-1&\"名\"))","v":""}]
[null,662,null,null,null,null,null,null,null,null,{"$f":"IF('教育訓練費入力（今期）'!$C671=\"\",\"\",TEXT('教育訓練費入力（今期）'!$C671,\"yyyy年\")&TEXT('教育訓練費入力（今期）'!$C671,\"m月\")&TEXT('教育訓練費入力（今期）'!$C671,\"ｄ日\")&\"から\"&'教育訓練費入力（今期）'!$D671&\"日間\")","v":""},{"$f":"IF('教育訓練費入力（今期）'!$F671=\"\",\"\",IF('教育訓練費入力（今期）'!$G671=1,'教育訓練費入力（今期）'!$F671,'教育訓練費入力（今期）'!$F671&\"他\"&'教育訓練費入力（今期）'!$G671-1&\"名\"))","v":""}]
[null,663,null,null,null,null,null,null,null,null,{"$f":"IF('教育訓練費入力（今期）'!$C672=\"\",\"\",TEXT('教育訓練費入力（今期）'!$C672,\"yyyy年\")&TEXT('教育訓練費入力（今期）'!$C672,\"m月\")&TEXT('教育訓練費入力（今期）'!$C672,\"ｄ日\")&\"から\"&'教育訓練費入力（今期）'!$D672&\"日間\")","v":""},{"$f":"IF('教育訓練費入力（今期）'!$F672=\"\",\"\",IF('教育訓練費入力（今期）'!$G672=1,'教育訓練費入力（今期）'!$F672,'教育訓練費入力（今期）'!$F672&\"他\"&'教育訓練費入力（今期）'!$G672-1&\"名\"))","v":""}]
[null,664,null,null,null,null,null,null,null,null,{"$f":"IF('教育訓練費入力（今期）'!$C673=\"\",\"\",TEXT('教育訓練費入力（今期）'!$C673,\"yyyy年\")&TEXT('教育訓練費入力（今期）'!$C673,\"m月\")&TEXT('教育訓練費入力（今期）'!$C673,\"ｄ日\")&\"から\"&'教育訓練費入力（今期）'!$D673&\"日間\")","v":""},{"$f":"IF('教育訓練費入力（今期）'!$F673=\"\",\"\",IF('教育訓練費入力（今期）'!$G673=1,'教育訓練費入力（今期）'!$F673,'教育訓練費入力（今期）'!$F673&\"他\"&'教育訓練費入力（今期）'!$G673-1&\"名\"))","v":""}]
[null,665,null,null,null,null,null,null,null,null,{"$f":"IF('教育訓練費入力（今期）'!$C674=\"\",\"\",TEXT('教育訓練費入力（今期）'!$C674,\"yyyy年\")&TEXT('教育訓練費入力（今期）'!$C674,\"m月\")&TEXT('教育訓練費入力（今期）'!$C674,\"ｄ日\")&\"から\"&'教育訓練費入力（今期）'!$D674&\"日間\")","v":""},{"$f":"IF('教育訓練費入力（今期）'!$F674=\"\",\"\",IF('教育訓練費入力（今期）'!$G674=1,'教育訓練費入力（今期）'!$F674,'教育訓練費入力（今期）'!$F674&\"他\"&'教育訓練費入力（今期）'!$G674-1&\"名\"))","v":""}]
[null,666,null,null,null,null,null,null,null,null,{"$f":"IF('教育訓練費入力（今期）'!$C675=\"\",\"\",TEXT('教育訓練費入力（今期）'!$C675,\"yyyy年\")&TEXT('教育訓練費入力（今期）'!$C675,\"m月\")&TEXT('教育訓練費入力（今期）'!$C675,\"ｄ日\")&\"から\"&'教育訓練費入力（今期）'!$D675&\"日間\")","v":""},{"$f":"IF('教育訓練費入力（今期）'!$F675=\"\",\"\",IF('教育訓練費入力（今期）'!$G675=1,'教育訓練費入力（今期）'!$F675,'教育訓練費入力（今期）'!$F675&\"他\"&'教育訓練費入力（今期）'!$G675-1&\"名\"))","v":""}]
[null,667,null,null,null,null,null,null,null,null,{"$f":"IF('教育訓練費入力（今期）'!$C676=\"\",\"\",TEXT('教育訓練費入力（今期）'!$C676,\"yyyy年\")&TEXT('教育訓練費入力（今期）'!$C676,\"m月\")&TEXT('教育訓練費入力（今期）'!$C676,\"ｄ日\")&\"から\"&'教育訓練費入力（今期）'!$D676&\"日間\")","v":""},{"$f":"IF('教育訓練費入力（今期）'!$F676=\"\",\"\",IF('教育訓練費入力（今期）'!$G676=1,'教育訓練費入力（今期）'!$F676,'教育訓練費入力（今期）'!$F676&\"他\"&'教育訓練費入力（今期）'!$G676-1&\"名\"))","v":""}]
[null,668,null,null,null,null,null,null,null,null,{"$f":"IF('教育訓練費入力（今期）'!$C677=\"\",\"\",TEXT('教育訓練費入力（今期）'!$C677,\"yyyy年\")&TEXT('教育訓練費入力（今期）'!$C677,\"m月\")&TEXT('教育訓練費入力（今期）'!$C677,\"ｄ日\")&\"から\"&'教育訓練費入力（今期）'!$D677&\"日間\")","v":""},{"$f":"IF('教育訓練費入力（今期）'!$F677=\"\",\"\",IF('教育訓練費入力（今期）'!$G677=1,'教育訓練費入力（今期）'!$F677,'教育訓練費入力（今期）'!$F677&\"他\"&'教育訓練費入力（今期）'!$G677-1&\"名\"))","v":""}]
[null,669,null,null,null,null,null,null,null,null,{"$f":"IF('教育訓練費入力（今期）'!$C678=\"\",\"\",TEXT('教育訓練費入力（今期）'!$C678,\"yyyy年\")&TEXT('教育訓練費入力（今期）'!$C678,\"m月\")&TEXT('教育訓練費入力（今期）'!$C678,\"ｄ日\")&\"から\"&'教育訓練費入力（今期）'!$D678&\"日間\")","v":""},{"$f":"IF('教育訓練費入力（今期）'!$F678=\"\",\"\",IF('教育訓練費入力（今期）'!$G678=1,'教育訓練費入力（今期）'!$F678,'教育訓練費入力（今期）'!$F678&\"他\"&'教育訓練費入力（今期）'!$G678-1&\"名\"))","v":""}]
[null,670,null,null,null,null,null,null,null,null,{"$f":"IF('教育訓練費入力（今期）'!$C679=\"\",\"\",TEXT('教育訓練費入力（今期）'!$C679,\"yyyy年\")&TEXT('教育訓練費入力（今期）'!$C679,\"m月\")&TEXT('教育訓練費入力（今期）'!$C679,\"ｄ日\")&\"から\"&'教育訓練費入力（今期）'!$D679&\"日間\")","v":""},{"$f":"IF('教育訓練費入力（今期）'!$F679=\"\",\"\",IF('教育訓練費入力（今期）'!$G679=1,'教育訓練費入力（今期）'!$F679,'教育訓練費入力（今期）'!$F679&\"他\"&'教育訓練費入力（今期）'!$G679-1&\"名\"))","v":""}]
[null,671,null,null,null,null,null,null,null,null,{"$f":"IF('教育訓練費入力（今期）'!$C680=\"\",\"\",TEXT('教育訓練費入力（今期）'!$C680,\"yyyy年\")&TEXT('教育訓練費入力（今期）'!$C680,\"m月\")&TEXT('教育訓練費入力（今期）'!$C680,\"ｄ日\")&\"から\"&'教育訓練費入力（今期）'!$D680&\"日間\")","v":""},{"$f":"IF('教育訓練費入力（今期）'!$F680=\"\",\"\",IF('教育訓練費入力（今期）'!$G680=1,'教育訓練費入力（今期）'!$F680,'教育訓練費入力（今期）'!$F680&\"他\"&'教育訓練費入力（今期）'!$G680-1&\"名\"))","v":""}]
[null,672,null,null,null,null,null,null,null,null,{"$f":"IF('教育訓練費入力（今期）'!$C681=\"\",\"\",TEXT('教育訓練費入力（今期）'!$C681,\"yyyy年\")&TEXT('教育訓練費入力（今期）'!$C681,\"m月\")&TEXT('教育訓練費入力（今期）'!$C681,\"ｄ日\")&\"から\"&'教育訓練費入力（今期）'!$D681&\"日間\")","v":""},{"$f":"IF('教育訓練費入力（今期）'!$F681=\"\",\"\",IF('教育訓練費入力（今期）'!$G681=1,'教育訓練費入力（今期）'!$F681,'教育訓練費入力（今期）'!$F681&\"他\"&'教育訓練費入力（今期）'!$G681-1&\"名\"))","v":""}]
[null,673,null,null,null,null,null,null,null,null,{"$f":"IF('教育訓練費入力（今期）'!$C682=\"\",\"\",TEXT('教育訓練費入力（今期）'!$C682,\"yyyy年\")&TEXT('教育訓練費入力（今期）'!$C682,\"m月\")&TEXT('教育訓練費入力（今期）'!$C682,\"ｄ日\")&\"から\"&'教育訓練費入力（今期）'!$D682&\"日間\")","v":""},{"$f":"IF('教育訓練費入力（今期）'!$F682=\"\",\"\",IF('教育訓練費入力（今期）'!$G682=1,'教育訓練費入力（今期）'!$F682,'教育訓練費入力（今期）'!$F682&\"他\"&'教育訓練費入力（今期）'!$G682-1&\"名\"))","v":""}]
[null,674,null,null,null,null,null,null,null,null,{"$f":"IF('教育訓練費入力（今期）'!$C683=\"\",\"\",TEXT('教育訓練費入力（今期）'!$C683,\"yyyy年\")&TEXT('教育訓練費入力（今期）'!$C683,\"m月\")&TEXT('教育訓練費入力（今期）'!$C683,\"ｄ日\")&\"から\"&'教育訓練費入力（今期）'!$D683&\"日間\")","v":""},{"$f":"IF('教育訓練費入力（今期）'!$F683=\"\",\"\",IF('教育訓練費入力（今期）'!$G683=1,'教育訓練費入力（今期）'!$F683,'教育訓練費入力（今期）'!$F683&\"他\"&'教育訓練費入力（今期）'!$G683-1&\"名\"))","v":""}]
[null,675,null,null,null,null,null,null,null,null,{"$f":"IF('教育訓練費入力（今期）'!$C684=\"\",\"\",TEXT('教育訓練費入力（今期）'!$C684,\"yyyy年\")&TEXT('教育訓練費入力（今期）'!$C684,\"m月\")&TEXT('教育訓練費入力（今期）'!$C684,\"ｄ日\")&\"から\"&'教育訓練費入力（今期）'!$D684&\"日間\")","v":""},{"$f":"IF('教育訓練費入力（今期）'!$F684=\"\",\"\",IF('教育訓練費入力（今期）'!$G684=1,'教育訓練費入力（今期）'!$F684,'教育訓練費入力（今期）'!$F684&\"他\"&'教育訓練費入力（今期）'!$G684-1&\"名\"))","v":""}]
[null,676,null,null,null,null,null,null,null,null,{"$f":"IF('教育訓練費入力（今期）'!$C685=\"\",\"\",TEXT('教育訓練費入力（今期）'!$C685,\"yyyy年\")&TEXT('教育訓練費入力（今期）'!$C685,\"m月\")&TEXT('教育訓練費入力（今期）'!$C685,\"ｄ日\")&\"から\"&'教育訓練費入力（今期）'!$D685&\"日間\")","v":""},{"$f":"IF('教育訓練費入力（今期）'!$F685=\"\",\"\",IF('教育訓練費入力（今期）'!$G685=1,'教育訓練費入力（今期）'!$F685,'教育訓練費入力（今期）'!$F685&\"他\"&'教育訓練費入力（今期）'!$G685-1&\"名\"))","v":""}]
[null,677,null,null,null,null,null,null,null,null,{"$f":"IF('教育訓練費入力（今期）'!$C686=\"\",\"\",TEXT('教育訓練費入力（今期）'!$C686,\"yyyy年\")&TEXT('教育訓練費入力（今期）'!$C686,\"m月\")&TEXT('教育訓練費入力（今期）'!$C686,\"ｄ日\")&\"から\"&'教育訓練費入力（今期）'!$D686&\"日間\")","v":""},{"$f":"IF('教育訓練費入力（今期）'!$F686=\"\",\"\",IF('教育訓練費入力（今期）'!$G686=1,'教育訓練費入力（今期）'!$F686,'教育訓練費入力（今期）'!$F686&\"他\"&'教育訓練費入力（今期）'!$G686-1&\"名\"))","v":""}]
[null,678,null,null,null,null,null,null,null,null,{"$f":"IF('教育訓練費入力（今期）'!$C687=\"\",\"\",TEXT('教育訓練費入力（今期）'!$C687,\"yyyy年\")&TEXT('教育訓練費入力（今期）'!$C687,\"m月\")&TEXT('教育訓練費入力（今期）'!$C687,\"ｄ日\")&\"から\"&'教育訓練費入力（今期）'!$D687&\"日間\")","v":""},{"$f":"IF('教育訓練費入力（今期）'!$F687=\"\",\"\",IF('教育訓練費入力（今期）'!$G687=1,'教育訓練費入力（今期）'!$F687,'教育訓練費入力（今期）'!$F687&\"他\"&'教育訓練費入力（今期）'!$G687-1&\"名\"))","v":""}]
[null,679,null,null,null,null,null,null,null,null,{"$f":"IF('教育訓練費入力（今期）'!$C688=\"\",\"\",TEXT('教育訓練費入力（今期）'!$C688,\"yyyy年\")&TEXT('教育訓練費入力（今期）'!$C688,\"m月\")&TEXT('教育訓練費入力（今期）'!$C688,\"ｄ日\")&\"から\"&'教育訓練費入力（今期）'!$D688&\"日間\")","v":""},{"$f":"IF('教育訓練費入力（今期）'!$F688=\"\",\"\",IF('教育訓練費入力（今期）'!$G688=1,'教育訓練費入力（今期）'!$F688,'教育訓練費入力（今期）'!$F688&\"他\"&'教育訓練費入力（今期）'!$G688-1&\"名\"))","v":""}]
[null,680,null,null,null,null,null,null,null,null,{"$f":"IF('教育訓練費入力（今期）'!$C689=\"\",\"\",TEXT('教育訓練費入力（今期）'!$C689,\"yyyy年\")&TEXT('教育訓練費入力（今期）'!$C689,\"m月\")&TEXT('教育訓練費入力（今期）'!$C689,\"ｄ日\")&\"から\"&'教育訓練費入力（今期）'!$D689&\"日間\")","v":""},{"$f":"IF('教育訓練費入力（今期）'!$F689=\"\",\"\",IF('教育訓練費入力（今期）'!$G689=1,'教育訓練費入力（今期）'!$F689,'教育訓練費入力（今期）'!$F689&\"他\"&'教育訓練費入力（今期）'!$G689-1&\"名\"))","v":""}]
[null,681,null,null,null,null,null,null,null,null,{"$f":"IF('教育訓練費入力（今期）'!$C690=\"\",\"\",TEXT('教育訓練費入力（今期）'!$C690,\"yyyy年\")&TEXT('教育訓練費入力（今期）'!$C690,\"m月\")&TEXT('教育訓練費入力（今期）'!$C690,\"ｄ日\")&\"から\"&'教育訓練費入力（今期）'!$D690&\"日間\")","v":""},{"$f":"IF('教育訓練費入力（今期）'!$F690=\"\",\"\",IF('教育訓練費入力（今期）'!$G690=1,'教育訓練費入力（今期）'!$F690,'教育訓練費入力（今期）'!$F690&\"他\"&'教育訓練費入力（今期）'!$G690-1&\"名\"))","v":""}]
[null,682,null,null,null,null,null,null,null,null,{"$f":"IF('教育訓練費入力（今期）'!$C691=\"\",\"\",TEXT('教育訓練費入力（今期）'!$C691,\"yyyy年\")&TEXT('教育訓練費入力（今期）'!$C691,\"m月\")&TEXT('教育訓練費入力（今期）'!$C691,\"ｄ日\")&\"から\"&'教育訓練費入力（今期）'!$D691&\"日間\")","v":""},{"$f":"IF('教育訓練費入力（今期）'!$F691=\"\",\"\",IF('教育訓練費入力（今期）'!$G691=1,'教育訓練費入力（今期）'!$F691,'教育訓練費入力（今期）'!$F691&\"他\"&'教育訓練費入力（今期）'!$G691-1&\"名\"))","v":""}]
[null,683,null,null,null,null,null,null,null,null,{"$f":"IF('教育訓練費入力（今期）'!$C692=\"\",\"\",TEXT('教育訓練費入力（今期）'!$C692,\"yyyy年\")&TEXT('教育訓練費入力（今期）'!$C692,\"m月\")&TEXT('教育訓練費入力（今期）'!$C692,\"ｄ日\")&\"から\"&'教育訓練費入力（今期）'!$D692&\"日間\")","v":""},{"$f":"IF('教育訓練費入力（今期）'!$F692=\"\",\"\",IF('教育訓練費入力（今期）'!$G692=1,'教育訓練費入力（今期）'!$F692,'教育訓練費入力（今期）'!$F692&\"他\"&'教育訓練費入力（今期）'!$G692-1&\"名\"))","v":""}]
[null,684,null,null,null,null,null,null,null,null,{"$f":"IF('教育訓練費入力（今期）'!$C693=\"\",\"\",TEXT('教育訓練費入力（今期）'!$C693,\"yyyy年\")&TEXT('教育訓練費入力（今期）'!$C693,\"m月\")&TEXT('教育訓練費入力（今期）'!$C693,\"ｄ日\")&\"から\"&'教育訓練費入力（今期）'!$D693&\"日間\")","v":""},{"$f":"IF('教育訓練費入力（今期）'!$F693=\"\",\"\",IF('教育訓練費入力（今期）'!$G693=1,'教育訓練費入力（今期）'!$F693,'教育訓練費入力（今期）'!$F693&\"他\"&'教育訓練費入力（今期）'!$G693-1&\"名\"))","v":""}]
[null,685,null,null,null,null,null,null,null,null,{"$f":"IF('教育訓練費入力（今期）'!$C694=\"\",\"\",TEXT('教育訓練費入力（今期）'!$C694,\"yyyy年\")&TEXT('教育訓練費入力（今期）'!$C694,\"m月\")&TEXT('教育訓練費入力（今期）'!$C694,\"ｄ日\")&\"から\"&'教育訓練費入力（今期）'!$D694&\"日間\")","v":""},{"$f":"IF('教育訓練費入力（今期）'!$F694=\"\",\"\",IF('教育訓練費入力（今期）'!$G694=1,'教育訓練費入力（今期）'!$F694,'教育訓練費入力（今期）'!$F694&\"他\"&'教育訓練費入力（今期）'!$G694-1&\"名\"))","v":""}]
[null,686,null,null,null,null,null,null,null,null,{"$f":"IF('教育訓練費入力（今期）'!$C695=\"\",\"\",TEXT('教育訓練費入力（今期）'!$C695,\"yyyy年\")&TEXT('教育訓練費入力（今期）'!$C695,\"m月\")&TEXT('教育訓練費入力（今期）'!$C695,\"ｄ日\")&\"から\"&'教育訓練費入力（今期）'!$D695&\"日間\")","v":""},{"$f":"IF('教育訓練費入力（今期）'!$F695=\"\",\"\",IF('教育訓練費入力（今期）'!$G695=1,'教育訓練費入力（今期）'!$F695,'教育訓練費入力（今期）'!$F695&\"他\"&'教育訓練費入力（今期）'!$G695-1&\"名\"))","v":""}]
[null,687,null,null,null,null,null,null,null,null,{"$f":"IF('教育訓練費入力（今期）'!$C696=\"\",\"\",TEXT('教育訓練費入力（今期）'!$C696,\"yyyy年\")&TEXT('教育訓練費入力（今期）'!$C696,\"m月\")&TEXT('教育訓練費入力（今期）'!$C696,\"ｄ日\")&\"から\"&'教育訓練費入力（今期）'!$D696&\"日間\")","v":""},{"$f":"IF('教育訓練費入力（今期）'!$F696=\"\",\"\",IF('教育訓練費入力（今期）'!$G696=1,'教育訓練費入力（今期）'!$F696,'教育訓練費入力（今期）'!$F696&\"他\"&'教育訓練費入力（今期）'!$G696-1&\"名\"))","v":""}]
[null,688,null,null,null,null,null,null,null,null,{"$f":"IF('教育訓練費入力（今期）'!$C697=\"\",\"\",TEXT('教育訓練費入力（今期）'!$C697,\"yyyy年\")&TEXT('教育訓練費入力（今期）'!$C697,\"m月\")&TEXT('教育訓練費入力（今期）'!$C697,\"ｄ日\")&\"から\"&'教育訓練費入力（今期）'!$D697&\"日間\")","v":""},{"$f":"IF('教育訓練費入力（今期）'!$F697=\"\",\"\",IF('教育訓練費入力（今期）'!$G697=1,'教育訓練費入力（今期）'!$F697,'教育訓練費入力（今期）'!$F697&\"他\"&'教育訓練費入力（今期）'!$G697-1&\"名\"))","v":""}]
[null,689,null,null,null,null,null,null,null,null,{"$f":"IF('教育訓練費入力（今期）'!$C698=\"\",\"\",TEXT('教育訓練費入力（今期）'!$C698,\"yyyy年\")&TEXT('教育訓練費入力（今期）'!$C698,\"m月\")&TEXT('教育訓練費入力（今期）'!$C698,\"ｄ日\")&\"から\"&'教育訓練費入力（今期）'!$D698&\"日間\")","v":""},{"$f":"IF('教育訓練費入力（今期）'!$F698=\"\",\"\",IF('教育訓練費入力（今期）'!$G698=1,'教育訓練費入力（今期）'!$F698,'教育訓練費入力（今期）'!$F698&\"他\"&'教育訓練費入力（今期）'!$G698-1&\"名\"))","v":""}]
[null,690,null,null,null,null,null,null,null,null,{"$f":"IF('教育訓練費入力（今期）'!$C699=\"\",\"\",TEXT('教育訓練費入力（今期）'!$C699,\"yyyy年\")&TEXT('教育訓練費入力（今期）'!$C699,\"m月\")&TEXT('教育訓練費入力（今期）'!$C699,\"ｄ日\")&\"から\"&'教育訓練費入力（今期）'!$D699&\"日間\")","v":""},{"$f":"IF('教育訓練費入力（今期）'!$F699=\"\",\"\",IF('教育訓練費入力（今期）'!$G699=1,'教育訓練費入力（今期）'!$F699,'教育訓練費入力（今期）'!$F699&\"他\"&'教育訓練費入力（今期）'!$G699-1&\"名\"))","v":""}]
[null,691,null,null,null,null,null,null,null,null,{"$f":"IF('教育訓練費入力（今期）'!$C700=\"\",\"\",TEXT('教育訓練費入力（今期）'!$C700,\"yyyy年\")&TEXT('教育訓練費入力（今期）'!$C700,\"m月\")&TEXT('教育訓練費入力（今期）'!$C700,\"ｄ日\")&\"から\"&'教育訓練費入力（今期）'!$D700&\"日間\")","v":""},{"$f":"IF('教育訓練費入力（今期）'!$F700=\"\",\"\",IF('教育訓練費入力（今期）'!$G700=1,'教育訓練費入力（今期）'!$F700,'教育訓練費入力（今期）'!$F700&\"他\"&'教育訓練費入力（今期）'!$G700-1&\"名\"))","v":""}]
[null,692,null,null,null,null,null,null,null,null,{"$f":"IF('教育訓練費入力（今期）'!$C701=\"\",\"\",TEXT('教育訓練費入力（今期）'!$C701,\"yyyy年\")&TEXT('教育訓練費入力（今期）'!$C701,\"m月\")&TEXT('教育訓練費入力（今期）'!$C701,\"ｄ日\")&\"から\"&'教育訓練費入力（今期）'!$D701&\"日間\")","v":""},{"$f":"IF('教育訓練費入力（今期）'!$F701=\"\",\"\",IF('教育訓練費入力（今期）'!$G701=1,'教育訓練費入力（今期）'!$F701,'教育訓練費入力（今期）'!$F701&\"他\"&'教育訓練費入力（今期）'!$G701-1&\"名\"))","v":""}]
[null,693,null,null,null,null,null,null,null,null,{"$f":"IF('教育訓練費入力（今期）'!$C702=\"\",\"\",TEXT('教育訓練費入力（今期）'!$C702,\"yyyy年\")&TEXT('教育訓練費入力（今期）'!$C702,\"m月\")&TEXT('教育訓練費入力（今期）'!$C702,\"ｄ日\")&\"から\"&'教育訓練費入力（今期）'!$D702&\"日間\")","v":""},{"$f":"IF('教育訓練費入力（今期）'!$F702=\"\",\"\",IF('教育訓練費入力（今期）'!$G702=1,'教育訓練費入力（今期）'!$F702,'教育訓練費入力（今期）'!$F702&\"他\"&'教育訓練費入力（今期）'!$G702-1&\"名\"))","v":""}]
[null,694,null,null,null,null,null,null,null,null,{"$f":"IF('教育訓練費入力（今期）'!$C703=\"\",\"\",TEXT('教育訓練費入力（今期）'!$C703,\"yyyy年\")&TEXT('教育訓練費入力（今期）'!$C703,\"m月\")&TEXT('教育訓練費入力（今期）'!$C703,\"ｄ日\")&\"から\"&'教育訓練費入力（今期）'!$D703&\"日間\")","v":""},{"$f":"IF('教育訓練費入力（今期）'!$F703=\"\",\"\",IF('教育訓練費入力（今期）'!$G703=1,'教育訓練費入力（今期）'!$F703,'教育訓練費入力（今期）'!$F703&\"他\"&'教育訓練費入力（今期）'!$G703-1&\"名\"))","v":""}]
[null,695,null,null,null,null,null,null,null,null,{"$f":"IF('教育訓練費入力（今期）'!$C704=\"\",\"\",TEXT('教育訓練費入力（今期）'!$C704,\"yyyy年\")&TEXT('教育訓練費入力（今期）'!$C704,\"m月\")&TEXT('教育訓練費入力（今期）'!$C704,\"ｄ日\")&\"から\"&'教育訓練費入力（今期）'!$D704&\"日間\")","v":""},{"$f":"IF('教育訓練費入力（今期）'!$F704=\"\",\"\",IF('教育訓練費入力（今期）'!$G704=1,'教育訓練費入力（今期）'!$F704,'教育訓練費入力（今期）'!$F704&\"他\"&'教育訓練費入力（今期）'!$G704-1&\"名\"))","v":""}]
[null,696,null,null,null,null,null,null,null,null,{"$f":"IF('教育訓練費入力（今期）'!$C705=\"\",\"\",TEXT('教育訓練費入力（今期）'!$C705,\"yyyy年\")&TEXT('教育訓練費入力（今期）'!$C705,\"m月\")&TEXT('教育訓練費入力（今期）'!$C705,\"ｄ日\")&\"から\"&'教育訓練費入力（今期）'!$D705&\"日間\")","v":""},{"$f":"IF('教育訓練費入力（今期）'!$F705=\"\",\"\",IF('教育訓練費入力（今期）'!$G705=1,'教育訓練費入力（今期）'!$F705,'教育訓練費入力（今期）'!$F705&\"他\"&'教育訓練費入力（今期）'!$G705-1&\"名\"))","v":""}]
[null,697,null,null,null,null,null,null,null,null,{"$f":"IF('教育訓練費入力（今期）'!$C706=\"\",\"\",TEXT('教育訓練費入力（今期）'!$C706,\"yyyy年\")&TEXT('教育訓練費入力（今期）'!$C706,\"m月\")&TEXT('教育訓練費入力（今期）'!$C706,\"ｄ日\")&\"から\"&'教育訓練費入力（今期）'!$D706&\"日間\")","v":""},{"$f":"IF('教育訓練費入力（今期）'!$F706=\"\",\"\",IF('教育訓練費入力（今期）'!$G706=1,'教育訓練費入力（今期）'!$F706,'教育訓練費入力（今期）'!$F706&\"他\"&'教育訓練費入力（今期）'!$G706-1&\"名\"))","v":""}]
[null,698,null,null,null,null,null,null,null,null,{"$f":"IF('教育訓練費入力（今期）'!$C707=\"\",\"\",TEXT('教育訓練費入力（今期）'!$C707,\"yyyy年\")&TEXT('教育訓練費入力（今期）'!$C707,\"m月\")&TEXT('教育訓練費入力（今期）'!$C707,\"ｄ日\")&\"から\"&'教育訓練費入力（今期）'!$D707&\"日間\")","v":""},{"$f":"IF('教育訓練費入力（今期）'!$F707=\"\",\"\",IF('教育訓練費入力（今期）'!$G707=1,'教育訓練費入力（今期）'!$F707,'教育訓練費入力（今期）'!$F707&\"他\"&'教育訓練費入力（今期）'!$G707-1&\"名\"))","v":""}]
[null,699,null,null,null,null,null,null,null,null,{"$f":"IF('教育訓練費入力（今期）'!$C708=\"\",\"\",TEXT('教育訓練費入力（今期）'!$C708,\"yyyy年\")&TEXT('教育訓練費入力（今期）'!$C708,\"m月\")&TEXT('教育訓練費入力（今期）'!$C708,\"ｄ日\")&\"から\"&'教育訓練費入力（今期）'!$D708&\"日間\")","v":""},{"$f":"IF('教育訓練費入力（今期）'!$F708=\"\",\"\",IF('教育訓練費入力（今期）'!$G708=1,'教育訓練費入力（今期）'!$F708,'教育訓練費入力（今期）'!$F708&\"他\"&'教育訓練費入力（今期）'!$G708-1&\"名\"))","v":""}]
[null,700,null,null,null,null,null,null,null,null,{"$f":"IF('教育訓練費入力（今期）'!$C709=\"\",\"\",TEXT('教育訓練費入力（今期）'!$C709,\"yyyy年\")&TEXT('教育訓練費入力（今期）'!$C709,\"m月\")&TEXT('教育訓練費入力（今期）'!$C709,\"ｄ日\")&\"から\"&'教育訓練費入力（今期）'!$D709&\"日間\")","v":""},{"$f":"IF('教育訓練費入力（今期）'!$F709=\"\",\"\",IF('教育訓練費入力（今期）'!$G709=1,'教育訓練費入力（今期）'!$F709,'教育訓練費入力（今期）'!$F709&\"他\"&'教育訓練費入力（今期）'!$G709-1&\"名\"))","v":""}]
[null,701,null,null,null,null,null,null,null,null,{"$f":"IF('教育訓練費入力（今期）'!$C710=\"\",\"\",TEXT('教育訓練費入力（今期）'!$C710,\"yyyy年\")&TEXT('教育訓練費入力（今期）'!$C710,\"m月\")&TEXT('教育訓練費入力（今期）'!$C710,\"ｄ日\")&\"から\"&'教育訓練費入力（今期）'!$D710&\"日間\")","v":""},{"$f":"IF('教育訓練費入力（今期）'!$F710=\"\",\"\",IF('教育訓練費入力（今期）'!$G710=1,'教育訓練費入力（今期）'!$F710,'教育訓練費入力（今期）'!$F710&\"他\"&'教育訓練費入力（今期）'!$G710-1&\"名\"))","v":""}]
[null,702,null,null,null,null,null,null,null,null,{"$f":"IF('教育訓練費入力（今期）'!$C711=\"\",\"\",TEXT('教育訓練費入力（今期）'!$C711,\"yyyy年\")&TEXT('教育訓練費入力（今期）'!$C711,\"m月\")&TEXT('教育訓練費入力（今期）'!$C711,\"ｄ日\")&\"から\"&'教育訓練費入力（今期）'!$D711&\"日間\")","v":""},{"$f":"IF('教育訓練費入力（今期）'!$F711=\"\",\"\",IF('教育訓練費入力（今期）'!$G711=1,'教育訓練費入力（今期）'!$F711,'教育訓練費入力（今期）'!$F711&\"他\"&'教育訓練費入力（今期）'!$G711-1&\"名\"))","v":""}]
[null,703,null,null,null,null,null,null,null,null,{"$f":"IF('教育訓練費入力（今期）'!$C712=\"\",\"\",TEXT('教育訓練費入力（今期）'!$C712,\"yyyy年\")&TEXT('教育訓練費入力（今期）'!$C712,\"m月\")&TEXT('教育訓練費入力（今期）'!$C712,\"ｄ日\")&\"から\"&'教育訓練費入力（今期）'!$D712&\"日間\")","v":""},{"$f":"IF('教育訓練費入力（今期）'!$F712=\"\",\"\",IF('教育訓練費入力（今期）'!$G712=1,'教育訓練費入力（今期）'!$F712,'教育訓練費入力（今期）'!$F712&\"他\"&'教育訓練費入力（今期）'!$G712-1&\"名\"))","v":""}]
[null,704,null,null,null,null,null,null,null,null,{"$f":"IF('教育訓練費入力（今期）'!$C713=\"\",\"\",TEXT('教育訓練費入力（今期）'!$C713,\"yyyy年\")&TEXT('教育訓練費入力（今期）'!$C713,\"m月\")&TEXT('教育訓練費入力（今期）'!$C713,\"ｄ日\")&\"から\"&'教育訓練費入力（今期）'!$D713&\"日間\")","v":""},{"$f":"IF('教育訓練費入力（今期）'!$F713=\"\",\"\",IF('教育訓練費入力（今期）'!$G713=1,'教育訓練費入力（今期）'!$F713,'教育訓練費入力（今期）'!$F713&\"他\"&'教育訓練費入力（今期）'!$G713-1&\"名\"))","v":""}]
[null,705,null,null,null,null,null,null,null,null,{"$f":"IF('教育訓練費入力（今期）'!$C714=\"\",\"\",TEXT('教育訓練費入力（今期）'!$C714,\"yyyy年\")&TEXT('教育訓練費入力（今期）'!$C714,\"m月\")&TEXT('教育訓練費入力（今期）'!$C714,\"ｄ日\")&\"から\"&'教育訓練費入力（今期）'!$D714&\"日間\")","v":""},{"$f":"IF('教育訓練費入力（今期）'!$F714=\"\",\"\",IF('教育訓練費入力（今期）'!$G714=1,'教育訓練費入力（今期）'!$F714,'教育訓練費入力（今期）'!$F714&\"他\"&'教育訓練費入力（今期）'!$G714-1&\"名\"))","v":""}]
[null,706,null,null,null,null,null,null,null,null,{"$f":"IF('教育訓練費入力（今期）'!$C715=\"\",\"\",TEXT('教育訓練費入力（今期）'!$C715,\"yyyy年\")&TEXT('教育訓練費入力（今期）'!$C715,\"m月\")&TEXT('教育訓練費入力（今期）'!$C715,\"ｄ日\")&\"から\"&'教育訓練費入力（今期）'!$D715&\"日間\")","v":""},{"$f":"IF('教育訓練費入力（今期）'!$F715=\"\",\"\",IF('教育訓練費入力（今期）'!$G715=1,'教育訓練費入力（今期）'!$F715,'教育訓練費入力（今期）'!$F715&\"他\"&'教育訓練費入力（今期）'!$G715-1&\"名\"))","v":""}]
[null,707,null,null,null,null,null,null,null,null,{"$f":"IF('教育訓練費入力（今期）'!$C716=\"\",\"\",TEXT('教育訓練費入力（今期）'!$C716,\"yyyy年\")&TEXT('教育訓練費入力（今期）'!$C716,\"m月\")&TEXT('教育訓練費入力（今期）'!$C716,\"ｄ日\")&\"から\"&'教育訓練費入力（今期）'!$D716&\"日間\")","v":""},{"$f":"IF('教育訓練費入力（今期）'!$F716=\"\",\"\",IF('教育訓練費入力（今期）'!$G716=1,'教育訓練費入力（今期）'!$F716,'教育訓練費入力（今期）'!$F716&\"他\"&'教育訓練費入力（今期）'!$G716-1&\"名\"))","v":""}]
[null,708,null,null,null,null,null,null,null,null,{"$f":"IF('教育訓練費入力（今期）'!$C717=\"\",\"\",TEXT('教育訓練費入力（今期）'!$C717,\"yyyy年\")&TEXT('教育訓練費入力（今期）'!$C717,\"m月\")&TEXT('教育訓練費入力（今期）'!$C717,\"ｄ日\")&\"から\"&'教育訓練費入力（今期）'!$D717&\"日間\")","v":""},{"$f":"IF('教育訓練費入力（今期）'!$F717=\"\",\"\",IF('教育訓練費入力（今期）'!$G717=1,'教育訓練費入力（今期）'!$F717,'教育訓練費入力（今期）'!$F717&\"他\"&'教育訓練費入力（今期）'!$G717-1&\"名\"))","v":""}]
[null,709,null,null,null,null,null,null,null,null,{"$f":"IF('教育訓練費入力（今期）'!$C718=\"\",\"\",TEXT('教育訓練費入力（今期）'!$C718,\"yyyy年\")&TEXT('教育訓練費入力（今期）'!$C718,\"m月\")&TEXT('教育訓練費入力（今期）'!$C718,\"ｄ日\")&\"から\"&'教育訓練費入力（今期）'!$D718&\"日間\")","v":""},{"$f":"IF('教育訓練費入力（今期）'!$F718=\"\",\"\",IF('教育訓練費入力（今期）'!$G718=1,'教育訓練費入力（今期）'!$F718,'教育訓練費入力（今期）'!$F718&\"他\"&'教育訓練費入力（今期）'!$G718-1&\"名\"))","v":""}]
[null,710,null,null,null,null,null,null,null,null,{"$f":"IF('教育訓練費入力（今期）'!$C719=\"\",\"\",TEXT('教育訓練費入力（今期）'!$C719,\"yyyy年\")&TEXT('教育訓練費入力（今期）'!$C719,\"m月\")&TEXT('教育訓練費入力（今期）'!$C719,\"ｄ日\")&\"から\"&'教育訓練費入力（今期）'!$D719&\"日間\")","v":""},{"$f":"IF('教育訓練費入力（今期）'!$F719=\"\",\"\",IF('教育訓練費入力（今期）'!$G719=1,'教育訓練費入力（今期）'!$F719,'教育訓練費入力（今期）'!$F719&\"他\"&'教育訓練費入力（今期）'!$G719-1&\"名\"))","v":""}]
[null,711,null,null,null,null,null,null,null,null,{"$f":"IF('教育訓練費入力（今期）'!$C720=\"\",\"\",TEXT('教育訓練費入力（今期）'!$C720,\"yyyy年\")&TEXT('教育訓練費入力（今期）'!$C720,\"m月\")&TEXT('教育訓練費入力（今期）'!$C720,\"ｄ日\")&\"から\"&'教育訓練費入力（今期）'!$D720&\"日間\")","v":""},{"$f":"IF('教育訓練費入力（今期）'!$F720=\"\",\"\",IF('教育訓練費入力（今期）'!$G720=1,'教育訓練費入力（今期）'!$F720,'教育訓練費入力（今期）'!$F720&\"他\"&'教育訓練費入力（今期）'!$G720-1&\"名\"))","v":""}]
[null,712,null,null,null,null,null,null,null,null,{"$f":"IF('教育訓練費入力（今期）'!$C721=\"\",\"\",TEXT('教育訓練費入力（今期）'!$C721,\"yyyy年\")&TEXT('教育訓練費入力（今期）'!$C721,\"m月\")&TEXT('教育訓練費入力（今期）'!$C721,\"ｄ日\")&\"から\"&'教育訓練費入力（今期）'!$D721&\"日間\")","v":""},{"$f":"IF('教育訓練費入力（今期）'!$F721=\"\",\"\",IF('教育訓練費入力（今期）'!$G721=1,'教育訓練費入力（今期）'!$F721,'教育訓練費入力（今期）'!$F721&\"他\"&'教育訓練費入力（今期）'!$G721-1&\"名\"))","v":""}]
[null,713,null,null,null,null,null,null,null,null,{"$f":"IF('教育訓練費入力（今期）'!$C722=\"\",\"\",TEXT('教育訓練費入力（今期）'!$C722,\"yyyy年\")&TEXT('教育訓練費入力（今期）'!$C722,\"m月\")&TEXT('教育訓練費入力（今期）'!$C722,\"ｄ日\")&\"から\"&'教育訓練費入力（今期）'!$D722&\"日間\")","v":""},{"$f":"IF('教育訓練費入力（今期）'!$F722=\"\",\"\",IF('教育訓練費入力（今期）'!$G722=1,'教育訓練費入力（今期）'!$F722,'教育訓練費入力（今期）'!$F722&\"他\"&'教育訓練費入力（今期）'!$G722-1&\"名\"))","v":""}]
[null,714,null,null,null,null,null,null,null,null,{"$f":"IF('教育訓練費入力（今期）'!$C723=\"\",\"\",TEXT('教育訓練費入力（今期）'!$C723,\"yyyy年\")&TEXT('教育訓練費入力（今期）'!$C723,\"m月\")&TEXT('教育訓練費入力（今期）'!$C723,\"ｄ日\")&\"から\"&'教育訓練費入力（今期）'!$D723&\"日間\")","v":""},{"$f":"IF('教育訓練費入力（今期）'!$F723=\"\",\"\",IF('教育訓練費入力（今期）'!$G723=1,'教育訓練費入力（今期）'!$F723,'教育訓練費入力（今期）'!$F723&\"他\"&'教育訓練費入力（今期）'!$G723-1&\"名\"))","v":""}]
[null,715,null,null,null,null,null,null,null,null,{"$f":"IF('教育訓練費入力（今期）'!$C724=\"\",\"\",TEXT('教育訓練費入力（今期）'!$C724,\"yyyy年\")&TEXT('教育訓練費入力（今期）'!$C724,\"m月\")&TEXT('教育訓練費入力（今期）'!$C724,\"ｄ日\")&\"から\"&'教育訓練費入力（今期）'!$D724&\"日間\")","v":""},{"$f":"IF('教育訓練費入力（今期）'!$F724=\"\",\"\",IF('教育訓練費入力（今期）'!$G724=1,'教育訓練費入力（今期）'!$F724,'教育訓練費入力（今期）'!$F724&\"他\"&'教育訓練費入力（今期）'!$G724-1&\"名\"))","v":""}]
[null,716,null,null,null,null,null,null,null,null,{"$f":"IF('教育訓練費入力（今期）'!$C725=\"\",\"\",TEXT('教育訓練費入力（今期）'!$C725,\"yyyy年\")&TEXT('教育訓練費入力（今期）'!$C725,\"m月\")&TEXT('教育訓練費入力（今期）'!$C725,\"ｄ日\")&\"から\"&'教育訓練費入力（今期）'!$D725&\"日間\")","v":""},{"$f":"IF('教育訓練費入力（今期）'!$F725=\"\",\"\",IF('教育訓練費入力（今期）'!$G725=1,'教育訓練費入力（今期）'!$F725,'教育訓練費入力（今期）'!$F725&\"他\"&'教育訓練費入力（今期）'!$G725-1&\"名\"))","v":""}]
[null,717,null,null,null,null,null,null,null,null,{"$f":"IF('教育訓練費入力（今期）'!$C726=\"\",\"\",TEXT('教育訓練費入力（今期）'!$C726,\"yyyy年\")&TEXT('教育訓練費入力（今期）'!$C726,\"m月\")&TEXT('教育訓練費入力（今期）'!$C726,\"ｄ日\")&\"から\"&'教育訓練費入力（今期）'!$D726&\"日間\")","v":""},{"$f":"IF('教育訓練費入力（今期）'!$F726=\"\",\"\",IF('教育訓練費入力（今期）'!$G726=1,'教育訓練費入力（今期）'!$F726,'教育訓練費入力（今期）'!$F726&\"他\"&'教育訓練費入力（今期）'!$G726-1&\"名\"))","v":""}]
[null,718,null,null,null,null,null,null,null,null,{"$f":"IF('教育訓練費入力（今期）'!$C727=\"\",\"\",TEXT('教育訓練費入力（今期）'!$C727,\"yyyy年\")&TEXT('教育訓練費入力（今期）'!$C727,\"m月\")&TEXT('教育訓練費入力（今期）'!$C727,\"ｄ日\")&\"から\"&'教育訓練費入力（今期）'!$D727&\"日間\")","v":""},{"$f":"IF('教育訓練費入力（今期）'!$F727=\"\",\"\",IF('教育訓練費入力（今期）'!$G727=1,'教育訓練費入力（今期）'!$F727,'教育訓練費入力（今期）'!$F727&\"他\"&'教育訓練費入力（今期）'!$G727-1&\"名\"))","v":""}]
[null,719,null,null,null,null,null,null,null,null,{"$f":"IF('教育訓練費入力（今期）'!$C728=\"\",\"\",TEXT('教育訓練費入力（今期）'!$C728,\"yyyy年\")&TEXT('教育訓練費入力（今期）'!$C728,\"m月\")&TEXT('教育訓練費入力（今期）'!$C728,\"ｄ日\")&\"から\"&'教育訓練費入力（今期）'!$D728&\"日間\")","v":""},{"$f":"IF('教育訓練費入力（今期）'!$F728=\"\",\"\",IF('教育訓練費入力（今期）'!$G728=1,'教育訓練費入力（今期）'!$F728,'教育訓練費入力（今期）'!$F728&\"他\"&'教育訓練費入力（今期）'!$G728-1&\"名\"))","v":""}]
[null,720,null,null,null,null,null,null,null,null,{"$f":"IF('教育訓練費入力（今期）'!$C729=\"\",\"\",TEXT('教育訓練費入力（今期）'!$C729,\"yyyy年\")&TEXT('教育訓練費入力（今期）'!$C729,\"m月\")&TEXT('教育訓練費入力（今期）'!$C729,\"ｄ日\")&\"から\"&'教育訓練費入力（今期）'!$D729&\"日間\")","v":""},{"$f":"IF('教育訓練費入力（今期）'!$F729=\"\",\"\",IF('教育訓練費入力（今期）'!$G729=1,'教育訓練費入力（今期）'!$F729,'教育訓練費入力（今期）'!$F729&\"他\"&'教育訓練費入力（今期）'!$G729-1&\"名\"))","v":""}]
[null,721,null,null,null,null,null,null,null,null,{"$f":"IF('教育訓練費入力（今期）'!$C730=\"\",\"\",TEXT('教育訓練費入力（今期）'!$C730,\"yyyy年\")&TEXT('教育訓練費入力（今期）'!$C730,\"m月\")&TEXT('教育訓練費入力（今期）'!$C730,\"ｄ日\")&\"から\"&'教育訓練費入力（今期）'!$D730&\"日間\")","v":""},{"$f":"IF('教育訓練費入力（今期）'!$F730=\"\",\"\",IF('教育訓練費入力（今期）'!$G730=1,'教育訓練費入力（今期）'!$F730,'教育訓練費入力（今期）'!$F730&\"他\"&'教育訓練費入力（今期）'!$G730-1&\"名\"))","v":""}]
[null,722,null,null,null,null,null,null,null,null,{"$f":"IF('教育訓練費入力（今期）'!$C731=\"\",\"\",TEXT('教育訓練費入力（今期）'!$C731,\"yyyy年\")&TEXT('教育訓練費入力（今期）'!$C731,\"m月\")&TEXT('教育訓練費入力（今期）'!$C731,\"ｄ日\")&\"から\"&'教育訓練費入力（今期）'!$D731&\"日間\")","v":""},{"$f":"IF('教育訓練費入力（今期）'!$F731=\"\",\"\",IF('教育訓練費入力（今期）'!$G731=1,'教育訓練費入力（今期）'!$F731,'教育訓練費入力（今期）'!$F731&\"他\"&'教育訓練費入力（今期）'!$G731-1&\"名\"))","v":""}]
[null,723,null,null,null,null,null,null,null,null,{"$f":"IF('教育訓練費入力（今期）'!$C732=\"\",\"\",TEXT('教育訓練費入力（今期）'!$C732,\"yyyy年\")&TEXT('教育訓練費入力（今期）'!$C732,\"m月\")&TEXT('教育訓練費入力（今期）'!$C732,\"ｄ日\")&\"から\"&'教育訓練費入力（今期）'!$D732&\"日間\")","v":""},{"$f":"IF('教育訓練費入力（今期）'!$F732=\"\",\"\",IF('教育訓練費入力（今期）'!$G732=1,'教育訓練費入力（今期）'!$F732,'教育訓練費入力（今期）'!$F732&\"他\"&'教育訓練費入力（今期）'!$G732-1&\"名\"))","v":""}]
[null,724,null,null,null,null,null,null,null,null,{"$f":"IF('教育訓練費入力（今期）'!$C733=\"\",\"\",TEXT('教育訓練費入力（今期）'!$C733,\"yyyy年\")&TEXT('教育訓練費入力（今期）'!$C733,\"m月\")&TEXT('教育訓練費入力（今期）'!$C733,\"ｄ日\")&\"から\"&'教育訓練費入力（今期）'!$D733&\"日間\")","v":""},{"$f":"IF('教育訓練費入力（今期）'!$F733=\"\",\"\",IF('教育訓練費入力（今期）'!$G733=1,'教育訓練費入力（今期）'!$F733,'教育訓練費入力（今期）'!$F733&\"他\"&'教育訓練費入力（今期）'!$G733-1&\"名\"))","v":""}]
[null,725,null,null,null,null,null,null,null,null,{"$f":"IF('教育訓練費入力（今期）'!$C734=\"\",\"\",TEXT('教育訓練費入力（今期）'!$C734,\"yyyy年\")&TEXT('教育訓練費入力（今期）'!$C734,\"m月\")&TEXT('教育訓練費入力（今期）'!$C734,\"ｄ日\")&\"から\"&'教育訓練費入力（今期）'!$D734&\"日間\")","v":""},{"$f":"IF('教育訓練費入力（今期）'!$F734=\"\",\"\",IF('教育訓練費入力（今期）'!$G734=1,'教育訓練費入力（今期）'!$F734,'教育訓練費入力（今期）'!$F734&\"他\"&'教育訓練費入力（今期）'!$G734-1&\"名\"))","v":""}]
[null,726,null,null,null,null,null,null,null,null,{"$f":"IF('教育訓練費入力（今期）'!$C735=\"\",\"\",TEXT('教育訓練費入力（今期）'!$C735,\"yyyy年\")&TEXT('教育訓練費入力（今期）'!$C735,\"m月\")&TEXT('教育訓練費入力（今期）'!$C735,\"ｄ日\")&\"から\"&'教育訓練費入力（今期）'!$D735&\"日間\")","v":""},{"$f":"IF('教育訓練費入力（今期）'!$F735=\"\",\"\",IF('教育訓練費入力（今期）'!$G735=1,'教育訓練費入力（今期）'!$F735,'教育訓練費入力（今期）'!$F735&\"他\"&'教育訓練費入力（今期）'!$G735-1&\"名\"))","v":""}]
[null,727,null,null,null,null,null,null,null,null,{"$f":"IF('教育訓練費入力（今期）'!$C736=\"\",\"\",TEXT('教育訓練費入力（今期）'!$C736,\"yyyy年\")&TEXT('教育訓練費入力（今期）'!$C736,\"m月\")&TEXT('教育訓練費入力（今期）'!$C736,\"ｄ日\")&\"から\"&'教育訓練費入力（今期）'!$D736&\"日間\")","v":""},{"$f":"IF('教育訓練費入力（今期）'!$F736=\"\",\"\",IF('教育訓練費入力（今期）'!$G736=1,'教育訓練費入力（今期）'!$F736,'教育訓練費入力（今期）'!$F736&\"他\"&'教育訓練費入力（今期）'!$G736-1&\"名\"))","v":""}]
[null,728,null,null,null,null,null,null,null,null,{"$f":"IF('教育訓練費入力（今期）'!$C737=\"\",\"\",TEXT('教育訓練費入力（今期）'!$C737,\"yyyy年\")&TEXT('教育訓練費入力（今期）'!$C737,\"m月\")&TEXT('教育訓練費入力（今期）'!$C737,\"ｄ日\")&\"から\"&'教育訓練費入力（今期）'!$D737&\"日間\")","v":""},{"$f":"IF('教育訓練費入力（今期）'!$F737=\"\",\"\",IF('教育訓練費入力（今期）'!$G737=1,'教育訓練費入力（今期）'!$F737,'教育訓練費入力（今期）'!$F737&\"他\"&'教育訓練費入力（今期）'!$G737-1&\"名\"))","v":""}]
[null,729,null,null,null,null,null,null,null,null,{"$f":"IF('教育訓練費入力（今期）'!$C738=\"\",\"\",TEXT('教育訓練費入力（今期）'!$C738,\"yyyy年\")&TEXT('教育訓練費入力（今期）'!$C738,\"m月\")&TEXT('教育訓練費入力（今期）'!$C738,\"ｄ日\")&\"から\"&'教育訓練費入力（今期）'!$D738&\"日間\")","v":""},{"$f":"IF('教育訓練費入力（今期）'!$F738=\"\",\"\",IF('教育訓練費入力（今期）'!$G738=1,'教育訓練費入力（今期）'!$F738,'教育訓練費入力（今期）'!$F738&\"他\"&'教育訓練費入力（今期）'!$G738-1&\"名\"))","v":""}]
[null,730,null,null,null,null,null,null,null,null,{"$f":"IF('教育訓練費入力（今期）'!$C739=\"\",\"\",TEXT('教育訓練費入力（今期）'!$C739,\"yyyy年\")&TEXT('教育訓練費入力（今期）'!$C739,\"m月\")&TEXT('教育訓練費入力（今期）'!$C739,\"ｄ日\")&\"から\"&'教育訓練費入力（今期）'!$D739&\"日間\")","v":""},{"$f":"IF('教育訓練費入力（今期）'!$F739=\"\",\"\",IF('教育訓練費入力（今期）'!$G739=1,'教育訓練費入力（今期）'!$F739,'教育訓練費入力（今期）'!$F739&\"他\"&'教育訓練費入力（今期）'!$G739-1&\"名\"))","v":""}]
[null,731,null,null,null,null,null,null,null,null,{"$f":"IF('教育訓練費入力（今期）'!$C740=\"\",\"\",TEXT('教育訓練費入力（今期）'!$C740,\"yyyy年\")&TEXT('教育訓練費入力（今期）'!$C740,\"m月\")&TEXT('教育訓練費入力（今期）'!$C740,\"ｄ日\")&\"から\"&'教育訓練費入力（今期）'!$D740&\"日間\")","v":""},{"$f":"IF('教育訓練費入力（今期）'!$F740=\"\",\"\",IF('教育訓練費入力（今期）'!$G740=1,'教育訓練費入力（今期）'!$F740,'教育訓練費入力（今期）'!$F740&\"他\"&'教育訓練費入力（今期）'!$G740-1&\"名\"))","v":""}]
[null,732,null,null,null,null,null,null,null,null,{"$f":"IF('教育訓練費入力（今期）'!$C741=\"\",\"\",TEXT('教育訓練費入力（今期）'!$C741,\"yyyy年\")&TEXT('教育訓練費入力（今期）'!$C741,\"m月\")&TEXT('教育訓練費入力（今期）'!$C741,\"ｄ日\")&\"から\"&'教育訓練費入力（今期）'!$D741&\"日間\")","v":""},{"$f":"IF('教育訓練費入力（今期）'!$F741=\"\",\"\",IF('教育訓練費入力（今期）'!$G741=1,'教育訓練費入力（今期）'!$F741,'教育訓練費入力（今期）'!$F741&\"他\"&'教育訓練費入力（今期）'!$G741-1&\"名\"))","v":""}]
[null,733,null,null,null,null,null,null,null,null,{"$f":"IF('教育訓練費入力（今期）'!$C742=\"\",\"\",TEXT('教育訓練費入力（今期）'!$C742,\"yyyy年\")&TEXT('教育訓練費入力（今期）'!$C742,\"m月\")&TEXT('教育訓練費入力（今期）'!$C742,\"ｄ日\")&\"から\"&'教育訓練費入力（今期）'!$D742&\"日間\")","v":""},{"$f":"IF('教育訓練費入力（今期）'!$F742=\"\",\"\",IF('教育訓練費入力（今期）'!$G742=1,'教育訓練費入力（今期）'!$F742,'教育訓練費入力（今期）'!$F742&\"他\"&'教育訓練費入力（今期）'!$G742-1&\"名\"))","v":""}]
[null,734,null,null,null,null,null,null,null,null,{"$f":"IF('教育訓練費入力（今期）'!$C743=\"\",\"\",TEXT('教育訓練費入力（今期）'!$C743,\"yyyy年\")&TEXT('教育訓練費入力（今期）'!$C743,\"m月\")&TEXT('教育訓練費入力（今期）'!$C743,\"ｄ日\")&\"から\"&'教育訓練費入力（今期）'!$D743&\"日間\")","v":""},{"$f":"IF('教育訓練費入力（今期）'!$F743=\"\",\"\",IF('教育訓練費入力（今期）'!$G743=1,'教育訓練費入力（今期）'!$F743,'教育訓練費入力（今期）'!$F743&\"他\"&'教育訓練費入力（今期）'!$G743-1&\"名\"))","v":""}]
[null,735,null,null,null,null,null,null,null,null,{"$f":"IF('教育訓練費入力（今期）'!$C744=\"\",\"\",TEXT('教育訓練費入力（今期）'!$C744,\"yyyy年\")&TEXT('教育訓練費入力（今期）'!$C744,\"m月\")&TEXT('教育訓練費入力（今期）'!$C744,\"ｄ日\")&\"から\"&'教育訓練費入力（今期）'!$D744&\"日間\")","v":""},{"$f":"IF('教育訓練費入力（今期）'!$F744=\"\",\"\",IF('教育訓練費入力（今期）'!$G744=1,'教育訓練費入力（今期）'!$F744,'教育訓練費入力（今期）'!$F744&\"他\"&'教育訓練費入力（今期）'!$G744-1&\"名\"))","v":""}]
[null,736,null,null,null,null,null,null,null,null,{"$f":"IF('教育訓練費入力（今期）'!$C745=\"\",\"\",TEXT('教育訓練費入力（今期）'!$C745,\"yyyy年\")&TEXT('教育訓練費入力（今期）'!$C745,\"m月\")&TEXT('教育訓練費入力（今期）'!$C745,\"ｄ日\")&\"から\"&'教育訓練費入力（今期）'!$D745&\"日間\")","v":""},{"$f":"IF('教育訓練費入力（今期）'!$F745=\"\",\"\",IF('教育訓練費入力（今期）'!$G745=1,'教育訓練費入力（今期）'!$F745,'教育訓練費入力（今期）'!$F745&\"他\"&'教育訓練費入力（今期）'!$G745-1&\"名\"))","v":""}]
[null,737,null,null,null,null,null,null,null,null,{"$f":"IF('教育訓練費入力（今期）'!$C746=\"\",\"\",TEXT('教育訓練費入力（今期）'!$C746,\"yyyy年\")&TEXT('教育訓練費入力（今期）'!$C746,\"m月\")&TEXT('教育訓練費入力（今期）'!$C746,\"ｄ日\")&\"から\"&'教育訓練費入力（今期）'!$D746&\"日間\")","v":""},{"$f":"IF('教育訓練費入力（今期）'!$F746=\"\",\"\",IF('教育訓練費入力（今期）'!$G746=1,'教育訓練費入力（今期）'!$F746,'教育訓練費入力（今期）'!$F746&\"他\"&'教育訓練費入力（今期）'!$G746-1&\"名\"))","v":""}]
[null,738,null,null,null,null,null,null,null,null,{"$f":"IF('教育訓練費入力（今期）'!$C747=\"\",\"\",TEXT('教育訓練費入力（今期）'!$C747,\"yyyy年\")&TEXT('教育訓練費入力（今期）'!$C747,\"m月\")&TEXT('教育訓練費入力（今期）'!$C747,\"ｄ日\")&\"から\"&'教育訓練費入力（今期）'!$D747&\"日間\")","v":""},{"$f":"IF('教育訓練費入力（今期）'!$F747=\"\",\"\",IF('教育訓練費入力（今期）'!$G747=1,'教育訓練費入力（今期）'!$F747,'教育訓練費入力（今期）'!$F747&\"他\"&'教育訓練費入力（今期）'!$G747-1&\"名\"))","v":""}]
[null,739,null,null,null,null,null,null,null,null,{"$f":"IF('教育訓練費入力（今期）'!$C748=\"\",\"\",TEXT('教育訓練費入力（今期）'!$C748,\"yyyy年\")&TEXT('教育訓練費入力（今期）'!$C748,\"m月\")&TEXT('教育訓練費入力（今期）'!$C748,\"ｄ日\")&\"から\"&'教育訓練費入力（今期）'!$D748&\"日間\")","v":""},{"$f":"IF('教育訓練費入力（今期）'!$F748=\"\",\"\",IF('教育訓練費入力（今期）'!$G748=1,'教育訓練費入力（今期）'!$F748,'教育訓練費入力（今期）'!$F748&\"他\"&'教育訓練費入力（今期）'!$G748-1&\"名\"))","v":""}]
[null,740,null,null,null,null,null,null,null,null,{"$f":"IF('教育訓練費入力（今期）'!$C749=\"\",\"\",TEXT('教育訓練費入力（今期）'!$C749,\"yyyy年\")&TEXT('教育訓練費入力（今期）'!$C749,\"m月\")&TEXT('教育訓練費入力（今期）'!$C749,\"ｄ日\")&\"から\"&'教育訓練費入力（今期）'!$D749&\"日間\")","v":""},{"$f":"IF('教育訓練費入力（今期）'!$F749=\"\",\"\",IF('教育訓練費入力（今期）'!$G749=1,'教育訓練費入力（今期）'!$F749,'教育訓練費入力（今期）'!$F749&\"他\"&'教育訓練費入力（今期）'!$G749-1&\"名\"))","v":""}]
[null,741,null,null,null,null,null,null,null,null,{"$f":"IF('教育訓練費入力（今期）'!$C750=\"\",\"\",TEXT('教育訓練費入力（今期）'!$C750,\"yyyy年\")&TEXT('教育訓練費入力（今期）'!$C750,\"m月\")&TEXT('教育訓練費入力（今期）'!$C750,\"ｄ日\")&\"から\"&'教育訓練費入力（今期）'!$D750&\"日間\")","v":""},{"$f":"IF('教育訓練費入力（今期）'!$F750=\"\",\"\",IF('教育訓練費入力（今期）'!$G750=1,'教育訓練費入力（今期）'!$F750,'教育訓練費入力（今期）'!$F750&\"他\"&'教育訓練費入力（今期）'!$G750-1&\"名\"))","v":""}]
[null,742,null,null,null,null,null,null,null,null,{"$f":"IF('教育訓練費入力（今期）'!$C751=\"\",\"\",TEXT('教育訓練費入力（今期）'!$C751,\"yyyy年\")&TEXT('教育訓練費入力（今期）'!$C751,\"m月\")&TEXT('教育訓練費入力（今期）'!$C751,\"ｄ日\")&\"から\"&'教育訓練費入力（今期）'!$D751&\"日間\")","v":""},{"$f":"IF('教育訓練費入力（今期）'!$F751=\"\",\"\",IF('教育訓練費入力（今期）'!$G751=1,'教育訓練費入力（今期）'!$F751,'教育訓練費入力（今期）'!$F751&\"他\"&'教育訓練費入力（今期）'!$G751-1&\"名\"))","v":""}]
[null,743,null,null,null,null,null,null,null,null,{"$f":"IF('教育訓練費入力（今期）'!$C752=\"\",\"\",TEXT('教育訓練費入力（今期）'!$C752,\"yyyy年\")&TEXT('教育訓練費入力（今期）'!$C752,\"m月\")&TEXT('教育訓練費入力（今期）'!$C752,\"ｄ日\")&\"から\"&'教育訓練費入力（今期）'!$D752&\"日間\")","v":""},{"$f":"IF('教育訓練費入力（今期）'!$F752=\"\",\"\",IF('教育訓練費入力（今期）'!$G752=1,'教育訓練費入力（今期）'!$F752,'教育訓練費入力（今期）'!$F752&\"他\"&'教育訓練費入力（今期）'!$G752-1&\"名\"))","v":""}]
[null,744,null,null,null,null,null,null,null,null,{"$f":"IF('教育訓練費入力（今期）'!$C753=\"\",\"\",TEXT('教育訓練費入力（今期）'!$C753,\"yyyy年\")&TEXT('教育訓練費入力（今期）'!$C753,\"m月\")&TEXT('教育訓練費入力（今期）'!$C753,\"ｄ日\")&\"から\"&'教育訓練費入力（今期）'!$D753&\"日間\")","v":""},{"$f":"IF('教育訓練費入力（今期）'!$F753=\"\",\"\",IF('教育訓練費入力（今期）'!$G753=1,'教育訓練費入力（今期）'!$F753,'教育訓練費入力（今期）'!$F753&\"他\"&'教育訓練費入力（今期）'!$G753-1&\"名\"))","v":""}]
[null,745,null,null,null,null,null,null,null,null,{"$f":"IF('教育訓練費入力（今期）'!$C754=\"\",\"\",TEXT('教育訓練費入力（今期）'!$C754,\"yyyy年\")&TEXT('教育訓練費入力（今期）'!$C754,\"m月\")&TEXT('教育訓練費入力（今期）'!$C754,\"ｄ日\")&\"から\"&'教育訓練費入力（今期）'!$D754&\"日間\")","v":""},{"$f":"IF('教育訓練費入力（今期）'!$F754=\"\",\"\",IF('教育訓練費入力（今期）'!$G754=1,'教育訓練費入力（今期）'!$F754,'教育訓練費入力（今期）'!$F754&\"他\"&'教育訓練費入力（今期）'!$G754-1&\"名\"))","v":""}]
[null,746,null,null,null,null,null,null,null,null,{"$f":"IF('教育訓練費入力（今期）'!$C755=\"\",\"\",TEXT('教育訓練費入力（今期）'!$C755,\"yyyy年\")&TEXT('教育訓練費入力（今期）'!$C755,\"m月\")&TEXT('教育訓練費入力（今期）'!$C755,\"ｄ日\")&\"から\"&'教育訓練費入力（今期）'!$D755&\"日間\")","v":""},{"$f":"IF('教育訓練費入力（今期）'!$F755=\"\",\"\",IF('教育訓練費入力（今期）'!$G755=1,'教育訓練費入力（今期）'!$F755,'教育訓練費入力（今期）'!$F755&\"他\"&'教育訓練費入力（今期）'!$G755-1&\"名\"))","v":""}]
[null,747,null,null,null,null,null,null,null,null,{"$f":"IF('教育訓練費入力（今期）'!$C756=\"\",\"\",TEXT('教育訓練費入力（今期）'!$C756,\"yyyy年\")&TEXT('教育訓練費入力（今期）'!$C756,\"m月\")&TEXT('教育訓練費入力（今期）'!$C756,\"ｄ日\")&\"から\"&'教育訓練費入力（今期）'!$D756&\"日間\")","v":""},{"$f":"IF('教育訓練費入力（今期）'!$F756=\"\",\"\",IF('教育訓練費入力（今期）'!$G756=1,'教育訓練費入力（今期）'!$F756,'教育訓練費入力（今期）'!$F756&\"他\"&'教育訓練費入力（今期）'!$G756-1&\"名\"))","v":""}]
[null,748,null,null,null,null,null,null,null,null,{"$f":"IF('教育訓練費入力（今期）'!$C757=\"\",\"\",TEXT('教育訓練費入力（今期）'!$C757,\"yyyy年\")&TEXT('教育訓練費入力（今期）'!$C757,\"m月\")&TEXT('教育訓練費入力（今期）'!$C757,\"ｄ日\")&\"から\"&'教育訓練費入力（今期）'!$D757&\"日間\")","v":""},{"$f":"IF('教育訓練費入力（今期）'!$F757=\"\",\"\",IF('教育訓練費入力（今期）'!$G757=1,'教育訓練費入力（今期）'!$F757,'教育訓練費入力（今期）'!$F757&\"他\"&'教育訓練費入力（今期）'!$G757-1&\"名\"))","v":""}]
[null,749,null,null,null,null,null,null,null,null,{"$f":"IF('教育訓練費入力（今期）'!$C758=\"\",\"\",TEXT('教育訓練費入力（今期）'!$C758,\"yyyy年\")&TEXT('教育訓練費入力（今期）'!$C758,\"m月\")&TEXT('教育訓練費入力（今期）'!$C758,\"ｄ日\")&\"から\"&'教育訓練費入力（今期）'!$D758&\"日間\")","v":""},{"$f":"IF('教育訓練費入力（今期）'!$F758=\"\",\"\",IF('教育訓練費入力（今期）'!$G758=1,'教育訓練費入力（今期）'!$F758,'教育訓練費入力（今期）'!$F758&\"他\"&'教育訓練費入力（今期）'!$G758-1&\"名\"))","v":""}]
[null,750,null,null,null,null,null,null,null,null,{"$f":"IF('教育訓練費入力（今期）'!$C759=\"\",\"\",TEXT('教育訓練費入力（今期）'!$C759,\"yyyy年\")&TEXT('教育訓練費入力（今期）'!$C759,\"m月\")&TEXT('教育訓練費入力（今期）'!$C759,\"ｄ日\")&\"から\"&'教育訓練費入力（今期）'!$D759&\"日間\")","v":""},{"$f":"IF('教育訓練費入力（今期）'!$F759=\"\",\"\",IF('教育訓練費入力（今期）'!$G759=1,'教育訓練費入力（今期）'!$F759,'教育訓練費入力（今期）'!$F759&\"他\"&'教育訓練費入力（今期）'!$G759-1&\"名\"))","v":""}]
[null,751,null,null,null,null,null,null,null,null,{"$f":"IF('教育訓練費入力（今期）'!$C760=\"\",\"\",TEXT('教育訓練費入力（今期）'!$C760,\"yyyy年\")&TEXT('教育訓練費入力（今期）'!$C760,\"m月\")&TEXT('教育訓練費入力（今期）'!$C760,\"ｄ日\")&\"から\"&'教育訓練費入力（今期）'!$D760&\"日間\")","v":""},{"$f":"IF('教育訓練費入力（今期）'!$F760=\"\",\"\",IF('教育訓練費入力（今期）'!$G760=1,'教育訓練費入力（今期）'!$F760,'教育訓練費入力（今期）'!$F760&\"他\"&'教育訓練費入力（今期）'!$G760-1&\"名\"))","v":""}]
[null,752,null,null,null,null,null,null,null,null,{"$f":"IF('教育訓練費入力（今期）'!$C761=\"\",\"\",TEXT('教育訓練費入力（今期）'!$C761,\"yyyy年\")&TEXT('教育訓練費入力（今期）'!$C761,\"m月\")&TEXT('教育訓練費入力（今期）'!$C761,\"ｄ日\")&\"から\"&'教育訓練費入力（今期）'!$D761&\"日間\")","v":""},{"$f":"IF('教育訓練費入力（今期）'!$F761=\"\",\"\",IF('教育訓練費入力（今期）'!$G761=1,'教育訓練費入力（今期）'!$F761,'教育訓練費入力（今期）'!$F761&\"他\"&'教育訓練費入力（今期）'!$G761-1&\"名\"))","v":""}]
[null,753,null,null,null,null,null,null,null,null,{"$f":"IF('教育訓練費入力（今期）'!$C762=\"\",\"\",TEXT('教育訓練費入力（今期）'!$C762,\"yyyy年\")&TEXT('教育訓練費入力（今期）'!$C762,\"m月\")&TEXT('教育訓練費入力（今期）'!$C762,\"ｄ日\")&\"から\"&'教育訓練費入力（今期）'!$D762&\"日間\")","v":""},{"$f":"IF('教育訓練費入力（今期）'!$F762=\"\",\"\",IF('教育訓練費入力（今期）'!$G762=1,'教育訓練費入力（今期）'!$F762,'教育訓練費入力（今期）'!$F762&\"他\"&'教育訓練費入力（今期）'!$G762-1&\"名\"))","v":""}]
[null,754,null,null,null,null,null,null,null,null,{"$f":"IF('教育訓練費入力（今期）'!$C763=\"\",\"\",TEXT('教育訓練費入力（今期）'!$C763,\"yyyy年\")&TEXT('教育訓練費入力（今期）'!$C763,\"m月\")&TEXT('教育訓練費入力（今期）'!$C763,\"ｄ日\")&\"から\"&'教育訓練費入力（今期）'!$D763&\"日間\")","v":""},{"$f":"IF('教育訓練費入力（今期）'!$F763=\"\",\"\",IF('教育訓練費入力（今期）'!$G763=1,'教育訓練費入力（今期）'!$F763,'教育訓練費入力（今期）'!$F763&\"他\"&'教育訓練費入力（今期）'!$G763-1&\"名\"))","v":""}]
[null,755,null,null,null,null,null,null,null,null,{"$f":"IF('教育訓練費入力（今期）'!$C764=\"\",\"\",TEXT('教育訓練費入力（今期）'!$C764,\"yyyy年\")&TEXT('教育訓練費入力（今期）'!$C764,\"m月\")&TEXT('教育訓練費入力（今期）'!$C764,\"ｄ日\")&\"から\"&'教育訓練費入力（今期）'!$D764&\"日間\")","v":""},{"$f":"IF('教育訓練費入力（今期）'!$F764=\"\",\"\",IF('教育訓練費入力（今期）'!$G764=1,'教育訓練費入力（今期）'!$F764,'教育訓練費入力（今期）'!$F764&\"他\"&'教育訓練費入力（今期）'!$G764-1&\"名\"))","v":""}]
[null,756,null,null,null,null,null,null,null,null,{"$f":"IF('教育訓練費入力（今期）'!$C765=\"\",\"\",TEXT('教育訓練費入力（今期）'!$C765,\"yyyy年\")&TEXT('教育訓練費入力（今期）'!$C765,\"m月\")&TEXT('教育訓練費入力（今期）'!$C765,\"ｄ日\")&\"から\"&'教育訓練費入力（今期）'!$D765&\"日間\")","v":""},{"$f":"IF('教育訓練費入力（今期）'!$F765=\"\",\"\",IF('教育訓練費入力（今期）'!$G765=1,'教育訓練費入力（今期）'!$F765,'教育訓練費入力（今期）'!$F765&\"他\"&'教育訓練費入力（今期）'!$G765-1&\"名\"))","v":""}]
[null,757,null,null,null,null,null,null,null,null,{"$f":"IF('教育訓練費入力（今期）'!$C766=\"\",\"\",TEXT('教育訓練費入力（今期）'!$C766,\"yyyy年\")&TEXT('教育訓練費入力（今期）'!$C766,\"m月\")&TEXT('教育訓練費入力（今期）'!$C766,\"ｄ日\")&\"から\"&'教育訓練費入力（今期）'!$D766&\"日間\")","v":""},{"$f":"IF('教育訓練費入力（今期）'!$F766=\"\",\"\",IF('教育訓練費入力（今期）'!$G766=1,'教育訓練費入力（今期）'!$F766,'教育訓練費入力（今期）'!$F766&\"他\"&'教育訓練費入力（今期）'!$G766-1&\"名\"))","v":""}]
[null,758,null,null,null,null,null,null,null,null,{"$f":"IF('教育訓練費入力（今期）'!$C767=\"\",\"\",TEXT('教育訓練費入力（今期）'!$C767,\"yyyy年\")&TEXT('教育訓練費入力（今期）'!$C767,\"m月\")&TEXT('教育訓練費入力（今期）'!$C767,\"ｄ日\")&\"から\"&'教育訓練費入力（今期）'!$D767&\"日間\")","v":""},{"$f":"IF('教育訓練費入力（今期）'!$F767=\"\",\"\",IF('教育訓練費入力（今期）'!$G767=1,'教育訓練費入力（今期）'!$F767,'教育訓練費入力（今期）'!$F767&\"他\"&'教育訓練費入力（今期）'!$G767-1&\"名\"))","v":""}]
[null,759,null,null,null,null,null,null,null,null,{"$f":"IF('教育訓練費入力（今期）'!$C768=\"\",\"\",TEXT('教育訓練費入力（今期）'!$C768,\"yyyy年\")&TEXT('教育訓練費入力（今期）'!$C768,\"m月\")&TEXT('教育訓練費入力（今期）'!$C768,\"ｄ日\")&\"から\"&'教育訓練費入力（今期）'!$D768&\"日間\")","v":""},{"$f":"IF('教育訓練費入力（今期）'!$F768=\"\",\"\",IF('教育訓練費入力（今期）'!$G768=1,'教育訓練費入力（今期）'!$F768,'教育訓練費入力（今期）'!$F768&\"他\"&'教育訓練費入力（今期）'!$G768-1&\"名\"))","v":""}]
[null,760,null,null,null,null,null,null,null,null,{"$f":"IF('教育訓練費入力（今期）'!$C769=\"\",\"\",TEXT('教育訓練費入力（今期）'!$C769,\"yyyy年\")&TEXT('教育訓練費入力（今期）'!$C769,\"m月\")&TEXT('教育訓練費入力（今期）'!$C769,\"ｄ日\")&\"から\"&'教育訓練費入力（今期）'!$D769&\"日間\")","v":""},{"$f":"IF('教育訓練費入力（今期）'!$F769=\"\",\"\",IF('教育訓練費入力（今期）'!$G769=1,'教育訓練費入力（今期）'!$F769,'教育訓練費入力（今期）'!$F769&\"他\"&'教育訓練費入力（今期）'!$G769-1&\"名\"))","v":""}]
[null,761,null,null,null,null,null,null,null,null,{"$f":"IF('教育訓練費入力（今期）'!$C770=\"\",\"\",TEXT('教育訓練費入力（今期）'!$C770,\"yyyy年\")&TEXT('教育訓練費入力（今期）'!$C770,\"m月\")&TEXT('教育訓練費入力（今期）'!$C770,\"ｄ日\")&\"から\"&'教育訓練費入力（今期）'!$D770&\"日間\")","v":""},{"$f":"IF('教育訓練費入力（今期）'!$F770=\"\",\"\",IF('教育訓練費入力（今期）'!$G770=1,'教育訓練費入力（今期）'!$F770,'教育訓練費入力（今期）'!$F770&\"他\"&'教育訓練費入力（今期）'!$G770-1&\"名\"))","v":""}]
[null,762,null,null,null,null,null,null,null,null,{"$f":"IF('教育訓練費入力（今期）'!$C771=\"\",\"\",TEXT('教育訓練費入力（今期）'!$C771,\"yyyy年\")&TEXT('教育訓練費入力（今期）'!$C771,\"m月\")&TEXT('教育訓練費入力（今期）'!$C771,\"ｄ日\")&\"から\"&'教育訓練費入力（今期）'!$D771&\"日間\")","v":""},{"$f":"IF('教育訓練費入力（今期）'!$F771=\"\",\"\",IF('教育訓練費入力（今期）'!$G771=1,'教育訓練費入力（今期）'!$F771,'教育訓練費入力（今期）'!$F771&\"他\"&'教育訓練費入力（今期）'!$G771-1&\"名\"))","v":""}]
[null,763,null,null,null,null,null,null,null,null,{"$f":"IF('教育訓練費入力（今期）'!$C772=\"\",\"\",TEXT('教育訓練費入力（今期）'!$C772,\"yyyy年\")&TEXT('教育訓練費入力（今期）'!$C772,\"m月\")&TEXT('教育訓練費入力（今期）'!$C772,\"ｄ日\")&\"から\"&'教育訓練費入力（今期）'!$D772&\"日間\")","v":""},{"$f":"IF('教育訓練費入力（今期）'!$F772=\"\",\"\",IF('教育訓練費入力（今期）'!$G772=1,'教育訓練費入力（今期）'!$F772,'教育訓練費入力（今期）'!$F772&\"他\"&'教育訓練費入力（今期）'!$G772-1&\"名\"))","v":""}]
[null,764,null,null,null,null,null,null,null,null,{"$f":"IF('教育訓練費入力（今期）'!$C773=\"\",\"\",TEXT('教育訓練費入力（今期）'!$C773,\"yyyy年\")&TEXT('教育訓練費入力（今期）'!$C773,\"m月\")&TEXT('教育訓練費入力（今期）'!$C773,\"ｄ日\")&\"から\"&'教育訓練費入力（今期）'!$D773&\"日間\")","v":""},{"$f":"IF('教育訓練費入力（今期）'!$F773=\"\",\"\",IF('教育訓練費入力（今期）'!$G773=1,'教育訓練費入力（今期）'!$F773,'教育訓練費入力（今期）'!$F773&\"他\"&'教育訓練費入力（今期）'!$G773-1&\"名\"))","v":""}]
[null,765,null,null,null,null,null,null,null,null,{"$f":"IF('教育訓練費入力（今期）'!$C774=\"\",\"\",TEXT('教育訓練費入力（今期）'!$C774,\"yyyy年\")&TEXT('教育訓練費入力（今期）'!$C774,\"m月\")&TEXT('教育訓練費入力（今期）'!$C774,\"ｄ日\")&\"から\"&'教育訓練費入力（今期）'!$D774&\"日間\")","v":""},{"$f":"IF('教育訓練費入力（今期）'!$F774=\"\",\"\",IF('教育訓練費入力（今期）'!$G774=1,'教育訓練費入力（今期）'!$F774,'教育訓練費入力（今期）'!$F774&\"他\"&'教育訓練費入力（今期）'!$G774-1&\"名\"))","v":""}]
[null,766,null,null,null,null,null,null,null,null,{"$f":"IF('教育訓練費入力（今期）'!$C775=\"\",\"\",TEXT('教育訓練費入力（今期）'!$C775,\"yyyy年\")&TEXT('教育訓練費入力（今期）'!$C775,\"m月\")&TEXT('教育訓練費入力（今期）'!$C775,\"ｄ日\")&\"から\"&'教育訓練費入力（今期）'!$D775&\"日間\")","v":""},{"$f":"IF('教育訓練費入力（今期）'!$F775=\"\",\"\",IF('教育訓練費入力（今期）'!$G775=1,'教育訓練費入力（今期）'!$F775,'教育訓練費入力（今期）'!$F775&\"他\"&'教育訓練費入力（今期）'!$G775-1&\"名\"))","v":""}]
[null,767,null,null,null,null,null,null,null,null,{"$f":"IF('教育訓練費入力（今期）'!$C776=\"\",\"\",TEXT('教育訓練費入力（今期）'!$C776,\"yyyy年\")&TEXT('教育訓練費入力（今期）'!$C776,\"m月\")&TEXT('教育訓練費入力（今期）'!$C776,\"ｄ日\")&\"から\"&'教育訓練費入力（今期）'!$D776&\"日間\")","v":""},{"$f":"IF('教育訓練費入力（今期）'!$F776=\"\",\"\",IF('教育訓練費入力（今期）'!$G776=1,'教育訓練費入力（今期）'!$F776,'教育訓練費入力（今期）'!$F776&\"他\"&'教育訓練費入力（今期）'!$G776-1&\"名\"))","v":""}]
[null,768,null,null,null,null,null,null,null,null,{"$f":"IF('教育訓練費入力（今期）'!$C777=\"\",\"\",TEXT('教育訓練費入力（今期）'!$C777,\"yyyy年\")&TEXT('教育訓練費入力（今期）'!$C777,\"m月\")&TEXT('教育訓練費入力（今期）'!$C777,\"ｄ日\")&\"から\"&'教育訓練費入力（今期）'!$D777&\"日間\")","v":""},{"$f":"IF('教育訓練費入力（今期）'!$F777=\"\",\"\",IF('教育訓練費入力（今期）'!$G777=1,'教育訓練費入力（今期）'!$F777,'教育訓練費入力（今期）'!$F777&\"他\"&'教育訓練費入力（今期）'!$G777-1&\"名\"))","v":""}]
[null,769,null,null,null,null,null,null,null,null,{"$f":"IF('教育訓練費入力（今期）'!$C778=\"\",\"\",TEXT('教育訓練費入力（今期）'!$C778,\"yyyy年\")&TEXT('教育訓練費入力（今期）'!$C778,\"m月\")&TEXT('教育訓練費入力（今期）'!$C778,\"ｄ日\")&\"から\"&'教育訓練費入力（今期）'!$D778&\"日間\")","v":""},{"$f":"IF('教育訓練費入力（今期）'!$F778=\"\",\"\",IF('教育訓練費入力（今期）'!$G778=1,'教育訓練費入力（今期）'!$F778,'教育訓練費入力（今期）'!$F778&\"他\"&'教育訓練費入力（今期）'!$G778-1&\"名\"))","v":""}]
[null,770,null,null,null,null,null,null,null,null,{"$f":"IF('教育訓練費入力（今期）'!$C779=\"\",\"\",TEXT('教育訓練費入力（今期）'!$C779,\"yyyy年\")&TEXT('教育訓練費入力（今期）'!$C779,\"m月\")&TEXT('教育訓練費入力（今期）'!$C779,\"ｄ日\")&\"から\"&'教育訓練費入力（今期）'!$D779&\"日間\")","v":""},{"$f":"IF('教育訓練費入力（今期）'!$F779=\"\",\"\",IF('教育訓練費入力（今期）'!$G779=1,'教育訓練費入力（今期）'!$F779,'教育訓練費入力（今期）'!$F779&\"他\"&'教育訓練費入力（今期）'!$G779-1&\"名\"))","v":""}]
[null,771,null,null,null,null,null,null,null,null,{"$f":"IF('教育訓練費入力（今期）'!$C780=\"\",\"\",TEXT('教育訓練費入力（今期）'!$C780,\"yyyy年\")&TEXT('教育訓練費入力（今期）'!$C780,\"m月\")&TEXT('教育訓練費入力（今期）'!$C780,\"ｄ日\")&\"から\"&'教育訓練費入力（今期）'!$D780&\"日間\")","v":""},{"$f":"IF('教育訓練費入力（今期）'!$F780=\"\",\"\",IF('教育訓練費入力（今期）'!$G780=1,'教育訓練費入力（今期）'!$F780,'教育訓練費入力（今期）'!$F780&\"他\"&'教育訓練費入力（今期）'!$G780-1&\"名\"))","v":""}]
[null,772,null,null,null,null,null,null,null,null,{"$f":"IF('教育訓練費入力（今期）'!$C781=\"\",\"\",TEXT('教育訓練費入力（今期）'!$C781,\"yyyy年\")&TEXT('教育訓練費入力（今期）'!$C781,\"m月\")&TEXT('教育訓練費入力（今期）'!$C781,\"ｄ日\")&\"から\"&'教育訓練費入力（今期）'!$D781&\"日間\")","v":""},{"$f":"IF('教育訓練費入力（今期）'!$F781=\"\",\"\",IF('教育訓練費入力（今期）'!$G781=1,'教育訓練費入力（今期）'!$F781,'教育訓練費入力（今期）'!$F781&\"他\"&'教育訓練費入力（今期）'!$G781-1&\"名\"))","v":""}]
[null,773,null,null,null,null,null,null,null,null,{"$f":"IF('教育訓練費入力（今期）'!$C782=\"\",\"\",TEXT('教育訓練費入力（今期）'!$C782,\"yyyy年\")&TEXT('教育訓練費入力（今期）'!$C782,\"m月\")&TEXT('教育訓練費入力（今期）'!$C782,\"ｄ日\")&\"から\"&'教育訓練費入力（今期）'!$D782&\"日間\")","v":""},{"$f":"IF('教育訓練費入力（今期）'!$F782=\"\",\"\",IF('教育訓練費入力（今期）'!$G782=1,'教育訓練費入力（今期）'!$F782,'教育訓練費入力（今期）'!$F782&\"他\"&'教育訓練費入力（今期）'!$G782-1&\"名\"))","v":""}]
[null,774,null,null,null,null,null,null,null,null,{"$f":"IF('教育訓練費入力（今期）'!$C783=\"\",\"\",TEXT('教育訓練費入力（今期）'!$C783,\"yyyy年\")&TEXT('教育訓練費入力（今期）'!$C783,\"m月\")&TEXT('教育訓練費入力（今期）'!$C783,\"ｄ日\")&\"から\"&'教育訓練費入力（今期）'!$D783&\"日間\")","v":""},{"$f":"IF('教育訓練費入力（今期）'!$F783=\"\",\"\",IF('教育訓練費入力（今期）'!$G783=1,'教育訓練費入力（今期）'!$F783,'教育訓練費入力（今期）'!$F783&\"他\"&'教育訓練費入力（今期）'!$G783-1&\"名\"))","v":""}]
[null,775,null,null,null,null,null,null,null,null,{"$f":"IF('教育訓練費入力（今期）'!$C784=\"\",\"\",TEXT('教育訓練費入力（今期）'!$C784,\"yyyy年\")&TEXT('教育訓練費入力（今期）'!$C784,\"m月\")&TEXT('教育訓練費入力（今期）'!$C784,\"ｄ日\")&\"から\"&'教育訓練費入力（今期）'!$D784&\"日間\")","v":""},{"$f":"IF('教育訓練費入力（今期）'!$F784=\"\",\"\",IF('教育訓練費入力（今期）'!$G784=1,'教育訓練費入力（今期）'!$F784,'教育訓練費入力（今期）'!$F784&\"他\"&'教育訓練費入力（今期）'!$G784-1&\"名\"))","v":""}]
[null,776,null,null,null,null,null,null,null,null,{"$f":"IF('教育訓練費入力（今期）'!$C785=\"\",\"\",TEXT('教育訓練費入力（今期）'!$C785,\"yyyy年\")&TEXT('教育訓練費入力（今期）'!$C785,\"m月\")&TEXT('教育訓練費入力（今期）'!$C785,\"ｄ日\")&\"から\"&'教育訓練費入力（今期）'!$D785&\"日間\")","v":""},{"$f":"IF('教育訓練費入力（今期）'!$F785=\"\",\"\",IF('教育訓練費入力（今期）'!$G785=1,'教育訓練費入力（今期）'!$F785,'教育訓練費入力（今期）'!$F785&\"他\"&'教育訓練費入力（今期）'!$G785-1&\"名\"))","v":""}]
[null,777,null,null,null,null,null,null,null,null,{"$f":"IF('教育訓練費入力（今期）'!$C786=\"\",\"\",TEXT('教育訓練費入力（今期）'!$C786,\"yyyy年\")&TEXT('教育訓練費入力（今期）'!$C786,\"m月\")&TEXT('教育訓練費入力（今期）'!$C786,\"ｄ日\")&\"から\"&'教育訓練費入力（今期）'!$D786&\"日間\")","v":""},{"$f":"IF('教育訓練費入力（今期）'!$F786=\"\",\"\",IF('教育訓練費入力（今期）'!$G786=1,'教育訓練費入力（今期）'!$F786,'教育訓練費入力（今期）'!$F786&\"他\"&'教育訓練費入力（今期）'!$G786-1&\"名\"))","v":""}]
[null,778,null,null,null,null,null,null,null,null,{"$f":"IF('教育訓練費入力（今期）'!$C787=\"\",\"\",TEXT('教育訓練費入力（今期）'!$C787,\"yyyy年\")&TEXT('教育訓練費入力（今期）'!$C787,\"m月\")&TEXT('教育訓練費入力（今期）'!$C787,\"ｄ日\")&\"から\"&'教育訓練費入力（今期）'!$D787&\"日間\")","v":""},{"$f":"IF('教育訓練費入力（今期）'!$F787=\"\",\"\",IF('教育訓練費入力（今期）'!$G787=1,'教育訓練費入力（今期）'!$F787,'教育訓練費入力（今期）'!$F787&\"他\"&'教育訓練費入力（今期）'!$G787-1&\"名\"))","v":""}]
[null,779,null,null,null,null,null,null,null,null,{"$f":"IF('教育訓練費入力（今期）'!$C788=\"\",\"\",TEXT('教育訓練費入力（今期）'!$C788,\"yyyy年\")&TEXT('教育訓練費入力（今期）'!$C788,\"m月\")&TEXT('教育訓練費入力（今期）'!$C788,\"ｄ日\")&\"から\"&'教育訓練費入力（今期）'!$D788&\"日間\")","v":""},{"$f":"IF('教育訓練費入力（今期）'!$F788=\"\",\"\",IF('教育訓練費入力（今期）'!$G788=1,'教育訓練費入力（今期）'!$F788,'教育訓練費入力（今期）'!$F788&\"他\"&'教育訓練費入力（今期）'!$G788-1&\"名\"))","v":""}]
[null,780,null,null,null,null,null,null,null,null,{"$f":"IF('教育訓練費入力（今期）'!$C789=\"\",\"\",TEXT('教育訓練費入力（今期）'!$C789,\"yyyy年\")&TEXT('教育訓練費入力（今期）'!$C789,\"m月\")&TEXT('教育訓練費入力（今期）'!$C789,\"ｄ日\")&\"から\"&'教育訓練費入力（今期）'!$D789&\"日間\")","v":""},{"$f":"IF('教育訓練費入力（今期）'!$F789=\"\",\"\",IF('教育訓練費入力（今期）'!$G789=1,'教育訓練費入力（今期）'!$F789,'教育訓練費入力（今期）'!$F789&\"他\"&'教育訓練費入力（今期）'!$G789-1&\"名\"))","v":""}]
[null,781,null,null,null,null,null,null,null,null,{"$f":"IF('教育訓練費入力（今期）'!$C790=\"\",\"\",TEXT('教育訓練費入力（今期）'!$C790,\"yyyy年\")&TEXT('教育訓練費入力（今期）'!$C790,\"m月\")&TEXT('教育訓練費入力（今期）'!$C790,\"ｄ日\")&\"から\"&'教育訓練費入力（今期）'!$D790&\"日間\")","v":""},{"$f":"IF('教育訓練費入力（今期）'!$F790=\"\",\"\",IF('教育訓練費入力（今期）'!$G790=1,'教育訓練費入力（今期）'!$F790,'教育訓練費入力（今期）'!$F790&\"他\"&'教育訓練費入力（今期）'!$G790-1&\"名\"))","v":""}]
[null,782,null,null,null,null,null,null,null,null,{"$f":"IF('教育訓練費入力（今期）'!$C791=\"\",\"\",TEXT('教育訓練費入力（今期）'!$C791,\"yyyy年\")&TEXT('教育訓練費入力（今期）'!$C791,\"m月\")&TEXT('教育訓練費入力（今期）'!$C791,\"ｄ日\")&\"から\"&'教育訓練費入力（今期）'!$D791&\"日間\")","v":""},{"$f":"IF('教育訓練費入力（今期）'!$F791=\"\",\"\",IF('教育訓練費入力（今期）'!$G791=1,'教育訓練費入力（今期）'!$F791,'教育訓練費入力（今期）'!$F791&\"他\"&'教育訓練費入力（今期）'!$G791-1&\"名\"))","v":""}]
[null,783,null,null,null,null,null,null,null,null,{"$f":"IF('教育訓練費入力（今期）'!$C792=\"\",\"\",TEXT('教育訓練費入力（今期）'!$C792,\"yyyy年\")&TEXT('教育訓練費入力（今期）'!$C792,\"m月\")&TEXT('教育訓練費入力（今期）'!$C792,\"ｄ日\")&\"から\"&'教育訓練費入力（今期）'!$D792&\"日間\")","v":""},{"$f":"IF('教育訓練費入力（今期）'!$F792=\"\",\"\",IF('教育訓練費入力（今期）'!$G792=1,'教育訓練費入力（今期）'!$F792,'教育訓練費入力（今期）'!$F792&\"他\"&'教育訓練費入力（今期）'!$G792-1&\"名\"))","v":""}]
[null,784,null,null,null,null,null,null,null,null,{"$f":"IF('教育訓練費入力（今期）'!$C793=\"\",\"\",TEXT('教育訓練費入力（今期）'!$C793,\"yyyy年\")&TEXT('教育訓練費入力（今期）'!$C793,\"m月\")&TEXT('教育訓練費入力（今期）'!$C793,\"ｄ日\")&\"から\"&'教育訓練費入力（今期）'!$D793&\"日間\")","v":""},{"$f":"IF('教育訓練費入力（今期）'!$F793=\"\",\"\",IF('教育訓練費入力（今期）'!$G793=1,'教育訓練費入力（今期）'!$F793,'教育訓練費入力（今期）'!$F793&\"他\"&'教育訓練費入力（今期）'!$G793-1&\"名\"))","v":""}]
[null,785,null,null,null,null,null,null,null,null,{"$f":"IF('教育訓練費入力（今期）'!$C794=\"\",\"\",TEXT('教育訓練費入力（今期）'!$C794,\"yyyy年\")&TEXT('教育訓練費入力（今期）'!$C794,\"m月\")&TEXT('教育訓練費入力（今期）'!$C794,\"ｄ日\")&\"から\"&'教育訓練費入力（今期）'!$D794&\"日間\")","v":""},{"$f":"IF('教育訓練費入力（今期）'!$F794=\"\",\"\",IF('教育訓練費入力（今期）'!$G794=1,'教育訓練費入力（今期）'!$F794,'教育訓練費入力（今期）'!$F794&\"他\"&'教育訓練費入力（今期）'!$G794-1&\"名\"))","v":""}]
[null,786,null,null,null,null,null,null,null,null,{"$f":"IF('教育訓練費入力（今期）'!$C795=\"\",\"\",TEXT('教育訓練費入力（今期）'!$C795,\"yyyy年\")&TEXT('教育訓練費入力（今期）'!$C795,\"m月\")&TEXT('教育訓練費入力（今期）'!$C795,\"ｄ日\")&\"から\"&'教育訓練費入力（今期）'!$D795&\"日間\")","v":""},{"$f":"IF('教育訓練費入力（今期）'!$F795=\"\",\"\",IF('教育訓練費入力（今期）'!$G795=1,'教育訓練費入力（今期）'!$F795,'教育訓練費入力（今期）'!$F795&\"他\"&'教育訓練費入力（今期）'!$G795-1&\"名\"))","v":""}]
[null,787,null,null,null,null,null,null,null,null,{"$f":"IF('教育訓練費入力（今期）'!$C796=\"\",\"\",TEXT('教育訓練費入力（今期）'!$C796,\"yyyy年\")&TEXT('教育訓練費入力（今期）'!$C796,\"m月\")&TEXT('教育訓練費入力（今期）'!$C796,\"ｄ日\")&\"から\"&'教育訓練費入力（今期）'!$D796&\"日間\")","v":""},{"$f":"IF('教育訓練費入力（今期）'!$F796=\"\",\"\",IF('教育訓練費入力（今期）'!$G796=1,'教育訓練費入力（今期）'!$F796,'教育訓練費入力（今期）'!$F796&\"他\"&'教育訓練費入力（今期）'!$G796-1&\"名\"))","v":""}]
[null,788,null,null,null,null,null,null,null,null,{"$f":"IF('教育訓練費入力（今期）'!$C797=\"\",\"\",TEXT('教育訓練費入力（今期）'!$C797,\"yyyy年\")&TEXT('教育訓練費入力（今期）'!$C797,\"m月\")&TEXT('教育訓練費入力（今期）'!$C797,\"ｄ日\")&\"から\"&'教育訓練費入力（今期）'!$D797&\"日間\")","v":""},{"$f":"IF('教育訓練費入力（今期）'!$F797=\"\",\"\",IF('教育訓練費入力（今期）'!$G797=1,'教育訓練費入力（今期）'!$F797,'教育訓練費入力（今期）'!$F797&\"他\"&'教育訓練費入力（今期）'!$G797-1&\"名\"))","v":""}]
[null,789,null,null,null,null,null,null,null,null,{"$f":"IF('教育訓練費入力（今期）'!$C798=\"\",\"\",TEXT('教育訓練費入力（今期）'!$C798,\"yyyy年\")&TEXT('教育訓練費入力（今期）'!$C798,\"m月\")&TEXT('教育訓練費入力（今期）'!$C798,\"ｄ日\")&\"から\"&'教育訓練費入力（今期）'!$D798&\"日間\")","v":""},{"$f":"IF('教育訓練費入力（今期）'!$F798=\"\",\"\",IF('教育訓練費入力（今期）'!$G798=1,'教育訓練費入力（今期）'!$F798,'教育訓練費入力（今期）'!$F798&\"他\"&'教育訓練費入力（今期）'!$G798-1&\"名\"))","v":""}]
[null,790,null,null,null,null,null,null,null,null,{"$f":"IF('教育訓練費入力（今期）'!$C799=\"\",\"\",TEXT('教育訓練費入力（今期）'!$C799,\"yyyy年\")&TEXT('教育訓練費入力（今期）'!$C799,\"m月\")&TEXT('教育訓練費入力（今期）'!$C799,\"ｄ日\")&\"から\"&'教育訓練費入力（今期）'!$D799&\"日間\")","v":""},{"$f":"IF('教育訓練費入力（今期）'!$F799=\"\",\"\",IF('教育訓練費入力（今期）'!$G799=1,'教育訓練費入力（今期）'!$F799,'教育訓練費入力（今期）'!$F799&\"他\"&'教育訓練費入力（今期）'!$G799-1&\"名\"))","v":""}]
[null,791,null,null,null,null,null,null,null,null,{"$f":"IF('教育訓練費入力（今期）'!$C800=\"\",\"\",TEXT('教育訓練費入力（今期）'!$C800,\"yyyy年\")&TEXT('教育訓練費入力（今期）'!$C800,\"m月\")&TEXT('教育訓練費入力（今期）'!$C800,\"ｄ日\")&\"から\"&'教育訓練費入力（今期）'!$D800&\"日間\")","v":""},{"$f":"IF('教育訓練費入力（今期）'!$F800=\"\",\"\",IF('教育訓練費入力（今期）'!$G800=1,'教育訓練費入力（今期）'!$F800,'教育訓練費入力（今期）'!$F800&\"他\"&'教育訓練費入力（今期）'!$G800-1&\"名\"))","v":""}]
[null,792,null,null,null,null,null,null,null,null,{"$f":"IF('教育訓練費入力（今期）'!$C801=\"\",\"\",TEXT('教育訓練費入力（今期）'!$C801,\"yyyy年\")&TEXT('教育訓練費入力（今期）'!$C801,\"m月\")&TEXT('教育訓練費入力（今期）'!$C801,\"ｄ日\")&\"から\"&'教育訓練費入力（今期）'!$D801&\"日間\")","v":""},{"$f":"IF('教育訓練費入力（今期）'!$F801=\"\",\"\",IF('教育訓練費入力（今期）'!$G801=1,'教育訓練費入力（今期）'!$F801,'教育訓練費入力（今期）'!$F801&\"他\"&'教育訓練費入力（今期）'!$G801-1&\"名\"))","v":""}]
[null,793,null,null,null,null,null,null,null,null,{"$f":"IF('教育訓練費入力（今期）'!$C802=\"\",\"\",TEXT('教育訓練費入力（今期）'!$C802,\"yyyy年\")&TEXT('教育訓練費入力（今期）'!$C802,\"m月\")&TEXT('教育訓練費入力（今期）'!$C802,\"ｄ日\")&\"から\"&'教育訓練費入力（今期）'!$D802&\"日間\")","v":""},{"$f":"IF('教育訓練費入力（今期）'!$F802=\"\",\"\",IF('教育訓練費入力（今期）'!$G802=1,'教育訓練費入力（今期）'!$F802,'教育訓練費入力（今期）'!$F802&\"他\"&'教育訓練費入力（今期）'!$G802-1&\"名\"))","v":""}]
[null,794,null,null,null,null,null,null,null,null,{"$f":"IF('教育訓練費入力（今期）'!$C803=\"\",\"\",TEXT('教育訓練費入力（今期）'!$C803,\"yyyy年\")&TEXT('教育訓練費入力（今期）'!$C803,\"m月\")&TEXT('教育訓練費入力（今期）'!$C803,\"ｄ日\")&\"から\"&'教育訓練費入力（今期）'!$D803&\"日間\")","v":""},{"$f":"IF('教育訓練費入力（今期）'!$F803=\"\",\"\",IF('教育訓練費入力（今期）'!$G803=1,'教育訓練費入力（今期）'!$F803,'教育訓練費入力（今期）'!$F803&\"他\"&'教育訓練費入力（今期）'!$G803-1&\"名\"))","v":""}]
[null,795,null,null,null,null,null,null,null,null,{"$f":"IF('教育訓練費入力（今期）'!$C804=\"\",\"\",TEXT('教育訓練費入力（今期）'!$C804,\"yyyy年\")&TEXT('教育訓練費入力（今期）'!$C804,\"m月\")&TEXT('教育訓練費入力（今期）'!$C804,\"ｄ日\")&\"から\"&'教育訓練費入力（今期）'!$D804&\"日間\")","v":""},{"$f":"IF('教育訓練費入力（今期）'!$F804=\"\",\"\",IF('教育訓練費入力（今期）'!$G804=1,'教育訓練費入力（今期）'!$F804,'教育訓練費入力（今期）'!$F804&\"他\"&'教育訓練費入力（今期）'!$G804-1&\"名\"))","v":""}]
[null,796,null,null,null,null,null,null,null,null,{"$f":"IF('教育訓練費入力（今期）'!$C805=\"\",\"\",TEXT('教育訓練費入力（今期）'!$C805,\"yyyy年\")&TEXT('教育訓練費入力（今期）'!$C805,\"m月\")&TEXT('教育訓練費入力（今期）'!$C805,\"ｄ日\")&\"から\"&'教育訓練費入力（今期）'!$D805&\"日間\")","v":""},{"$f":"IF('教育訓練費入力（今期）'!$F805=\"\",\"\",IF('教育訓練費入力（今期）'!$G805=1,'教育訓練費入力（今期）'!$F805,'教育訓練費入力（今期）'!$F805&\"他\"&'教育訓練費入力（今期）'!$G805-1&\"名\"))","v":""}]
[null,797,null,null,null,null,null,null,null,null,{"$f":"IF('教育訓練費入力（今期）'!$C806=\"\",\"\",TEXT('教育訓練費入力（今期）'!$C806,\"yyyy年\")&TEXT('教育訓練費入力（今期）'!$C806,\"m月\")&TEXT('教育訓練費入力（今期）'!$C806,\"ｄ日\")&\"から\"&'教育訓練費入力（今期）'!$D806&\"日間\")","v":""},{"$f":"IF('教育訓練費入力（今期）'!$F806=\"\",\"\",IF('教育訓練費入力（今期）'!$G806=1,'教育訓練費入力（今期）'!$F806,'教育訓練費入力（今期）'!$F806&\"他\"&'教育訓練費入力（今期）'!$G806-1&\"名\"))","v":""}]
[null,798,null,null,null,null,null,null,null,null,{"$f":"IF('教育訓練費入力（今期）'!$C807=\"\",\"\",TEXT('教育訓練費入力（今期）'!$C807,\"yyyy年\")&TEXT('教育訓練費入力（今期）'!$C807,\"m月\")&TEXT('教育訓練費入力（今期）'!$C807,\"ｄ日\")&\"から\"&'教育訓練費入力（今期）'!$D807&\"日間\")","v":""},{"$f":"IF('教育訓練費入力（今期）'!$F807=\"\",\"\",IF('教育訓練費入力（今期）'!$G807=1,'教育訓練費入力（今期）'!$F807,'教育訓練費入力（今期）'!$F807&\"他\"&'教育訓練費入力（今期）'!$G807-1&\"名\"))","v":""}]
[null,799,null,null,null,null,null,null,null,null,{"$f":"IF('教育訓練費入力（今期）'!$C808=\"\",\"\",TEXT('教育訓練費入力（今期）'!$C808,\"yyyy年\")&TEXT('教育訓練費入力（今期）'!$C808,\"m月\")&TEXT('教育訓練費入力（今期）'!$C808,\"ｄ日\")&\"から\"&'教育訓練費入力（今期）'!$D808&\"日間\")","v":""},{"$f":"IF('教育訓練費入力（今期）'!$F808=\"\",\"\",IF('教育訓練費入力（今期）'!$G808=1,'教育訓練費入力（今期）'!$F808,'教育訓練費入力（今期）'!$F808&\"他\"&'教育訓練費入力（今期）'!$G808-1&\"名\"))","v":""}]
[null,800,null,null,null,null,null,null,null,null,{"$f":"IF('教育訓練費入力（今期）'!$C809=\"\",\"\",TEXT('教育訓練費入力（今期）'!$C809,\"yyyy年\")&TEXT('教育訓練費入力（今期）'!$C809,\"m月\")&TEXT('教育訓練費入力（今期）'!$C809,\"ｄ日\")&\"から\"&'教育訓練費入力（今期）'!$D809&\"日間\")","v":""},{"$f":"IF('教育訓練費入力（今期）'!$F809=\"\",\"\",IF('教育訓練費入力（今期）'!$G809=1,'教育訓練費入力（今期）'!$F809,'教育訓練費入力（今期）'!$F809&\"他\"&'教育訓練費入力（今期）'!$G809-1&\"名\"))","v":""}]
[null,801,null,null,null,null,null,null,null,null,{"$f":"IF('教育訓練費入力（今期）'!$C810=\"\",\"\",TEXT('教育訓練費入力（今期）'!$C810,\"yyyy年\")&TEXT('教育訓練費入力（今期）'!$C810,\"m月\")&TEXT('教育訓練費入力（今期）'!$C810,\"ｄ日\")&\"から\"&'教育訓練費入力（今期）'!$D810&\"日間\")","v":""},{"$f":"IF('教育訓練費入力（今期）'!$F810=\"\",\"\",IF('教育訓練費入力（今期）'!$G810=1,'教育訓練費入力（今期）'!$F810,'教育訓練費入力（今期）'!$F810&\"他\"&'教育訓練費入力（今期）'!$G810-1&\"名\"))","v":""}]
[null,802,null,null,null,null,null,null,null,null,{"$f":"IF('教育訓練費入力（今期）'!$C811=\"\",\"\",TEXT('教育訓練費入力（今期）'!$C811,\"yyyy年\")&TEXT('教育訓練費入力（今期）'!$C811,\"m月\")&TEXT('教育訓練費入力（今期）'!$C811,\"ｄ日\")&\"から\"&'教育訓練費入力（今期）'!$D811&\"日間\")","v":""},{"$f":"IF('教育訓練費入力（今期）'!$F811=\"\",\"\",IF('教育訓練費入力（今期）'!$G811=1,'教育訓練費入力（今期）'!$F811,'教育訓練費入力（今期）'!$F811&\"他\"&'教育訓練費入力（今期）'!$G811-1&\"名\"))","v":""}]
[null,803,null,null,null,null,null,null,null,null,{"$f":"IF('教育訓練費入力（今期）'!$C812=\"\",\"\",TEXT('教育訓練費入力（今期）'!$C812,\"yyyy年\")&TEXT('教育訓練費入力（今期）'!$C812,\"m月\")&TEXT('教育訓練費入力（今期）'!$C812,\"ｄ日\")&\"から\"&'教育訓練費入力（今期）'!$D812&\"日間\")","v":""},{"$f":"IF('教育訓練費入力（今期）'!$F812=\"\",\"\",IF('教育訓練費入力（今期）'!$G812=1,'教育訓練費入力（今期）'!$F812,'教育訓練費入力（今期）'!$F812&\"他\"&'教育訓練費入力（今期）'!$G812-1&\"名\"))","v":""}]
[null,804,null,null,null,null,null,null,null,null,{"$f":"IF('教育訓練費入力（今期）'!$C813=\"\",\"\",TEXT('教育訓練費入力（今期）'!$C813,\"yyyy年\")&TEXT('教育訓練費入力（今期）'!$C813,\"m月\")&TEXT('教育訓練費入力（今期）'!$C813,\"ｄ日\")&\"から\"&'教育訓練費入力（今期）'!$D813&\"日間\")","v":""},{"$f":"IF('教育訓練費入力（今期）'!$F813=\"\",\"\",IF('教育訓練費入力（今期）'!$G813=1,'教育訓練費入力（今期）'!$F813,'教育訓練費入力（今期）'!$F813&\"他\"&'教育訓練費入力（今期）'!$G813-1&\"名\"))","v":""}]
[null,805,null,null,null,null,null,null,null,null,{"$f":"IF('教育訓練費入力（今期）'!$C814=\"\",\"\",TEXT('教育訓練費入力（今期）'!$C814,\"yyyy年\")&TEXT('教育訓練費入力（今期）'!$C814,\"m月\")&TEXT('教育訓練費入力（今期）'!$C814,\"ｄ日\")&\"から\"&'教育訓練費入力（今期）'!$D814&\"日間\")","v":""},{"$f":"IF('教育訓練費入力（今期）'!$F814=\"\",\"\",IF('教育訓練費入力（今期）'!$G814=1,'教育訓練費入力（今期）'!$F814,'教育訓練費入力（今期）'!$F814&\"他\"&'教育訓練費入力（今期）'!$G814-1&\"名\"))","v":""}]
[null,806,null,null,null,null,null,null,null,null,{"$f":"IF('教育訓練費入力（今期）'!$C815=\"\",\"\",TEXT('教育訓練費入力（今期）'!$C815,\"yyyy年\")&TEXT('教育訓練費入力（今期）'!$C815,\"m月\")&TEXT('教育訓練費入力（今期）'!$C815,\"ｄ日\")&\"から\"&'教育訓練費入力（今期）'!$D815&\"日間\")","v":""},{"$f":"IF('教育訓練費入力（今期）'!$F815=\"\",\"\",IF('教育訓練費入力（今期）'!$G815=1,'教育訓練費入力（今期）'!$F815,'教育訓練費入力（今期）'!$F815&\"他\"&'教育訓練費入力（今期）'!$G815-1&\"名\"))","v":""}]
[null,807,null,null,null,null,null,null,null,null,{"$f":"IF('教育訓練費入力（今期）'!$C816=\"\",\"\",TEXT('教育訓練費入力（今期）'!$C816,\"yyyy年\")&TEXT('教育訓練費入力（今期）'!$C816,\"m月\")&TEXT('教育訓練費入力（今期）'!$C816,\"ｄ日\")&\"から\"&'教育訓練費入力（今期）'!$D816&\"日間\")","v":""},{"$f":"IF('教育訓練費入力（今期）'!$F816=\"\",\"\",IF('教育訓練費入力（今期）'!$G816=1,'教育訓練費入力（今期）'!$F816,'教育訓練費入力（今期）'!$F816&\"他\"&'教育訓練費入力（今期）'!$G816-1&\"名\"))","v":""}]
[null,808,null,null,null,null,null,null,null,null,{"$f":"IF('教育訓練費入力（今期）'!$C817=\"\",\"\",TEXT('教育訓練費入力（今期）'!$C817,\"yyyy年\")&TEXT('教育訓練費入力（今期）'!$C817,\"m月\")&TEXT('教育訓練費入力（今期）'!$C817,\"ｄ日\")&\"から\"&'教育訓練費入力（今期）'!$D817&\"日間\")","v":""},{"$f":"IF('教育訓練費入力（今期）'!$F817=\"\",\"\",IF('教育訓練費入力（今期）'!$G817=1,'教育訓練費入力（今期）'!$F817,'教育訓練費入力（今期）'!$F817&\"他\"&'教育訓練費入力（今期）'!$G817-1&\"名\"))","v":""}]
[null,809,null,null,null,null,null,null,null,null,{"$f":"IF('教育訓練費入力（今期）'!$C818=\"\",\"\",TEXT('教育訓練費入力（今期）'!$C818,\"yyyy年\")&TEXT('教育訓練費入力（今期）'!$C818,\"m月\")&TEXT('教育訓練費入力（今期）'!$C818,\"ｄ日\")&\"から\"&'教育訓練費入力（今期）'!$D818&\"日間\")","v":""},{"$f":"IF('教育訓練費入力（今期）'!$F818=\"\",\"\",IF('教育訓練費入力（今期）'!$G818=1,'教育訓練費入力（今期）'!$F818,'教育訓練費入力（今期）'!$F818&\"他\"&'教育訓練費入力（今期）'!$G818-1&\"名\"))","v":""}]
[null,810,null,null,null,null,null,null,null,null,{"$f":"IF('教育訓練費入力（今期）'!$C819=\"\",\"\",TEXT('教育訓練費入力（今期）'!$C819,\"yyyy年\")&TEXT('教育訓練費入力（今期）'!$C819,\"m月\")&TEXT('教育訓練費入力（今期）'!$C819,\"ｄ日\")&\"から\"&'教育訓練費入力（今期）'!$D819&\"日間\")","v":""},{"$f":"IF('教育訓練費入力（今期）'!$F819=\"\",\"\",IF('教育訓練費入力（今期）'!$G819=1,'教育訓練費入力（今期）'!$F819,'教育訓練費入力（今期）'!$F819&\"他\"&'教育訓練費入力（今期）'!$G819-1&\"名\"))","v":""}]
[null,811,null,null,null,null,null,null,null,null,{"$f":"IF('教育訓練費入力（今期）'!$C820=\"\",\"\",TEXT('教育訓練費入力（今期）'!$C820,\"yyyy年\")&TEXT('教育訓練費入力（今期）'!$C820,\"m月\")&TEXT('教育訓練費入力（今期）'!$C820,\"ｄ日\")&\"から\"&'教育訓練費入力（今期）'!$D820&\"日間\")","v":""},{"$f":"IF('教育訓練費入力（今期）'!$F820=\"\",\"\",IF('教育訓練費入力（今期）'!$G820=1,'教育訓練費入力（今期）'!$F820,'教育訓練費入力（今期）'!$F820&\"他\"&'教育訓練費入力（今期）'!$G820-1&\"名\"))","v":""}]
[null,812,null,null,null,null,null,null,null,null,{"$f":"IF('教育訓練費入力（今期）'!$C821=\"\",\"\",TEXT('教育訓練費入力（今期）'!$C821,\"yyyy年\")&TEXT('教育訓練費入力（今期）'!$C821,\"m月\")&TEXT('教育訓練費入力（今期）'!$C821,\"ｄ日\")&\"から\"&'教育訓練費入力（今期）'!$D821&\"日間\")","v":""},{"$f":"IF('教育訓練費入力（今期）'!$F821=\"\",\"\",IF('教育訓練費入力（今期）'!$G821=1,'教育訓練費入力（今期）'!$F821,'教育訓練費入力（今期）'!$F821&\"他\"&'教育訓練費入力（今期）'!$G821-1&\"名\"))","v":""}]
[null,813,null,null,null,null,null,null,null,null,{"$f":"IF('教育訓練費入力（今期）'!$C822=\"\",\"\",TEXT('教育訓練費入力（今期）'!$C822,\"yyyy年\")&TEXT('教育訓練費入力（今期）'!$C822,\"m月\")&TEXT('教育訓練費入力（今期）'!$C822,\"ｄ日\")&\"から\"&'教育訓練費入力（今期）'!$D822&\"日間\")","v":""},{"$f":"IF('教育訓練費入力（今期）'!$F822=\"\",\"\",IF('教育訓練費入力（今期）'!$G822=1,'教育訓練費入力（今期）'!$F822,'教育訓練費入力（今期）'!$F822&\"他\"&'教育訓練費入力（今期）'!$G822-1&\"名\"))","v":""}]
[null,814,null,null,null,null,null,null,null,null,{"$f":"IF('教育訓練費入力（今期）'!$C823=\"\",\"\",TEXT('教育訓練費入力（今期）'!$C823,\"yyyy年\")&TEXT('教育訓練費入力（今期）'!$C823,\"m月\")&TEXT('教育訓練費入力（今期）'!$C823,\"ｄ日\")&\"から\"&'教育訓練費入力（今期）'!$D823&\"日間\")","v":""},{"$f":"IF('教育訓練費入力（今期）'!$F823=\"\",\"\",IF('教育訓練費入力（今期）'!$G823=1,'教育訓練費入力（今期）'!$F823,'教育訓練費入力（今期）'!$F823&\"他\"&'教育訓練費入力（今期）'!$G823-1&\"名\"))","v":""}]
[null,815,null,null,null,null,null,null,null,null,{"$f":"IF('教育訓練費入力（今期）'!$C824=\"\",\"\",TEXT('教育訓練費入力（今期）'!$C824,\"yyyy年\")&TEXT('教育訓練費入力（今期）'!$C824,\"m月\")&TEXT('教育訓練費入力（今期）'!$C824,\"ｄ日\")&\"から\"&'教育訓練費入力（今期）'!$D824&\"日間\")","v":""},{"$f":"IF('教育訓練費入力（今期）'!$F824=\"\",\"\",IF('教育訓練費入力（今期）'!$G824=1,'教育訓練費入力（今期）'!$F824,'教育訓練費入力（今期）'!$F824&\"他\"&'教育訓練費入力（今期）'!$G824-1&\"名\"))","v":""}]
[null,816,null,null,null,null,null,null,null,null,{"$f":"IF('教育訓練費入力（今期）'!$C825=\"\",\"\",TEXT('教育訓練費入力（今期）'!$C825,\"yyyy年\")&TEXT('教育訓練費入力（今期）'!$C825,\"m月\")&TEXT('教育訓練費入力（今期）'!$C825,\"ｄ日\")&\"から\"&'教育訓練費入力（今期）'!$D825&\"日間\")","v":""},{"$f":"IF('教育訓練費入力（今期）'!$F825=\"\",\"\",IF('教育訓練費入力（今期）'!$G825=1,'教育訓練費入力（今期）'!$F825,'教育訓練費入力（今期）'!$F825&\"他\"&'教育訓練費入力（今期）'!$G825-1&\"名\"))","v":""}]
[null,817,null,null,null,null,null,null,null,null,{"$f":"IF('教育訓練費入力（今期）'!$C826=\"\",\"\",TEXT('教育訓練費入力（今期）'!$C826,\"yyyy年\")&TEXT('教育訓練費入力（今期）'!$C826,\"m月\")&TEXT('教育訓練費入力（今期）'!$C826,\"ｄ日\")&\"から\"&'教育訓練費入力（今期）'!$D826&\"日間\")","v":""},{"$f":"IF('教育訓練費入力（今期）'!$F826=\"\",\"\",IF('教育訓練費入力（今期）'!$G826=1,'教育訓練費入力（今期）'!$F826,'教育訓練費入力（今期）'!$F826&\"他\"&'教育訓練費入力（今期）'!$G826-1&\"名\"))","v":""}]
[null,818,null,null,null,null,null,null,null,null,{"$f":"IF('教育訓練費入力（今期）'!$C827=\"\",\"\",TEXT('教育訓練費入力（今期）'!$C827,\"yyyy年\")&TEXT('教育訓練費入力（今期）'!$C827,\"m月\")&TEXT('教育訓練費入力（今期）'!$C827,\"ｄ日\")&\"から\"&'教育訓練費入力（今期）'!$D827&\"日間\")","v":""},{"$f":"IF('教育訓練費入力（今期）'!$F827=\"\",\"\",IF('教育訓練費入力（今期）'!$G827=1,'教育訓練費入力（今期）'!$F827,'教育訓練費入力（今期）'!$F827&\"他\"&'教育訓練費入力（今期）'!$G827-1&\"名\"))","v":""}]
[null,819,null,null,null,null,null,null,null,null,{"$f":"IF('教育訓練費入力（今期）'!$C828=\"\",\"\",TEXT('教育訓練費入力（今期）'!$C828,\"yyyy年\")&TEXT('教育訓練費入力（今期）'!$C828,\"m月\")&TEXT('教育訓練費入力（今期）'!$C828,\"ｄ日\")&\"から\"&'教育訓練費入力（今期）'!$D828&\"日間\")","v":""},{"$f":"IF('教育訓練費入力（今期）'!$F828=\"\",\"\",IF('教育訓練費入力（今期）'!$G828=1,'教育訓練費入力（今期）'!$F828,'教育訓練費入力（今期）'!$F828&\"他\"&'教育訓練費入力（今期）'!$G828-1&\"名\"))","v":""}]
[null,820,null,null,null,null,null,null,null,null,{"$f":"IF('教育訓練費入力（今期）'!$C829=\"\",\"\",TEXT('教育訓練費入力（今期）'!$C829,\"yyyy年\")&TEXT('教育訓練費入力（今期）'!$C829,\"m月\")&TEXT('教育訓練費入力（今期）'!$C829,\"ｄ日\")&\"から\"&'教育訓練費入力（今期）'!$D829&\"日間\")","v":""},{"$f":"IF('教育訓練費入力（今期）'!$F829=\"\",\"\",IF('教育訓練費入力（今期）'!$G829=1,'教育訓練費入力（今期）'!$F829,'教育訓練費入力（今期）'!$F829&\"他\"&'教育訓練費入力（今期）'!$G829-1&\"名\"))","v":""}]
[null,821,null,null,null,null,null,null,null,null,{"$f":"IF('教育訓練費入力（今期）'!$C830=\"\",\"\",TEXT('教育訓練費入力（今期）'!$C830,\"yyyy年\")&TEXT('教育訓練費入力（今期）'!$C830,\"m月\")&TEXT('教育訓練費入力（今期）'!$C830,\"ｄ日\")&\"から\"&'教育訓練費入力（今期）'!$D830&\"日間\")","v":""},{"$f":"IF('教育訓練費入力（今期）'!$F830=\"\",\"\",IF('教育訓練費入力（今期）'!$G830=1,'教育訓練費入力（今期）'!$F830,'教育訓練費入力（今期）'!$F830&\"他\"&'教育訓練費入力（今期）'!$G830-1&\"名\"))","v":""}]
[null,822,null,null,null,null,null,null,null,null,{"$f":"IF('教育訓練費入力（今期）'!$C831=\"\",\"\",TEXT('教育訓練費入力（今期）'!$C831,\"yyyy年\")&TEXT('教育訓練費入力（今期）'!$C831,\"m月\")&TEXT('教育訓練費入力（今期）'!$C831,\"ｄ日\")&\"から\"&'教育訓練費入力（今期）'!$D831&\"日間\")","v":""},{"$f":"IF('教育訓練費入力（今期）'!$F831=\"\",\"\",IF('教育訓練費入力（今期）'!$G831=1,'教育訓練費入力（今期）'!$F831,'教育訓練費入力（今期）'!$F831&\"他\"&'教育訓練費入力（今期）'!$G831-1&\"名\"))","v":""}]
[null,823,null,null,null,null,null,null,null,null,{"$f":"IF('教育訓練費入力（今期）'!$C832=\"\",\"\",TEXT('教育訓練費入力（今期）'!$C832,\"yyyy年\")&TEXT('教育訓練費入力（今期）'!$C832,\"m月\")&TEXT('教育訓練費入力（今期）'!$C832,\"ｄ日\")&\"から\"&'教育訓練費入力（今期）'!$D832&\"日間\")","v":""},{"$f":"IF('教育訓練費入力（今期）'!$F832=\"\",\"\",IF('教育訓練費入力（今期）'!$G832=1,'教育訓練費入力（今期）'!$F832,'教育訓練費入力（今期）'!$F832&\"他\"&'教育訓練費入力（今期）'!$G832-1&\"名\"))","v":""}]
[null,824,null,null,null,null,null,null,null,null,{"$f":"IF('教育訓練費入力（今期）'!$C833=\"\",\"\",TEXT('教育訓練費入力（今期）'!$C833,\"yyyy年\")&TEXT('教育訓練費入力（今期）'!$C833,\"m月\")&TEXT('教育訓練費入力（今期）'!$C833,\"ｄ日\")&\"から\"&'教育訓練費入力（今期）'!$D833&\"日間\")","v":""},{"$f":"IF('教育訓練費入力（今期）'!$F833=\"\",\"\",IF('教育訓練費入力（今期）'!$G833=1,'教育訓練費入力（今期）'!$F833,'教育訓練費入力（今期）'!$F833&\"他\"&'教育訓練費入力（今期）'!$G833-1&\"名\"))","v":""}]
[null,825,null,null,null,null,null,null,null,null,{"$f":"IF('教育訓練費入力（今期）'!$C834=\"\",\"\",TEXT('教育訓練費入力（今期）'!$C834,\"yyyy年\")&TEXT('教育訓練費入力（今期）'!$C834,\"m月\")&TEXT('教育訓練費入力（今期）'!$C834,\"ｄ日\")&\"から\"&'教育訓練費入力（今期）'!$D834&\"日間\")","v":""},{"$f":"IF('教育訓練費入力（今期）'!$F834=\"\",\"\",IF('教育訓練費入力（今期）'!$G834=1,'教育訓練費入力（今期）'!$F834,'教育訓練費入力（今期）'!$F834&\"他\"&'教育訓練費入力（今期）'!$G834-1&\"名\"))","v":""}]
[null,826,null,null,null,null,null,null,null,null,{"$f":"IF('教育訓練費入力（今期）'!$C835=\"\",\"\",TEXT('教育訓練費入力（今期）'!$C835,\"yyyy年\")&TEXT('教育訓練費入力（今期）'!$C835,\"m月\")&TEXT('教育訓練費入力（今期）'!$C835,\"ｄ日\")&\"から\"&'教育訓練費入力（今期）'!$D835&\"日間\")","v":""},{"$f":"IF('教育訓練費入力（今期）'!$F835=\"\",\"\",IF('教育訓練費入力（今期）'!$G835=1,'教育訓練費入力（今期）'!$F835,'教育訓練費入力（今期）'!$F835&\"他\"&'教育訓練費入力（今期）'!$G835-1&\"名\"))","v":""}]
[null,827,null,null,null,null,null,null,null,null,{"$f":"IF('教育訓練費入力（今期）'!$C836=\"\",\"\",TEXT('教育訓練費入力（今期）'!$C836,\"yyyy年\")&TEXT('教育訓練費入力（今期）'!$C836,\"m月\")&TEXT('教育訓練費入力（今期）'!$C836,\"ｄ日\")&\"から\"&'教育訓練費入力（今期）'!$D836&\"日間\")","v":""},{"$f":"IF('教育訓練費入力（今期）'!$F836=\"\",\"\",IF('教育訓練費入力（今期）'!$G836=1,'教育訓練費入力（今期）'!$F836,'教育訓練費入力（今期）'!$F836&\"他\"&'教育訓練費入力（今期）'!$G836-1&\"名\"))","v":""}]
[null,828,null,null,null,null,null,null,null,null,{"$f":"IF('教育訓練費入力（今期）'!$C837=\"\",\"\",TEXT('教育訓練費入力（今期）'!$C837,\"yyyy年\")&TEXT('教育訓練費入力（今期）'!$C837,\"m月\")&TEXT('教育訓練費入力（今期）'!$C837,\"ｄ日\")&\"から\"&'教育訓練費入力（今期）'!$D837&\"日間\")","v":""},{"$f":"IF('教育訓練費入力（今期）'!$F837=\"\",\"\",IF('教育訓練費入力（今期）'!$G837=1,'教育訓練費入力（今期）'!$F837,'教育訓練費入力（今期）'!$F837&\"他\"&'教育訓練費入力（今期）'!$G837-1&\"名\"))","v":""}]
[null,829,null,null,null,null,null,null,null,null,{"$f":"IF('教育訓練費入力（今期）'!$C838=\"\",\"\",TEXT('教育訓練費入力（今期）'!$C838,\"yyyy年\")&TEXT('教育訓練費入力（今期）'!$C838,\"m月\")&TEXT('教育訓練費入力（今期）'!$C838,\"ｄ日\")&\"から\"&'教育訓練費入力（今期）'!$D838&\"日間\")","v":""},{"$f":"IF('教育訓練費入力（今期）'!$F838=\"\",\"\",IF('教育訓練費入力（今期）'!$G838=1,'教育訓練費入力（今期）'!$F838,'教育訓練費入力（今期）'!$F838&\"他\"&'教育訓練費入力（今期）'!$G838-1&\"名\"))","v":""}]
[null,830,null,null,null,null,null,null,null,null,{"$f":"IF('教育訓練費入力（今期）'!$C839=\"\",\"\",TEXT('教育訓練費入力（今期）'!$C839,\"yyyy年\")&TEXT('教育訓練費入力（今期）'!$C839,\"m月\")&TEXT('教育訓練費入力（今期）'!$C839,\"ｄ日\")&\"から\"&'教育訓練費入力（今期）'!$D839&\"日間\")","v":""},{"$f":"IF('教育訓練費入力（今期）'!$F839=\"\",\"\",IF('教育訓練費入力（今期）'!$G839=1,'教育訓練費入力（今期）'!$F839,'教育訓練費入力（今期）'!$F839&\"他\"&'教育訓練費入力（今期）'!$G839-1&\"名\"))","v":""}]
[null,831,null,null,null,null,null,null,null,null,{"$f":"IF('教育訓練費入力（今期）'!$C840=\"\",\"\",TEXT('教育訓練費入力（今期）'!$C840,\"yyyy年\")&TEXT('教育訓練費入力（今期）'!$C840,\"m月\")&TEXT('教育訓練費入力（今期）'!$C840,\"ｄ日\")&\"から\"&'教育訓練費入力（今期）'!$D840&\"日間\")","v":""},{"$f":"IF('教育訓練費入力（今期）'!$F840=\"\",\"\",IF('教育訓練費入力（今期）'!$G840=1,'教育訓練費入力（今期）'!$F840,'教育訓練費入力（今期）'!$F840&\"他\"&'教育訓練費入力（今期）'!$G840-1&\"名\"))","v":""}]
[null,832,null,null,null,null,null,null,null,null,{"$f":"IF('教育訓練費入力（今期）'!$C841=\"\",\"\",TEXT('教育訓練費入力（今期）'!$C841,\"yyyy年\")&TEXT('教育訓練費入力（今期）'!$C841,\"m月\")&TEXT('教育訓練費入力（今期）'!$C841,\"ｄ日\")&\"から\"&'教育訓練費入力（今期）'!$D841&\"日間\")","v":""},{"$f":"IF('教育訓練費入力（今期）'!$F841=\"\",\"\",IF('教育訓練費入力（今期）'!$G841=1,'教育訓練費入力（今期）'!$F841,'教育訓練費入力（今期）'!$F841&\"他\"&'教育訓練費入力（今期）'!$G841-1&\"名\"))","v":""}]
[null,833,null,null,null,null,null,null,null,null,{"$f":"IF('教育訓練費入力（今期）'!$C842=\"\",\"\",TEXT('教育訓練費入力（今期）'!$C842,\"yyyy年\")&TEXT('教育訓練費入力（今期）'!$C842,\"m月\")&TEXT('教育訓練費入力（今期）'!$C842,\"ｄ日\")&\"から\"&'教育訓練費入力（今期）'!$D842&\"日間\")","v":""},{"$f":"IF('教育訓練費入力（今期）'!$F842=\"\",\"\",IF('教育訓練費入力（今期）'!$G842=1,'教育訓練費入力（今期）'!$F842,'教育訓練費入力（今期）'!$F842&\"他\"&'教育訓練費入力（今期）'!$G842-1&\"名\"))","v":""}]
[null,834,null,null,null,null,null,null,null,null,{"$f":"IF('教育訓練費入力（今期）'!$C843=\"\",\"\",TEXT('教育訓練費入力（今期）'!$C843,\"yyyy年\")&TEXT('教育訓練費入力（今期）'!$C843,\"m月\")&TEXT('教育訓練費入力（今期）'!$C843,\"ｄ日\")&\"から\"&'教育訓練費入力（今期）'!$D843&\"日間\")","v":""},{"$f":"IF('教育訓練費入力（今期）'!$F843=\"\",\"\",IF('教育訓練費入力（今期）'!$G843=1,'教育訓練費入力（今期）'!$F843,'教育訓練費入力（今期）'!$F843&\"他\"&'教育訓練費入力（今期）'!$G843-1&\"名\"))","v":""}]
[null,835,null,null,null,null,null,null,null,null,{"$f":"IF('教育訓練費入力（今期）'!$C844=\"\",\"\",TEXT('教育訓練費入力（今期）'!$C844,\"yyyy年\")&TEXT('教育訓練費入力（今期）'!$C844,\"m月\")&TEXT('教育訓練費入力（今期）'!$C844,\"ｄ日\")&\"から\"&'教育訓練費入力（今期）'!$D844&\"日間\")","v":""},{"$f":"IF('教育訓練費入力（今期）'!$F844=\"\",\"\",IF('教育訓練費入力（今期）'!$G844=1,'教育訓練費入力（今期）'!$F844,'教育訓練費入力（今期）'!$F844&\"他\"&'教育訓練費入力（今期）'!$G844-1&\"名\"))","v":""}]
[null,836,null,null,null,null,null,null,null,null,{"$f":"IF('教育訓練費入力（今期）'!$C845=\"\",\"\",TEXT('教育訓練費入力（今期）'!$C845,\"yyyy年\")&TEXT('教育訓練費入力（今期）'!$C845,\"m月\")&TEXT('教育訓練費入力（今期）'!$C845,\"ｄ日\")&\"から\"&'教育訓練費入力（今期）'!$D845&\"日間\")","v":""},{"$f":"IF('教育訓練費入力（今期）'!$F845=\"\",\"\",IF('教育訓練費入力（今期）'!$G845=1,'教育訓練費入力（今期）'!$F845,'教育訓練費入力（今期）'!$F845&\"他\"&'教育訓練費入力（今期）'!$G845-1&\"名\"))","v":""}]
[null,837,null,null,null,null,null,null,null,null,{"$f":"IF('教育訓練費入力（今期）'!$C846=\"\",\"\",TEXT('教育訓練費入力（今期）'!$C846,\"yyyy年\")&TEXT('教育訓練費入力（今期）'!$C846,\"m月\")&TEXT('教育訓練費入力（今期）'!$C846,\"ｄ日\")&\"から\"&'教育訓練費入力（今期）'!$D846&\"日間\")","v":""},{"$f":"IF('教育訓練費入力（今期）'!$F846=\"\",\"\",IF('教育訓練費入力（今期）'!$G846=1,'教育訓練費入力（今期）'!$F846,'教育訓練費入力（今期）'!$F846&\"他\"&'教育訓練費入力（今期）'!$G846-1&\"名\"))","v":""}]
[null,838,null,null,null,null,null,null,null,null,{"$f":"IF('教育訓練費入力（今期）'!$C847=\"\",\"\",TEXT('教育訓練費入力（今期）'!$C847,\"yyyy年\")&TEXT('教育訓練費入力（今期）'!$C847,\"m月\")&TEXT('教育訓練費入力（今期）'!$C847,\"ｄ日\")&\"から\"&'教育訓練費入力（今期）'!$D847&\"日間\")","v":""},{"$f":"IF('教育訓練費入力（今期）'!$F847=\"\",\"\",IF('教育訓練費入力（今期）'!$G847=1,'教育訓練費入力（今期）'!$F847,'教育訓練費入力（今期）'!$F847&\"他\"&'教育訓練費入力（今期）'!$G847-1&\"名\"))","v":""}]
[null,839,null,null,null,null,null,null,null,null,{"$f":"IF('教育訓練費入力（今期）'!$C848=\"\",\"\",TEXT('教育訓練費入力（今期）'!$C848,\"yyyy年\")&TEXT('教育訓練費入力（今期）'!$C848,\"m月\")&TEXT('教育訓練費入力（今期）'!$C848,\"ｄ日\")&\"から\"&'教育訓練費入力（今期）'!$D848&\"日間\")","v":""},{"$f":"IF('教育訓練費入力（今期）'!$F848=\"\",\"\",IF('教育訓練費入力（今期）'!$G848=1,'教育訓練費入力（今期）'!$F848,'教育訓練費入力（今期）'!$F848&\"他\"&'教育訓練費入力（今期）'!$G848-1&\"名\"))","v":""}]
[null,840,null,null,null,null,null,null,null,null,{"$f":"IF('教育訓練費入力（今期）'!$C849=\"\",\"\",TEXT('教育訓練費入力（今期）'!$C849,\"yyyy年\")&TEXT('教育訓練費入力（今期）'!$C849,\"m月\")&TEXT('教育訓練費入力（今期）'!$C849,\"ｄ日\")&\"から\"&'教育訓練費入力（今期）'!$D849&\"日間\")","v":""},{"$f":"IF('教育訓練費入力（今期）'!$F849=\"\",\"\",IF('教育訓練費入力（今期）'!$G849=1,'教育訓練費入力（今期）'!$F849,'教育訓練費入力（今期）'!$F849&\"他\"&'教育訓練費入力（今期）'!$G849-1&\"名\"))","v":""}]
[null,841,null,null,null,null,null,null,null,null,{"$f":"IF('教育訓練費入力（今期）'!$C850=\"\",\"\",TEXT('教育訓練費入力（今期）'!$C850,\"yyyy年\")&TEXT('教育訓練費入力（今期）'!$C850,\"m月\")&TEXT('教育訓練費入力（今期）'!$C850,\"ｄ日\")&\"から\"&'教育訓練費入力（今期）'!$D850&\"日間\")","v":""},{"$f":"IF('教育訓練費入力（今期）'!$F850=\"\",\"\",IF('教育訓練費入力（今期）'!$G850=1,'教育訓練費入力（今期）'!$F850,'教育訓練費入力（今期）'!$F850&\"他\"&'教育訓練費入力（今期）'!$G850-1&\"名\"))","v":""}]
[null,842,null,null,null,null,null,null,null,null,{"$f":"IF('教育訓練費入力（今期）'!$C851=\"\",\"\",TEXT('教育訓練費入力（今期）'!$C851,\"yyyy年\")&TEXT('教育訓練費入力（今期）'!$C851,\"m月\")&TEXT('教育訓練費入力（今期）'!$C851,\"ｄ日\")&\"から\"&'教育訓練費入力（今期）'!$D851&\"日間\")","v":""},{"$f":"IF('教育訓練費入力（今期）'!$F851=\"\",\"\",IF('教育訓練費入力（今期）'!$G851=1,'教育訓練費入力（今期）'!$F851,'教育訓練費入力（今期）'!$F851&\"他\"&'教育訓練費入力（今期）'!$G851-1&\"名\"))","v":""}]
[null,843,null,null,null,null,null,null,null,null,{"$f":"IF('教育訓練費入力（今期）'!$C852=\"\",\"\",TEXT('教育訓練費入力（今期）'!$C852,\"yyyy年\")&TEXT('教育訓練費入力（今期）'!$C852,\"m月\")&TEXT('教育訓練費入力（今期）'!$C852,\"ｄ日\")&\"から\"&'教育訓練費入力（今期）'!$D852&\"日間\")","v":""},{"$f":"IF('教育訓練費入力（今期）'!$F852=\"\",\"\",IF('教育訓練費入力（今期）'!$G852=1,'教育訓練費入力（今期）'!$F852,'教育訓練費入力（今期）'!$F852&\"他\"&'教育訓練費入力（今期）'!$G852-1&\"名\"))","v":""}]
[null,844,null,null,null,null,null,null,null,null,{"$f":"IF('教育訓練費入力（今期）'!$C853=\"\",\"\",TEXT('教育訓練費入力（今期）'!$C853,\"yyyy年\")&TEXT('教育訓練費入力（今期）'!$C853,\"m月\")&TEXT('教育訓練費入力（今期）'!$C853,\"ｄ日\")&\"から\"&'教育訓練費入力（今期）'!$D853&\"日間\")","v":""},{"$f":"IF('教育訓練費入力（今期）'!$F853=\"\",\"\",IF('教育訓練費入力（今期）'!$G853=1,'教育訓練費入力（今期）'!$F853,'教育訓練費入力（今期）'!$F853&\"他\"&'教育訓練費入力（今期）'!$G853-1&\"名\"))","v":""}]
[null,845,null,null,null,null,null,null,null,null,{"$f":"IF('教育訓練費入力（今期）'!$C854=\"\",\"\",TEXT('教育訓練費入力（今期）'!$C854,\"yyyy年\")&TEXT('教育訓練費入力（今期）'!$C854,\"m月\")&TEXT('教育訓練費入力（今期）'!$C854,\"ｄ日\")&\"から\"&'教育訓練費入力（今期）'!$D854&\"日間\")","v":""},{"$f":"IF('教育訓練費入力（今期）'!$F854=\"\",\"\",IF('教育訓練費入力（今期）'!$G854=1,'教育訓練費入力（今期）'!$F854,'教育訓練費入力（今期）'!$F854&\"他\"&'教育訓練費入力（今期）'!$G854-1&\"名\"))","v":""}]
[null,846,null,null,null,null,null,null,null,null,{"$f":"IF('教育訓練費入力（今期）'!$C855=\"\",\"\",TEXT('教育訓練費入力（今期）'!$C855,\"yyyy年\")&TEXT('教育訓練費入力（今期）'!$C855,\"m月\")&TEXT('教育訓練費入力（今期）'!$C855,\"ｄ日\")&\"から\"&'教育訓練費入力（今期）'!$D855&\"日間\")","v":""},{"$f":"IF('教育訓練費入力（今期）'!$F855=\"\",\"\",IF('教育訓練費入力（今期）'!$G855=1,'教育訓練費入力（今期）'!$F855,'教育訓練費入力（今期）'!$F855&\"他\"&'教育訓練費入力（今期）'!$G855-1&\"名\"))","v":""}]
[null,847,null,null,null,null,null,null,null,null,{"$f":"IF('教育訓練費入力（今期）'!$C856=\"\",\"\",TEXT('教育訓練費入力（今期）'!$C856,\"yyyy年\")&TEXT('教育訓練費入力（今期）'!$C856,\"m月\")&TEXT('教育訓練費入力（今期）'!$C856,\"ｄ日\")&\"から\"&'教育訓練費入力（今期）'!$D856&\"日間\")","v":""},{"$f":"IF('教育訓練費入力（今期）'!$F856=\"\",\"\",IF('教育訓練費入力（今期）'!$G856=1,'教育訓練費入力（今期）'!$F856,'教育訓練費入力（今期）'!$F856&\"他\"&'教育訓練費入力（今期）'!$G856-1&\"名\"))","v":""}]
[null,848,null,null,null,null,null,null,null,null,{"$f":"IF('教育訓練費入力（今期）'!$C857=\"\",\"\",TEXT('教育訓練費入力（今期）'!$C857,\"yyyy年\")&TEXT('教育訓練費入力（今期）'!$C857,\"m月\")&TEXT('教育訓練費入力（今期）'!$C857,\"ｄ日\")&\"から\"&'教育訓練費入力（今期）'!$D857&\"日間\")","v":""},{"$f":"IF('教育訓練費入力（今期）'!$F857=\"\",\"\",IF('教育訓練費入力（今期）'!$G857=1,'教育訓練費入力（今期）'!$F857,'教育訓練費入力（今期）'!$F857&\"他\"&'教育訓練費入力（今期）'!$G857-1&\"名\"))","v":""}]
[null,849,null,null,null,null,null,null,null,null,{"$f":"IF('教育訓練費入力（今期）'!$C858=\"\",\"\",TEXT('教育訓練費入力（今期）'!$C858,\"yyyy年\")&TEXT('教育訓練費入力（今期）'!$C858,\"m月\")&TEXT('教育訓練費入力（今期）'!$C858,\"ｄ日\")&\"から\"&'教育訓練費入力（今期）'!$D858&\"日間\")","v":""},{"$f":"IF('教育訓練費入力（今期）'!$F858=\"\",\"\",IF('教育訓練費入力（今期）'!$G858=1,'教育訓練費入力（今期）'!$F858,'教育訓練費入力（今期）'!$F858&\"他\"&'教育訓練費入力（今期）'!$G858-1&\"名\"))","v":""}]
[null,850,null,null,null,null,null,null,null,null,{"$f":"IF('教育訓練費入力（今期）'!$C859=\"\",\"\",TEXT('教育訓練費入力（今期）'!$C859,\"yyyy年\")&TEXT('教育訓練費入力（今期）'!$C859,\"m月\")&TEXT('教育訓練費入力（今期）'!$C859,\"ｄ日\")&\"から\"&'教育訓練費入力（今期）'!$D859&\"日間\")","v":""},{"$f":"IF('教育訓練費入力（今期）'!$F859=\"\",\"\",IF('教育訓練費入力（今期）'!$G859=1,'教育訓練費入力（今期）'!$F859,'教育訓練費入力（今期）'!$F859&\"他\"&'教育訓練費入力（今期）'!$G859-1&\"名\"))","v":""}]
[null,851,null,null,null,null,null,null,null,null,{"$f":"IF('教育訓練費入力（今期）'!$C860=\"\",\"\",TEXT('教育訓練費入力（今期）'!$C860,\"yyyy年\")&TEXT('教育訓練費入力（今期）'!$C860,\"m月\")&TEXT('教育訓練費入力（今期）'!$C860,\"ｄ日\")&\"から\"&'教育訓練費入力（今期）'!$D860&\"日間\")","v":""},{"$f":"IF('教育訓練費入力（今期）'!$F860=\"\",\"\",IF('教育訓練費入力（今期）'!$G860=1,'教育訓練費入力（今期）'!$F860,'教育訓練費入力（今期）'!$F860&\"他\"&'教育訓練費入力（今期）'!$G860-1&\"名\"))","v":""}]
[null,852,null,null,null,null,null,null,null,null,{"$f":"IF('教育訓練費入力（今期）'!$C861=\"\",\"\",TEXT('教育訓練費入力（今期）'!$C861,\"yyyy年\")&TEXT('教育訓練費入力（今期）'!$C861,\"m月\")&TEXT('教育訓練費入力（今期）'!$C861,\"ｄ日\")&\"から\"&'教育訓練費入力（今期）'!$D861&\"日間\")","v":""},{"$f":"IF('教育訓練費入力（今期）'!$F861=\"\",\"\",IF('教育訓練費入力（今期）'!$G861=1,'教育訓練費入力（今期）'!$F861,'教育訓練費入力（今期）'!$F861&\"他\"&'教育訓練費入力（今期）'!$G861-1&\"名\"))","v":""}]
[null,853,null,null,null,null,null,null,null,null,{"$f":"IF('教育訓練費入力（今期）'!$C862=\"\",\"\",TEXT('教育訓練費入力（今期）'!$C862,\"yyyy年\")&TEXT('教育訓練費入力（今期）'!$C862,\"m月\")&TEXT('教育訓練費入力（今期）'!$C862,\"ｄ日\")&\"から\"&'教育訓練費入力（今期）'!$D862&\"日間\")","v":""},{"$f":"IF('教育訓練費入力（今期）'!$F862=\"\",\"\",IF('教育訓練費入力（今期）'!$G862=1,'教育訓練費入力（今期）'!$F862,'教育訓練費入力（今期）'!$F862&\"他\"&'教育訓練費入力（今期）'!$G862-1&\"名\"))","v":""}]
[null,854,null,null,null,null,null,null,null,null,{"$f":"IF('教育訓練費入力（今期）'!$C863=\"\",\"\",TEXT('教育訓練費入力（今期）'!$C863,\"yyyy年\")&TEXT('教育訓練費入力（今期）'!$C863,\"m月\")&TEXT('教育訓練費入力（今期）'!$C863,\"ｄ日\")&\"から\"&'教育訓練費入力（今期）'!$D863&\"日間\")","v":""},{"$f":"IF('教育訓練費入力（今期）'!$F863=\"\",\"\",IF('教育訓練費入力（今期）'!$G863=1,'教育訓練費入力（今期）'!$F863,'教育訓練費入力（今期）'!$F863&\"他\"&'教育訓練費入力（今期）'!$G863-1&\"名\"))","v":""}]
[null,855,null,null,null,null,null,null,null,null,{"$f":"IF('教育訓練費入力（今期）'!$C864=\"\",\"\",TEXT('教育訓練費入力（今期）'!$C864,\"yyyy年\")&TEXT('教育訓練費入力（今期）'!$C864,\"m月\")&TEXT('教育訓練費入力（今期）'!$C864,\"ｄ日\")&\"から\"&'教育訓練費入力（今期）'!$D864&\"日間\")","v":""},{"$f":"IF('教育訓練費入力（今期）'!$F864=\"\",\"\",IF('教育訓練費入力（今期）'!$G864=1,'教育訓練費入力（今期）'!$F864,'教育訓練費入力（今期）'!$F864&\"他\"&'教育訓練費入力（今期）'!$G864-1&\"名\"))","v":""}]
[null,856,null,null,null,null,null,null,null,null,{"$f":"IF('教育訓練費入力（今期）'!$C865=\"\",\"\",TEXT('教育訓練費入力（今期）'!$C865,\"yyyy年\")&TEXT('教育訓練費入力（今期）'!$C865,\"m月\")&TEXT('教育訓練費入力（今期）'!$C865,\"ｄ日\")&\"から\"&'教育訓練費入力（今期）'!$D865&\"日間\")","v":""},{"$f":"IF('教育訓練費入力（今期）'!$F865=\"\",\"\",IF('教育訓練費入力（今期）'!$G865=1,'教育訓練費入力（今期）'!$F865,'教育訓練費入力（今期）'!$F865&\"他\"&'教育訓練費入力（今期）'!$G865-1&\"名\"))","v":""}]
[null,857,null,null,null,null,null,null,null,null,{"$f":"IF('教育訓練費入力（今期）'!$C866=\"\",\"\",TEXT('教育訓練費入力（今期）'!$C866,\"yyyy年\")&TEXT('教育訓練費入力（今期）'!$C866,\"m月\")&TEXT('教育訓練費入力（今期）'!$C866,\"ｄ日\")&\"から\"&'教育訓練費入力（今期）'!$D866&\"日間\")","v":""},{"$f":"IF('教育訓練費入力（今期）'!$F866=\"\",\"\",IF('教育訓練費入力（今期）'!$G866=1,'教育訓練費入力（今期）'!$F866,'教育訓練費入力（今期）'!$F866&\"他\"&'教育訓練費入力（今期）'!$G866-1&\"名\"))","v":""}]
[null,858,null,null,null,null,null,null,null,null,{"$f":"IF('教育訓練費入力（今期）'!$C867=\"\",\"\",TEXT('教育訓練費入力（今期）'!$C867,\"yyyy年\")&TEXT('教育訓練費入力（今期）'!$C867,\"m月\")&TEXT('教育訓練費入力（今期）'!$C867,\"ｄ日\")&\"から\"&'教育訓練費入力（今期）'!$D867&\"日間\")","v":""},{"$f":"IF('教育訓練費入力（今期）'!$F867=\"\",\"\",IF('教育訓練費入力（今期）'!$G867=1,'教育訓練費入力（今期）'!$F867,'教育訓練費入力（今期）'!$F867&\"他\"&'教育訓練費入力（今期）'!$G867-1&\"名\"))","v":""}]
[null,859,null,null,null,null,null,null,null,null,{"$f":"IF('教育訓練費入力（今期）'!$C868=\"\",\"\",TEXT('教育訓練費入力（今期）'!$C868,\"yyyy年\")&TEXT('教育訓練費入力（今期）'!$C868,\"m月\")&TEXT('教育訓練費入力（今期）'!$C868,\"ｄ日\")&\"から\"&'教育訓練費入力（今期）'!$D868&\"日間\")","v":""},{"$f":"IF('教育訓練費入力（今期）'!$F868=\"\",\"\",IF('教育訓練費入力（今期）'!$G868=1,'教育訓練費入力（今期）'!$F868,'教育訓練費入力（今期）'!$F868&\"他\"&'教育訓練費入力（今期）'!$G868-1&\"名\"))","v":""}]
[null,860,null,null,null,null,null,null,null,null,{"$f":"IF('教育訓練費入力（今期）'!$C869=\"\",\"\",TEXT('教育訓練費入力（今期）'!$C869,\"yyyy年\")&TEXT('教育訓練費入力（今期）'!$C869,\"m月\")&TEXT('教育訓練費入力（今期）'!$C869,\"ｄ日\")&\"から\"&'教育訓練費入力（今期）'!$D869&\"日間\")","v":""},{"$f":"IF('教育訓練費入力（今期）'!$F869=\"\",\"\",IF('教育訓練費入力（今期）'!$G869=1,'教育訓練費入力（今期）'!$F869,'教育訓練費入力（今期）'!$F869&\"他\"&'教育訓練費入力（今期）'!$G869-1&\"名\"))","v":""}]
[null,861,null,null,null,null,null,null,null,null,{"$f":"IF('教育訓練費入力（今期）'!$C870=\"\",\"\",TEXT('教育訓練費入力（今期）'!$C870,\"yyyy年\")&TEXT('教育訓練費入力（今期）'!$C870,\"m月\")&TEXT('教育訓練費入力（今期）'!$C870,\"ｄ日\")&\"から\"&'教育訓練費入力（今期）'!$D870&\"日間\")","v":""},{"$f":"IF('教育訓練費入力（今期）'!$F870=\"\",\"\",IF('教育訓練費入力（今期）'!$G870=1,'教育訓練費入力（今期）'!$F870,'教育訓練費入力（今期）'!$F870&\"他\"&'教育訓練費入力（今期）'!$G870-1&\"名\"))","v":""}]
[null,862,null,null,null,null,null,null,null,null,{"$f":"IF('教育訓練費入力（今期）'!$C871=\"\",\"\",TEXT('教育訓練費入力（今期）'!$C871,\"yyyy年\")&TEXT('教育訓練費入力（今期）'!$C871,\"m月\")&TEXT('教育訓練費入力（今期）'!$C871,\"ｄ日\")&\"から\"&'教育訓練費入力（今期）'!$D871&\"日間\")","v":""},{"$f":"IF('教育訓練費入力（今期）'!$F871=\"\",\"\",IF('教育訓練費入力（今期）'!$G871=1,'教育訓練費入力（今期）'!$F871,'教育訓練費入力（今期）'!$F871&\"他\"&'教育訓練費入力（今期）'!$G871-1&\"名\"))","v":""}]
[null,863,null,null,null,null,null,null,null,null,{"$f":"IF('教育訓練費入力（今期）'!$C872=\"\",\"\",TEXT('教育訓練費入力（今期）'!$C872,\"yyyy年\")&TEXT('教育訓練費入力（今期）'!$C872,\"m月\")&TEXT('教育訓練費入力（今期）'!$C872,\"ｄ日\")&\"から\"&'教育訓練費入力（今期）'!$D872&\"日間\")","v":""},{"$f":"IF('教育訓練費入力（今期）'!$F872=\"\",\"\",IF('教育訓練費入力（今期）'!$G872=1,'教育訓練費入力（今期）'!$F872,'教育訓練費入力（今期）'!$F872&\"他\"&'教育訓練費入力（今期）'!$G872-1&\"名\"))","v":""}]
[null,864,null,null,null,null,null,null,null,null,{"$f":"IF('教育訓練費入力（今期）'!$C873=\"\",\"\",TEXT('教育訓練費入力（今期）'!$C873,\"yyyy年\")&TEXT('教育訓練費入力（今期）'!$C873,\"m月\")&TEXT('教育訓練費入力（今期）'!$C873,\"ｄ日\")&\"から\"&'教育訓練費入力（今期）'!$D873&\"日間\")","v":""},{"$f":"IF('教育訓練費入力（今期）'!$F873=\"\",\"\",IF('教育訓練費入力（今期）'!$G873=1,'教育訓練費入力（今期）'!$F873,'教育訓練費入力（今期）'!$F873&\"他\"&'教育訓練費入力（今期）'!$G873-1&\"名\"))","v":""}]
[null,865,null,null,null,null,null,null,null,null,{"$f":"IF('教育訓練費入力（今期）'!$C874=\"\",\"\",TEXT('教育訓練費入力（今期）'!$C874,\"yyyy年\")&TEXT('教育訓練費入力（今期）'!$C874,\"m月\")&TEXT('教育訓練費入力（今期）'!$C874,\"ｄ日\")&\"から\"&'教育訓練費入力（今期）'!$D874&\"日間\")","v":""},{"$f":"IF('教育訓練費入力（今期）'!$F874=\"\",\"\",IF('教育訓練費入力（今期）'!$G874=1,'教育訓練費入力（今期）'!$F874,'教育訓練費入力（今期）'!$F874&\"他\"&'教育訓練費入力（今期）'!$G874-1&\"名\"))","v":""}]
[null,866,null,null,null,null,null,null,null,null,{"$f":"IF('教育訓練費入力（今期）'!$C875=\"\",\"\",TEXT('教育訓練費入力（今期）'!$C875,\"yyyy年\")&TEXT('教育訓練費入力（今期）'!$C875,\"m月\")&TEXT('教育訓練費入力（今期）'!$C875,\"ｄ日\")&\"から\"&'教育訓練費入力（今期）'!$D875&\"日間\")","v":""},{"$f":"IF('教育訓練費入力（今期）'!$F875=\"\",\"\",IF('教育訓練費入力（今期）'!$G875=1,'教育訓練費入力（今期）'!$F875,'教育訓練費入力（今期）'!$F875&\"他\"&'教育訓練費入力（今期）'!$G875-1&\"名\"))","v":""}]
[null,867,null,null,null,null,null,null,null,null,{"$f":"IF('教育訓練費入力（今期）'!$C876=\"\",\"\",TEXT('教育訓練費入力（今期）'!$C876,\"yyyy年\")&TEXT('教育訓練費入力（今期）'!$C876,\"m月\")&TEXT('教育訓練費入力（今期）'!$C876,\"ｄ日\")&\"から\"&'教育訓練費入力（今期）'!$D876&\"日間\")","v":""},{"$f":"IF('教育訓練費入力（今期）'!$F876=\"\",\"\",IF('教育訓練費入力（今期）'!$G876=1,'教育訓練費入力（今期）'!$F876,'教育訓練費入力（今期）'!$F876&\"他\"&'教育訓練費入力（今期）'!$G876-1&\"名\"))","v":""}]
[null,868,null,null,null,null,null,null,null,null,{"$f":"IF('教育訓練費入力（今期）'!$C877=\"\",\"\",TEXT('教育訓練費入力（今期）'!$C877,\"yyyy年\")&TEXT('教育訓練費入力（今期）'!$C877,\"m月\")&TEXT('教育訓練費入力（今期）'!$C877,\"ｄ日\")&\"から\"&'教育訓練費入力（今期）'!$D877&\"日間\")","v":""},{"$f":"IF('教育訓練費入力（今期）'!$F877=\"\",\"\",IF('教育訓練費入力（今期）'!$G877=1,'教育訓練費入力（今期）'!$F877,'教育訓練費入力（今期）'!$F877&\"他\"&'教育訓練費入力（今期）'!$G877-1&\"名\"))","v":""}]
[null,869,null,null,null,null,null,null,null,null,{"$f":"IF('教育訓練費入力（今期）'!$C878=\"\",\"\",TEXT('教育訓練費入力（今期）'!$C878,\"yyyy年\")&TEXT('教育訓練費入力（今期）'!$C878,\"m月\")&TEXT('教育訓練費入力（今期）'!$C878,\"ｄ日\")&\"から\"&'教育訓練費入力（今期）'!$D878&\"日間\")","v":""},{"$f":"IF('教育訓練費入力（今期）'!$F878=\"\",\"\",IF('教育訓練費入力（今期）'!$G878=1,'教育訓練費入力（今期）'!$F878,'教育訓練費入力（今期）'!$F878&\"他\"&'教育訓練費入力（今期）'!$G878-1&\"名\"))","v":""}]
[null,870,null,null,null,null,null,null,null,null,{"$f":"IF('教育訓練費入力（今期）'!$C879=\"\",\"\",TEXT('教育訓練費入力（今期）'!$C879,\"yyyy年\")&TEXT('教育訓練費入力（今期）'!$C879,\"m月\")&TEXT('教育訓練費入力（今期）'!$C879,\"ｄ日\")&\"から\"&'教育訓練費入力（今期）'!$D879&\"日間\")","v":""},{"$f":"IF('教育訓練費入力（今期）'!$F879=\"\",\"\",IF('教育訓練費入力（今期）'!$G879=1,'教育訓練費入力（今期）'!$F879,'教育訓練費入力（今期）'!$F879&\"他\"&'教育訓練費入力（今期）'!$G879-1&\"名\"))","v":""}]
[null,871,null,null,null,null,null,null,null,null,{"$f":"IF('教育訓練費入力（今期）'!$C880=\"\",\"\",TEXT('教育訓練費入力（今期）'!$C880,\"yyyy年\")&TEXT('教育訓練費入力（今期）'!$C880,\"m月\")&TEXT('教育訓練費入力（今期）'!$C880,\"ｄ日\")&\"から\"&'教育訓練費入力（今期）'!$D880&\"日間\")","v":""},{"$f":"IF('教育訓練費入力（今期）'!$F880=\"\",\"\",IF('教育訓練費入力（今期）'!$G880=1,'教育訓練費入力（今期）'!$F880,'教育訓練費入力（今期）'!$F880&\"他\"&'教育訓練費入力（今期）'!$G880-1&\"名\"))","v":""}]
[null,872,null,null,null,null,null,null,null,null,{"$f":"IF('教育訓練費入力（今期）'!$C881=\"\",\"\",TEXT('教育訓練費入力（今期）'!$C881,\"yyyy年\")&TEXT('教育訓練費入力（今期）'!$C881,\"m月\")&TEXT('教育訓練費入力（今期）'!$C881,\"ｄ日\")&\"から\"&'教育訓練費入力（今期）'!$D881&\"日間\")","v":""},{"$f":"IF('教育訓練費入力（今期）'!$F881=\"\",\"\",IF('教育訓練費入力（今期）'!$G881=1,'教育訓練費入力（今期）'!$F881,'教育訓練費入力（今期）'!$F881&\"他\"&'教育訓練費入力（今期）'!$G881-1&\"名\"))","v":""}]
[null,873,null,null,null,null,null,null,null,null,{"$f":"IF('教育訓練費入力（今期）'!$C882=\"\",\"\",TEXT('教育訓練費入力（今期）'!$C882,\"yyyy年\")&TEXT('教育訓練費入力（今期）'!$C882,\"m月\")&TEXT('教育訓練費入力（今期）'!$C882,\"ｄ日\")&\"から\"&'教育訓練費入力（今期）'!$D882&\"日間\")","v":""},{"$f":"IF('教育訓練費入力（今期）'!$F882=\"\",\"\",IF('教育訓練費入力（今期）'!$G882=1,'教育訓練費入力（今期）'!$F882,'教育訓練費入力（今期）'!$F882&\"他\"&'教育訓練費入力（今期）'!$G882-1&\"名\"))","v":""}]
[null,874,null,null,null,null,null,null,null,null,{"$f":"IF('教育訓練費入力（今期）'!$C883=\"\",\"\",TEXT('教育訓練費入力（今期）'!$C883,\"yyyy年\")&TEXT('教育訓練費入力（今期）'!$C883,\"m月\")&TEXT('教育訓練費入力（今期）'!$C883,\"ｄ日\")&\"から\"&'教育訓練費入力（今期）'!$D883&\"日間\")","v":""},{"$f":"IF('教育訓練費入力（今期）'!$F883=\"\",\"\",IF('教育訓練費入力（今期）'!$G883=1,'教育訓練費入力（今期）'!$F883,'教育訓練費入力（今期）'!$F883&\"他\"&'教育訓練費入力（今期）'!$G883-1&\"名\"))","v":""}]
[null,875,null,null,null,null,null,null,null,null,{"$f":"IF('教育訓練費入力（今期）'!$C884=\"\",\"\",TEXT('教育訓練費入力（今期）'!$C884,\"yyyy年\")&TEXT('教育訓練費入力（今期）'!$C884,\"m月\")&TEXT('教育訓練費入力（今期）'!$C884,\"ｄ日\")&\"から\"&'教育訓練費入力（今期）'!$D884&\"日間\")","v":""},{"$f":"IF('教育訓練費入力（今期）'!$F884=\"\",\"\",IF('教育訓練費入力（今期）'!$G884=1,'教育訓練費入力（今期）'!$F884,'教育訓練費入力（今期）'!$F884&\"他\"&'教育訓練費入力（今期）'!$G884-1&\"名\"))","v":""}]
[null,876,null,null,null,null,null,null,null,null,{"$f":"IF('教育訓練費入力（今期）'!$C885=\"\",\"\",TEXT('教育訓練費入力（今期）'!$C885,\"yyyy年\")&TEXT('教育訓練費入力（今期）'!$C885,\"m月\")&TEXT('教育訓練費入力（今期）'!$C885,\"ｄ日\")&\"から\"&'教育訓練費入力（今期）'!$D885&\"日間\")","v":""},{"$f":"IF('教育訓練費入力（今期）'!$F885=\"\",\"\",IF('教育訓練費入力（今期）'!$G885=1,'教育訓練費入力（今期）'!$F885,'教育訓練費入力（今期）'!$F885&\"他\"&'教育訓練費入力（今期）'!$G885-1&\"名\"))","v":""}]
[null,877,null,null,null,null,null,null,null,null,{"$f":"IF('教育訓練費入力（今期）'!$C886=\"\",\"\",TEXT('教育訓練費入力（今期）'!$C886,\"yyyy年\")&TEXT('教育訓練費入力（今期）'!$C886,\"m月\")&TEXT('教育訓練費入力（今期）'!$C886,\"ｄ日\")&\"から\"&'教育訓練費入力（今期）'!$D886&\"日間\")","v":""},{"$f":"IF('教育訓練費入力（今期）'!$F886=\"\",\"\",IF('教育訓練費入力（今期）'!$G886=1,'教育訓練費入力（今期）'!$F886,'教育訓練費入力（今期）'!$F886&\"他\"&'教育訓練費入力（今期）'!$G886-1&\"名\"))","v":""}]
[null,878,null,null,null,null,null,null,null,null,{"$f":"IF('教育訓練費入力（今期）'!$C887=\"\",\"\",TEXT('教育訓練費入力（今期）'!$C887,\"yyyy年\")&TEXT('教育訓練費入力（今期）'!$C887,\"m月\")&TEXT('教育訓練費入力（今期）'!$C887,\"ｄ日\")&\"から\"&'教育訓練費入力（今期）'!$D887&\"日間\")","v":""},{"$f":"IF('教育訓練費入力（今期）'!$F887=\"\",\"\",IF('教育訓練費入力（今期）'!$G887=1,'教育訓練費入力（今期）'!$F887,'教育訓練費入力（今期）'!$F887&\"他\"&'教育訓練費入力（今期）'!$G887-1&\"名\"))","v":""}]
[null,879,null,null,null,null,null,null,null,null,{"$f":"IF('教育訓練費入力（今期）'!$C888=\"\",\"\",TEXT('教育訓練費入力（今期）'!$C888,\"yyyy年\")&TEXT('教育訓練費入力（今期）'!$C888,\"m月\")&TEXT('教育訓練費入力（今期）'!$C888,\"ｄ日\")&\"から\"&'教育訓練費入力（今期）'!$D888&\"日間\")","v":""},{"$f":"IF('教育訓練費入力（今期）'!$F888=\"\",\"\",IF('教育訓練費入力（今期）'!$G888=1,'教育訓練費入力（今期）'!$F888,'教育訓練費入力（今期）'!$F888&\"他\"&'教育訓練費入力（今期）'!$G888-1&\"名\"))","v":""}]
[null,880,null,null,null,null,null,null,null,null,{"$f":"IF('教育訓練費入力（今期）'!$C889=\"\",\"\",TEXT('教育訓練費入力（今期）'!$C889,\"yyyy年\")&TEXT('教育訓練費入力（今期）'!$C889,\"m月\")&TEXT('教育訓練費入力（今期）'!$C889,\"ｄ日\")&\"から\"&'教育訓練費入力（今期）'!$D889&\"日間\")","v":""},{"$f":"IF('教育訓練費入力（今期）'!$F889=\"\",\"\",IF('教育訓練費入力（今期）'!$G889=1,'教育訓練費入力（今期）'!$F889,'教育訓練費入力（今期）'!$F889&\"他\"&'教育訓練費入力（今期）'!$G889-1&\"名\"))","v":""}]
[null,881,null,null,null,null,null,null,null,null,{"$f":"IF('教育訓練費入力（今期）'!$C890=\"\",\"\",TEXT('教育訓練費入力（今期）'!$C890,\"yyyy年\")&TEXT('教育訓練費入力（今期）'!$C890,\"m月\")&TEXT('教育訓練費入力（今期）'!$C890,\"ｄ日\")&\"から\"&'教育訓練費入力（今期）'!$D890&\"日間\")","v":""},{"$f":"IF('教育訓練費入力（今期）'!$F890=\"\",\"\",IF('教育訓練費入力（今期）'!$G890=1,'教育訓練費入力（今期）'!$F890,'教育訓練費入力（今期）'!$F890&\"他\"&'教育訓練費入力（今期）'!$G890-1&\"名\"))","v":""}]
[null,882,null,null,null,null,null,null,null,null,{"$f":"IF('教育訓練費入力（今期）'!$C891=\"\",\"\",TEXT('教育訓練費入力（今期）'!$C891,\"yyyy年\")&TEXT('教育訓練費入力（今期）'!$C891,\"m月\")&TEXT('教育訓練費入力（今期）'!$C891,\"ｄ日\")&\"から\"&'教育訓練費入力（今期）'!$D891&\"日間\")","v":""},{"$f":"IF('教育訓練費入力（今期）'!$F891=\"\",\"\",IF('教育訓練費入力（今期）'!$G891=1,'教育訓練費入力（今期）'!$F891,'教育訓練費入力（今期）'!$F891&\"他\"&'教育訓練費入力（今期）'!$G891-1&\"名\"))","v":""}]
[null,883,null,null,null,null,null,null,null,null,{"$f":"IF('教育訓練費入力（今期）'!$C892=\"\",\"\",TEXT('教育訓練費入力（今期）'!$C892,\"yyyy年\")&TEXT('教育訓練費入力（今期）'!$C892,\"m月\")&TEXT('教育訓練費入力（今期）'!$C892,\"ｄ日\")&\"から\"&'教育訓練費入力（今期）'!$D892&\"日間\")","v":""},{"$f":"IF('教育訓練費入力（今期）'!$F892=\"\",\"\",IF('教育訓練費入力（今期）'!$G892=1,'教育訓練費入力（今期）'!$F892,'教育訓練費入力（今期）'!$F892&\"他\"&'教育訓練費入力（今期）'!$G892-1&\"名\"))","v":""}]
[null,884,null,null,null,null,null,null,null,null,{"$f":"IF('教育訓練費入力（今期）'!$C893=\"\",\"\",TEXT('教育訓練費入力（今期）'!$C893,\"yyyy年\")&TEXT('教育訓練費入力（今期）'!$C893,\"m月\")&TEXT('教育訓練費入力（今期）'!$C893,\"ｄ日\")&\"から\"&'教育訓練費入力（今期）'!$D893&\"日間\")","v":""},{"$f":"IF('教育訓練費入力（今期）'!$F893=\"\",\"\",IF('教育訓練費入力（今期）'!$G893=1,'教育訓練費入力（今期）'!$F893,'教育訓練費入力（今期）'!$F893&\"他\"&'教育訓練費入力（今期）'!$G893-1&\"名\"))","v":""}]
[null,885,null,null,null,null,null,null,null,null,{"$f":"IF('教育訓練費入力（今期）'!$C894=\"\",\"\",TEXT('教育訓練費入力（今期）'!$C894,\"yyyy年\")&TEXT('教育訓練費入力（今期）'!$C894,\"m月\")&TEXT('教育訓練費入力（今期）'!$C894,\"ｄ日\")&\"から\"&'教育訓練費入力（今期）'!$D894&\"日間\")","v":""},{"$f":"IF('教育訓練費入力（今期）'!$F894=\"\",\"\",IF('教育訓練費入力（今期）'!$G894=1,'教育訓練費入力（今期）'!$F894,'教育訓練費入力（今期）'!$F894&\"他\"&'教育訓練費入力（今期）'!$G894-1&\"名\"))","v":""}]
[null,886,null,null,null,null,null,null,null,null,{"$f":"IF('教育訓練費入力（今期）'!$C895=\"\",\"\",TEXT('教育訓練費入力（今期）'!$C895,\"yyyy年\")&TEXT('教育訓練費入力（今期）'!$C895,\"m月\")&TEXT('教育訓練費入力（今期）'!$C895,\"ｄ日\")&\"から\"&'教育訓練費入力（今期）'!$D895&\"日間\")","v":""},{"$f":"IF('教育訓練費入力（今期）'!$F895=\"\",\"\",IF('教育訓練費入力（今期）'!$G895=1,'教育訓練費入力（今期）'!$F895,'教育訓練費入力（今期）'!$F895&\"他\"&'教育訓練費入力（今期）'!$G895-1&\"名\"))","v":""}]
[null,887,null,null,null,null,null,null,null,null,{"$f":"IF('教育訓練費入力（今期）'!$C896=\"\",\"\",TEXT('教育訓練費入力（今期）'!$C896,\"yyyy年\")&TEXT('教育訓練費入力（今期）'!$C896,\"m月\")&TEXT('教育訓練費入力（今期）'!$C896,\"ｄ日\")&\"から\"&'教育訓練費入力（今期）'!$D896&\"日間\")","v":""},{"$f":"IF('教育訓練費入力（今期）'!$F896=\"\",\"\",IF('教育訓練費入力（今期）'!$G896=1,'教育訓練費入力（今期）'!$F896,'教育訓練費入力（今期）'!$F896&\"他\"&'教育訓練費入力（今期）'!$G896-1&\"名\"))","v":""}]
[null,888,null,null,null,null,null,null,null,null,{"$f":"IF('教育訓練費入力（今期）'!$C897=\"\",\"\",TEXT('教育訓練費入力（今期）'!$C897,\"yyyy年\")&TEXT('教育訓練費入力（今期）'!$C897,\"m月\")&TEXT('教育訓練費入力（今期）'!$C897,\"ｄ日\")&\"から\"&'教育訓練費入力（今期）'!$D897&\"日間\")","v":""},{"$f":"IF('教育訓練費入力（今期）'!$F897=\"\",\"\",IF('教育訓練費入力（今期）'!$G897=1,'教育訓練費入力（今期）'!$F897,'教育訓練費入力（今期）'!$F897&\"他\"&'教育訓練費入力（今期）'!$G897-1&\"名\"))","v":""}]
[null,889,null,null,null,null,null,null,null,null,{"$f":"IF('教育訓練費入力（今期）'!$C898=\"\",\"\",TEXT('教育訓練費入力（今期）'!$C898,\"yyyy年\")&TEXT('教育訓練費入力（今期）'!$C898,\"m月\")&TEXT('教育訓練費入力（今期）'!$C898,\"ｄ日\")&\"から\"&'教育訓練費入力（今期）'!$D898&\"日間\")","v":""},{"$f":"IF('教育訓練費入力（今期）'!$F898=\"\",\"\",IF('教育訓練費入力（今期）'!$G898=1,'教育訓練費入力（今期）'!$F898,'教育訓練費入力（今期）'!$F898&\"他\"&'教育訓練費入力（今期）'!$G898-1&\"名\"))","v":""}]
[null,890,null,null,null,null,null,null,null,null,{"$f":"IF('教育訓練費入力（今期）'!$C899=\"\",\"\",TEXT('教育訓練費入力（今期）'!$C899,\"yyyy年\")&TEXT('教育訓練費入力（今期）'!$C899,\"m月\")&TEXT('教育訓練費入力（今期）'!$C899,\"ｄ日\")&\"から\"&'教育訓練費入力（今期）'!$D899&\"日間\")","v":""},{"$f":"IF('教育訓練費入力（今期）'!$F899=\"\",\"\",IF('教育訓練費入力（今期）'!$G899=1,'教育訓練費入力（今期）'!$F899,'教育訓練費入力（今期）'!$F899&\"他\"&'教育訓練費入力（今期）'!$G899-1&\"名\"))","v":""}]
[null,891,null,null,null,null,null,null,null,null,{"$f":"IF('教育訓練費入力（今期）'!$C900=\"\",\"\",TEXT('教育訓練費入力（今期）'!$C900,\"yyyy年\")&TEXT('教育訓練費入力（今期）'!$C900,\"m月\")&TEXT('教育訓練費入力（今期）'!$C900,\"ｄ日\")&\"から\"&'教育訓練費入力（今期）'!$D900&\"日間\")","v":""},{"$f":"IF('教育訓練費入力（今期）'!$F900=\"\",\"\",IF('教育訓練費入力（今期）'!$G900=1,'教育訓練費入力（今期）'!$F900,'教育訓練費入力（今期）'!$F900&\"他\"&'教育訓練費入力（今期）'!$G900-1&\"名\"))","v":""}]
[null,892,null,null,null,null,null,null,null,null,{"$f":"IF('教育訓練費入力（今期）'!$C901=\"\",\"\",TEXT('教育訓練費入力（今期）'!$C901,\"yyyy年\")&TEXT('教育訓練費入力（今期）'!$C901,\"m月\")&TEXT('教育訓練費入力（今期）'!$C901,\"ｄ日\")&\"から\"&'教育訓練費入力（今期）'!$D901&\"日間\")","v":""},{"$f":"IF('教育訓練費入力（今期）'!$F901=\"\",\"\",IF('教育訓練費入力（今期）'!$G901=1,'教育訓練費入力（今期）'!$F901,'教育訓練費入力（今期）'!$F901&\"他\"&'教育訓練費入力（今期）'!$G901-1&\"名\"))","v":""}]
[null,893,null,null,null,null,null,null,null,null,{"$f":"IF('教育訓練費入力（今期）'!$C902=\"\",\"\",TEXT('教育訓練費入力（今期）'!$C902,\"yyyy年\")&TEXT('教育訓練費入力（今期）'!$C902,\"m月\")&TEXT('教育訓練費入力（今期）'!$C902,\"ｄ日\")&\"から\"&'教育訓練費入力（今期）'!$D902&\"日間\")","v":""},{"$f":"IF('教育訓練費入力（今期）'!$F902=\"\",\"\",IF('教育訓練費入力（今期）'!$G902=1,'教育訓練費入力（今期）'!$F902,'教育訓練費入力（今期）'!$F902&\"他\"&'教育訓練費入力（今期）'!$G902-1&\"名\"))","v":""}]
[null,894,null,null,null,null,null,null,null,null,{"$f":"IF('教育訓練費入力（今期）'!$C903=\"\",\"\",TEXT('教育訓練費入力（今期）'!$C903,\"yyyy年\")&TEXT('教育訓練費入力（今期）'!$C903,\"m月\")&TEXT('教育訓練費入力（今期）'!$C903,\"ｄ日\")&\"から\"&'教育訓練費入力（今期）'!$D903&\"日間\")","v":""},{"$f":"IF('教育訓練費入力（今期）'!$F903=\"\",\"\",IF('教育訓練費入力（今期）'!$G903=1,'教育訓練費入力（今期）'!$F903,'教育訓練費入力（今期）'!$F903&\"他\"&'教育訓練費入力（今期）'!$G903-1&\"名\"))","v":""}]
[null,895,null,null,null,null,null,null,null,null,{"$f":"IF('教育訓練費入力（今期）'!$C904=\"\",\"\",TEXT('教育訓練費入力（今期）'!$C904,\"yyyy年\")&TEXT('教育訓練費入力（今期）'!$C904,\"m月\")&TEXT('教育訓練費入力（今期）'!$C904,\"ｄ日\")&\"から\"&'教育訓練費入力（今期）'!$D904&\"日間\")","v":""},{"$f":"IF('教育訓練費入力（今期）'!$F904=\"\",\"\",IF('教育訓練費入力（今期）'!$G904=1,'教育訓練費入力（今期）'!$F904,'教育訓練費入力（今期）'!$F904&\"他\"&'教育訓練費入力（今期）'!$G904-1&\"名\"))","v":""}]
[null,896,null,null,null,null,null,null,null,null,{"$f":"IF('教育訓練費入力（今期）'!$C905=\"\",\"\",TEXT('教育訓練費入力（今期）'!$C905,\"yyyy年\")&TEXT('教育訓練費入力（今期）'!$C905,\"m月\")&TEXT('教育訓練費入力（今期）'!$C905,\"ｄ日\")&\"から\"&'教育訓練費入力（今期）'!$D905&\"日間\")","v":""},{"$f":"IF('教育訓練費入力（今期）'!$F905=\"\",\"\",IF('教育訓練費入力（今期）'!$G905=1,'教育訓練費入力（今期）'!$F905,'教育訓練費入力（今期）'!$F905&\"他\"&'教育訓練費入力（今期）'!$G905-1&\"名\"))","v":""}]
[null,897,null,null,null,null,null,null,null,null,{"$f":"IF('教育訓練費入力（今期）'!$C906=\"\",\"\",TEXT('教育訓練費入力（今期）'!$C906,\"yyyy年\")&TEXT('教育訓練費入力（今期）'!$C906,\"m月\")&TEXT('教育訓練費入力（今期）'!$C906,\"ｄ日\")&\"から\"&'教育訓練費入力（今期）'!$D906&\"日間\")","v":""},{"$f":"IF('教育訓練費入力（今期）'!$F906=\"\",\"\",IF('教育訓練費入力（今期）'!$G906=1,'教育訓練費入力（今期）'!$F906,'教育訓練費入力（今期）'!$F906&\"他\"&'教育訓練費入力（今期）'!$G906-1&\"名\"))","v":""}]
[null,898,null,null,null,null,null,null,null,null,{"$f":"IF('教育訓練費入力（今期）'!$C907=\"\",\"\",TEXT('教育訓練費入力（今期）'!$C907,\"yyyy年\")&TEXT('教育訓練費入力（今期）'!$C907,\"m月\")&TEXT('教育訓練費入力（今期）'!$C907,\"ｄ日\")&\"から\"&'教育訓練費入力（今期）'!$D907&\"日間\")","v":""},{"$f":"IF('教育訓練費入力（今期）'!$F907=\"\",\"\",IF('教育訓練費入力（今期）'!$G907=1,'教育訓練費入力（今期）'!$F907,'教育訓練費入力（今期）'!$F907&\"他\"&'教育訓練費入力（今期）'!$G907-1&\"名\"))","v":""}]
[null,899,null,null,null,null,null,null,null,null,{"$f":"IF('教育訓練費入力（今期）'!$C908=\"\",\"\",TEXT('教育訓練費入力（今期）'!$C908,\"yyyy年\")&TEXT('教育訓練費入力（今期）'!$C908,\"m月\")&TEXT('教育訓練費入力（今期）'!$C908,\"ｄ日\")&\"から\"&'教育訓練費入力（今期）'!$D908&\"日間\")","v":""},{"$f":"IF('教育訓練費入力（今期）'!$F908=\"\",\"\",IF('教育訓練費入力（今期）'!$G908=1,'教育訓練費入力（今期）'!$F908,'教育訓練費入力（今期）'!$F908&\"他\"&'教育訓練費入力（今期）'!$G908-1&\"名\"))","v":""}]
[null,900,null,null,null,null,null,null,null,null,{"$f":"IF('教育訓練費入力（今期）'!$C909=\"\",\"\",TEXT('教育訓練費入力（今期）'!$C909,\"yyyy年\")&TEXT('教育訓練費入力（今期）'!$C909,\"m月\")&TEXT('教育訓練費入力（今期）'!$C909,\"ｄ日\")&\"から\"&'教育訓練費入力（今期）'!$D909&\"日間\")","v":""},{"$f":"IF('教育訓練費入力（今期）'!$F909=\"\",\"\",IF('教育訓練費入力（今期）'!$G909=1,'教育訓練費入力（今期）'!$F909,'教育訓練費入力（今期）'!$F909&\"他\"&'教育訓練費入力（今期）'!$G909-1&\"名\"))","v":""}]
[null,901,null,null,null,null,null,null,null,null,{"$f":"IF('教育訓練費入力（今期）'!$C910=\"\",\"\",TEXT('教育訓練費入力（今期）'!$C910,\"yyyy年\")&TEXT('教育訓練費入力（今期）'!$C910,\"m月\")&TEXT('教育訓練費入力（今期）'!$C910,\"ｄ日\")&\"から\"&'教育訓練費入力（今期）'!$D910&\"日間\")","v":""},{"$f":"IF('教育訓練費入力（今期）'!$F910=\"\",\"\",IF('教育訓練費入力（今期）'!$G910=1,'教育訓練費入力（今期）'!$F910,'教育訓練費入力（今期）'!$F910&\"他\"&'教育訓練費入力（今期）'!$G910-1&\"名\"))","v":""}]
[null,902,null,null,null,null,null,null,null,null,{"$f":"IF('教育訓練費入力（今期）'!$C911=\"\",\"\",TEXT('教育訓練費入力（今期）'!$C911,\"yyyy年\")&TEXT('教育訓練費入力（今期）'!$C911,\"m月\")&TEXT('教育訓練費入力（今期）'!$C911,\"ｄ日\")&\"から\"&'教育訓練費入力（今期）'!$D911&\"日間\")","v":""},{"$f":"IF('教育訓練費入力（今期）'!$F911=\"\",\"\",IF('教育訓練費入力（今期）'!$G911=1,'教育訓練費入力（今期）'!$F911,'教育訓練費入力（今期）'!$F911&\"他\"&'教育訓練費入力（今期）'!$G911-1&\"名\"))","v":""}]
[null,903,null,null,null,null,null,null,null,null,{"$f":"IF('教育訓練費入力（今期）'!$C912=\"\",\"\",TEXT('教育訓練費入力（今期）'!$C912,\"yyyy年\")&TEXT('教育訓練費入力（今期）'!$C912,\"m月\")&TEXT('教育訓練費入力（今期）'!$C912,\"ｄ日\")&\"から\"&'教育訓練費入力（今期）'!$D912&\"日間\")","v":""},{"$f":"IF('教育訓練費入力（今期）'!$F912=\"\",\"\",IF('教育訓練費入力（今期）'!$G912=1,'教育訓練費入力（今期）'!$F912,'教育訓練費入力（今期）'!$F912&\"他\"&'教育訓練費入力（今期）'!$G912-1&\"名\"))","v":""}]
[null,904,null,null,null,null,null,null,null,null,{"$f":"IF('教育訓練費入力（今期）'!$C913=\"\",\"\",TEXT('教育訓練費入力（今期）'!$C913,\"yyyy年\")&TEXT('教育訓練費入力（今期）'!$C913,\"m月\")&TEXT('教育訓練費入力（今期）'!$C913,\"ｄ日\")&\"から\"&'教育訓練費入力（今期）'!$D913&\"日間\")","v":""},{"$f":"IF('教育訓練費入力（今期）'!$F913=\"\",\"\",IF('教育訓練費入力（今期）'!$G913=1,'教育訓練費入力（今期）'!$F913,'教育訓練費入力（今期）'!$F913&\"他\"&'教育訓練費入力（今期）'!$G913-1&\"名\"))","v":""}]
[null,905,null,null,null,null,null,null,null,null,{"$f":"IF('教育訓練費入力（今期）'!$C914=\"\",\"\",TEXT('教育訓練費入力（今期）'!$C914,\"yyyy年\")&TEXT('教育訓練費入力（今期）'!$C914,\"m月\")&TEXT('教育訓練費入力（今期）'!$C914,\"ｄ日\")&\"から\"&'教育訓練費入力（今期）'!$D914&\"日間\")","v":""},{"$f":"IF('教育訓練費入力（今期）'!$F914=\"\",\"\",IF('教育訓練費入力（今期）'!$G914=1,'教育訓練費入力（今期）'!$F914,'教育訓練費入力（今期）'!$F914&\"他\"&'教育訓練費入力（今期）'!$G914-1&\"名\"))","v":""}]
[null,906,null,null,null,null,null,null,null,null,{"$f":"IF('教育訓練費入力（今期）'!$C915=\"\",\"\",TEXT('教育訓練費入力（今期）'!$C915,\"yyyy年\")&TEXT('教育訓練費入力（今期）'!$C915,\"m月\")&TEXT('教育訓練費入力（今期）'!$C915,\"ｄ日\")&\"から\"&'教育訓練費入力（今期）'!$D915&\"日間\")","v":""},{"$f":"IF('教育訓練費入力（今期）'!$F915=\"\",\"\",IF('教育訓練費入力（今期）'!$G915=1,'教育訓練費入力（今期）'!$F915,'教育訓練費入力（今期）'!$F915&\"他\"&'教育訓練費入力（今期）'!$G915-1&\"名\"))","v":""}]
[null,907,null,null,null,null,null,null,null,null,{"$f":"IF('教育訓練費入力（今期）'!$C916=\"\",\"\",TEXT('教育訓練費入力（今期）'!$C916,\"yyyy年\")&TEXT('教育訓練費入力（今期）'!$C916,\"m月\")&TEXT('教育訓練費入力（今期）'!$C916,\"ｄ日\")&\"から\"&'教育訓練費入力（今期）'!$D916&\"日間\")","v":""},{"$f":"IF('教育訓練費入力（今期）'!$F916=\"\",\"\",IF('教育訓練費入力（今期）'!$G916=1,'教育訓練費入力（今期）'!$F916,'教育訓練費入力（今期）'!$F916&\"他\"&'教育訓練費入力（今期）'!$G916-1&\"名\"))","v":""}]
[null,908,null,null,null,null,null,null,null,null,{"$f":"IF('教育訓練費入力（今期）'!$C917=\"\",\"\",TEXT('教育訓練費入力（今期）'!$C917,\"yyyy年\")&TEXT('教育訓練費入力（今期）'!$C917,\"m月\")&TEXT('教育訓練費入力（今期）'!$C917,\"ｄ日\")&\"から\"&'教育訓練費入力（今期）'!$D917&\"日間\")","v":""},{"$f":"IF('教育訓練費入力（今期）'!$F917=\"\",\"\",IF('教育訓練費入力（今期）'!$G917=1,'教育訓練費入力（今期）'!$F917,'教育訓練費入力（今期）'!$F917&\"他\"&'教育訓練費入力（今期）'!$G917-1&\"名\"))","v":""}]
[null,909,null,null,null,null,null,null,null,null,{"$f":"IF('教育訓練費入力（今期）'!$C918=\"\",\"\",TEXT('教育訓練費入力（今期）'!$C918,\"yyyy年\")&TEXT('教育訓練費入力（今期）'!$C918,\"m月\")&TEXT('教育訓練費入力（今期）'!$C918,\"ｄ日\")&\"から\"&'教育訓練費入力（今期）'!$D918&\"日間\")","v":""},{"$f":"IF('教育訓練費入力（今期）'!$F918=\"\",\"\",IF('教育訓練費入力（今期）'!$G918=1,'教育訓練費入力（今期）'!$F918,'教育訓練費入力（今期）'!$F918&\"他\"&'教育訓練費入力（今期）'!$G918-1&\"名\"))","v":""}]
[null,910,null,null,null,null,null,null,null,null,{"$f":"IF('教育訓練費入力（今期）'!$C919=\"\",\"\",TEXT('教育訓練費入力（今期）'!$C919,\"yyyy年\")&TEXT('教育訓練費入力（今期）'!$C919,\"m月\")&TEXT('教育訓練費入力（今期）'!$C919,\"ｄ日\")&\"から\"&'教育訓練費入力（今期）'!$D919&\"日間\")","v":""},{"$f":"IF('教育訓練費入力（今期）'!$F919=\"\",\"\",IF('教育訓練費入力（今期）'!$G919=1,'教育訓練費入力（今期）'!$F919,'教育訓練費入力（今期）'!$F919&\"他\"&'教育訓練費入力（今期）'!$G919-1&\"名\"))","v":""}]
[null,911,null,null,null,null,null,null,null,null,{"$f":"IF('教育訓練費入力（今期）'!$C920=\"\",\"\",TEXT('教育訓練費入力（今期）'!$C920,\"yyyy年\")&TEXT('教育訓練費入力（今期）'!$C920,\"m月\")&TEXT('教育訓練費入力（今期）'!$C920,\"ｄ日\")&\"から\"&'教育訓練費入力（今期）'!$D920&\"日間\")","v":""},{"$f":"IF('教育訓練費入力（今期）'!$F920=\"\",\"\",IF('教育訓練費入力（今期）'!$G920=1,'教育訓練費入力（今期）'!$F920,'教育訓練費入力（今期）'!$F920&\"他\"&'教育訓練費入力（今期）'!$G920-1&\"名\"))","v":""}]
[null,912,null,null,null,null,null,null,null,null,{"$f":"IF('教育訓練費入力（今期）'!$C921=\"\",\"\",TEXT('教育訓練費入力（今期）'!$C921,\"yyyy年\")&TEXT('教育訓練費入力（今期）'!$C921,\"m月\")&TEXT('教育訓練費入力（今期）'!$C921,\"ｄ日\")&\"から\"&'教育訓練費入力（今期）'!$D921&\"日間\")","v":""},{"$f":"IF('教育訓練費入力（今期）'!$F921=\"\",\"\",IF('教育訓練費入力（今期）'!$G921=1,'教育訓練費入力（今期）'!$F921,'教育訓練費入力（今期）'!$F921&\"他\"&'教育訓練費入力（今期）'!$G921-1&\"名\"))","v":""}]
[null,913,null,null,null,null,null,null,null,null,{"$f":"IF('教育訓練費入力（今期）'!$C922=\"\",\"\",TEXT('教育訓練費入力（今期）'!$C922,\"yyyy年\")&TEXT('教育訓練費入力（今期）'!$C922,\"m月\")&TEXT('教育訓練費入力（今期）'!$C922,\"ｄ日\")&\"から\"&'教育訓練費入力（今期）'!$D922&\"日間\")","v":""},{"$f":"IF('教育訓練費入力（今期）'!$F922=\"\",\"\",IF('教育訓練費入力（今期）'!$G922=1,'教育訓練費入力（今期）'!$F922,'教育訓練費入力（今期）'!$F922&\"他\"&'教育訓練費入力（今期）'!$G922-1&\"名\"))","v":""}]
[null,914,null,null,null,null,null,null,null,null,{"$f":"IF('教育訓練費入力（今期）'!$C923=\"\",\"\",TEXT('教育訓練費入力（今期）'!$C923,\"yyyy年\")&TEXT('教育訓練費入力（今期）'!$C923,\"m月\")&TEXT('教育訓練費入力（今期）'!$C923,\"ｄ日\")&\"から\"&'教育訓練費入力（今期）'!$D923&\"日間\")","v":""},{"$f":"IF('教育訓練費入力（今期）'!$F923=\"\",\"\",IF('教育訓練費入力（今期）'!$G923=1,'教育訓練費入力（今期）'!$F923,'教育訓練費入力（今期）'!$F923&\"他\"&'教育訓練費入力（今期）'!$G923-1&\"名\"))","v":""}]
[null,915,null,null,null,null,null,null,null,null,{"$f":"IF('教育訓練費入力（今期）'!$C924=\"\",\"\",TEXT('教育訓練費入力（今期）'!$C924,\"yyyy年\")&TEXT('教育訓練費入力（今期）'!$C924,\"m月\")&TEXT('教育訓練費入力（今期）'!$C924,\"ｄ日\")&\"から\"&'教育訓練費入力（今期）'!$D924&\"日間\")","v":""},{"$f":"IF('教育訓練費入力（今期）'!$F924=\"\",\"\",IF('教育訓練費入力（今期）'!$G924=1,'教育訓練費入力（今期）'!$F924,'教育訓練費入力（今期）'!$F924&\"他\"&'教育訓練費入力（今期）'!$G924-1&\"名\"))","v":""}]
[null,916,null,null,null,null,null,null,null,null,{"$f":"IF('教育訓練費入力（今期）'!$C925=\"\",\"\",TEXT('教育訓練費入力（今期）'!$C925,\"yyyy年\")&TEXT('教育訓練費入力（今期）'!$C925,\"m月\")&TEXT('教育訓練費入力（今期）'!$C925,\"ｄ日\")&\"から\"&'教育訓練費入力（今期）'!$D925&\"日間\")","v":""},{"$f":"IF('教育訓練費入力（今期）'!$F925=\"\",\"\",IF('教育訓練費入力（今期）'!$G925=1,'教育訓練費入力（今期）'!$F925,'教育訓練費入力（今期）'!$F925&\"他\"&'教育訓練費入力（今期）'!$G925-1&\"名\"))","v":""}]
[null,917,null,null,null,null,null,null,null,null,{"$f":"IF('教育訓練費入力（今期）'!$C926=\"\",\"\",TEXT('教育訓練費入力（今期）'!$C926,\"yyyy年\")&TEXT('教育訓練費入力（今期）'!$C926,\"m月\")&TEXT('教育訓練費入力（今期）'!$C926,\"ｄ日\")&\"から\"&'教育訓練費入力（今期）'!$D926&\"日間\")","v":""},{"$f":"IF('教育訓練費入力（今期）'!$F926=\"\",\"\",IF('教育訓練費入力（今期）'!$G926=1,'教育訓練費入力（今期）'!$F926,'教育訓練費入力（今期）'!$F926&\"他\"&'教育訓練費入力（今期）'!$G926-1&\"名\"))","v":""}]
[null,918,null,null,null,null,null,null,null,null,{"$f":"IF('教育訓練費入力（今期）'!$C927=\"\",\"\",TEXT('教育訓練費入力（今期）'!$C927,\"yyyy年\")&TEXT('教育訓練費入力（今期）'!$C927,\"m月\")&TEXT('教育訓練費入力（今期）'!$C927,\"ｄ日\")&\"から\"&'教育訓練費入力（今期）'!$D927&\"日間\")","v":""},{"$f":"IF('教育訓練費入力（今期）'!$F927=\"\",\"\",IF('教育訓練費入力（今期）'!$G927=1,'教育訓練費入力（今期）'!$F927,'教育訓練費入力（今期）'!$F927&\"他\"&'教育訓練費入力（今期）'!$G927-1&\"名\"))","v":""}]
[null,919,null,null,null,null,null,null,null,null,{"$f":"IF('教育訓練費入力（今期）'!$C928=\"\",\"\",TEXT('教育訓練費入力（今期）'!$C928,\"yyyy年\")&TEXT('教育訓練費入力（今期）'!$C928,\"m月\")&TEXT('教育訓練費入力（今期）'!$C928,\"ｄ日\")&\"から\"&'教育訓練費入力（今期）'!$D928&\"日間\")","v":""},{"$f":"IF('教育訓練費入力（今期）'!$F928=\"\",\"\",IF('教育訓練費入力（今期）'!$G928=1,'教育訓練費入力（今期）'!$F928,'教育訓練費入力（今期）'!$F928&\"他\"&'教育訓練費入力（今期）'!$G928-1&\"名\"))","v":""}]
[null,920,null,null,null,null,null,null,null,null,{"$f":"IF('教育訓練費入力（今期）'!$C929=\"\",\"\",TEXT('教育訓練費入力（今期）'!$C929,\"yyyy年\")&TEXT('教育訓練費入力（今期）'!$C929,\"m月\")&TEXT('教育訓練費入力（今期）'!$C929,\"ｄ日\")&\"から\"&'教育訓練費入力（今期）'!$D929&\"日間\")","v":""},{"$f":"IF('教育訓練費入力（今期）'!$F929=\"\",\"\",IF('教育訓練費入力（今期）'!$G929=1,'教育訓練費入力（今期）'!$F929,'教育訓練費入力（今期）'!$F929&\"他\"&'教育訓練費入力（今期）'!$G929-1&\"名\"))","v":""}]
[null,921,null,null,null,null,null,null,null,null,{"$f":"IF('教育訓練費入力（今期）'!$C930=\"\",\"\",TEXT('教育訓練費入力（今期）'!$C930,\"yyyy年\")&TEXT('教育訓練費入力（今期）'!$C930,\"m月\")&TEXT('教育訓練費入力（今期）'!$C930,\"ｄ日\")&\"から\"&'教育訓練費入力（今期）'!$D930&\"日間\")","v":""},{"$f":"IF('教育訓練費入力（今期）'!$F930=\"\",\"\",IF('教育訓練費入力（今期）'!$G930=1,'教育訓練費入力（今期）'!$F930,'教育訓練費入力（今期）'!$F930&\"他\"&'教育訓練費入力（今期）'!$G930-1&\"名\"))","v":""}]
[null,922,null,null,null,null,null,null,null,null,{"$f":"IF('教育訓練費入力（今期）'!$C931=\"\",\"\",TEXT('教育訓練費入力（今期）'!$C931,\"yyyy年\")&TEXT('教育訓練費入力（今期）'!$C931,\"m月\")&TEXT('教育訓練費入力（今期）'!$C931,\"ｄ日\")&\"から\"&'教育訓練費入力（今期）'!$D931&\"日間\")","v":""},{"$f":"IF('教育訓練費入力（今期）'!$F931=\"\",\"\",IF('教育訓練費入力（今期）'!$G931=1,'教育訓練費入力（今期）'!$F931,'教育訓練費入力（今期）'!$F931&\"他\"&'教育訓練費入力（今期）'!$G931-1&\"名\"))","v":""}]
[null,923,null,null,null,null,null,null,null,null,{"$f":"IF('教育訓練費入力（今期）'!$C932=\"\",\"\",TEXT('教育訓練費入力（今期）'!$C932,\"yyyy年\")&TEXT('教育訓練費入力（今期）'!$C932,\"m月\")&TEXT('教育訓練費入力（今期）'!$C932,\"ｄ日\")&\"から\"&'教育訓練費入力（今期）'!$D932&\"日間\")","v":""},{"$f":"IF('教育訓練費入力（今期）'!$F932=\"\",\"\",IF('教育訓練費入力（今期）'!$G932=1,'教育訓練費入力（今期）'!$F932,'教育訓練費入力（今期）'!$F932&\"他\"&'教育訓練費入力（今期）'!$G932-1&\"名\"))","v":""}]
[null,924,null,null,null,null,null,null,null,null,{"$f":"IF('教育訓練費入力（今期）'!$C933=\"\",\"\",TEXT('教育訓練費入力（今期）'!$C933,\"yyyy年\")&TEXT('教育訓練費入力（今期）'!$C933,\"m月\")&TEXT('教育訓練費入力（今期）'!$C933,\"ｄ日\")&\"から\"&'教育訓練費入力（今期）'!$D933&\"日間\")","v":""},{"$f":"IF('教育訓練費入力（今期）'!$F933=\"\",\"\",IF('教育訓練費入力（今期）'!$G933=1,'教育訓練費入力（今期）'!$F933,'教育訓練費入力（今期）'!$F933&\"他\"&'教育訓練費入力（今期）'!$G933-1&\"名\"))","v":""}]
[null,925,null,null,null,null,null,null,null,null,{"$f":"IF('教育訓練費入力（今期）'!$C934=\"\",\"\",TEXT('教育訓練費入力（今期）'!$C934,\"yyyy年\")&TEXT('教育訓練費入力（今期）'!$C934,\"m月\")&TEXT('教育訓練費入力（今期）'!$C934,\"ｄ日\")&\"から\"&'教育訓練費入力（今期）'!$D934&\"日間\")","v":""},{"$f":"IF('教育訓練費入力（今期）'!$F934=\"\",\"\",IF('教育訓練費入力（今期）'!$G934=1,'教育訓練費入力（今期）'!$F934,'教育訓練費入力（今期）'!$F934&\"他\"&'教育訓練費入力（今期）'!$G934-1&\"名\"))","v":""}]
[null,926,null,null,null,null,null,null,null,null,{"$f":"IF('教育訓練費入力（今期）'!$C935=\"\",\"\",TEXT('教育訓練費入力（今期）'!$C935,\"yyyy年\")&TEXT('教育訓練費入力（今期）'!$C935,\"m月\")&TEXT('教育訓練費入力（今期）'!$C935,\"ｄ日\")&\"から\"&'教育訓練費入力（今期）'!$D935&\"日間\")","v":""},{"$f":"IF('教育訓練費入力（今期）'!$F935=\"\",\"\",IF('教育訓練費入力（今期）'!$G935=1,'教育訓練費入力（今期）'!$F935,'教育訓練費入力（今期）'!$F935&\"他\"&'教育訓練費入力（今期）'!$G935-1&\"名\"))","v":""}]
[null,927,null,null,null,null,null,null,null,null,{"$f":"IF('教育訓練費入力（今期）'!$C936=\"\",\"\",TEXT('教育訓練費入力（今期）'!$C936,\"yyyy年\")&TEXT('教育訓練費入力（今期）'!$C936,\"m月\")&TEXT('教育訓練費入力（今期）'!$C936,\"ｄ日\")&\"から\"&'教育訓練費入力（今期）'!$D936&\"日間\")","v":""},{"$f":"IF('教育訓練費入力（今期）'!$F936=\"\",\"\",IF('教育訓練費入力（今期）'!$G936=1,'教育訓練費入力（今期）'!$F936,'教育訓練費入力（今期）'!$F936&\"他\"&'教育訓練費入力（今期）'!$G936-1&\"名\"))","v":""}]
[null,928,null,null,null,null,null,null,null,null,{"$f":"IF('教育訓練費入力（今期）'!$C937=\"\",\"\",TEXT('教育訓練費入力（今期）'!$C937,\"yyyy年\")&TEXT('教育訓練費入力（今期）'!$C937,\"m月\")&TEXT('教育訓練費入力（今期）'!$C937,\"ｄ日\")&\"から\"&'教育訓練費入力（今期）'!$D937&\"日間\")","v":""},{"$f":"IF('教育訓練費入力（今期）'!$F937=\"\",\"\",IF('教育訓練費入力（今期）'!$G937=1,'教育訓練費入力（今期）'!$F937,'教育訓練費入力（今期）'!$F937&\"他\"&'教育訓練費入力（今期）'!$G937-1&\"名\"))","v":""}]
[null,929,null,null,null,null,null,null,null,null,{"$f":"IF('教育訓練費入力（今期）'!$C938=\"\",\"\",TEXT('教育訓練費入力（今期）'!$C938,\"yyyy年\")&TEXT('教育訓練費入力（今期）'!$C938,\"m月\")&TEXT('教育訓練費入力（今期）'!$C938,\"ｄ日\")&\"から\"&'教育訓練費入力（今期）'!$D938&\"日間\")","v":""},{"$f":"IF('教育訓練費入力（今期）'!$F938=\"\",\"\",IF('教育訓練費入力（今期）'!$G938=1,'教育訓練費入力（今期）'!$F938,'教育訓練費入力（今期）'!$F938&\"他\"&'教育訓練費入力（今期）'!$G938-1&\"名\"))","v":""}]
[null,930,null,null,null,null,null,null,null,null,{"$f":"IF('教育訓練費入力（今期）'!$C939=\"\",\"\",TEXT('教育訓練費入力（今期）'!$C939,\"yyyy年\")&TEXT('教育訓練費入力（今期）'!$C939,\"m月\")&TEXT('教育訓練費入力（今期）'!$C939,\"ｄ日\")&\"から\"&'教育訓練費入力（今期）'!$D939&\"日間\")","v":""},{"$f":"IF('教育訓練費入力（今期）'!$F939=\"\",\"\",IF('教育訓練費入力（今期）'!$G939=1,'教育訓練費入力（今期）'!$F939,'教育訓練費入力（今期）'!$F939&\"他\"&'教育訓練費入力（今期）'!$G939-1&\"名\"))","v":""}]
[null,931,null,null,null,null,null,null,null,null,{"$f":"IF('教育訓練費入力（今期）'!$C940=\"\",\"\",TEXT('教育訓練費入力（今期）'!$C940,\"yyyy年\")&TEXT('教育訓練費入力（今期）'!$C940,\"m月\")&TEXT('教育訓練費入力（今期）'!$C940,\"ｄ日\")&\"から\"&'教育訓練費入力（今期）'!$D940&\"日間\")","v":""},{"$f":"IF('教育訓練費入力（今期）'!$F940=\"\",\"\",IF('教育訓練費入力（今期）'!$G940=1,'教育訓練費入力（今期）'!$F940,'教育訓練費入力（今期）'!$F940&\"他\"&'教育訓練費入力（今期）'!$G940-1&\"名\"))","v":""}]
[null,932,null,null,null,null,null,null,null,null,{"$f":"IF('教育訓練費入力（今期）'!$C941=\"\",\"\",TEXT('教育訓練費入力（今期）'!$C941,\"yyyy年\")&TEXT('教育訓練費入力（今期）'!$C941,\"m月\")&TEXT('教育訓練費入力（今期）'!$C941,\"ｄ日\")&\"から\"&'教育訓練費入力（今期）'!$D941&\"日間\")","v":""},{"$f":"IF('教育訓練費入力（今期）'!$F941=\"\",\"\",IF('教育訓練費入力（今期）'!$G941=1,'教育訓練費入力（今期）'!$F941,'教育訓練費入力（今期）'!$F941&\"他\"&'教育訓練費入力（今期）'!$G941-1&\"名\"))","v":""}]
[null,933,null,null,null,null,null,null,null,null,{"$f":"IF('教育訓練費入力（今期）'!$C942=\"\",\"\",TEXT('教育訓練費入力（今期）'!$C942,\"yyyy年\")&TEXT('教育訓練費入力（今期）'!$C942,\"m月\")&TEXT('教育訓練費入力（今期）'!$C942,\"ｄ日\")&\"から\"&'教育訓練費入力（今期）'!$D942&\"日間\")","v":""},{"$f":"IF('教育訓練費入力（今期）'!$F942=\"\",\"\",IF('教育訓練費入力（今期）'!$G942=1,'教育訓練費入力（今期）'!$F942,'教育訓練費入力（今期）'!$F942&\"他\"&'教育訓練費入力（今期）'!$G942-1&\"名\"))","v":""}]
[null,934,null,null,null,null,null,null,null,null,{"$f":"IF('教育訓練費入力（今期）'!$C943=\"\",\"\",TEXT('教育訓練費入力（今期）'!$C943,\"yyyy年\")&TEXT('教育訓練費入力（今期）'!$C943,\"m月\")&TEXT('教育訓練費入力（今期）'!$C943,\"ｄ日\")&\"から\"&'教育訓練費入力（今期）'!$D943&\"日間\")","v":""},{"$f":"IF('教育訓練費入力（今期）'!$F943=\"\",\"\",IF('教育訓練費入力（今期）'!$G943=1,'教育訓練費入力（今期）'!$F943,'教育訓練費入力（今期）'!$F943&\"他\"&'教育訓練費入力（今期）'!$G943-1&\"名\"))","v":""}]
[null,935,null,null,null,null,null,null,null,null,{"$f":"IF('教育訓練費入力（今期）'!$C944=\"\",\"\",TEXT('教育訓練費入力（今期）'!$C944,\"yyyy年\")&TEXT('教育訓練費入力（今期）'!$C944,\"m月\")&TEXT('教育訓練費入力（今期）'!$C944,\"ｄ日\")&\"から\"&'教育訓練費入力（今期）'!$D944&\"日間\")","v":""},{"$f":"IF('教育訓練費入力（今期）'!$F944=\"\",\"\",IF('教育訓練費入力（今期）'!$G944=1,'教育訓練費入力（今期）'!$F944,'教育訓練費入力（今期）'!$F944&\"他\"&'教育訓練費入力（今期）'!$G944-1&\"名\"))","v":""}]
[null,936,null,null,null,null,null,null,null,null,{"$f":"IF('教育訓練費入力（今期）'!$C945=\"\",\"\",TEXT('教育訓練費入力（今期）'!$C945,\"yyyy年\")&TEXT('教育訓練費入力（今期）'!$C945,\"m月\")&TEXT('教育訓練費入力（今期）'!$C945,\"ｄ日\")&\"から\"&'教育訓練費入力（今期）'!$D945&\"日間\")","v":""},{"$f":"IF('教育訓練費入力（今期）'!$F945=\"\",\"\",IF('教育訓練費入力（今期）'!$G945=1,'教育訓練費入力（今期）'!$F945,'教育訓練費入力（今期）'!$F945&\"他\"&'教育訓練費入力（今期）'!$G945-1&\"名\"))","v":""}]
[null,937,null,null,null,null,null,null,null,null,{"$f":"IF('教育訓練費入力（今期）'!$C946=\"\",\"\",TEXT('教育訓練費入力（今期）'!$C946,\"yyyy年\")&TEXT('教育訓練費入力（今期）'!$C946,\"m月\")&TEXT('教育訓練費入力（今期）'!$C946,\"ｄ日\")&\"から\"&'教育訓練費入力（今期）'!$D946&\"日間\")","v":""},{"$f":"IF('教育訓練費入力（今期）'!$F946=\"\",\"\",IF('教育訓練費入力（今期）'!$G946=1,'教育訓練費入力（今期）'!$F946,'教育訓練費入力（今期）'!$F946&\"他\"&'教育訓練費入力（今期）'!$G946-1&\"名\"))","v":""}]
[null,938,null,null,null,null,null,null,null,null,{"$f":"IF('教育訓練費入力（今期）'!$C947=\"\",\"\",TEXT('教育訓練費入力（今期）'!$C947,\"yyyy年\")&TEXT('教育訓練費入力（今期）'!$C947,\"m月\")&TEXT('教育訓練費入力（今期）'!$C947,\"ｄ日\")&\"から\"&'教育訓練費入力（今期）'!$D947&\"日間\")","v":""},{"$f":"IF('教育訓練費入力（今期）'!$F947=\"\",\"\",IF('教育訓練費入力（今期）'!$G947=1,'教育訓練費入力（今期）'!$F947,'教育訓練費入力（今期）'!$F947&\"他\"&'教育訓練費入力（今期）'!$G947-1&\"名\"))","v":""}]
[null,939,null,null,null,null,null,null,null,null,{"$f":"IF('教育訓練費入力（今期）'!$C948=\"\",\"\",TEXT('教育訓練費入力（今期）'!$C948,\"yyyy年\")&TEXT('教育訓練費入力（今期）'!$C948,\"m月\")&TEXT('教育訓練費入力（今期）'!$C948,\"ｄ日\")&\"から\"&'教育訓練費入力（今期）'!$D948&\"日間\")","v":""},{"$f":"IF('教育訓練費入力（今期）'!$F948=\"\",\"\",IF('教育訓練費入力（今期）'!$G948=1,'教育訓練費入力（今期）'!$F948,'教育訓練費入力（今期）'!$F948&\"他\"&'教育訓練費入力（今期）'!$G948-1&\"名\"))","v":""}]
[null,940,null,null,null,null,null,null,null,null,{"$f":"IF('教育訓練費入力（今期）'!$C949=\"\",\"\",TEXT('教育訓練費入力（今期）'!$C949,\"yyyy年\")&TEXT('教育訓練費入力（今期）'!$C949,\"m月\")&TEXT('教育訓練費入力（今期）'!$C949,\"ｄ日\")&\"から\"&'教育訓練費入力（今期）'!$D949&\"日間\")","v":""},{"$f":"IF('教育訓練費入力（今期）'!$F949=\"\",\"\",IF('教育訓練費入力（今期）'!$G949=1,'教育訓練費入力（今期）'!$F949,'教育訓練費入力（今期）'!$F949&\"他\"&'教育訓練費入力（今期）'!$G949-1&\"名\"))","v":""}]
[null,941,null,null,null,null,null,null,null,null,{"$f":"IF('教育訓練費入力（今期）'!$C950=\"\",\"\",TEXT('教育訓練費入力（今期）'!$C950,\"yyyy年\")&TEXT('教育訓練費入力（今期）'!$C950,\"m月\")&TEXT('教育訓練費入力（今期）'!$C950,\"ｄ日\")&\"から\"&'教育訓練費入力（今期）'!$D950&\"日間\")","v":""},{"$f":"IF('教育訓練費入力（今期）'!$F950=\"\",\"\",IF('教育訓練費入力（今期）'!$G950=1,'教育訓練費入力（今期）'!$F950,'教育訓練費入力（今期）'!$F950&\"他\"&'教育訓練費入力（今期）'!$G950-1&\"名\"))","v":""}]
[null,942,null,null,null,null,null,null,null,null,{"$f":"IF('教育訓練費入力（今期）'!$C951=\"\",\"\",TEXT('教育訓練費入力（今期）'!$C951,\"yyyy年\")&TEXT('教育訓練費入力（今期）'!$C951,\"m月\")&TEXT('教育訓練費入力（今期）'!$C951,\"ｄ日\")&\"から\"&'教育訓練費入力（今期）'!$D951&\"日間\")","v":""},{"$f":"IF('教育訓練費入力（今期）'!$F951=\"\",\"\",IF('教育訓練費入力（今期）'!$G951=1,'教育訓練費入力（今期）'!$F951,'教育訓練費入力（今期）'!$F951&\"他\"&'教育訓練費入力（今期）'!$G951-1&\"名\"))","v":""}]
[null,943,null,null,null,null,null,null,null,null,{"$f":"IF('教育訓練費入力（今期）'!$C952=\"\",\"\",TEXT('教育訓練費入力（今期）'!$C952,\"yyyy年\")&TEXT('教育訓練費入力（今期）'!$C952,\"m月\")&TEXT('教育訓練費入力（今期）'!$C952,\"ｄ日\")&\"から\"&'教育訓練費入力（今期）'!$D952&\"日間\")","v":""},{"$f":"IF('教育訓練費入力（今期）'!$F952=\"\",\"\",IF('教育訓練費入力（今期）'!$G952=1,'教育訓練費入力（今期）'!$F952,'教育訓練費入力（今期）'!$F952&\"他\"&'教育訓練費入力（今期）'!$G952-1&\"名\"))","v":""}]
[null,944,null,null,null,null,null,null,null,null,{"$f":"IF('教育訓練費入力（今期）'!$C953=\"\",\"\",TEXT('教育訓練費入力（今期）'!$C953,\"yyyy年\")&TEXT('教育訓練費入力（今期）'!$C953,\"m月\")&TEXT('教育訓練費入力（今期）'!$C953,\"ｄ日\")&\"から\"&'教育訓練費入力（今期）'!$D953&\"日間\")","v":""},{"$f":"IF('教育訓練費入力（今期）'!$F953=\"\",\"\",IF('教育訓練費入力（今期）'!$G953=1,'教育訓練費入力（今期）'!$F953,'教育訓練費入力（今期）'!$F953&\"他\"&'教育訓練費入力（今期）'!$G953-1&\"名\"))","v":""}]
[null,945,null,null,null,null,null,null,null,null,{"$f":"IF('教育訓練費入力（今期）'!$C954=\"\",\"\",TEXT('教育訓練費入力（今期）'!$C954,\"yyyy年\")&TEXT('教育訓練費入力（今期）'!$C954,\"m月\")&TEXT('教育訓練費入力（今期）'!$C954,\"ｄ日\")&\"から\"&'教育訓練費入力（今期）'!$D954&\"日間\")","v":""},{"$f":"IF('教育訓練費入力（今期）'!$F954=\"\",\"\",IF('教育訓練費入力（今期）'!$G954=1,'教育訓練費入力（今期）'!$F954,'教育訓練費入力（今期）'!$F954&\"他\"&'教育訓練費入力（今期）'!$G954-1&\"名\"))","v":""}]
[null,946,null,null,null,null,null,null,null,null,{"$f":"IF('教育訓練費入力（今期）'!$C955=\"\",\"\",TEXT('教育訓練費入力（今期）'!$C955,\"yyyy年\")&TEXT('教育訓練費入力（今期）'!$C955,\"m月\")&TEXT('教育訓練費入力（今期）'!$C955,\"ｄ日\")&\"から\"&'教育訓練費入力（今期）'!$D955&\"日間\")","v":""},{"$f":"IF('教育訓練費入力（今期）'!$F955=\"\",\"\",IF('教育訓練費入力（今期）'!$G955=1,'教育訓練費入力（今期）'!$F955,'教育訓練費入力（今期）'!$F955&\"他\"&'教育訓練費入力（今期）'!$G955-1&\"名\"))","v":""}]
[null,947,null,null,null,null,null,null,null,null,{"$f":"IF('教育訓練費入力（今期）'!$C956=\"\",\"\",TEXT('教育訓練費入力（今期）'!$C956,\"yyyy年\")&TEXT('教育訓練費入力（今期）'!$C956,\"m月\")&TEXT('教育訓練費入力（今期）'!$C956,\"ｄ日\")&\"から\"&'教育訓練費入力（今期）'!$D956&\"日間\")","v":""},{"$f":"IF('教育訓練費入力（今期）'!$F956=\"\",\"\",IF('教育訓練費入力（今期）'!$G956=1,'教育訓練費入力（今期）'!$F956,'教育訓練費入力（今期）'!$F956&\"他\"&'教育訓練費入力（今期）'!$G956-1&\"名\"))","v":""}]
[null,948,null,null,null,null,null,null,null,null,{"$f":"IF('教育訓練費入力（今期）'!$C957=\"\",\"\",TEXT('教育訓練費入力（今期）'!$C957,\"yyyy年\")&TEXT('教育訓練費入力（今期）'!$C957,\"m月\")&TEXT('教育訓練費入力（今期）'!$C957,\"ｄ日\")&\"から\"&'教育訓練費入力（今期）'!$D957&\"日間\")","v":""},{"$f":"IF('教育訓練費入力（今期）'!$F957=\"\",\"\",IF('教育訓練費入力（今期）'!$G957=1,'教育訓練費入力（今期）'!$F957,'教育訓練費入力（今期）'!$F957&\"他\"&'教育訓練費入力（今期）'!$G957-1&\"名\"))","v":""}]
[null,949,null,null,null,null,null,null,null,null,{"$f":"IF('教育訓練費入力（今期）'!$C958=\"\",\"\",TEXT('教育訓練費入力（今期）'!$C958,\"yyyy年\")&TEXT('教育訓練費入力（今期）'!$C958,\"m月\")&TEXT('教育訓練費入力（今期）'!$C958,\"ｄ日\")&\"から\"&'教育訓練費入力（今期）'!$D958&\"日間\")","v":""},{"$f":"IF('教育訓練費入力（今期）'!$F958=\"\",\"\",IF('教育訓練費入力（今期）'!$G958=1,'教育訓練費入力（今期）'!$F958,'教育訓練費入力（今期）'!$F958&\"他\"&'教育訓練費入力（今期）'!$G958-1&\"名\"))","v":""}]
[null,950,null,null,null,null,null,null,null,null,{"$f":"IF('教育訓練費入力（今期）'!$C959=\"\",\"\",TEXT('教育訓練費入力（今期）'!$C959,\"yyyy年\")&TEXT('教育訓練費入力（今期）'!$C959,\"m月\")&TEXT('教育訓練費入力（今期）'!$C959,\"ｄ日\")&\"から\"&'教育訓練費入力（今期）'!$D959&\"日間\")","v":""},{"$f":"IF('教育訓練費入力（今期）'!$F959=\"\",\"\",IF('教育訓練費入力（今期）'!$G959=1,'教育訓練費入力（今期）'!$F959,'教育訓練費入力（今期）'!$F959&\"他\"&'教育訓練費入力（今期）'!$G959-1&\"名\"))","v":""}]
[null,951,null,null,null,null,null,null,null,null,{"$f":"IF('教育訓練費入力（今期）'!$C960=\"\",\"\",TEXT('教育訓練費入力（今期）'!$C960,\"yyyy年\")&TEXT('教育訓練費入力（今期）'!$C960,\"m月\")&TEXT('教育訓練費入力（今期）'!$C960,\"ｄ日\")&\"から\"&'教育訓練費入力（今期）'!$D960&\"日間\")","v":""},{"$f":"IF('教育訓練費入力（今期）'!$F960=\"\",\"\",IF('教育訓練費入力（今期）'!$G960=1,'教育訓練費入力（今期）'!$F960,'教育訓練費入力（今期）'!$F960&\"他\"&'教育訓練費入力（今期）'!$G960-1&\"名\"))","v":""}]
[null,952,null,null,null,null,null,null,null,null,{"$f":"IF('教育訓練費入力（今期）'!$C961=\"\",\"\",TEXT('教育訓練費入力（今期）'!$C961,\"yyyy年\")&TEXT('教育訓練費入力（今期）'!$C961,\"m月\")&TEXT('教育訓練費入力（今期）'!$C961,\"ｄ日\")&\"から\"&'教育訓練費入力（今期）'!$D961&\"日間\")","v":""},{"$f":"IF('教育訓練費入力（今期）'!$F961=\"\",\"\",IF('教育訓練費入力（今期）'!$G961=1,'教育訓練費入力（今期）'!$F961,'教育訓練費入力（今期）'!$F961&\"他\"&'教育訓練費入力（今期）'!$G961-1&\"名\"))","v":""}]
[null,953,null,null,null,null,null,null,null,null,{"$f":"IF('教育訓練費入力（今期）'!$C962=\"\",\"\",TEXT('教育訓練費入力（今期）'!$C962,\"yyyy年\")&TEXT('教育訓練費入力（今期）'!$C962,\"m月\")&TEXT('教育訓練費入力（今期）'!$C962,\"ｄ日\")&\"から\"&'教育訓練費入力（今期）'!$D962&\"日間\")","v":""},{"$f":"IF('教育訓練費入力（今期）'!$F962=\"\",\"\",IF('教育訓練費入力（今期）'!$G962=1,'教育訓練費入力（今期）'!$F962,'教育訓練費入力（今期）'!$F962&\"他\"&'教育訓練費入力（今期）'!$G962-1&\"名\"))","v":""}]
[null,954,null,null,null,null,null,null,null,null,{"$f":"IF('教育訓練費入力（今期）'!$C963=\"\",\"\",TEXT('教育訓練費入力（今期）'!$C963,\"yyyy年\")&TEXT('教育訓練費入力（今期）'!$C963,\"m月\")&TEXT('教育訓練費入力（今期）'!$C963,\"ｄ日\")&\"から\"&'教育訓練費入力（今期）'!$D963&\"日間\")","v":""},{"$f":"IF('教育訓練費入力（今期）'!$F963=\"\",\"\",IF('教育訓練費入力（今期）'!$G963=1,'教育訓練費入力（今期）'!$F963,'教育訓練費入力（今期）'!$F963&\"他\"&'教育訓練費入力（今期）'!$G963-1&\"名\"))","v":""}]
[null,955,null,null,null,null,null,null,null,null,{"$f":"IF('教育訓練費入力（今期）'!$C964=\"\",\"\",TEXT('教育訓練費入力（今期）'!$C964,\"yyyy年\")&TEXT('教育訓練費入力（今期）'!$C964,\"m月\")&TEXT('教育訓練費入力（今期）'!$C964,\"ｄ日\")&\"から\"&'教育訓練費入力（今期）'!$D964&\"日間\")","v":""},{"$f":"IF('教育訓練費入力（今期）'!$F964=\"\",\"\",IF('教育訓練費入力（今期）'!$G964=1,'教育訓練費入力（今期）'!$F964,'教育訓練費入力（今期）'!$F964&\"他\"&'教育訓練費入力（今期）'!$G964-1&\"名\"))","v":""}]
[null,956,null,null,null,null,null,null,null,null,{"$f":"IF('教育訓練費入力（今期）'!$C965=\"\",\"\",TEXT('教育訓練費入力（今期）'!$C965,\"yyyy年\")&TEXT('教育訓練費入力（今期）'!$C965,\"m月\")&TEXT('教育訓練費入力（今期）'!$C965,\"ｄ日\")&\"から\"&'教育訓練費入力（今期）'!$D965&\"日間\")","v":""},{"$f":"IF('教育訓練費入力（今期）'!$F965=\"\",\"\",IF('教育訓練費入力（今期）'!$G965=1,'教育訓練費入力（今期）'!$F965,'教育訓練費入力（今期）'!$F965&\"他\"&'教育訓練費入力（今期）'!$G965-1&\"名\"))","v":""}]
[null,957,null,null,null,null,null,null,null,null,{"$f":"IF('教育訓練費入力（今期）'!$C966=\"\",\"\",TEXT('教育訓練費入力（今期）'!$C966,\"yyyy年\")&TEXT('教育訓練費入力（今期）'!$C966,\"m月\")&TEXT('教育訓練費入力（今期）'!$C966,\"ｄ日\")&\"から\"&'教育訓練費入力（今期）'!$D966&\"日間\")","v":""},{"$f":"IF('教育訓練費入力（今期）'!$F966=\"\",\"\",IF('教育訓練費入力（今期）'!$G966=1,'教育訓練費入力（今期）'!$F966,'教育訓練費入力（今期）'!$F966&\"他\"&'教育訓練費入力（今期）'!$G966-1&\"名\"))","v":""}]
[null,958,null,null,null,null,null,null,null,null,{"$f":"IF('教育訓練費入力（今期）'!$C967=\"\",\"\",TEXT('教育訓練費入力（今期）'!$C967,\"yyyy年\")&TEXT('教育訓練費入力（今期）'!$C967,\"m月\")&TEXT('教育訓練費入力（今期）'!$C967,\"ｄ日\")&\"から\"&'教育訓練費入力（今期）'!$D967&\"日間\")","v":""},{"$f":"IF('教育訓練費入力（今期）'!$F967=\"\",\"\",IF('教育訓練費入力（今期）'!$G967=1,'教育訓練費入力（今期）'!$F967,'教育訓練費入力（今期）'!$F967&\"他\"&'教育訓練費入力（今期）'!$G967-1&\"名\"))","v":""}]
[null,959,null,null,null,null,null,null,null,null,{"$f":"IF('教育訓練費入力（今期）'!$C968=\"\",\"\",TEXT('教育訓練費入力（今期）'!$C968,\"yyyy年\")&TEXT('教育訓練費入力（今期）'!$C968,\"m月\")&TEXT('教育訓練費入力（今期）'!$C968,\"ｄ日\")&\"から\"&'教育訓練費入力（今期）'!$D968&\"日間\")","v":""},{"$f":"IF('教育訓練費入力（今期）'!$F968=\"\",\"\",IF('教育訓練費入力（今期）'!$G968=1,'教育訓練費入力（今期）'!$F968,'教育訓練費入力（今期）'!$F968&\"他\"&'教育訓練費入力（今期）'!$G968-1&\"名\"))","v":""}]
[null,960,null,null,null,null,null,null,null,null,{"$f":"IF('教育訓練費入力（今期）'!$C969=\"\",\"\",TEXT('教育訓練費入力（今期）'!$C969,\"yyyy年\")&TEXT('教育訓練費入力（今期）'!$C969,\"m月\")&TEXT('教育訓練費入力（今期）'!$C969,\"ｄ日\")&\"から\"&'教育訓練費入力（今期）'!$D969&\"日間\")","v":""},{"$f":"IF('教育訓練費入力（今期）'!$F969=\"\",\"\",IF('教育訓練費入力（今期）'!$G969=1,'教育訓練費入力（今期）'!$F969,'教育訓練費入力（今期）'!$F969&\"他\"&'教育訓練費入力（今期）'!$G969-1&\"名\"))","v":""}]
[null,961,null,null,null,null,null,null,null,null,{"$f":"IF('教育訓練費入力（今期）'!$C970=\"\",\"\",TEXT('教育訓練費入力（今期）'!$C970,\"yyyy年\")&TEXT('教育訓練費入力（今期）'!$C970,\"m月\")&TEXT('教育訓練費入力（今期）'!$C970,\"ｄ日\")&\"から\"&'教育訓練費入力（今期）'!$D970&\"日間\")","v":""},{"$f":"IF('教育訓練費入力（今期）'!$F970=\"\",\"\",IF('教育訓練費入力（今期）'!$G970=1,'教育訓練費入力（今期）'!$F970,'教育訓練費入力（今期）'!$F970&\"他\"&'教育訓練費入力（今期）'!$G970-1&\"名\"))","v":""}]
[null,962,null,null,null,null,null,null,null,null,{"$f":"IF('教育訓練費入力（今期）'!$C971=\"\",\"\",TEXT('教育訓練費入力（今期）'!$C971,\"yyyy年\")&TEXT('教育訓練費入力（今期）'!$C971,\"m月\")&TEXT('教育訓練費入力（今期）'!$C971,\"ｄ日\")&\"から\"&'教育訓練費入力（今期）'!$D971&\"日間\")","v":""},{"$f":"IF('教育訓練費入力（今期）'!$F971=\"\",\"\",IF('教育訓練費入力（今期）'!$G971=1,'教育訓練費入力（今期）'!$F971,'教育訓練費入力（今期）'!$F971&\"他\"&'教育訓練費入力（今期）'!$G971-1&\"名\"))","v":""}]
[null,963,null,null,null,null,null,null,null,null,{"$f":"IF('教育訓練費入力（今期）'!$C972=\"\",\"\",TEXT('教育訓練費入力（今期）'!$C972,\"yyyy年\")&TEXT('教育訓練費入力（今期）'!$C972,\"m月\")&TEXT('教育訓練費入力（今期）'!$C972,\"ｄ日\")&\"から\"&'教育訓練費入力（今期）'!$D972&\"日間\")","v":""},{"$f":"IF('教育訓練費入力（今期）'!$F972=\"\",\"\",IF('教育訓練費入力（今期）'!$G972=1,'教育訓練費入力（今期）'!$F972,'教育訓練費入力（今期）'!$F972&\"他\"&'教育訓練費入力（今期）'!$G972-1&\"名\"))","v":""}]
[null,964,null,null,null,null,null,null,null,null,{"$f":"IF('教育訓練費入力（今期）'!$C973=\"\",\"\",TEXT('教育訓練費入力（今期）'!$C973,\"yyyy年\")&TEXT('教育訓練費入力（今期）'!$C973,\"m月\")&TEXT('教育訓練費入力（今期）'!$C973,\"ｄ日\")&\"から\"&'教育訓練費入力（今期）'!$D973&\"日間\")","v":""},{"$f":"IF('教育訓練費入力（今期）'!$F973=\"\",\"\",IF('教育訓練費入力（今期）'!$G973=1,'教育訓練費入力（今期）'!$F973,'教育訓練費入力（今期）'!$F973&\"他\"&'教育訓練費入力（今期）'!$G973-1&\"名\"))","v":""}]
[null,965,null,null,null,null,null,null,null,null,{"$f":"IF('教育訓練費入力（今期）'!$C974=\"\",\"\",TEXT('教育訓練費入力（今期）'!$C974,\"yyyy年\")&TEXT('教育訓練費入力（今期）'!$C974,\"m月\")&TEXT('教育訓練費入力（今期）'!$C974,\"ｄ日\")&\"から\"&'教育訓練費入力（今期）'!$D974&\"日間\")","v":""},{"$f":"IF('教育訓練費入力（今期）'!$F974=\"\",\"\",IF('教育訓練費入力（今期）'!$G974=1,'教育訓練費入力（今期）'!$F974,'教育訓練費入力（今期）'!$F974&\"他\"&'教育訓練費入力（今期）'!$G974-1&\"名\"))","v":""}]
[null,966,null,null,null,null,null,null,null,null,{"$f":"IF('教育訓練費入力（今期）'!$C975=\"\",\"\",TEXT('教育訓練費入力（今期）'!$C975,\"yyyy年\")&TEXT('教育訓練費入力（今期）'!$C975,\"m月\")&TEXT('教育訓練費入力（今期）'!$C975,\"ｄ日\")&\"から\"&'教育訓練費入力（今期）'!$D975&\"日間\")","v":""},{"$f":"IF('教育訓練費入力（今期）'!$F975=\"\",\"\",IF('教育訓練費入力（今期）'!$G975=1,'教育訓練費入力（今期）'!$F975,'教育訓練費入力（今期）'!$F975&\"他\"&'教育訓練費入力（今期）'!$G975-1&\"名\"))","v":""}]
[null,967,null,null,null,null,null,null,null,null,{"$f":"IF('教育訓練費入力（今期）'!$C976=\"\",\"\",TEXT('教育訓練費入力（今期）'!$C976,\"yyyy年\")&TEXT('教育訓練費入力（今期）'!$C976,\"m月\")&TEXT('教育訓練費入力（今期）'!$C976,\"ｄ日\")&\"から\"&'教育訓練費入力（今期）'!$D976&\"日間\")","v":""},{"$f":"IF('教育訓練費入力（今期）'!$F976=\"\",\"\",IF('教育訓練費入力（今期）'!$G976=1,'教育訓練費入力（今期）'!$F976,'教育訓練費入力（今期）'!$F976&\"他\"&'教育訓練費入力（今期）'!$G976-1&\"名\"))","v":""}]
[null,968,null,null,null,null,null,null,null,null,{"$f":"IF('教育訓練費入力（今期）'!$C977=\"\",\"\",TEXT('教育訓練費入力（今期）'!$C977,\"yyyy年\")&TEXT('教育訓練費入力（今期）'!$C977,\"m月\")&TEXT('教育訓練費入力（今期）'!$C977,\"ｄ日\")&\"から\"&'教育訓練費入力（今期）'!$D977&\"日間\")","v":""},{"$f":"IF('教育訓練費入力（今期）'!$F977=\"\",\"\",IF('教育訓練費入力（今期）'!$G977=1,'教育訓練費入力（今期）'!$F977,'教育訓練費入力（今期）'!$F977&\"他\"&'教育訓練費入力（今期）'!$G977-1&\"名\"))","v":""}]
[null,969,null,null,null,null,null,null,null,null,{"$f":"IF('教育訓練費入力（今期）'!$C978=\"\",\"\",TEXT('教育訓練費入力（今期）'!$C978,\"yyyy年\")&TEXT('教育訓練費入力（今期）'!$C978,\"m月\")&TEXT('教育訓練費入力（今期）'!$C978,\"ｄ日\")&\"から\"&'教育訓練費入力（今期）'!$D978&\"日間\")","v":""},{"$f":"IF('教育訓練費入力（今期）'!$F978=\"\",\"\",IF('教育訓練費入力（今期）'!$G978=1,'教育訓練費入力（今期）'!$F978,'教育訓練費入力（今期）'!$F978&\"他\"&'教育訓練費入力（今期）'!$G978-1&\"名\"))","v":""}]
[null,970,null,null,null,null,null,null,null,null,{"$f":"IF('教育訓練費入力（今期）'!$C979=\"\",\"\",TEXT('教育訓練費入力（今期）'!$C979,\"yyyy年\")&TEXT('教育訓練費入力（今期）'!$C979,\"m月\")&TEXT('教育訓練費入力（今期）'!$C979,\"ｄ日\")&\"から\"&'教育訓練費入力（今期）'!$D979&\"日間\")","v":""},{"$f":"IF('教育訓練費入力（今期）'!$F979=\"\",\"\",IF('教育訓練費入力（今期）'!$G979=1,'教育訓練費入力（今期）'!$F979,'教育訓練費入力（今期）'!$F979&\"他\"&'教育訓練費入力（今期）'!$G979-1&\"名\"))","v":""}]
[null,971,null,null,null,null,null,null,null,null,{"$f":"IF('教育訓練費入力（今期）'!$C980=\"\",\"\",TEXT('教育訓練費入力（今期）'!$C980,\"yyyy年\")&TEXT('教育訓練費入力（今期）'!$C980,\"m月\")&TEXT('教育訓練費入力（今期）'!$C980,\"ｄ日\")&\"から\"&'教育訓練費入力（今期）'!$D980&\"日間\")","v":""},{"$f":"IF('教育訓練費入力（今期）'!$F980=\"\",\"\",IF('教育訓練費入力（今期）'!$G980=1,'教育訓練費入力（今期）'!$F980,'教育訓練費入力（今期）'!$F980&\"他\"&'教育訓練費入力（今期）'!$G980-1&\"名\"))","v":""}]
[null,972,null,null,null,null,null,null,null,null,{"$f":"IF('教育訓練費入力（今期）'!$C981=\"\",\"\",TEXT('教育訓練費入力（今期）'!$C981,\"yyyy年\")&TEXT('教育訓練費入力（今期）'!$C981,\"m月\")&TEXT('教育訓練費入力（今期）'!$C981,\"ｄ日\")&\"から\"&'教育訓練費入力（今期）'!$D981&\"日間\")","v":""},{"$f":"IF('教育訓練費入力（今期）'!$F981=\"\",\"\",IF('教育訓練費入力（今期）'!$G981=1,'教育訓練費入力（今期）'!$F981,'教育訓練費入力（今期）'!$F981&\"他\"&'教育訓練費入力（今期）'!$G981-1&\"名\"))","v":""}]
[null,973,null,null,null,null,null,null,null,null,{"$f":"IF('教育訓練費入力（今期）'!$C982=\"\",\"\",TEXT('教育訓練費入力（今期）'!$C982,\"yyyy年\")&TEXT('教育訓練費入力（今期）'!$C982,\"m月\")&TEXT('教育訓練費入力（今期）'!$C982,\"ｄ日\")&\"から\"&'教育訓練費入力（今期）'!$D982&\"日間\")","v":""},{"$f":"IF('教育訓練費入力（今期）'!$F982=\"\",\"\",IF('教育訓練費入力（今期）'!$G982=1,'教育訓練費入力（今期）'!$F982,'教育訓練費入力（今期）'!$F982&\"他\"&'教育訓練費入力（今期）'!$G982-1&\"名\"))","v":""}]
[null,974,null,null,null,null,null,null,null,null,{"$f":"IF('教育訓練費入力（今期）'!$C983=\"\",\"\",TEXT('教育訓練費入力（今期）'!$C983,\"yyyy年\")&TEXT('教育訓練費入力（今期）'!$C983,\"m月\")&TEXT('教育訓練費入力（今期）'!$C983,\"ｄ日\")&\"から\"&'教育訓練費入力（今期）'!$D983&\"日間\")","v":""},{"$f":"IF('教育訓練費入力（今期）'!$F983=\"\",\"\",IF('教育訓練費入力（今期）'!$G983=1,'教育訓練費入力（今期）'!$F983,'教育訓練費入力（今期）'!$F983&\"他\"&'教育訓練費入力（今期）'!$G983-1&\"名\"))","v":""}]
[null,975,null,null,null,null,null,null,null,null,{"$f":"IF('教育訓練費入力（今期）'!$C984=\"\",\"\",TEXT('教育訓練費入力（今期）'!$C984,\"yyyy年\")&TEXT('教育訓練費入力（今期）'!$C984,\"m月\")&TEXT('教育訓練費入力（今期）'!$C984,\"ｄ日\")&\"から\"&'教育訓練費入力（今期）'!$D984&\"日間\")","v":""},{"$f":"IF('教育訓練費入力（今期）'!$F984=\"\",\"\",IF('教育訓練費入力（今期）'!$G984=1,'教育訓練費入力（今期）'!$F984,'教育訓練費入力（今期）'!$F984&\"他\"&'教育訓練費入力（今期）'!$G984-1&\"名\"))","v":""}]
[null,976,null,null,null,null,null,null,null,null,{"$f":"IF('教育訓練費入力（今期）'!$C985=\"\",\"\",TEXT('教育訓練費入力（今期）'!$C985,\"yyyy年\")&TEXT('教育訓練費入力（今期）'!$C985,\"m月\")&TEXT('教育訓練費入力（今期）'!$C985,\"ｄ日\")&\"から\"&'教育訓練費入力（今期）'!$D985&\"日間\")","v":""},{"$f":"IF('教育訓練費入力（今期）'!$F985=\"\",\"\",IF('教育訓練費入力（今期）'!$G985=1,'教育訓練費入力（今期）'!$F985,'教育訓練費入力（今期）'!$F985&\"他\"&'教育訓練費入力（今期）'!$G985-1&\"名\"))","v":""}]
[null,977,null,null,null,null,null,null,null,null,{"$f":"IF('教育訓練費入力（今期）'!$C986=\"\",\"\",TEXT('教育訓練費入力（今期）'!$C986,\"yyyy年\")&TEXT('教育訓練費入力（今期）'!$C986,\"m月\")&TEXT('教育訓練費入力（今期）'!$C986,\"ｄ日\")&\"から\"&'教育訓練費入力（今期）'!$D986&\"日間\")","v":""},{"$f":"IF('教育訓練費入力（今期）'!$F986=\"\",\"\",IF('教育訓練費入力（今期）'!$G986=1,'教育訓練費入力（今期）'!$F986,'教育訓練費入力（今期）'!$F986&\"他\"&'教育訓練費入力（今期）'!$G986-1&\"名\"))","v":""}]
[null,978,null,null,null,null,null,null,null,null,{"$f":"IF('教育訓練費入力（今期）'!$C987=\"\",\"\",TEXT('教育訓練費入力（今期）'!$C987,\"yyyy年\")&TEXT('教育訓練費入力（今期）'!$C987,\"m月\")&TEXT('教育訓練費入力（今期）'!$C987,\"ｄ日\")&\"から\"&'教育訓練費入力（今期）'!$D987&\"日間\")","v":""},{"$f":"IF('教育訓練費入力（今期）'!$F987=\"\",\"\",IF('教育訓練費入力（今期）'!$G987=1,'教育訓練費入力（今期）'!$F987,'教育訓練費入力（今期）'!$F987&\"他\"&'教育訓練費入力（今期）'!$G987-1&\"名\"))","v":""}]
[null,979,null,null,null,null,null,null,null,null,{"$f":"IF('教育訓練費入力（今期）'!$C988=\"\",\"\",TEXT('教育訓練費入力（今期）'!$C988,\"yyyy年\")&TEXT('教育訓練費入力（今期）'!$C988,\"m月\")&TEXT('教育訓練費入力（今期）'!$C988,\"ｄ日\")&\"から\"&'教育訓練費入力（今期）'!$D988&\"日間\")","v":""},{"$f":"IF('教育訓練費入力（今期）'!$F988=\"\",\"\",IF('教育訓練費入力（今期）'!$G988=1,'教育訓練費入力（今期）'!$F988,'教育訓練費入力（今期）'!$F988&\"他\"&'教育訓練費入力（今期）'!$G988-1&\"名\"))","v":""}]
[null,980,null,null,null,null,null,null,null,null,{"$f":"IF('教育訓練費入力（今期）'!$C989=\"\",\"\",TEXT('教育訓練費入力（今期）'!$C989,\"yyyy年\")&TEXT('教育訓練費入力（今期）'!$C989,\"m月\")&TEXT('教育訓練費入力（今期）'!$C989,\"ｄ日\")&\"から\"&'教育訓練費入力（今期）'!$D989&\"日間\")","v":""},{"$f":"IF('教育訓練費入力（今期）'!$F989=\"\",\"\",IF('教育訓練費入力（今期）'!$G989=1,'教育訓練費入力（今期）'!$F989,'教育訓練費入力（今期）'!$F989&\"他\"&'教育訓練費入力（今期）'!$G989-1&\"名\"))","v":""}]
[null,981,null,null,null,null,null,null,null,null,{"$f":"IF('教育訓練費入力（今期）'!$C990=\"\",\"\",TEXT('教育訓練費入力（今期）'!$C990,\"yyyy年\")&TEXT('教育訓練費入力（今期）'!$C990,\"m月\")&TEXT('教育訓練費入力（今期）'!$C990,\"ｄ日\")&\"から\"&'教育訓練費入力（今期）'!$D990&\"日間\")","v":""},{"$f":"IF('教育訓練費入力（今期）'!$F990=\"\",\"\",IF('教育訓練費入力（今期）'!$G990=1,'教育訓練費入力（今期）'!$F990,'教育訓練費入力（今期）'!$F990&\"他\"&'教育訓練費入力（今期）'!$G990-1&\"名\"))","v":""}]
[null,982,null,null,null,null,null,null,null,null,{"$f":"IF('教育訓練費入力（今期）'!$C991=\"\",\"\",TEXT('教育訓練費入力（今期）'!$C991,\"yyyy年\")&TEXT('教育訓練費入力（今期）'!$C991,\"m月\")&TEXT('教育訓練費入力（今期）'!$C991,\"ｄ日\")&\"から\"&'教育訓練費入力（今期）'!$D991&\"日間\")","v":""},{"$f":"IF('教育訓練費入力（今期）'!$F991=\"\",\"\",IF('教育訓練費入力（今期）'!$G991=1,'教育訓練費入力（今期）'!$F991,'教育訓練費入力（今期）'!$F991&\"他\"&'教育訓練費入力（今期）'!$G991-1&\"名\"))","v":""}]
[null,983,null,null,null,null,null,null,null,null,{"$f":"IF('教育訓練費入力（今期）'!$C992=\"\",\"\",TEXT('教育訓練費入力（今期）'!$C992,\"yyyy年\")&TEXT('教育訓練費入力（今期）'!$C992,\"m月\")&TEXT('教育訓練費入力（今期）'!$C992,\"ｄ日\")&\"から\"&'教育訓練費入力（今期）'!$D992&\"日間\")","v":""},{"$f":"IF('教育訓練費入力（今期）'!$F992=\"\",\"\",IF('教育訓練費入力（今期）'!$G992=1,'教育訓練費入力（今期）'!$F992,'教育訓練費入力（今期）'!$F992&\"他\"&'教育訓練費入力（今期）'!$G992-1&\"名\"))","v":""}]
[null,984,null,null,null,null,null,null,null,null,{"$f":"IF('教育訓練費入力（今期）'!$C993=\"\",\"\",TEXT('教育訓練費入力（今期）'!$C993,\"yyyy年\")&TEXT('教育訓練費入力（今期）'!$C993,\"m月\")&TEXT('教育訓練費入力（今期）'!$C993,\"ｄ日\")&\"から\"&'教育訓練費入力（今期）'!$D993&\"日間\")","v":""},{"$f":"IF('教育訓練費入力（今期）'!$F993=\"\",\"\",IF('教育訓練費入力（今期）'!$G993=1,'教育訓練費入力（今期）'!$F993,'教育訓練費入力（今期）'!$F993&\"他\"&'教育訓練費入力（今期）'!$G993-1&\"名\"))","v":""}]
[null,985,null,null,null,null,null,null,null,null,{"$f":"IF('教育訓練費入力（今期）'!$C994=\"\",\"\",TEXT('教育訓練費入力（今期）'!$C994,\"yyyy年\")&TEXT('教育訓練費入力（今期）'!$C994,\"m月\")&TEXT('教育訓練費入力（今期）'!$C994,\"ｄ日\")&\"から\"&'教育訓練費入力（今期）'!$D994&\"日間\")","v":""},{"$f":"IF('教育訓練費入力（今期）'!$F994=\"\",\"\",IF('教育訓練費入力（今期）'!$G994=1,'教育訓練費入力（今期）'!$F994,'教育訓練費入力（今期）'!$F994&\"他\"&'教育訓練費入力（今期）'!$G994-1&\"名\"))","v":""}]
[null,986,null,null,null,null,null,null,null,null,{"$f":"IF('教育訓練費入力（今期）'!$C995=\"\",\"\",TEXT('教育訓練費入力（今期）'!$C995,\"yyyy年\")&TEXT('教育訓練費入力（今期）'!$C995,\"m月\")&TEXT('教育訓練費入力（今期）'!$C995,\"ｄ日\")&\"から\"&'教育訓練費入力（今期）'!$D995&\"日間\")","v":""},{"$f":"IF('教育訓練費入力（今期）'!$F995=\"\",\"\",IF('教育訓練費入力（今期）'!$G995=1,'教育訓練費入力（今期）'!$F995,'教育訓練費入力（今期）'!$F995&\"他\"&'教育訓練費入力（今期）'!$G995-1&\"名\"))","v":""}]
[null,987,null,null,null,null,null,null,null,null,{"$f":"IF('教育訓練費入力（今期）'!$C996=\"\",\"\",TEXT('教育訓練費入力（今期）'!$C996,\"yyyy年\")&TEXT('教育訓練費入力（今期）'!$C996,\"m月\")&TEXT('教育訓練費入力（今期）'!$C996,\"ｄ日\")&\"から\"&'教育訓練費入力（今期）'!$D996&\"日間\")","v":""},{"$f":"IF('教育訓練費入力（今期）'!$F996=\"\",\"\",IF('教育訓練費入力（今期）'!$G996=1,'教育訓練費入力（今期）'!$F996,'教育訓練費入力（今期）'!$F996&\"他\"&'教育訓練費入力（今期）'!$G996-1&\"名\"))","v":""}]
[null,988,null,null,null,null,null,null,null,null,{"$f":"IF('教育訓練費入力（今期）'!$C997=\"\",\"\",TEXT('教育訓練費入力（今期）'!$C997,\"yyyy年\")&TEXT('教育訓練費入力（今期）'!$C997,\"m月\")&TEXT('教育訓練費入力（今期）'!$C997,\"ｄ日\")&\"から\"&'教育訓練費入力（今期）'!$D997&\"日間\")","v":""},{"$f":"IF('教育訓練費入力（今期）'!$F997=\"\",\"\",IF('教育訓練費入力（今期）'!$G997=1,'教育訓練費入力（今期）'!$F997,'教育訓練費入力（今期）'!$F997&\"他\"&'教育訓練費入力（今期）'!$G997-1&\"名\"))","v":""}]
[null,989,null,null,null,null,null,null,null,null,{"$f":"IF('教育訓練費入力（今期）'!$C998=\"\",\"\",TEXT('教育訓練費入力（今期）'!$C998,\"yyyy年\")&TEXT('教育訓練費入力（今期）'!$C998,\"m月\")&TEXT('教育訓練費入力（今期）'!$C998,\"ｄ日\")&\"から\"&'教育訓練費入力（今期）'!$D998&\"日間\")","v":""},{"$f":"IF('教育訓練費入力（今期）'!$F998=\"\",\"\",IF('教育訓練費入力（今期）'!$G998=1,'教育訓練費入力（今期）'!$F998,'教育訓練費入力（今期）'!$F998&\"他\"&'教育訓練費入力（今期）'!$G998-1&\"名\"))","v":""}]
[null,990,null,null,null,null,null,null,null,null,{"$f":"IF('教育訓練費入力（今期）'!$C999=\"\",\"\",TEXT('教育訓練費入力（今期）'!$C999,\"yyyy年\")&TEXT('教育訓練費入力（今期）'!$C999,\"m月\")&TEXT('教育訓練費入力（今期）'!$C999,\"ｄ日\")&\"から\"&'教育訓練費入力（今期）'!$D999&\"日間\")","v":""},{"$f":"IF('教育訓練費入力（今期）'!$F999=\"\",\"\",IF('教育訓練費入力（今期）'!$G999=1,'教育訓練費入力（今期）'!$F999,'教育訓練費入力（今期）'!$F999&\"他\"&'教育訓練費入力（今期）'!$G999-1&\"名\"))","v":""}]
[null,991,null,null,null,null,null,null,null,null,{"$f":"IF('教育訓練費入力（今期）'!$C1000=\"\",\"\",TEXT('教育訓練費入力（今期）'!$C1000,\"yyyy年\")&TEXT('教育訓練費入力（今期）'!$C1000,\"m月\")&TEXT('教育訓練費入力（今期）'!$C1000,\"ｄ日\")&\"から\"&'教育訓練費入力（今期）'!$D1000&\"日間\")","v":""},{"$f":"IF('教育訓練費入力（今期）'!$F1000=\"\",\"\",IF('教育訓練費入力（今期）'!$G1000=1,'教育訓練費入力（今期）'!$F1000,'教育訓練費入力（今期）'!$F1000&\"他\"&'教育訓練費入力（今期）'!$G1000-1&\"名\"))","v":""}]
[null,992,null,null,null,null,null,null,null,null,{"$f":"IF('教育訓練費入力（今期）'!$C1001=\"\",\"\",TEXT('教育訓練費入力（今期）'!$C1001,\"yyyy年\")&TEXT('教育訓練費入力（今期）'!$C1001,\"m月\")&TEXT('教育訓練費入力（今期）'!$C1001,\"ｄ日\")&\"から\"&'教育訓練費入力（今期）'!$D1001&\"日間\")","v":""},{"$f":"IF('教育訓練費入力（今期）'!$F1001=\"\",\"\",IF('教育訓練費入力（今期）'!$G1001=1,'教育訓練費入力（今期）'!$F1001,'教育訓練費入力（今期）'!$F1001&\"他\"&'教育訓練費入力（今期）'!$G1001-1&\"名\"))","v":""}]
[null,993,null,null,null,null,null,null,null,null,{"$f":"IF('教育訓練費入力（今期）'!$C1002=\"\",\"\",TEXT('教育訓練費入力（今期）'!$C1002,\"yyyy年\")&TEXT('教育訓練費入力（今期）'!$C1002,\"m月\")&TEXT('教育訓練費入力（今期）'!$C1002,\"ｄ日\")&\"から\"&'教育訓練費入力（今期）'!$D1002&\"日間\")","v":""},{"$f":"IF('教育訓練費入力（今期）'!$F1002=\"\",\"\",IF('教育訓練費入力（今期）'!$G1002=1,'教育訓練費入力（今期）'!$F1002,'教育訓練費入力（今期）'!$F1002&\"他\"&'教育訓練費入力（今期）'!$G1002-1&\"名\"))","v":""}]
[null,994,null,null,null,null,null,null,null,null,{"$f":"IF('教育訓練費入力（今期）'!$C1003=\"\",\"\",TEXT('教育訓練費入力（今期）'!$C1003,\"yyyy年\")&TEXT('教育訓練費入力（今期）'!$C1003,\"m月\")&TEXT('教育訓練費入力（今期）'!$C1003,\"ｄ日\")&\"から\"&'教育訓練費入力（今期）'!$D1003&\"日間\")","v":""},{"$f":"IF('教育訓練費入力（今期）'!$F1003=\"\",\"\",IF('教育訓練費入力（今期）'!$G1003=1,'教育訓練費入力（今期）'!$F1003,'教育訓練費入力（今期）'!$F1003&\"他\"&'教育訓練費入力（今期）'!$G1003-1&\"名\"))","v":""}]
[null,995,null,null,null,null,null,null,null,null,{"$f":"IF('教育訓練費入力（今期）'!$C1004=\"\",\"\",TEXT('教育訓練費入力（今期）'!$C1004,\"yyyy年\")&TEXT('教育訓練費入力（今期）'!$C1004,\"m月\")&TEXT('教育訓練費入力（今期）'!$C1004,\"ｄ日\")&\"から\"&'教育訓練費入力（今期）'!$D1004&\"日間\")","v":""},{"$f":"IF('教育訓練費入力（今期）'!$F1004=\"\",\"\",IF('教育訓練費入力（今期）'!$G1004=1,'教育訓練費入力（今期）'!$F1004,'教育訓練費入力（今期）'!$F1004&\"他\"&'教育訓練費入力（今期）'!$G1004-1&\"名\"))","v":""}]
[null,996,null,null,null,null,null,null,null,null,{"$f":"IF('教育訓練費入力（今期）'!$C1005=\"\",\"\",TEXT('教育訓練費入力（今期）'!$C1005,\"yyyy年\")&TEXT('教育訓練費入力（今期）'!$C1005,\"m月\")&TEXT('教育訓練費入力（今期）'!$C1005,\"ｄ日\")&\"から\"&'教育訓練費入力（今期）'!$D1005&\"日間\")","v":""},{"$f":"IF('教育訓練費入力（今期）'!$F1005=\"\",\"\",IF('教育訓練費入力（今期）'!$G1005=1,'教育訓練費入力（今期）'!$F1005,'教育訓練費入力（今期）'!$F1005&\"他\"&'教育訓練費入力（今期）'!$G1005-1&\"名\"))","v":""}]
[null,997,null,null,null,null,null,null,null,null,{"$f":"IF('教育訓練費入力（今期）'!$C1006=\"\",\"\",TEXT('教育訓練費入力（今期）'!$C1006,\"yyyy年\")&TEXT('教育訓練費入力（今期）'!$C1006,\"m月\")&TEXT('教育訓練費入力（今期）'!$C1006,\"ｄ日\")&\"から\"&'教育訓練費入力（今期）'!$D1006&\"日間\")","v":""},{"$f":"IF('教育訓練費入力（今期）'!$F1006=\"\",\"\",IF('教育訓練費入力（今期）'!$G1006=1,'教育訓練費入力（今期）'!$F1006,'教育訓練費入力（今期）'!$F1006&\"他\"&'教育訓練費入力（今期）'!$G1006-1&\"名\"))","v":""}]
[null,998,null,null,null,null,null,null,null,null,{"$f":"IF('教育訓練費入力（今期）'!$C1007=\"\",\"\",TEXT('教育訓練費入力（今期）'!$C1007,\"yyyy年\")&TEXT('教育訓練費入力（今期）'!$C1007,\"m月\")&TEXT('教育訓練費入力（今期）'!$C1007,\"ｄ日\")&\"から\"&'教育訓練費入力（今期）'!$D1007&\"日間\")","v":""},{"$f":"IF('教育訓練費入力（今期）'!$F1007=\"\",\"\",IF('教育訓練費入力（今期）'!$G1007=1,'教育訓練費入力（今期）'!$F1007,'教育訓練費入力（今期）'!$F1007&\"他\"&'教育訓練費入力（今期）'!$G1007-1&\"名\"))","v":""}]
[null,999,null,null,null,null,null,null,null,null,{"$f":"IF('教育訓練費入力（今期）'!$C1008=\"\",\"\",TEXT('教育訓練費入力（今期）'!$C1008,\"yyyy年\")&TEXT('教育訓練費入力（今期）'!$C1008,\"m月\")&TEXT('教育訓練費入力（今期）'!$C1008,\"ｄ日\")&\"から\"&'教育訓練費入力（今期）'!$D1008&\"日間\")","v":""},{"$f":"IF('教育訓練費入力（今期）'!$F1008=\"\",\"\",IF('教育訓練費入力（今期）'!$G1008=1,'教育訓練費入力（今期）'!$F1008,'教育訓練費入力（今期）'!$F1008&\"他\"&'教育訓練費入力（今期）'!$G1008-1&\"名\"))","v":""}]
[null,1000,null,null,null,null,null,null,null,null,{"$f":"IF('教育訓練費入力（今期）'!$C1009=\"\",\"\",TEXT('教育訓練費入力（今期）'!$C1009,\"yyyy年\")&TEXT('教育訓練費入力（今期）'!$C1009,\"m月\")&TEXT('教育訓練費入力（今期）'!$C1009,\"ｄ日\")&\"から\"&'教育訓練費入力（今期）'!$D1009&\"日間\")","v":""},{"$f":"IF('教育訓練費入力（今期）'!$F1009=\"\",\"\",IF('教育訓練費入力（今期）'!$G1009=1,'教育訓練費入力（今期）'!$F1009,'教育訓練費入力（今期）'!$F1009&\"他\"&'教育訓練費入力（今期）'!$G1009-1&\"名\"))","v":""}]
[null,1001,null,null,null,null,null,null,null,null,{"$f":"IF('教育訓練費入力（今期）'!$C1010=\"\",\"\",TEXT('教育訓練費入力（今期）'!$C1010,\"yyyy年\")&TEXT('教育訓練費入力（今期）'!$C1010,\"m月\")&TEXT('教育訓練費入力（今期）'!$C1010,\"ｄ日\")&\"から\"&'教育訓練費入力（今期）'!$D1010&\"日間\")","v":""},{"$f":"IF('教育訓練費入力（今期）'!$F1010=\"\",\"\",IF('教育訓練費入力（今期）'!$G1010=1,'教育訓練費入力（今期）'!$F1010,'教育訓練費入力（今期）'!$F1010&\"他\"&'教育訓練費入力（今期）'!$G1010-1&\"名\"))","v":""}]
[null,1002,null,null,null,null,null,null,null,null,{"$f":"IF('教育訓練費入力（今期）'!$C1011=\"\",\"\",TEXT('教育訓練費入力（今期）'!$C1011,\"yyyy年\")&TEXT('教育訓練費入力（今期）'!$C1011,\"m月\")&TEXT('教育訓練費入力（今期）'!$C1011,\"ｄ日\")&\"から\"&'教育訓練費入力（今期）'!$D1011&\"日間\")","v":""},{"$f":"IF('教育訓練費入力（今期）'!$F1011=\"\",\"\",IF('教育訓練費入力（今期）'!$G1011=1,'教育訓練費入力（今期）'!$F1011,'教育訓練費入力（今期）'!$F1011&\"他\"&'教育訓練費入力（今期）'!$G1011-1&\"名\"))","v":""}]
[null,1003,null,null,null,null,null,null,null,null,{"$f":"IF('教育訓練費入力（今期）'!$C1012=\"\",\"\",TEXT('教育訓練費入力（今期）'!$C1012,\"yyyy年\")&TEXT('教育訓練費入力（今期）'!$C1012,\"m月\")&TEXT('教育訓練費入力（今期）'!$C1012,\"ｄ日\")&\"から\"&'教育訓練費入力（今期）'!$D1012&\"日間\")","v":""},{"$f":"IF('教育訓練費入力（今期）'!$F1012=\"\",\"\",IF('教育訓練費入力（今期）'!$G1012=1,'教育訓練費入力（今期）'!$F1012,'教育訓練費入力（今期）'!$F1012&\"他\"&'教育訓練費入力（今期）'!$G1012-1&\"名\"))","v":""}]
[null,1004,null,null,null,null,null,null,null,null,{"$f":"IF('教育訓練費入力（今期）'!$C1013=\"\",\"\",TEXT('教育訓練費入力（今期）'!$C1013,\"yyyy年\")&TEXT('教育訓練費入力（今期）'!$C1013,\"m月\")&TEXT('教育訓練費入力（今期）'!$C1013,\"ｄ日\")&\"から\"&'教育訓練費入力（今期）'!$D1013&\"日間\")","v":""},{"$f":"IF('教育訓練費入力（今期）'!$F1013=\"\",\"\",IF('教育訓練費入力（今期）'!$G1013=1,'教育訓練費入力（今期）'!$F1013,'教育訓練費入力（今期）'!$F1013&\"他\"&'教育訓練費入力（今期）'!$G1013-1&\"名\"))","v":""}]
[null,1005,null,null,null,null,null,null,null,null,{"$f":"IF('教育訓練費入力（今期）'!$C1014=\"\",\"\",TEXT('教育訓練費入力（今期）'!$C1014,\"yyyy年\")&TEXT('教育訓練費入力（今期）'!$C1014,\"m月\")&TEXT('教育訓練費入力（今期）'!$C1014,\"ｄ日\")&\"から\"&'教育訓練費入力（今期）'!$D1014&\"日間\")","v":""},{"$f":"IF('教育訓練費入力（今期）'!$F1014=\"\",\"\",IF('教育訓練費入力（今期）'!$G1014=1,'教育訓練費入力（今期）'!$F1014,'教育訓練費入力（今期）'!$F1014&\"他\"&'教育訓練費入力（今期）'!$G1014-1&\"名\"))","v":""}]
[null,1006,null,null,null,null,null,null,null,null,{"$f":"IF('教育訓練費入力（今期）'!$C1015=\"\",\"\",TEXT('教育訓練費入力（今期）'!$C1015,\"yyyy年\")&TEXT('教育訓練費入力（今期）'!$C1015,\"m月\")&TEXT('教育訓練費入力（今期）'!$C1015,\"ｄ日\")&\"から\"&'教育訓練費入力（今期）'!$D1015&\"日間\")","v":""},{"$f":"IF('教育訓練費入力（今期）'!$F1015=\"\",\"\",IF('教育訓練費入力（今期）'!$G1015=1,'教育訓練費入力（今期）'!$F1015,'教育訓練費入力（今期）'!$F1015&\"他\"&'教育訓練費入力（今期）'!$G1015-1&\"名\"))","v":""}]
[null,1007,null,null,null,null,null,null,null,null,{"$f":"IF('教育訓練費入力（今期）'!$C1016=\"\",\"\",TEXT('教育訓練費入力（今期）'!$C1016,\"yyyy年\")&TEXT('教育訓練費入力（今期）'!$C1016,\"m月\")&TEXT('教育訓練費入力（今期）'!$C1016,\"ｄ日\")&\"から\"&'教育訓練費入力（今期）'!$D1016&\"日間\")","v":""},{"$f":"IF('教育訓練費入力（今期）'!$F1016=\"\",\"\",IF('教育訓練費入力（今期）'!$G1016=1,'教育訓練費入力（今期）'!$F1016,'教育訓練費入力（今期）'!$F1016&\"他\"&'教育訓練費入力（今期）'!$G1016-1&\"名\"))","v":""}]
[null,1008,null,null,null,null,null,null,null,null,{"$f":"IF('教育訓練費入力（今期）'!$C1017=\"\",\"\",TEXT('教育訓練費入力（今期）'!$C1017,\"yyyy年\")&TEXT('教育訓練費入力（今期）'!$C1017,\"m月\")&TEXT('教育訓練費入力（今期）'!$C1017,\"ｄ日\")&\"から\"&'教育訓練費入力（今期）'!$D1017&\"日間\")","v":""},{"$f":"IF('教育訓練費入力（今期）'!$F1017=\"\",\"\",IF('教育訓練費入力（今期）'!$G1017=1,'教育訓練費入力（今期）'!$F1017,'教育訓練費入力（今期）'!$F1017&\"他\"&'教育訓練費入力（今期）'!$G1017-1&\"名\"))","v":""}]
[null,1009,null,null,null,null,null,null,null,null,{"$f":"IF('教育訓練費入力（今期）'!$C1018=\"\",\"\",TEXT('教育訓練費入力（今期）'!$C1018,\"yyyy年\")&TEXT('教育訓練費入力（今期）'!$C1018,\"m月\")&TEXT('教育訓練費入力（今期）'!$C1018,\"ｄ日\")&\"から\"&'教育訓練費入力（今期）'!$D1018&\"日間\")","v":""},{"$f":"IF('教育訓練費入力（今期）'!$F1018=\"\",\"\",IF('教育訓練費入力（今期）'!$G1018=1,'教育訓練費入力（今期）'!$F1018,'教育訓練費入力（今期）'!$F1018&\"他\"&'教育訓練費入力（今期）'!$G1018-1&\"名\"))","v":""}]
[null,1010,null,null,null,null,null,null,null,null,{"$f":"IF('教育訓練費入力（今期）'!$C1019=\"\",\"\",TEXT('教育訓練費入力（今期）'!$C1019,\"yyyy年\")&TEXT('教育訓練費入力（今期）'!$C1019,\"m月\")&TEXT('教育訓練費入力（今期）'!$C1019,\"ｄ日\")&\"から\"&'教育訓練費入力（今期）'!$D1019&\"日間\")","v":""},{"$f":"IF('教育訓練費入力（今期）'!$F1019=\"\",\"\",IF('教育訓練費入力（今期）'!$G1019=1,'教育訓練費入力（今期）'!$F1019,'教育訓練費入力（今期）'!$F1019&\"他\"&'教育訓練費入力（今期）'!$G1019-1&\"名\"))","v":""}]
[null,1011,null,null,null,null,null,null,null,null,{"$f":"IF('教育訓練費入力（今期）'!$C1020=\"\",\"\",TEXT('教育訓練費入力（今期）'!$C1020,\"yyyy年\")&TEXT('教育訓練費入力（今期）'!$C1020,\"m月\")&TEXT('教育訓練費入力（今期）'!$C1020,\"ｄ日\")&\"から\"&'教育訓練費入力（今期）'!$D1020&\"日間\")","v":""},{"$f":"IF('教育訓練費入力（今期）'!$F1020=\"\",\"\",IF('教育訓練費入力（今期）'!$G1020=1,'教育訓練費入力（今期）'!$F1020,'教育訓練費入力（今期）'!$F1020&\"他\"&'教育訓練費入力（今期）'!$G1020-1&\"名\"))","v":""}]
[null,1012,null,null,null,null,null,null,null,null,{"$f":"IF('教育訓練費入力（今期）'!$C1021=\"\",\"\",TEXT('教育訓練費入力（今期）'!$C1021,\"yyyy年\")&TEXT('教育訓練費入力（今期）'!$C1021,\"m月\")&TEXT('教育訓練費入力（今期）'!$C1021,\"ｄ日\")&\"から\"&'教育訓練費入力（今期）'!$D1021&\"日間\")","v":""},{"$f":"IF('教育訓練費入力（今期）'!$F1021=\"\",\"\",IF('教育訓練費入力（今期）'!$G1021=1,'教育訓練費入力（今期）'!$F1021,'教育訓練費入力（今期）'!$F1021&\"他\"&'教育訓練費入力（今期）'!$G1021-1&\"名\"))","v":""}]
[null,1013,null,null,null,null,null,null,null,null,{"$f":"IF('教育訓練費入力（今期）'!$C1022=\"\",\"\",TEXT('教育訓練費入力（今期）'!$C1022,\"yyyy年\")&TEXT('教育訓練費入力（今期）'!$C1022,\"m月\")&TEXT('教育訓練費入力（今期）'!$C1022,\"ｄ日\")&\"から\"&'教育訓練費入力（今期）'!$D1022&\"日間\")","v":""},{"$f":"IF('教育訓練費入力（今期）'!$F1022=\"\",\"\",IF('教育訓練費入力（今期）'!$G1022=1,'教育訓練費入力（今期）'!$F1022,'教育訓練費入力（今期）'!$F1022&\"他\"&'教育訓練費入力（今期）'!$G1022-1&\"名\"))","v":""}]
[null,1014,null,null,null,null,null,null,null,null,{"$f":"IF('教育訓練費入力（今期）'!$C1023=\"\",\"\",TEXT('教育訓練費入力（今期）'!$C1023,\"yyyy年\")&TEXT('教育訓練費入力（今期）'!$C1023,\"m月\")&TEXT('教育訓練費入力（今期）'!$C1023,\"ｄ日\")&\"から\"&'教育訓練費入力（今期）'!$D1023&\"日間\")","v":""},{"$f":"IF('教育訓練費入力（今期）'!$F1023=\"\",\"\",IF('教育訓練費入力（今期）'!$G1023=1,'教育訓練費入力（今期）'!$F1023,'教育訓練費入力（今期）'!$F1023&\"他\"&'教育訓練費入力（今期）'!$G1023-1&\"名\"))","v":""}]
[null,1015,null,null,null,null,null,null,null,null,{"$f":"IF('教育訓練費入力（今期）'!$C1024=\"\",\"\",TEXT('教育訓練費入力（今期）'!$C1024,\"yyyy年\")&TEXT('教育訓練費入力（今期）'!$C1024,\"m月\")&TEXT('教育訓練費入力（今期）'!$C1024,\"ｄ日\")&\"から\"&'教育訓練費入力（今期）'!$D1024&\"日間\")","v":""},{"$f":"IF('教育訓練費入力（今期）'!$F1024=\"\",\"\",IF('教育訓練費入力（今期）'!$G1024=1,'教育訓練費入力（今期）'!$F1024,'教育訓練費入力（今期）'!$F1024&\"他\"&'教育訓練費入力（今期）'!$G1024-1&\"名\"))","v":""}]
[null,1016,null,null,null,null,null,null,null,null,{"$f":"IF('教育訓練費入力（今期）'!$C1025=\"\",\"\",TEXT('教育訓練費入力（今期）'!$C1025,\"yyyy年\")&TEXT('教育訓練費入力（今期）'!$C1025,\"m月\")&TEXT('教育訓練費入力（今期）'!$C1025,\"ｄ日\")&\"から\"&'教育訓練費入力（今期）'!$D1025&\"日間\")","v":""},{"$f":"IF('教育訓練費入力（今期）'!$F1025=\"\",\"\",IF('教育訓練費入力（今期）'!$G1025=1,'教育訓練費入力（今期）'!$F1025,'教育訓練費入力（今期）'!$F1025&\"他\"&'教育訓練費入力（今期）'!$G1025-1&\"名\"))","v":""}]

{"sheet":"教育訓練費印刷（今期）","index":5,"n_rows":9,"n_cols":8,"rows_kept":9,"cut":false,"hidden":false,"merged":[]}
[]
[]
[]
[]
[]
[]
[]
[null,"平成30年4月1日　から　平成31年3月31日　までの教育訓練費の明細"]
[null,"No.","実施時期","内容","受講者","支払日","支払額","支払先"]

{"sheet":"教育訓練費入力（前期）","index":6,"n_rows":1025,"n_cols":12,"rows_kept":1025,"cut":false,"hidden":false,"merged":[[7,1,7,9]]}
[]
[]
[]
[]
[]
[]
[]
[null,{"$f":"TEXT(基本情報!C16,\"平成ee年m月d日\")&\"　から　\"&TEXT(基本情報!C15,\"平成ee年m月d日\")&\"　までの教育訓練費の明細\"","v":"平成29年4月1日　から　平成30年3月31日　までの教育訓練費の明細"}]
[null,"No.","実施時期","実施\n期間","内容","受講者の氏名\n（国内雇用者に限る）","参加\n者数","支払日","支払額","支払先","実施時期結合","参加者結合"]
[null,1,"2017-05-31",2,"新人研修セミナー","笹部　菜穂美",3,"2017-05-15",300000,"MUFGコンサルティング株式会社",{"$f":"IF('教育訓練費入力（前期）'!$C10=\"\",\"\",TEXT('教育訓練費入力（前期）'!$C10,\"yyyy年\")&TEXT('教育訓練費入力（前期）'!$C10,\"m月\")&TEXT('教育訓練費入力（前期）'!$C10,\"ｄ日\")&\"から\"&'教育訓練費入力（前期）'!$D10&\"日間\")","v":"2017年5月31日から2日間"},{"$f":"IF('教育訓練費入力（前期）'!$F10=\"\",\"\",IF('教育訓練費入力（前期）'!$G10=1,'教育訓練費入力（前期）'!$F10,'教育訓練費入力（前期）'!$F10&\"他\"&'教育訓練費入力（前期）'!$G10-1&\"名\"))","v":"笹部　菜穂美他2名"}]
[null,2,"2017-06-30",3,"Python　中級者向け研修","鳥居　雅之",1,"2017-06-01",54000,"株式会社ムーンマイクロシステム",{"$f":"IF('教育訓練費入力（前期）'!$C11=\"\",\"\",TEXT('教育訓練費入力（前期）'!$C11,\"yyyy年\")&TEXT('教育訓練費入力（前期）'!$C11,\"m月\")&TEXT('教育訓練費入力（前期）'!$C11,\"ｄ日\")&\"から\"&'教育訓練費入力（前期）'!$D11&\"日間\")","v":"2017年6月30日から3日間"},{"$f":"IF('教育訓練費入力（前期）'!$F11=\"\",\"\",IF('教育訓練費入力（前期）'!$G11=1,'教育訓練費入力（前期）'!$F11,'教育訓練費入力（前期）'!$F11&\"他\"&'教育訓練費入力（前期）'!$G11-1&\"名\"))","v":"鳥居　雅之"}]
[null,3,"2017-07-31",2,"基本情報技術者試験受験料","山下　崇",2,"2017-07-09",18600,"独立行政法人情報処理推進機構",{"$f":"IF('教育訓練費入力（前期）'!$C12=\"\",\"\",TEXT('教育訓練費入力（前期）'!$C12,\"yyyy年\")&TEXT('教育訓練費入力（前期）'!$C12,\"m月\")&TEXT('教育訓練費入力（前期）'!$C12,\"ｄ日\")&\"から\"&'教育訓練費入力（前期）'!$D12&\"日間\")","v":"2017年7月31日から2日間"},{"$f":"IF('教育訓練費入力（前期）'!$F12=\"\",\"\",IF('教育訓練費入力（前期）'!$G12=1,'教育訓練費入力（前期）'!$F12,'教育訓練費入力（前期）'!$F12&\"他\"&'教育訓練費入力（前期）'!$G12-1&\"名\"))","v":"山下　崇他1名"}]
[null,4,"2017-08-21",1,"３種衛生士試験料","絹延橋　みつ子",1,"2017-08-02",10800,"（財）安全衛生技術試験協会",{"$f":"IF('教育訓練費入力（前期）'!$C13=\"\",\"\",TEXT('教育訓練費入力（前期）'!$C13,\"yyyy年\")&TEXT('教育訓練費入力（前期）'!$C13,\"m月\")&TEXT('教育訓練費入力（前期）'!$C13,\"ｄ日\")&\"から\"&'教育訓練費入力（前期）'!$D13&\"日間\")","v":"2017年8月21日から1日間"},{"$f":"IF('教育訓練費入力（前期）'!$F13=\"\",\"\",IF('教育訓練費入力（前期）'!$G13=1,'教育訓練費入力（前期）'!$F13,'教育訓練費入力（前期）'!$F13&\"他\"&'教育訓練費入力（前期）'!$G13-1&\"名\"))","v":"絹延橋　みつ子"}]
[null,5,"2017-09-25",3,"課長・主任・係長クラスのメンタル改革セミナー","日生　暁久",2,"2017-09-10",486000,"MUFGコンサルティング株式会社",{"$f":"IF('教育訓練費入力（前期）'!$C14=\"\",\"\",TEXT('教育訓練費入力（前期）'!$C14,\"yyyy年\")&TEXT('教育訓練費入力（前期）'!$C14,\"m月\")&TEXT('教育訓練費入力（前期）'!$C14,\"ｄ日\")&\"から\"&'教育訓練費入力（前期）'!$D14&\"日間\")","v":"2017年9月25日から3日間"},{"$f":"IF('教育訓練費入力（前期）'!$F14=\"\",\"\",IF('教育訓練費入力（前期）'!$G14=1,'教育訓練費入力（前期）'!$F14,'教育訓練費入力（前期）'!$F14&\"他\"&'教育訓練費入力（前期）'!$G14-1&\"名\"))","v":"日生　暁久他1名"}]
[null,6,"2017-10-22",1,"基本情報技術者試験、初級シスアド試験受験料","笹部　菜穂美",10,"2017-09-30",84000,"独立行政法人情報処理推進機構",{"$f":"IF('教育訓練費入力（前期）'!$C15=\"\",\"\",TEXT('教育訓練費入力（前期）'!$C15,\"yyyy年\")&TEXT('教育訓練費入力（前期）'!$C15,\"m月\")&TEXT('教育訓練費入力（前期）'!$C15,\"ｄ日\")&\"から\"&'教育訓練費入力（前期）'!$D15&\"日間\")","v":"2017年10月22日から1日間"},{"$f":"IF('教育訓練費入力（前期）'!$F15=\"\",\"\",IF('教育訓練費入力（前期）'!$G15=1,'教育訓練費入力（前期）'!$F15,'教育訓練費入力（前期）'!$F15&\"他\"&'教育訓練費入力（前期）'!$G15-1&\"名\"))","v":"笹部　菜穂美他9名"}]
[null,7,"2017-12-15",3,"ＶＢＡ試験対策講習","鳥居　雅之",3,"2017-11-15",150000,"株式会社ＴＣインターナショナル",{"$f":"IF('教育訓練費入力（前期）'!$C16=\"\",\"\",TEXT('教育訓練費入力（前期）'!$C16,\"yyyy年\")&TEXT('教育訓練費入力（前期）'!$C16,\"m月\")&TEXT('教育訓練費入力（前期）'!$C16,\"ｄ日\")&\"から\"&'教育訓練費入力（前期）'!$D16&\"日間\")","v":"2017年12月15日から3日間"},{"$f":"IF('教育訓練費入力（前期）'!$F16=\"\",\"\",IF('教育訓練費入力（前期）'!$G16=1,'教育訓練費入力（前期）'!$F16,'教育訓練費入力（前期）'!$F16&\"他\"&'教育訓練費入力（前期）'!$G16-1&\"名\"))","v":"鳥居　雅之他2名"}]
[null,8,null,null,null,null,null,null,null,null,{"$f":"IF('教育訓練費入力（前期）'!$C17=\"\",\"\",TEXT('教育訓練費入力（前期）'!$C17,\"yyyy年\")&TEXT('教育訓練費入力（前期）'!$C17,\"m月\")&TEXT('教育訓練費入力（前期）'!$C17,\"ｄ日\")&\"から\"&'教育訓練費入力（前期）'!$D17&\"日間\")","v":""},{"$f":"IF('教育訓練費入力（前期）'!$F17=\"\",\"\",IF('教育訓練費入力（前期）'!$G17=1,'教育訓練費入力（前期）'!$F17,'教育訓練費入力（前期）'!$F17&\"他\"&'教育訓練費入力（前期）'!$G17-1&\"名\"))","v":""}]
[null,9,null,null,null,null,null,null,null,null,{"$f":"IF('教育訓練費入力（前期）'!$C18=\"\",\"\",TEXT('教育訓練費入力（前期）'!$C18,\"yyyy年\")&TEXT('教育訓練費入力（前期）'!$C18,\"m月\")&TEXT('教育訓練費入力（前期）'!$C18,\"ｄ日\")&\"から\"&'教育訓練費入力（前期）'!$D18&\"日間\")","v":""},{"$f":"IF('教育訓練費入力（前期）'!$F18=\"\",\"\",IF('教育訓練費入力（前期）'!$G18=1,'教育訓練費入力（前期）'!$F18,'教育訓練費入力（前期）'!$F18&\"他\"&'教育訓練費入力（前期）'!$G18-1&\"名\"))","v":""}]
[null,10,null,null,null,null,null,null,null,null,{"$f":"IF('教育訓練費入力（前期）'!$C19=\"\",\"\",TEXT('教育訓練費入力（前期）'!$C19,\"yyyy年\")&TEXT('教育訓練費入力（前期）'!$C19,\"m月\")&TEXT('教育訓練費入力（前期）'!$C19,\"ｄ日\")&\"から\"&'教育訓練費入力（前期）'!$D19&\"日間\")","v":""},{"$f":"IF('教育訓練費入力（前期）'!$F19=\"\",\"\",IF('教育訓練費入力（前期）'!$G19=1,'教育訓練費入力（前期）'!$F19,'教育訓練費入力（前期）'!$F19&\"他\"&'教育訓練費入力（前期）'!$G19-1&\"名\"))","v":""}]
[null,11,null,null,null,null,null,null,null,null,{"$f":"IF('教育訓練費入力（前期）'!$C20=\"\",\"\",TEXT('教育訓練費入力（前期）'!$C20,\"yyyy年\")&TEXT('教育訓練費入力（前期）'!$C20,\"m月\")&TEXT('教育訓練費入力（前期）'!$C20,\"ｄ日\")&\"から\"&'教育訓練費入力（前期）'!$D20&\"日間\")","v":""},{"$f":"IF('教育訓練費入力（前期）'!$F20=\"\",\"\",IF('教育訓練費入力（前期）'!$G20=1,'教育訓練費入力（前期）'!$F20,'教育訓練費入力（前期）'!$F20&\"他\"&'教育訓練費入力（前期）'!$G20-1&\"名\"))","v":""}]
[null,12,null,null,null,null,null,null,null,null,{"$f":"IF('教育訓練費入力（前期）'!$C21=\"\",\"\",TEXT('教育訓練費入力（前期）'!$C21,\"yyyy年\")&TEXT('教育訓練費入力（前期）'!$C21,\"m月\")&TEXT('教育訓練費入力（前期）'!$C21,\"ｄ日\")&\"から\"&'教育訓練費入力（前期）'!$D21&\"日間\")","v":""},{"$f":"IF('教育訓練費入力（前期）'!$F21=\"\",\"\",IF('教育訓練費入力（前期）'!$G21=1,'教育訓練費入力（前期）'!$F21,'教育訓練費入力（前期）'!$F21&\"他\"&'教育訓練費入力（前期）'!$G21-1&\"名\"))","v":""}]
[null,13,null,null,null,null,null,null,null,null,{"$f":"IF('教育訓練費入力（前期）'!$C22=\"\",\"\",TEXT('教育訓練費入力（前期）'!$C22,\"yyyy年\")&TEXT('教育訓練費入力（前期）'!$C22,\"m月\")&TEXT('教育訓練費入力（前期）'!$C22,\"ｄ日\")&\"から\"&'教育訓練費入力（前期）'!$D22&\"日間\")","v":""},{"$f":"IF('教育訓練費入力（前期）'!$F22=\"\",\"\",IF('教育訓練費入力（前期）'!$G22=1,'教育訓練費入力（前期）'!$F22,'教育訓練費入力（前期）'!$F22&\"他\"&'教育訓練費入力（前期）'!$G22-1&\"名\"))","v":""}]
[null,14,null,null,null,null,null,null,null,null,{"$f":"IF('教育訓練費入力（前期）'!$C23=\"\",\"\",TEXT('教育訓練費入力（前期）'!$C23,\"yyyy年\")&TEXT('教育訓練費入力（前期）'!$C23,\"m月\")&TEXT('教育訓練費入力（前期）'!$C23,\"ｄ日\")&\"から\"&'教育訓練費入力（前期）'!$D23&\"日間\")","v":""},{"$f":"IF('教育訓練費入力（前期）'!$F23=\"\",\"\",IF('教育訓練費入力（前期）'!$G23=1,'教育訓練費入力（前期）'!$F23,'教育訓練費入力（前期）'!$F23&\"他\"&'教育訓練費入力（前期）'!$G23-1&\"名\"))","v":""}]
[null,15,null,null,null,null,null,null,null,null,{"$f":"IF('教育訓練費入力（前期）'!$C24=\"\",\"\",TEXT('教育訓練費入力（前期）'!$C24,\"yyyy年\")&TEXT('教育訓練費入力（前期）'!$C24,\"m月\")&TEXT('教育訓練費入力（前期）'!$C24,\"ｄ日\")&\"から\"&'教育訓練費入力（前期）'!$D24&\"日間\")","v":""},{"$f":"IF('教育訓練費入力（前期）'!$F24=\"\",\"\",IF('教育訓練費入力（前期）'!$G24=1,'教育訓練費入力（前期）'!$F24,'教育訓練費入力（前期）'!$F24&\"他\"&'教育訓練費入力（前期）'!$G24-1&\"名\"))","v":""}]
[null,16,null,null,null,null,null,null,null,null,{"$f":"IF('教育訓練費入力（前期）'!$C25=\"\",\"\",TEXT('教育訓練費入力（前期）'!$C25,\"yyyy年\")&TEXT('教育訓練費入力（前期）'!$C25,\"m月\")&TEXT('教育訓練費入力（前期）'!$C25,\"ｄ日\")&\"から\"&'教育訓練費入力（前期）'!$D25&\"日間\")","v":""},{"$f":"IF('教育訓練費入力（前期）'!$F25=\"\",\"\",IF('教育訓練費入力（前期）'!$G25=1,'教育訓練費入力（前期）'!$F25,'教育訓練費入力（前期）'!$F25&\"他\"&'教育訓練費入力（前期）'!$G25-1&\"名\"))","v":""}]
[null,17,null,null,null,null,null,null,null,null,{"$f":"IF('教育訓練費入力（前期）'!$C26=\"\",\"\",TEXT('教育訓練費入力（前期）'!$C26,\"yyyy年\")&TEXT('教育訓練費入力（前期）'!$C26,\"m月\")&TEXT('教育訓練費入力（前期）'!$C26,\"ｄ日\")&\"から\"&'教育訓練費入力（前期）'!$D26&\"日間\")","v":""},{"$f":"IF('教育訓練費入力（前期）'!$F26=\"\",\"\",IF('教育訓練費入力（前期）'!$G26=1,'教育訓練費入力（前期）'!$F26,'教育訓練費入力（前期）'!$F26&\"他\"&'教育訓練費入力（前期）'!$G26-1&\"名\"))","v":""}]
[null,18,null,null,null,null,null,null,null,null,{"$f":"IF('教育訓練費入力（前期）'!$C27=\"\",\"\",TEXT('教育訓練費入力（前期）'!$C27,\"yyyy年\")&TEXT('教育訓練費入力（前期）'!$C27,\"m月\")&TEXT('教育訓練費入力（前期）'!$C27,\"ｄ日\")&\"から\"&'教育訓練費入力（前期）'!$D27&\"日間\")","v":""},{"$f":"IF('教育訓練費入力（前期）'!$F27=\"\",\"\",IF('教育訓練費入力（前期）'!$G27=1,'教育訓練費入力（前期）'!$F27,'教育訓練費入力（前期）'!$F27&\"他\"&'教育訓練費入力（前期）'!$G27-1&\"名\"))","v":""}]
[null,19,null,null,null,null,null,null,null,null,{"$f":"IF('教育訓練費入力（前期）'!$C28=\"\",\"\",TEXT('教育訓練費入力（前期）'!$C28,\"yyyy年\")&TEXT('教育訓練費入力（前期）'!$C28,\"m月\")&TEXT('教育訓練費入力（前期）'!$C28,\"ｄ日\")&\"から\"&'教育訓練費入力（前期）'!$D28&\"日間\")","v":""},{"$f":"IF('教育訓練費入力（前期）'!$F28=\"\",\"\",IF('教育訓練費入力（前期）'!$G28=1,'教育訓練費入力（前期）'!$F28,'教育訓練費入力（前期）'!$F28&\"他\"&'教育訓練費入力（前期）'!$G28-1&\"名\"))","v":""}]
[null,20,null,null,null,null,null,null,null,null,{"$f":"IF('教育訓練費入力（前期）'!$C29=\"\",\"\",TEXT('教育訓練費入力（前期）'!$C29,\"yyyy年\")&TEXT('教育訓練費入力（前期）'!$C29,\"m月\")&TEXT('教育訓練費入力（前期）'!$C29,\"ｄ日\")&\"から\"&'教育訓練費入力（前期）'!$D29&\"日間\")","v":""},{"$f":"IF('教育訓練費入力（前期）'!$F29=\"\",\"\",IF('教育訓練費入力（前期）'!$G29=1,'教育訓練費入力（前期）'!$F29,'教育訓練費入力（前期）'!$F29&\"他\"&'教育訓練費入力（前期）'!$G29-1&\"名\"))","v":""}]
[null,21,null,null,null,null,null,null,null,null,{"$f":"IF('教育訓練費入力（前期）'!$C30=\"\",\"\",TEXT('教育訓練費入力（前期）'!$C30,\"yyyy年\")&TEXT('教育訓練費入力（前期）'!$C30,\"m月\")&TEXT('教育訓練費入力（前期）'!$C30,\"ｄ日\")&\"から\"&'教育訓練費入力（前期）'!$D30&\"日間\")","v":""},{"$f":"IF('教育訓練費入力（前期）'!$F30=\"\",\"\",IF('教育訓練費入力（前期）'!$G30=1,'教育訓練費入力（前期）'!$F30,'教育訓練費入力（前期）'!$F30&\"他\"&'教育訓練費入力（前期）'!$G30-1&\"名\"))","v":""}]
[null,22,null,null,null,null,null,null,null,null,{"$f":"IF('教育訓練費入力（前期）'!$C31=\"\",\"\",TEXT('教育訓練費入力（前期）'!$C31,\"yyyy年\")&TEXT('教育訓練費入力（前期）'!$C31,\"m月\")&TEXT('教育訓練費入力（前期）'!$C31,\"ｄ日\")&\"から\"&'教育訓練費入力（前期）'!$D31&\"日間\")","v":""},{"$f":"IF('教育訓練費入力（前期）'!$F31=\"\",\"\",IF('教育訓練費入力（前期）'!$G31=1,'教育訓練費入力（前期）'!$F31,'教育訓練費入力（前期）'!$F31&\"他\"&'教育訓練費入力（前期）'!$G31-1&\"名\"))","v":""}]
[null,23,null,null,null,null,null,null,null,null,{"$f":"IF('教育訓練費入力（前期）'!$C32=\"\",\"\",TEXT('教育訓練費入力（前期）'!$C32,\"yyyy年\")&TEXT('教育訓練費入力（前期）'!$C32,\"m月\")&TEXT('教育訓練費入力（前期）'!$C32,\"ｄ日\")&\"から\"&'教育訓練費入力（前期）'!$D32&\"日間\")","v":""},{"$f":"IF('教育訓練費入力（前期）'!$F32=\"\",\"\",IF('教育訓練費入力（前期）'!$G32=1,'教育訓練費入力（前期）'!$F32,'教育訓練費入力（前期）'!$F32&\"他\"&'教育訓練費入力（前期）'!$G32-1&\"名\"))","v":""}]
[null,24,null,null,null,null,null,null,null,null,{"$f":"IF('教育訓練費入力（前期）'!$C33=\"\",\"\",TEXT('教育訓練費入力（前期）'!$C33,\"yyyy年\")&TEXT('教育訓練費入力（前期）'!$C33,\"m月\")&TEXT('教育訓練費入力（前期）'!$C33,\"ｄ日\")&\"から\"&'教育訓練費入力（前期）'!$D33&\"日間\")","v":""},{"$f":"IF('教育訓練費入力（前期）'!$F33=\"\",\"\",IF('教育訓練費入力（前期）'!$G33=1,'教育訓練費入力（前期）'!$F33,'教育訓練費入力（前期）'!$F33&\"他\"&'教育訓練費入力（前期）'!$G33-1&\"名\"))","v":""}]
[null,25,null,null,null,null,null,null,null,null,{"$f":"IF('教育訓練費入力（前期）'!$C34=\"\",\"\",TEXT('教育訓練費入力（前期）'!$C34,\"yyyy年\")&TEXT('教育訓練費入力（前期）'!$C34,\"m月\")&TEXT('教育訓練費入力（前期）'!$C34,\"ｄ日\")&\"から\"&'教育訓練費入力（前期）'!$D34&\"日間\")","v":""},{"$f":"IF('教育訓練費入力（前期）'!$F34=\"\",\"\",IF('教育訓練費入力（前期）'!$G34=1,'教育訓練費入力（前期）'!$F34,'教育訓練費入力（前期）'!$F34&\"他\"&'教育訓練費入力（前期）'!$G34-1&\"名\"))","v":""}]
[null,26,null,null,null,null,null,null,null,null,{"$f":"IF('教育訓練費入力（前期）'!$C35=\"\",\"\",TEXT('教育訓練費入力（前期）'!$C35,\"yyyy年\")&TEXT('教育訓練費入力（前期）'!$C35,\"m月\")&TEXT('教育訓練費入力（前期）'!$C35,\"ｄ日\")&\"から\"&'教育訓練費入力（前期）'!$D35&\"日間\")","v":""},{"$f":"IF('教育訓練費入力（前期）'!$F35=\"\",\"\",IF('教育訓練費入力（前期）'!$G35=1,'教育訓練費入力（前期）'!$F35,'教育訓練費入力（前期）'!$F35&\"他\"&'教育訓練費入力（前期）'!$G35-1&\"名\"))","v":""}]
[null,27,null,null,null,null,null,null,null,null,{"$f":"IF('教育訓練費入力（前期）'!$C36=\"\",\"\",TEXT('教育訓練費入力（前期）'!$C36,\"yyyy年\")&TEXT('教育訓練費入力（前期）'!$C36,\"m月\")&TEXT('教育訓練費入力（前期）'!$C36,\"ｄ日\")&\"から\"&'教育訓練費入力（前期）'!$D36&\"日間\")","v":""},{"$f":"IF('教育訓練費入力（前期）'!$F36=\"\",\"\",IF('教育訓練費入力（前期）'!$G36=1,'教育訓練費入力（前期）'!$F36,'教育訓練費入力（前期）'!$F36&\"他\"&'教育訓練費入力（前期）'!$G36-1&\"名\"))","v":""}]
[null,28,null,null,null,null,null,null,null,null,{"$f":"IF('教育訓練費入力（前期）'!$C37=\"\",\"\",TEXT('教育訓練費入力（前期）'!$C37,\"yyyy年\")&TEXT('教育訓練費入力（前期）'!$C37,\"m月\")&TEXT('教育訓練費入力（前期）'!$C37,\"ｄ日\")&\"から\"&'教育訓練費入力（前期）'!$D37&\"日間\")","v":""},{"$f":"IF('教育訓練費入力（前期）'!$F37=\"\",\"\",IF('教育訓練費入力（前期）'!$G37=1,'教育訓練費入力（前期）'!$F37,'教育訓練費入力（前期）'!$F37&\"他\"&'教育訓練費入力（前期）'!$G37-1&\"名\"))","v":""}]
[null,29,null,null,null,null,null,null,null,null,{"$f":"IF('教育訓練費入力（前期）'!$C38=\"\",\"\",TEXT('教育訓練費入力（前期）'!$C38,\"yyyy年\")&TEXT('教育訓練費入力（前期）'!$C38,\"m月\")&TEXT('教育訓練費入力（前期）'!$C38,\"ｄ日\")&\"から\"&'教育訓練費入力（前期）'!$D38&\"日間\")","v":""},{"$f":"IF('教育訓練費入力（前期）'!$F38=\"\",\"\",IF('教育訓練費入力（前期）'!$G38=1,'教育訓練費入力（前期）'!$F38,'教育訓練費入力（前期）'!$F38&\"他\"&'教育訓練費入力（前期）'!$G38-1&\"名\"))","v":""}]
[null,30,null,null,null,null,null,null,null,null,{"$f":"IF('教育訓練費入力（前期）'!$C39=\"\",\"\",TEXT('教育訓練費入力（前期）'!$C39,\"yyyy年\")&TEXT('教育訓練費入力（前期）'!$C39,\"m月\")&TEXT('教育訓練費入力（前期）'!$C39,\"ｄ日\")&\"から\"&'教育訓練費入力（前期）'!$D39&\"日間\")","v":""},{"$f":"IF('教育訓練費入力（前期）'!$F39=\"\",\"\",IF('教育訓練費入力（前期）'!$G39=1,'教育訓練費入力（前期）'!$F39,'教育訓練費入力（前期）'!$F39&\"他\"&'教育訓練費入力（前期）'!$G39-1&\"名\"))","v":""}]
[null,31,null,null,null,null,null,null,null,null,{"$f":"IF('教育訓練費入力（前期）'!$C40=\"\",\"\",TEXT('教育訓練費入力（前期）'!$C40,\"yyyy年\")&TEXT('教育訓練費入力（前期）'!$C40,\"m月\")&TEXT('教育訓練費入力（前期）'!$C40,\"ｄ日\")&\"から\"&'教育訓練費入力（前期）'!$D40&\"日間\")","v":""},{"$f":"IF('教育訓練費入力（前期）'!$F40=\"\",\"\",IF('教育訓練費入力（前期）'!$G40=1,'教育訓練費入力（前期）'!$F40,'教育訓練費入力（前期）'!$F40&\"他\"&'教育訓練費入力（前期）'!$G40-1&\"名\"))","v":""}]
[null,32,null,null,null,null,null,null,null,null,{"$f":"IF('教育訓練費入力（前期）'!$C41=\"\",\"\",TEXT('教育訓練費入力（前期）'!$C41,\"yyyy年\")&TEXT('教育訓練費入力（前期）'!$C41,\"m月\")&TEXT('教育訓練費入力（前期）'!$C41,\"ｄ日\")&\"から\"&'教育訓練費入力（前期）'!$D41&\"日間\")","v":""},{"$f":"IF('教育訓練費入力（前期）'!$F41=\"\",\"\",IF('教育訓練費入力（前期）'!$G41=1,'教育訓練費入力（前期）'!$F41,'教育訓練費入力（前期）'!$F41&\"他\"&'教育訓練費入力（前期）'!$G41-1&\"名\"))","v":""}]
[null,33,null,null,null,null,null,null,null,null,{"$f":"IF('教育訓練費入力（前期）'!$C42=\"\",\"\",TEXT('教育訓練費入力（前期）'!$C42,\"yyyy年\")&TEXT('教育訓練費入力（前期）'!$C42,\"m月\")&TEXT('教育訓練費入力（前期）'!$C42,\"ｄ日\")&\"から\"&'教育訓練費入力（前期）'!$D42&\"日間\")","v":""},{"$f":"IF('教育訓練費入力（前期）'!$F42=\"\",\"\",IF('教育訓練費入力（前期）'!$G42=1,'教育訓練費入力（前期）'!$F42,'教育訓練費入力（前期）'!$F42&\"他\"&'教育訓練費入力（前期）'!$G42-1&\"名\"))","v":""}]
[null,34,null,null,null,null,null,null,null,null,{"$f":"IF('教育訓練費入力（前期）'!$C43=\"\",\"\",TEXT('教育訓練費入力（前期）'!$C43,\"yyyy年\")&TEXT('教育訓練費入力（前期）'!$C43,\"m月\")&TEXT('教育訓練費入力（前期）'!$C43,\"ｄ日\")&\"から\"&'教育訓練費入力（前期）'!$D43&\"日間\")","v":""},{"$f":"IF('教育訓練費入力（前期）'!$F43=\"\",\"\",IF('教育訓練費入力（前期）'!$G43=1,'教育訓練費入力（前期）'!$F43,'教育訓練費入力（前期）'!$F43&\"他\"&'教育訓練費入力（前期）'!$G43-1&\"名\"))","v":""}]
[null,35,null,null,null,null,null,null,null,null,{"$f":"IF('教育訓練費入力（前期）'!$C44=\"\",\"\",TEXT('教育訓練費入力（前期）'!$C44,\"yyyy年\")&TEXT('教育訓練費入力（前期）'!$C44,\"m月\")&TEXT('教育訓練費入力（前期）'!$C44,\"ｄ日\")&\"から\"&'教育訓練費入力（前期）'!$D44&\"日間\")","v":""},{"$f":"IF('教育訓練費入力（前期）'!$F44=\"\",\"\",IF('教育訓練費入力（前期）'!$G44=1,'教育訓練費入力（前期）'!$F44,'教育訓練費入力（前期）'!$F44&\"他\"&'教育訓練費入力（前期）'!$G44-1&\"名\"))","v":""}]
[null,36,null,null,null,null,null,null,null,null,{"$f":"IF('教育訓練費入力（前期）'!$C45=\"\",\"\",TEXT('教育訓練費入力（前期）'!$C45,\"yyyy年\")&TEXT('教育訓練費入力（前期）'!$C45,\"m月\")&TEXT('教育訓練費入力（前期）'!$C45,\"ｄ日\")&\"から\"&'教育訓練費入力（前期）'!$D45&\"日間\")","v":""},{"$f":"IF('教育訓練費入力（前期）'!$F45=\"\",\"\",IF('教育訓練費入力（前期）'!$G45=1,'教育訓練費入力（前期）'!$F45,'教育訓練費入力（前期）'!$F45&\"他\"&'教育訓練費入力（前期）'!$G45-1&\"名\"))","v":""}]
[null,37,null,null,null,null,null,null,null,null,{"$f":"IF('教育訓練費入力（前期）'!$C46=\"\",\"\",TEXT('教育訓練費入力（前期）'!$C46,\"yyyy年\")&TEXT('教育訓練費入力（前期）'!$C46,\"m月\")&TEXT('教育訓練費入力（前期）'!$C46,\"ｄ日\")&\"から\"&'教育訓練費入力（前期）'!$D46&\"日間\")","v":""},{"$f":"IF('教育訓練費入力（前期）'!$F46=\"\",\"\",IF('教育訓練費入力（前期）'!$G46=1,'教育訓練費入力（前期）'!$F46,'教育訓練費入力（前期）'!$F46&\"他\"&'教育訓練費入力（前期）'!$G46-1&\"名\"))","v":""}]
[null,38,null,null,null,null,null,null,null,null,{"$f":"IF('教育訓練費入力（前期）'!$C47=\"\",\"\",TEXT('教育訓練費入力（前期）'!$C47,\"yyyy年\")&TEXT('教育訓練費入力（前期）'!$C47,\"m月\")&TEXT('教育訓練費入力（前期）'!$C47,\"ｄ日\")&\"から\"&'教育訓練費入力（前期）'!$D47&\"日間\")","v":""},{"$f":"IF('教育訓練費入力（前期）'!$F47=\"\",\"\",IF('教育訓練費入力（前期）'!$G47=1,'教育訓練費入力（前期）'!$F47,'教育訓練費入力（前期）'!$F47&\"他\"&'教育訓練費入力（前期）'!$G47-1&\"名\"))","v":""}]
[null,39,null,null,null,null,null,null,null,null,{"$f":"IF('教育訓練費入力（前期）'!$C48=\"\",\"\",TEXT('教育訓練費入力（前期）'!$C48,\"yyyy年\")&TEXT('教育訓練費入力（前期）'!$C48,\"m月\")&TEXT('教育訓練費入力（前期）'!$C48,\"ｄ日\")&\"から\"&'教育訓練費入力（前期）'!$D48&\"日間\")","v":""},{"$f":"IF('教育訓練費入力（前期）'!$F48=\"\",\"\",IF('教育訓練費入力（前期）'!$G48=1,'教育訓練費入力（前期）'!$F48,'教育訓練費入力（前期）'!$F48&\"他\"&'教育訓練費入力（前期）'!$G48-1&\"名\"))","v":""}]
[null,40,null,null,null,null,null,null,null,null,{"$f":"IF('教育訓練費入力（前期）'!$C49=\"\",\"\",TEXT('教育訓練費入力（前期）'!$C49,\"yyyy年\")&TEXT('教育訓練費入力（前期）'!$C49,\"m月\")&TEXT('教育訓練費入力（前期）'!$C49,\"ｄ日\")&\"から\"&'教育訓練費入力（前期）'!$D49&\"日間\")","v":""},{"$f":"IF('教育訓練費入力（前期）'!$F49=\"\",\"\",IF('教育訓練費入力（前期）'!$G49=1,'教育訓練費入力（前期）'!$F49,'教育訓練費入力（前期）'!$F49&\"他\"&'教育訓練費入力（前期）'!$G49-1&\"名\"))","v":""}]
[null,41,null,null,null,null,null,null,null,null,{"$f":"IF('教育訓練費入力（前期）'!$C50=\"\",\"\",TEXT('教育訓練費入力（前期）'!$C50,\"yyyy年\")&TEXT('教育訓練費入力（前期）'!$C50,\"m月\")&TEXT('教育訓練費入力（前期）'!$C50,\"ｄ日\")&\"から\"&'教育訓練費入力（前期）'!$D50&\"日間\")","v":""},{"$f":"IF('教育訓練費入力（前期）'!$F50=\"\",\"\",IF('教育訓練費入力（前期）'!$G50=1,'教育訓練費入力（前期）'!$F50,'教育訓練費入力（前期）'!$F50&\"他\"&'教育訓練費入力（前期）'!$G50-1&\"名\"))","v":""}]
[null,42,null,null,null,null,null,null,null,null,{"$f":"IF('教育訓練費入力（前期）'!$C51=\"\",\"\",TEXT('教育訓練費入力（前期）'!$C51,\"yyyy年\")&TEXT('教育訓練費入力（前期）'!$C51,\"m月\")&TEXT('教育訓練費入力（前期）'!$C51,\"ｄ日\")&\"から\"&'教育訓練費入力（前期）'!$D51&\"日間\")","v":""},{"$f":"IF('教育訓練費入力（前期）'!$F51=\"\",\"\",IF('教育訓練費入力（前期）'!$G51=1,'教育訓練費入力（前期）'!$F51,'教育訓練費入力（前期）'!$F51&\"他\"&'教育訓練費入力（前期）'!$G51-1&\"名\"))","v":""}]
[null,43,null,null,null,null,null,null,null,null,{"$f":"IF('教育訓練費入力（前期）'!$C52=\"\",\"\",TEXT('教育訓練費入力（前期）'!$C52,\"yyyy年\")&TEXT('教育訓練費入力（前期）'!$C52,\"m月\")&TEXT('教育訓練費入力（前期）'!$C52,\"ｄ日\")&\"から\"&'教育訓練費入力（前期）'!$D52&\"日間\")","v":""},{"$f":"IF('教育訓練費入力（前期）'!$F52=\"\",\"\",IF('教育訓練費入力（前期）'!$G52=1,'教育訓練費入力（前期）'!$F52,'教育訓練費入力（前期）'!$F52&\"他\"&'教育訓練費入力（前期）'!$G52-1&\"名\"))","v":""}]
[null,44,null,null,null,null,null,null,null,null,{"$f":"IF('教育訓練費入力（前期）'!$C53=\"\",\"\",TEXT('教育訓練費入力（前期）'!$C53,\"yyyy年\")&TEXT('教育訓練費入力（前期）'!$C53,\"m月\")&TEXT('教育訓練費入力（前期）'!$C53,\"ｄ日\")&\"から\"&'教育訓練費入力（前期）'!$D53&\"日間\")","v":""},{"$f":"IF('教育訓練費入力（前期）'!$F53=\"\",\"\",IF('教育訓練費入力（前期）'!$G53=1,'教育訓練費入力（前期）'!$F53,'教育訓練費入力（前期）'!$F53&\"他\"&'教育訓練費入力（前期）'!$G53-1&\"名\"))","v":""}]
[null,45,null,null,null,null,null,null,null,null,{"$f":"IF('教育訓練費入力（前期）'!$C54=\"\",\"\",TEXT('教育訓練費入力（前期）'!$C54,\"yyyy年\")&TEXT('教育訓練費入力（前期）'!$C54,\"m月\")&TEXT('教育訓練費入力（前期）'!$C54,\"ｄ日\")&\"から\"&'教育訓練費入力（前期）'!$D54&\"日間\")","v":""},{"$f":"IF('教育訓練費入力（前期）'!$F54=\"\",\"\",IF('教育訓練費入力（前期）'!$G54=1,'教育訓練費入力（前期）'!$F54,'教育訓練費入力（前期）'!$F54&\"他\"&'教育訓練費入力（前期）'!$G54-1&\"名\"))","v":""}]
[null,46,null,null,null,null,null,null,null,null,{"$f":"IF('教育訓練費入力（前期）'!$C55=\"\",\"\",TEXT('教育訓練費入力（前期）'!$C55,\"yyyy年\")&TEXT('教育訓練費入力（前期）'!$C55,\"m月\")&TEXT('教育訓練費入力（前期）'!$C55,\"ｄ日\")&\"から\"&'教育訓練費入力（前期）'!$D55&\"日間\")","v":""},{"$f":"IF('教育訓練費入力（前期）'!$F55=\"\",\"\",IF('教育訓練費入力（前期）'!$G55=1,'教育訓練費入力（前期）'!$F55,'教育訓練費入力（前期）'!$F55&\"他\"&'教育訓練費入力（前期）'!$G55-1&\"名\"))","v":""}]
[null,47,null,null,null,null,null,null,null,null,{"$f":"IF('教育訓練費入力（前期）'!$C56=\"\",\"\",TEXT('教育訓練費入力（前期）'!$C56,\"yyyy年\")&TEXT('教育訓練費入力（前期）'!$C56,\"m月\")&TEXT('教育訓練費入力（前期）'!$C56,\"ｄ日\")&\"から\"&'教育訓練費入力（前期）'!$D56&\"日間\")","v":""},{"$f":"IF('教育訓練費入力（前期）'!$F56=\"\",\"\",IF('教育訓練費入力（前期）'!$G56=1,'教育訓練費入力（前期）'!$F56,'教育訓練費入力（前期）'!$F56&\"他\"&'教育訓練費入力（前期）'!$G56-1&\"名\"))","v":""}]
[null,48,null,null,null,null,null,null,null,null,{"$f":"IF('教育訓練費入力（前期）'!$C57=\"\",\"\",TEXT('教育訓練費入力（前期）'!$C57,\"yyyy年\")&TEXT('教育訓練費入力（前期）'!$C57,\"m月\")&TEXT('教育訓練費入力（前期）'!$C57,\"ｄ日\")&\"から\"&'教育訓練費入力（前期）'!$D57&\"日間\")","v":""},{"$f":"IF('教育訓練費入力（前期）'!$F57=\"\",\"\",IF('教育訓練費入力（前期）'!$G57=1,'教育訓練費入力（前期）'!$F57,'教育訓練費入力（前期）'!$F57&\"他\"&'教育訓練費入力（前期）'!$G57-1&\"名\"))","v":""}]
[null,49,null,null,null,null,null,null,null,null,{"$f":"IF('教育訓練費入力（前期）'!$C58=\"\",\"\",TEXT('教育訓練費入力（前期）'!$C58,\"yyyy年\")&TEXT('教育訓練費入力（前期）'!$C58,\"m月\")&TEXT('教育訓練費入力（前期）'!$C58,\"ｄ日\")&\"から\"&'教育訓練費入力（前期）'!$D58&\"日間\")","v":""},{"$f":"IF('教育訓練費入力（前期）'!$F58=\"\",\"\",IF('教育訓練費入力（前期）'!$G58=1,'教育訓練費入力（前期）'!$F58,'教育訓練費入力（前期）'!$F58&\"他\"&'教育訓練費入力（前期）'!$G58-1&\"名\"))","v":""}]
[null,50,null,null,null,null,null,null,null,null,{"$f":"IF('教育訓練費入力（前期）'!$C59=\"\",\"\",TEXT('教育訓練費入力（前期）'!$C59,\"yyyy年\")&TEXT('教育訓練費入力（前期）'!$C59,\"m月\")&TEXT('教育訓練費入力（前期）'!$C59,\"ｄ日\")&\"から\"&'教育訓練費入力（前期）'!$D59&\"日間\")","v":""},{"$f":"IF('教育訓練費入力（前期）'!$F59=\"\",\"\",IF('教育訓練費入力（前期）'!$G59=1,'教育訓練費入力（前期）'!$F59,'教育訓練費入力（前期）'!$F59&\"他\"&'教育訓練費入力（前期）'!$G59-1&\"名\"))","v":""}]
[null,51,null,null,null,null,null,null,null,null,{"$f":"IF('教育訓練費入力（前期）'!$C60=\"\",\"\",TEXT('教育訓練費入力（前期）'!$C60,\"yyyy年\")&TEXT('教育訓練費入力（前期）'!$C60,\"m月\")&TEXT('教育訓練費入力（前期）'!$C60,\"ｄ日\")&\"から\"&'教育訓練費入力（前期）'!$D60&\"日間\")","v":""},{"$f":"IF('教育訓練費入力（前期）'!$F60=\"\",\"\",IF('教育訓練費入力（前期）'!$G60=1,'教育訓練費入力（前期）'!$F60,'教育訓練費入力（前期）'!$F60&\"他\"&'教育訓練費入力（前期）'!$G60-1&\"名\"))","v":""}]
[null,52,null,null,null,null,null,null,null,null,{"$f":"IF('教育訓練費入力（前期）'!$C61=\"\",\"\",TEXT('教育訓練費入力（前期）'!$C61,\"yyyy年\")&TEXT('教育訓練費入力（前期）'!$C61,\"m月\")&TEXT('教育訓練費入力（前期）'!$C61,\"ｄ日\")&\"から\"&'教育訓練費入力（前期）'!$D61&\"日間\")","v":""},{"$f":"IF('教育訓練費入力（前期）'!$F61=\"\",\"\",IF('教育訓練費入力（前期）'!$G61=1,'教育訓練費入力（前期）'!$F61,'教育訓練費入力（前期）'!$F61&\"他\"&'教育訓練費入力（前期）'!$G61-1&\"名\"))","v":""}]
[null,53,null,null,null,null,null,null,null,null,{"$f":"IF('教育訓練費入力（前期）'!$C62=\"\",\"\",TEXT('教育訓練費入力（前期）'!$C62,\"yyyy年\")&TEXT('教育訓練費入力（前期）'!$C62,\"m月\")&TEXT('教育訓練費入力（前期）'!$C62,\"ｄ日\")&\"から\"&'教育訓練費入力（前期）'!$D62&\"日間\")","v":""},{"$f":"IF('教育訓練費入力（前期）'!$F62=\"\",\"\",IF('教育訓練費入力（前期）'!$G62=1,'教育訓練費入力（前期）'!$F62,'教育訓練費入力（前期）'!$F62&\"他\"&'教育訓練費入力（前期）'!$G62-1&\"名\"))","v":""}]
[null,54,null,null,null,null,null,null,null,null,{"$f":"IF('教育訓練費入力（前期）'!$C63=\"\",\"\",TEXT('教育訓練費入力（前期）'!$C63,\"yyyy年\")&TEXT('教育訓練費入力（前期）'!$C63,\"m月\")&TEXT('教育訓練費入力（前期）'!$C63,\"ｄ日\")&\"から\"&'教育訓練費入力（前期）'!$D63&\"日間\")","v":""},{"$f":"IF('教育訓練費入力（前期）'!$F63=\"\",\"\",IF('教育訓練費入力（前期）'!$G63=1,'教育訓練費入力（前期）'!$F63,'教育訓練費入力（前期）'!$F63&\"他\"&'教育訓練費入力（前期）'!$G63-1&\"名\"))","v":""}]
[null,55,null,null,null,null,null,null,null,null,{"$f":"IF('教育訓練費入力（前期）'!$C64=\"\",\"\",TEXT('教育訓練費入力（前期）'!$C64,\"yyyy年\")&TEXT('教育訓練費入力（前期）'!$C64,\"m月\")&TEXT('教育訓練費入力（前期）'!$C64,\"ｄ日\")&\"から\"&'教育訓練費入力（前期）'!$D64&\"日間\")","v":""},{"$f":"IF('教育訓練費入力（前期）'!$F64=\"\",\"\",IF('教育訓練費入力（前期）'!$G64=1,'教育訓練費入力（前期）'!$F64,'教育訓練費入力（前期）'!$F64&\"他\"&'教育訓練費入力（前期）'!$G64-1&\"名\"))","v":""}]
[null,56,null,null,null,null,null,null,null,null,{"$f":"IF('教育訓練費入力（前期）'!$C65=\"\",\"\",TEXT('教育訓練費入力（前期）'!$C65,\"yyyy年\")&TEXT('教育訓練費入力（前期）'!$C65,\"m月\")&TEXT('教育訓練費入力（前期）'!$C65,\"ｄ日\")&\"から\"&'教育訓練費入力（前期）'!$D65&\"日間\")","v":""},{"$f":"IF('教育訓練費入力（前期）'!$F65=\"\",\"\",IF('教育訓練費入力（前期）'!$G65=1,'教育訓練費入力（前期）'!$F65,'教育訓練費入力（前期）'!$F65&\"他\"&'教育訓練費入力（前期）'!$G65-1&\"名\"))","v":""}]
[null,57,null,null,null,null,null,null,null,null,{"$f":"IF('教育訓練費入力（前期）'!$C66=\"\",\"\",TEXT('教育訓練費入力（前期）'!$C66,\"yyyy年\")&TEXT('教育訓練費入力（前期）'!$C66,\"m月\")&TEXT('教育訓練費入力（前期）'!$C66,\"ｄ日\")&\"から\"&'教育訓練費入力（前期）'!$D66&\"日間\")","v":""},{"$f":"IF('教育訓練費入力（前期）'!$F66=\"\",\"\",IF('教育訓練費入力（前期）'!$G66=1,'教育訓練費入力（前期）'!$F66,'教育訓練費入力（前期）'!$F66&\"他\"&'教育訓練費入力（前期）'!$G66-1&\"名\"))","v":""}]
[null,58,null,null,null,null,null,null,null,null,{"$f":"IF('教育訓練費入力（前期）'!$C67=\"\",\"\",TEXT('教育訓練費入力（前期）'!$C67,\"yyyy年\")&TEXT('教育訓練費入力（前期）'!$C67,\"m月\")&TEXT('教育訓練費入力（前期）'!$C67,\"ｄ日\")&\"から\"&'教育訓練費入力（前期）'!$D67&\"日間\")","v":""},{"$f":"IF('教育訓練費入力（前期）'!$F67=\"\",\"\",IF('教育訓練費入力（前期）'!$G67=1,'教育訓練費入力（前期）'!$F67,'教育訓練費入力（前期）'!$F67&\"他\"&'教育訓練費入力（前期）'!$G67-1&\"名\"))","v":""}]
[null,59,null,null,null,null,null,null,null,null,{"$f":"IF('教育訓練費入力（前期）'!$C68=\"\",\"\",TEXT('教育訓練費入力（前期）'!$C68,\"yyyy年\")&TEXT('教育訓練費入力（前期）'!$C68,\"m月\")&TEXT('教育訓練費入力（前期）'!$C68,\"ｄ日\")&\"から\"&'教育訓練費入力（前期）'!$D68&\"日間\")","v":""},{"$f":"IF('教育訓練費入力（前期）'!$F68=\"\",\"\",IF('教育訓練費入力（前期）'!$G68=1,'教育訓練費入力（前期）'!$F68,'教育訓練費入力（前期）'!$F68&\"他\"&'教育訓練費入力（前期）'!$G68-1&\"名\"))","v":""}]
[null,60,null,null,null,null,null,null,null,null,{"$f":"IF('教育訓練費入力（前期）'!$C69=\"\",\"\",TEXT('教育訓練費入力（前期）'!$C69,\"yyyy年\")&TEXT('教育訓練費入力（前期）'!$C69,\"m月\")&TEXT('教育訓練費入力（前期）'!$C69,\"ｄ日\")&\"から\"&'教育訓練費入力（前期）'!$D69&\"日間\")","v":""},{"$f":"IF('教育訓練費入力（前期）'!$F69=\"\",\"\",IF('教育訓練費入力（前期）'!$G69=1,'教育訓練費入力（前期）'!$F69,'教育訓練費入力（前期）'!$F69&\"他\"&'教育訓練費入力（前期）'!$G69-1&\"名\"))","v":""}]
[null,61,null,null,null,null,null,null,null,null,{"$f":"IF('教育訓練費入力（前期）'!$C70=\"\",\"\",TEXT('教育訓練費入力（前期）'!$C70,\"yyyy年\")&TEXT('教育訓練費入力（前期）'!$C70,\"m月\")&TEXT('教育訓練費入力（前期）'!$C70,\"ｄ日\")&\"から\"&'教育訓練費入力（前期）'!$D70&\"日間\")","v":""},{"$f":"IF('教育訓練費入力（前期）'!$F70=\"\",\"\",IF('教育訓練費入力（前期）'!$G70=1,'教育訓練費入力（前期）'!$F70,'教育訓練費入力（前期）'!$F70&\"他\"&'教育訓練費入力（前期）'!$G70-1&\"名\"))","v":""}]
[null,62,null,null,null,null,null,null,null,null,{"$f":"IF('教育訓練費入力（前期）'!$C71=\"\",\"\",TEXT('教育訓練費入力（前期）'!$C71,\"yyyy年\")&TEXT('教育訓練費入力（前期）'!$C71,\"m月\")&TEXT('教育訓練費入力（前期）'!$C71,\"ｄ日\")&\"から\"&'教育訓練費入力（前期）'!$D71&\"日間\")","v":""},{"$f":"IF('教育訓練費入力（前期）'!$F71=\"\",\"\",IF('教育訓練費入力（前期）'!$G71=1,'教育訓練費入力（前期）'!$F71,'教育訓練費入力（前期）'!$F71&\"他\"&'教育訓練費入力（前期）'!$G71-1&\"名\"))","v":""}]
[null,63,null,null,null,null,null,null,null,null,{"$f":"IF('教育訓練費入力（前期）'!$C72=\"\",\"\",TEXT('教育訓練費入力（前期）'!$C72,\"yyyy年\")&TEXT('教育訓練費入力（前期）'!$C72,\"m月\")&TEXT('教育訓練費入力（前期）'!$C72,\"ｄ日\")&\"から\"&'教育訓練費入力（前期）'!$D72&\"日間\")","v":""},{"$f":"IF('教育訓練費入力（前期）'!$F72=\"\",\"\",IF('教育訓練費入力（前期）'!$G72=1,'教育訓練費入力（前期）'!$F72,'教育訓練費入力（前期）'!$F72&\"他\"&'教育訓練費入力（前期）'!$G72-1&\"名\"))","v":""}]
[null,64,null,null,null,null,null,null,null,null,{"$f":"IF('教育訓練費入力（前期）'!$C73=\"\",\"\",TEXT('教育訓練費入力（前期）'!$C73,\"yyyy年\")&TEXT('教育訓練費入力（前期）'!$C73,\"m月\")&TEXT('教育訓練費入力（前期）'!$C73,\"ｄ日\")&\"から\"&'教育訓練費入力（前期）'!$D73&\"日間\")","v":""},{"$f":"IF('教育訓練費入力（前期）'!$F73=\"\",\"\",IF('教育訓練費入力（前期）'!$G73=1,'教育訓練費入力（前期）'!$F73,'教育訓練費入力（前期）'!$F73&\"他\"&'教育訓練費入力（前期）'!$G73-1&\"名\"))","v":""}]
[null,65,null,null,null,null,null,null,null,null,{"$f":"IF('教育訓練費入力（前期）'!$C74=\"\",\"\",TEXT('教育訓練費入力（前期）'!$C74,\"yyyy年\")&TEXT('教育訓練費入力（前期）'!$C74,\"m月\")&TEXT('教育訓練費入力（前期）'!$C74,\"ｄ日\")&\"から\"&'教育訓練費入力（前期）'!$D74&\"日間\")","v":""},{"$f":"IF('教育訓練費入力（前期）'!$F74=\"\",\"\",IF('教育訓練費入力（前期）'!$G74=1,'教育訓練費入力（前期）'!$F74,'教育訓練費入力（前期）'!$F74&\"他\"&'教育訓練費入力（前期）'!$G74-1&\"名\"))","v":""}]
[null,66,null,null,null,null,null,null,null,null,{"$f":"IF('教育訓練費入力（前期）'!$C75=\"\",\"\",TEXT('教育訓練費入力（前期）'!$C75,\"yyyy年\")&TEXT('教育訓練費入力（前期）'!$C75,\"m月\")&TEXT('教育訓練費入力（前期）'!$C75,\"ｄ日\")&\"から\"&'教育訓練費入力（前期）'!$D75&\"日間\")","v":""},{"$f":"IF('教育訓練費入力（前期）'!$F75=\"\",\"\",IF('教育訓練費入力（前期）'!$G75=1,'教育訓練費入力（前期）'!$F75,'教育訓練費入力（前期）'!$F75&\"他\"&'教育訓練費入力（前期）'!$G75-1&\"名\"))","v":""}]
[null,67,null,null,null,null,null,null,null,null,{"$f":"IF('教育訓練費入力（前期）'!$C76=\"\",\"\",TEXT('教育訓練費入力（前期）'!$C76,\"yyyy年\")&TEXT('教育訓練費入力（前期）'!$C76,\"m月\")&TEXT('教育訓練費入力（前期）'!$C76,\"ｄ日\")&\"から\"&'教育訓練費入力（前期）'!$D76&\"日間\")","v":""},{"$f":"IF('教育訓練費入力（前期）'!$F76=\"\",\"\",IF('教育訓練費入力（前期）'!$G76=1,'教育訓練費入力（前期）'!$F76,'教育訓練費入力（前期）'!$F76&\"他\"&'教育訓練費入力（前期）'!$G76-1&\"名\"))","v":""}]
[null,68,null,null,null,null,null,null,null,null,{"$f":"IF('教育訓練費入力（前期）'!$C77=\"\",\"\",TEXT('教育訓練費入力（前期）'!$C77,\"yyyy年\")&TEXT('教育訓練費入力（前期）'!$C77,\"m月\")&TEXT('教育訓練費入力（前期）'!$C77,\"ｄ日\")&\"から\"&'教育訓練費入力（前期）'!$D77&\"日間\")","v":""},{"$f":"IF('教育訓練費入力（前期）'!$F77=\"\",\"\",IF('教育訓練費入力（前期）'!$G77=1,'教育訓練費入力（前期）'!$F77,'教育訓練費入力（前期）'!$F77&\"他\"&'教育訓練費入力（前期）'!$G77-1&\"名\"))","v":""}]
[null,69,null,null,null,null,null,null,null,null,{"$f":"IF('教育訓練費入力（前期）'!$C78=\"\",\"\",TEXT('教育訓練費入力（前期）'!$C78,\"yyyy年\")&TEXT('教育訓練費入力（前期）'!$C78,\"m月\")&TEXT('教育訓練費入力（前期）'!$C78,\"ｄ日\")&\"から\"&'教育訓練費入力（前期）'!$D78&\"日間\")","v":""},{"$f":"IF('教育訓練費入力（前期）'!$F78=\"\",\"\",IF('教育訓練費入力（前期）'!$G78=1,'教育訓練費入力（前期）'!$F78,'教育訓練費入力（前期）'!$F78&\"他\"&'教育訓練費入力（前期）'!$G78-1&\"名\"))","v":""}]
[null,70,null,null,null,null,null,null,null,null,{"$f":"IF('教育訓練費入力（前期）'!$C79=\"\",\"\",TEXT('教育訓練費入力（前期）'!$C79,\"yyyy年\")&TEXT('教育訓練費入力（前期）'!$C79,\"m月\")&TEXT('教育訓練費入力（前期）'!$C79,\"ｄ日\")&\"から\"&'教育訓練費入力（前期）'!$D79&\"日間\")","v":""},{"$f":"IF('教育訓練費入力（前期）'!$F79=\"\",\"\",IF('教育訓練費入力（前期）'!$G79=1,'教育訓練費入力（前期）'!$F79,'教育訓練費入力（前期）'!$F79&\"他\"&'教育訓練費入力（前期）'!$G79-1&\"名\"))","v":""}]
[null,71,null,null,null,null,null,null,null,null,{"$f":"IF('教育訓練費入力（前期）'!$C80=\"\",\"\",TEXT('教育訓練費入力（前期）'!$C80,\"yyyy年\")&TEXT('教育訓練費入力（前期）'!$C80,\"m月\")&TEXT('教育訓練費入力（前期）'!$C80,\"ｄ日\")&\"から\"&'教育訓練費入力（前期）'!$D80&\"日間\")","v":""},{"$f":"IF('教育訓練費入力（前期）'!$F80=\"\",\"\",IF('教育訓練費入力（前期）'!$G80=1,'教育訓練費入力（前期）'!$F80,'教育訓練費入力（前期）'!$F80&\"他\"&'教育訓練費入力（前期）'!$G80-1&\"名\"))","v":""}]
[null,72,null,null,null,null,null,null,null,null,{"$f":"IF('教育訓練費入力（前期）'!$C81=\"\",\"\",TEXT('教育訓練費入力（前期）'!$C81,\"yyyy年\")&TEXT('教育訓練費入力（前期）'!$C81,\"m月\")&TEXT('教育訓練費入力（前期）'!$C81,\"ｄ日\")&\"から\"&'教育訓練費入力（前期）'!$D81&\"日間\")","v":""},{"$f":"IF('教育訓練費入力（前期）'!$F81=\"\",\"\",IF('教育訓練費入力（前期）'!$G81=1,'教育訓練費入力（前期）'!$F81,'教育訓練費入力（前期）'!$F81&\"他\"&'教育訓練費入力（前期）'!$G81-1&\"名\"))","v":""}]
[null,73,null,null,null,null,null,null,null,null,{"$f":"IF('教育訓練費入力（前期）'!$C82=\"\",\"\",TEXT('教育訓練費入力（前期）'!$C82,\"yyyy年\")&TEXT('教育訓練費入力（前期）'!$C82,\"m月\")&TEXT('教育訓練費入力（前期）'!$C82,\"ｄ日\")&\"から\"&'教育訓練費入力（前期）'!$D82&\"日間\")","v":""},{"$f":"IF('教育訓練費入力（前期）'!$F82=\"\",\"\",IF('教育訓練費入力（前期）'!$G82=1,'教育訓練費入力（前期）'!$F82,'教育訓練費入力（前期）'!$F82&\"他\"&'教育訓練費入力（前期）'!$G82-1&\"名\"))","v":""}]
[null,74,null,null,null,null,null,null,null,null,{"$f":"IF('教育訓練費入力（前期）'!$C83=\"\",\"\",TEXT('教育訓練費入力（前期）'!$C83,\"yyyy年\")&TEXT('教育訓練費入力（前期）'!$C83,\"m月\")&TEXT('教育訓練費入力（前期）'!$C83,\"ｄ日\")&\"から\"&'教育訓練費入力（前期）'!$D83&\"日間\")","v":""},{"$f":"IF('教育訓練費入力（前期）'!$F83=\"\",\"\",IF('教育訓練費入力（前期）'!$G83=1,'教育訓練費入力（前期）'!$F83,'教育訓練費入力（前期）'!$F83&\"他\"&'教育訓練費入力（前期）'!$G83-1&\"名\"))","v":""}]
[null,75,null,null,null,null,null,null,null,null,{"$f":"IF('教育訓練費入力（前期）'!$C84=\"\",\"\",TEXT('教育訓練費入力（前期）'!$C84,\"yyyy年\")&TEXT('教育訓練費入力（前期）'!$C84,\"m月\")&TEXT('教育訓練費入力（前期）'!$C84,\"ｄ日\")&\"から\"&'教育訓練費入力（前期）'!$D84&\"日間\")","v":""},{"$f":"IF('教育訓練費入力（前期）'!$F84=\"\",\"\",IF('教育訓練費入力（前期）'!$G84=1,'教育訓練費入力（前期）'!$F84,'教育訓練費入力（前期）'!$F84&\"他\"&'教育訓練費入力（前期）'!$G84-1&\"名\"))","v":""}]
[null,76,null,null,null,null,null,null,null,null,{"$f":"IF('教育訓練費入力（前期）'!$C85=\"\",\"\",TEXT('教育訓練費入力（前期）'!$C85,\"yyyy年\")&TEXT('教育訓練費入力（前期）'!$C85,\"m月\")&TEXT('教育訓練費入力（前期）'!$C85,\"ｄ日\")&\"から\"&'教育訓練費入力（前期）'!$D85&\"日間\")","v":""},{"$f":"IF('教育訓練費入力（前期）'!$F85=\"\",\"\",IF('教育訓練費入力（前期）'!$G85=1,'教育訓練費入力（前期）'!$F85,'教育訓練費入力（前期）'!$F85&\"他\"&'教育訓練費入力（前期）'!$G85-1&\"名\"))","v":""}]
[null,77,null,null,null,null,null,null,null,null,{"$f":"IF('教育訓練費入力（前期）'!$C86=\"\",\"\",TEXT('教育訓練費入力（前期）'!$C86,\"yyyy年\")&TEXT('教育訓練費入力（前期）'!$C86,\"m月\")&TEXT('教育訓練費入力（前期）'!$C86,\"ｄ日\")&\"から\"&'教育訓練費入力（前期）'!$D86&\"日間\")","v":""},{"$f":"IF('教育訓練費入力（前期）'!$F86=\"\",\"\",IF('教育訓練費入力（前期）'!$G86=1,'教育訓練費入力（前期）'!$F86,'教育訓練費入力（前期）'!$F86&\"他\"&'教育訓練費入力（前期）'!$G86-1&\"名\"))","v":""}]
[null,78,null,null,null,null,null,null,null,null,{"$f":"IF('教育訓練費入力（前期）'!$C87=\"\",\"\",TEXT('教育訓練費入力（前期）'!$C87,\"yyyy年\")&TEXT('教育訓練費入力（前期）'!$C87,\"m月\")&TEXT('教育訓練費入力（前期）'!$C87,\"ｄ日\")&\"から\"&'教育訓練費入力（前期）'!$D87&\"日間\")","v":""},{"$f":"IF('教育訓練費入力（前期）'!$F87=\"\",\"\",IF('教育訓練費入力（前期）'!$G87=1,'教育訓練費入力（前期）'!$F87,'教育訓練費入力（前期）'!$F87&\"他\"&'教育訓練費入力（前期）'!$G87-1&\"名\"))","v":""}]
[null,79,null,null,null,null,null,null,null,null,{"$f":"IF('教育訓練費入力（前期）'!$C88=\"\",\"\",TEXT('教育訓練費入力（前期）'!$C88,\"yyyy年\")&TEXT('教育訓練費入力（前期）'!$C88,\"m月\")&TEXT('教育訓練費入力（前期）'!$C88,\"ｄ日\")&\"から\"&'教育訓練費入力（前期）'!$D88&\"日間\")","v":""},{"$f":"IF('教育訓練費入力（前期）'!$F88=\"\",\"\",IF('教育訓練費入力（前期）'!$G88=1,'教育訓練費入力（前期）'!$F88,'教育訓練費入力（前期）'!$F88&\"他\"&'教育訓練費入力（前期）'!$G88-1&\"名\"))","v":""}]
[null,80,null,null,null,null,null,null,null,null,{"$f":"IF('教育訓練費入力（前期）'!$C89=\"\",\"\",TEXT('教育訓練費入力（前期）'!$C89,\"yyyy年\")&TEXT('教育訓練費入力（前期）'!$C89,\"m月\")&TEXT('教育訓練費入力（前期）'!$C89,\"ｄ日\")&\"から\"&'教育訓練費入力（前期）'!$D89&\"日間\")","v":""},{"$f":"IF('教育訓練費入力（前期）'!$F89=\"\",\"\",IF('教育訓練費入力（前期）'!$G89=1,'教育訓練費入力（前期）'!$F89,'教育訓練費入力（前期）'!$F89&\"他\"&'教育訓練費入力（前期）'!$G89-1&\"名\"))","v":""}]
[null,81,null,null,null,null,null,null,null,null,{"$f":"IF('教育訓練費入力（前期）'!$C90=\"\",\"\",TEXT('教育訓練費入力（前期）'!$C90,\"yyyy年\")&TEXT('教育訓練費入力（前期）'!$C90,\"m月\")&TEXT('教育訓練費入力（前期）'!$C90,\"ｄ日\")&\"から\"&'教育訓練費入力（前期）'!$D90&\"日間\")","v":""},{"$f":"IF('教育訓練費入力（前期）'!$F90=\"\",\"\",IF('教育訓練費入力（前期）'!$G90=1,'教育訓練費入力（前期）'!$F90,'教育訓練費入力（前期）'!$F90&\"他\"&'教育訓練費入力（前期）'!$G90-1&\"名\"))","v":""}]
[null,82,null,null,null,null,null,null,null,null,{"$f":"IF('教育訓練費入力（前期）'!$C91=\"\",\"\",TEXT('教育訓練費入力（前期）'!$C91,\"yyyy年\")&TEXT('教育訓練費入力（前期）'!$C91,\"m月\")&TEXT('教育訓練費入力（前期）'!$C91,\"ｄ日\")&\"から\"&'教育訓練費入力（前期）'!$D91&\"日間\")","v":""},{"$f":"IF('教育訓練費入力（前期）'!$F91=\"\",\"\",IF('教育訓練費入力（前期）'!$G91=1,'教育訓練費入力（前期）'!$F91,'教育訓練費入力（前期）'!$F91&\"他\"&'教育訓練費入力（前期）'!$G91-1&\"名\"))","v":""}]
[null,83,null,null,null,null,null,null,null,null,{"$f":"IF('教育訓練費入力（前期）'!$C92=\"\",\"\",TEXT('教育訓練費入力（前期）'!$C92,\"yyyy年\")&TEXT('教育訓練費入力（前期）'!$C92,\"m月\")&TEXT('教育訓練費入力（前期）'!$C92,\"ｄ日\")&\"から\"&'教育訓練費入力（前期）'!$D92&\"日間\")","v":""},{"$f":"IF('教育訓練費入力（前期）'!$F92=\"\",\"\",IF('教育訓練費入力（前期）'!$G92=1,'教育訓練費入力（前期）'!$F92,'教育訓練費入力（前期）'!$F92&\"他\"&'教育訓練費入力（前期）'!$G92-1&\"名\"))","v":""}]
[null,84,null,null,null,null,null,null,null,null,{"$f":"IF('教育訓練費入力（前期）'!$C93=\"\",\"\",TEXT('教育訓練費入力（前期）'!$C93,\"yyyy年\")&TEXT('教育訓練費入力（前期）'!$C93,\"m月\")&TEXT('教育訓練費入力（前期）'!$C93,\"ｄ日\")&\"から\"&'教育訓練費入力（前期）'!$D93&\"日間\")","v":""},{"$f":"IF('教育訓練費入力（前期）'!$F93=\"\",\"\",IF('教育訓練費入力（前期）'!$G93=1,'教育訓練費入力（前期）'!$F93,'教育訓練費入力（前期）'!$F93&\"他\"&'教育訓練費入力（前期）'!$G93-1&\"名\"))","v":""}]
[null,85,null,null,null,null,null,null,null,null,{"$f":"IF('教育訓練費入力（前期）'!$C94=\"\",\"\",TEXT('教育訓練費入力（前期）'!$C94,\"yyyy年\")&TEXT('教育訓練費入力（前期）'!$C94,\"m月\")&TEXT('教育訓練費入力（前期）'!$C94,\"ｄ日\")&\"から\"&'教育訓練費入力（前期）'!$D94&\"日間\")","v":""},{"$f":"IF('教育訓練費入力（前期）'!$F94=\"\",\"\",IF('教育訓練費入力（前期）'!$G94=1,'教育訓練費入力（前期）'!$F94,'教育訓練費入力（前期）'!$F94&\"他\"&'教育訓練費入力（前期）'!$G94-1&\"名\"))","v":""}]
[null,86,null,null,null,null,null,null,null,null,{"$f":"IF('教育訓練費入力（前期）'!$C95=\"\",\"\",TEXT('教育訓練費入力（前期）'!$C95,\"yyyy年\")&TEXT('教育訓練費入力（前期）'!$C95,\"m月\")&TEXT('教育訓練費入力（前期）'!$C95,\"ｄ日\")&\"から\"&'教育訓練費入力（前期）'!$D95&\"日間\")","v":""},{"$f":"IF('教育訓練費入力（前期）'!$F95=\"\",\"\",IF('教育訓練費入力（前期）'!$G95=1,'教育訓練費入力（前期）'!$F95,'教育訓練費入力（前期）'!$F95&\"他\"&'教育訓練費入力（前期）'!$G95-1&\"名\"))","v":""}]
[null,87,null,null,null,null,null,null,null,null,{"$f":"IF('教育訓練費入力（前期）'!$C96=\"\",\"\",TEXT('教育訓練費入力（前期）'!$C96,\"yyyy年\")&TEXT('教育訓練費入力（前期）'!$C96,\"m月\")&TEXT('教育訓練費入力（前期）'!$C96,\"ｄ日\")&\"から\"&'教育訓練費入力（前期）'!$D96&\"日間\")","v":""},{"$f":"IF('教育訓練費入力（前期）'!$F96=\"\",\"\",IF('教育訓練費入力（前期）'!$G96=1,'教育訓練費入力（前期）'!$F96,'教育訓練費入力（前期）'!$F96&\"他\"&'教育訓練費入力（前期）'!$G96-1&\"名\"))","v":""}]
[null,88,null,null,null,null,null,null,null,null,{"$f":"IF('教育訓練費入力（前期）'!$C97=\"\",\"\",TEXT('教育訓練費入力（前期）'!$C97,\"yyyy年\")&TEXT('教育訓練費入力（前期）'!$C97,\"m月\")&TEXT('教育訓練費入力（前期）'!$C97,\"ｄ日\")&\"から\"&'教育訓練費入力（前期）'!$D97&\"日間\")","v":""},{"$f":"IF('教育訓練費入力（前期）'!$F97=\"\",\"\",IF('教育訓練費入力（前期）'!$G97=1,'教育訓練費入力（前期）'!$F97,'教育訓練費入力（前期）'!$F97&\"他\"&'教育訓練費入力（前期）'!$G97-1&\"名\"))","v":""}]
[null,89,null,null,null,null,null,null,null,null,{"$f":"IF('教育訓練費入力（前期）'!$C98=\"\",\"\",TEXT('教育訓練費入力（前期）'!$C98,\"yyyy年\")&TEXT('教育訓練費入力（前期）'!$C98,\"m月\")&TEXT('教育訓練費入力（前期）'!$C98,\"ｄ日\")&\"から\"&'教育訓練費入力（前期）'!$D98&\"日間\")","v":""},{"$f":"IF('教育訓練費入力（前期）'!$F98=\"\",\"\",IF('教育訓練費入力（前期）'!$G98=1,'教育訓練費入力（前期）'!$F98,'教育訓練費入力（前期）'!$F98&\"他\"&'教育訓練費入力（前期）'!$G98-1&\"名\"))","v":""}]
[null,90,null,null,null,null,null,null,null,null,{"$f":"IF('教育訓練費入力（前期）'!$C99=\"\",\"\",TEXT('教育訓練費入力（前期）'!$C99,\"yyyy年\")&TEXT('教育訓練費入力（前期）'!$C99,\"m月\")&TEXT('教育訓練費入力（前期）'!$C99,\"ｄ日\")&\"から\"&'教育訓練費入力（前期）'!$D99&\"日間\")","v":""},{"$f":"IF('教育訓練費入力（前期）'!$F99=\"\",\"\",IF('教育訓練費入力（前期）'!$G99=1,'教育訓練費入力（前期）'!$F99,'教育訓練費入力（前期）'!$F99&\"他\"&'教育訓練費入力（前期）'!$G99-1&\"名\"))","v":""}]
[null,91,null,null,null,null,null,null,null,null,{"$f":"IF('教育訓練費入力（前期）'!$C100=\"\",\"\",TEXT('教育訓練費入力（前期）'!$C100,\"yyyy年\")&TEXT('教育訓練費入力（前期）'!$C100,\"m月\")&TEXT('教育訓練費入力（前期）'!$C100,\"ｄ日\")&\"から\"&'教育訓練費入力（前期）'!$D100&\"日間\")","v":""},{"$f":"IF('教育訓練費入力（前期）'!$F100=\"\",\"\",IF('教育訓練費入力（前期）'!$G100=1,'教育訓練費入力（前期）'!$F100,'教育訓練費入力（前期）'!$F100&\"他\"&'教育訓練費入力（前期）'!$G100-1&\"名\"))","v":""}]
[null,92,null,null,null,null,null,null,null,null,{"$f":"IF('教育訓練費入力（前期）'!$C101=\"\",\"\",TEXT('教育訓練費入力（前期）'!$C101,\"yyyy年\")&TEXT('教育訓練費入力（前期）'!$C101,\"m月\")&TEXT('教育訓練費入力（前期）'!$C101,\"ｄ日\")&\"から\"&'教育訓練費入力（前期）'!$D101&\"日間\")","v":""},{"$f":"IF('教育訓練費入力（前期）'!$F101=\"\",\"\",IF('教育訓練費入力（前期）'!$G101=1,'教育訓練費入力（前期）'!$F101,'教育訓練費入力（前期）'!$F101&\"他\"&'教育訓練費入力（前期）'!$G101-1&\"名\"))","v":""}]
[null,93,null,null,null,null,null,null,null,null,{"$f":"IF('教育訓練費入力（前期）'!$C102=\"\",\"\",TEXT('教育訓練費入力（前期）'!$C102,\"yyyy年\")&TEXT('教育訓練費入力（前期）'!$C102,\"m月\")&TEXT('教育訓練費入力（前期）'!$C102,\"ｄ日\")&\"から\"&'教育訓練費入力（前期）'!$D102&\"日間\")","v":""},{"$f":"IF('教育訓練費入力（前期）'!$F102=\"\",\"\",IF('教育訓練費入力（前期）'!$G102=1,'教育訓練費入力（前期）'!$F102,'教育訓練費入力（前期）'!$F102&\"他\"&'教育訓練費入力（前期）'!$G102-1&\"名\"))","v":""}]
[null,94,null,null,null,null,null,null,null,null,{"$f":"IF('教育訓練費入力（前期）'!$C103=\"\",\"\",TEXT('教育訓練費入力（前期）'!$C103,\"yyyy年\")&TEXT('教育訓練費入力（前期）'!$C103,\"m月\")&TEXT('教育訓練費入力（前期）'!$C103,\"ｄ日\")&\"から\"&'教育訓練費入力（前期）'!$D103&\"日間\")","v":""},{"$f":"IF('教育訓練費入力（前期）'!$F103=\"\",\"\",IF('教育訓練費入力（前期）'!$G103=1,'教育訓練費入力（前期）'!$F103,'教育訓練費入力（前期）'!$F103&\"他\"&'教育訓練費入力（前期）'!$G103-1&\"名\"))","v":""}]
[null,95,null,null,null,null,null,null,null,null,{"$f":"IF('教育訓練費入力（前期）'!$C104=\"\",\"\",TEXT('教育訓練費入力（前期）'!$C104,\"yyyy年\")&TEXT('教育訓練費入力（前期）'!$C104,\"m月\")&TEXT('教育訓練費入力（前期）'!$C104,\"ｄ日\")&\"から\"&'教育訓練費入力（前期）'!$D104&\"日間\")","v":""},{"$f":"IF('教育訓練費入力（前期）'!$F104=\"\",\"\",IF('教育訓練費入力（前期）'!$G104=1,'教育訓練費入力（前期）'!$F104,'教育訓練費入力（前期）'!$F104&\"他\"&'教育訓練費入力（前期）'!$G104-1&\"名\"))","v":""}]
[null,96,null,null,null,null,null,null,null,null,{"$f":"IF('教育訓練費入力（前期）'!$C105=\"\",\"\",TEXT('教育訓練費入力（前期）'!$C105,\"yyyy年\")&TEXT('教育訓練費入力（前期）'!$C105,\"m月\")&TEXT('教育訓練費入力（前期）'!$C105,\"ｄ日\")&\"から\"&'教育訓練費入力（前期）'!$D105&\"日間\")","v":""},{"$f":"IF('教育訓練費入力（前期）'!$F105=\"\",\"\",IF('教育訓練費入力（前期）'!$G105=1,'教育訓練費入力（前期）'!$F105,'教育訓練費入力（前期）'!$F105&\"他\"&'教育訓練費入力（前期）'!$G105-1&\"名\"))","v":""}]
[null,97,null,null,null,null,null,null,null,null,{"$f":"IF('教育訓練費入力（前期）'!$C106=\"\",\"\",TEXT('教育訓練費入力（前期）'!$C106,\"yyyy年\")&TEXT('教育訓練費入力（前期）'!$C106,\"m月\")&TEXT('教育訓練費入力（前期）'!$C106,\"ｄ日\")&\"から\"&'教育訓練費入力（前期）'!$D106&\"日間\")","v":""},{"$f":"IF('教育訓練費入力（前期）'!$F106=\"\",\"\",IF('教育訓練費入力（前期）'!$G106=1,'教育訓練費入力（前期）'!$F106,'教育訓練費入力（前期）'!$F106&\"他\"&'教育訓練費入力（前期）'!$G106-1&\"名\"))","v":""}]
[null,98,null,null,null,null,null,null,null,null,{"$f":"IF('教育訓練費入力（前期）'!$C107=\"\",\"\",TEXT('教育訓練費入力（前期）'!$C107,\"yyyy年\")&TEXT('教育訓練費入力（前期）'!$C107,\"m月\")&TEXT('教育訓練費入力（前期）'!$C107,\"ｄ日\")&\"から\"&'教育訓練費入力（前期）'!$D107&\"日間\")","v":""},{"$f":"IF('教育訓練費入力（前期）'!$F107=\"\",\"\",IF('教育訓練費入力（前期）'!$G107=1,'教育訓練費入力（前期）'!$F107,'教育訓練費入力（前期）'!$F107&\"他\"&'教育訓練費入力（前期）'!$G107-1&\"名\"))","v":""}]
[null,99,null,null,null,null,null,null,null,null,{"$f":"IF('教育訓練費入力（前期）'!$C108=\"\",\"\",TEXT('教育訓練費入力（前期）'!$C108,\"yyyy年\")&TEXT('教育訓練費入力（前期）'!$C108,\"m月\")&TEXT('教育訓練費入力（前期）'!$C108,\"ｄ日\")&\"から\"&'教育訓練費入力（前期）'!$D108&\"日間\")","v":""},{"$f":"IF('教育訓練費入力（前期）'!$F108=\"\",\"\",IF('教育訓練費入力（前期）'!$G108=1,'教育訓練費入力（前期）'!$F108,'教育訓練費入力（前期）'!$F108&\"他\"&'教育訓練費入力（前期）'!$G108-1&\"名\"))","v":""}]
[null,100,null,null,null,null,null,null,null,null,{"$f":"IF('教育訓練費入力（前期）'!$C109=\"\",\"\",TEXT('教育訓練費入力（前期）'!$C109,\"yyyy年\")&TEXT('教育訓練費入力（前期）'!$C109,\"m月\")&TEXT('教育訓練費入力（前期）'!$C109,\"ｄ日\")&\"から\"&'教育訓練費入力（前期）'!$D109&\"日間\")","v":""},{"$f":"IF('教育訓練費入力（前期）'!$F109=\"\",\"\",IF('教育訓練費入力（前期）'!$G109=1,'教育訓練費入力（前期）'!$F109,'教育訓練費入力（前期）'!$F109&\"他\"&'教育訓練費入力（前期）'!$G109-1&\"名\"))","v":""}]
[null,101,null,null,null,null,null,null,null,null,{"$f":"IF('教育訓練費入力（前期）'!$C110=\"\",\"\",TEXT('教育訓練費入力（前期）'!$C110,\"yyyy年\")&TEXT('教育訓練費入力（前期）'!$C110,\"m月\")&TEXT('教育訓練費入力（前期）'!$C110,\"ｄ日\")&\"から\"&'教育訓練費入力（前期）'!$D110&\"日間\")","v":""},{"$f":"IF('教育訓練費入力（前期）'!$F110=\"\",\"\",IF('教育訓練費入力（前期）'!$G110=1,'教育訓練費入力（前期）'!$F110,'教育訓練費入力（前期）'!$F110&\"他\"&'教育訓練費入力（前期）'!$G110-1&\"名\"))","v":""}]
[null,102,null,null,null,null,null,null,null,null,{"$f":"IF('教育訓練費入力（前期）'!$C111=\"\",\"\",TEXT('教育訓練費入力（前期）'!$C111,\"yyyy年\")&TEXT('教育訓練費入力（前期）'!$C111,\"m月\")&TEXT('教育訓練費入力（前期）'!$C111,\"ｄ日\")&\"から\"&'教育訓練費入力（前期）'!$D111&\"日間\")","v":""},{"$f":"IF('教育訓練費入力（前期）'!$F111=\"\",\"\",IF('教育訓練費入力（前期）'!$G111=1,'教育訓練費入力（前期）'!$F111,'教育訓練費入力（前期）'!$F111&\"他\"&'教育訓練費入力（前期）'!$G111-1&\"名\"))","v":""}]
[null,103,null,null,null,null,null,null,null,null,{"$f":"IF('教育訓練費入力（前期）'!$C112=\"\",\"\",TEXT('教育訓練費入力（前期）'!$C112,\"yyyy年\")&TEXT('教育訓練費入力（前期）'!$C112,\"m月\")&TEXT('教育訓練費入力（前期）'!$C112,\"ｄ日\")&\"から\"&'教育訓練費入力（前期）'!$D112&\"日間\")","v":""},{"$f":"IF('教育訓練費入力（前期）'!$F112=\"\",\"\",IF('教育訓練費入力（前期）'!$G112=1,'教育訓練費入力（前期）'!$F112,'教育訓練費入力（前期）'!$F112&\"他\"&'教育訓練費入力（前期）'!$G112-1&\"名\"))","v":""}]
[null,104,null,null,null,null,null,null,null,null,{"$f":"IF('教育訓練費入力（前期）'!$C113=\"\",\"\",TEXT('教育訓練費入力（前期）'!$C113,\"yyyy年\")&TEXT('教育訓練費入力（前期）'!$C113,\"m月\")&TEXT('教育訓練費入力（前期）'!$C113,\"ｄ日\")&\"から\"&'教育訓練費入力（前期）'!$D113&\"日間\")","v":""},{"$f":"IF('教育訓練費入力（前期）'!$F113=\"\",\"\",IF('教育訓練費入力（前期）'!$G113=1,'教育訓練費入力（前期）'!$F113,'教育訓練費入力（前期）'!$F113&\"他\"&'教育訓練費入力（前期）'!$G113-1&\"名\"))","v":""}]
[null,105,null,null,null,null,null,null,null,null,{"$f":"IF('教育訓練費入力（前期）'!$C114=\"\",\"\",TEXT('教育訓練費入力（前期）'!$C114,\"yyyy年\")&TEXT('教育訓練費入力（前期）'!$C114,\"m月\")&TEXT('教育訓練費入力（前期）'!$C114,\"ｄ日\")&\"から\"&'教育訓練費入力（前期）'!$D114&\"日間\")","v":""},{"$f":"IF('教育訓練費入力（前期）'!$F114=\"\",\"\",IF('教育訓練費入力（前期）'!$G114=1,'教育訓練費入力（前期）'!$F114,'教育訓練費入力（前期）'!$F114&\"他\"&'教育訓練費入力（前期）'!$G114-1&\"名\"))","v":""}]
[null,106,null,null,null,null,null,null,null,null,{"$f":"IF('教育訓練費入力（前期）'!$C115=\"\",\"\",TEXT('教育訓練費入力（前期）'!$C115,\"yyyy年\")&TEXT('教育訓練費入力（前期）'!$C115,\"m月\")&TEXT('教育訓練費入力（前期）'!$C115,\"ｄ日\")&\"から\"&'教育訓練費入力（前期）'!$D115&\"日間\")","v":""},{"$f":"IF('教育訓練費入力（前期）'!$F115=\"\",\"\",IF('教育訓練費入力（前期）'!$G115=1,'教育訓練費入力（前期）'!$F115,'教育訓練費入力（前期）'!$F115&\"他\"&'教育訓練費入力（前期）'!$G115-1&\"名\"))","v":""}]
[null,107,null,null,null,null,null,null,null,null,{"$f":"IF('教育訓練費入力（前期）'!$C116=\"\",\"\",TEXT('教育訓練費入力（前期）'!$C116,\"yyyy年\")&TEXT('教育訓練費入力（前期）'!$C116,\"m月\")&TEXT('教育訓練費入力（前期）'!$C116,\"ｄ日\")&\"から\"&'教育訓練費入力（前期）'!$D116&\"日間\")","v":""},{"$f":"IF('教育訓練費入力（前期）'!$F116=\"\",\"\",IF('教育訓練費入力（前期）'!$G116=1,'教育訓練費入力（前期）'!$F116,'教育訓練費入力（前期）'!$F116&\"他\"&'教育訓練費入力（前期）'!$G116-1&\"名\"))","v":""}]
[null,108,null,null,null,null,null,null,null,null,{"$f":"IF('教育訓練費入力（前期）'!$C117=\"\",\"\",TEXT('教育訓練費入力（前期）'!$C117,\"yyyy年\")&TEXT('教育訓練費入力（前期）'!$C117,\"m月\")&TEXT('教育訓練費入力（前期）'!$C117,\"ｄ日\")&\"から\"&'教育訓練費入力（前期）'!$D117&\"日間\")","v":""},{"$f":"IF('教育訓練費入力（前期）'!$F117=\"\",\"\",IF('教育訓練費入力（前期）'!$G117=1,'教育訓練費入力（前期）'!$F117,'教育訓練費入力（前期）'!$F117&\"他\"&'教育訓練費入力（前期）'!$G117-1&\"名\"))","v":""}]
[null,109,null,null,null,null,null,null,null,null,{"$f":"IF('教育訓練費入力（前期）'!$C118=\"\",\"\",TEXT('教育訓練費入力（前期）'!$C118,\"yyyy年\")&TEXT('教育訓練費入力（前期）'!$C118,\"m月\")&TEXT('教育訓練費入力（前期）'!$C118,\"ｄ日\")&\"から\"&'教育訓練費入力（前期）'!$D118&\"日間\")","v":""},{"$f":"IF('教育訓練費入力（前期）'!$F118=\"\",\"\",IF('教育訓練費入力（前期）'!$G118=1,'教育訓練費入力（前期）'!$F118,'教育訓練費入力（前期）'!$F118&\"他\"&'教育訓練費入力（前期）'!$G118-1&\"名\"))","v":""}]
[null,110,null,null,null,null,null,null,null,null,{"$f":"IF('教育訓練費入力（前期）'!$C119=\"\",\"\",TEXT('教育訓練費入力（前期）'!$C119,\"yyyy年\")&TEXT('教育訓練費入力（前期）'!$C119,\"m月\")&TEXT('教育訓練費入力（前期）'!$C119,\"ｄ日\")&\"から\"&'教育訓練費入力（前期）'!$D119&\"日間\")","v":""},{"$f":"IF('教育訓練費入力（前期）'!$F119=\"\",\"\",IF('教育訓練費入力（前期）'!$G119=1,'教育訓練費入力（前期）'!$F119,'教育訓練費入力（前期）'!$F119&\"他\"&'教育訓練費入力（前期）'!$G119-1&\"名\"))","v":""}]
[null,111,null,null,null,null,null,null,null,null,{"$f":"IF('教育訓練費入力（前期）'!$C120=\"\",\"\",TEXT('教育訓練費入力（前期）'!$C120,\"yyyy年\")&TEXT('教育訓練費入力（前期）'!$C120,\"m月\")&TEXT('教育訓練費入力（前期）'!$C120,\"ｄ日\")&\"から\"&'教育訓練費入力（前期）'!$D120&\"日間\")","v":""},{"$f":"IF('教育訓練費入力（前期）'!$F120=\"\",\"\",IF('教育訓練費入力（前期）'!$G120=1,'教育訓練費入力（前期）'!$F120,'教育訓練費入力（前期）'!$F120&\"他\"&'教育訓練費入力（前期）'!$G120-1&\"名\"))","v":""}]
[null,112,null,null,null,null,null,null,null,null,{"$f":"IF('教育訓練費入力（前期）'!$C121=\"\",\"\",TEXT('教育訓練費入力（前期）'!$C121,\"yyyy年\")&TEXT('教育訓練費入力（前期）'!$C121,\"m月\")&TEXT('教育訓練費入力（前期）'!$C121,\"ｄ日\")&\"から\"&'教育訓練費入力（前期）'!$D121&\"日間\")","v":""},{"$f":"IF('教育訓練費入力（前期）'!$F121=\"\",\"\",IF('教育訓練費入力（前期）'!$G121=1,'教育訓練費入力（前期）'!$F121,'教育訓練費入力（前期）'!$F121&\"他\"&'教育訓練費入力（前期）'!$G121-1&\"名\"))","v":""}]
[null,113,null,null,null,null,null,null,null,null,{"$f":"IF('教育訓練費入力（前期）'!$C122=\"\",\"\",TEXT('教育訓練費入力（前期）'!$C122,\"yyyy年\")&TEXT('教育訓練費入力（前期）'!$C122,\"m月\")&TEXT('教育訓練費入力（前期）'!$C122,\"ｄ日\")&\"から\"&'教育訓練費入力（前期）'!$D122&\"日間\")","v":""},{"$f":"IF('教育訓練費入力（前期）'!$F122=\"\",\"\",IF('教育訓練費入力（前期）'!$G122=1,'教育訓練費入力（前期）'!$F122,'教育訓練費入力（前期）'!$F122&\"他\"&'教育訓練費入力（前期）'!$G122-1&\"名\"))","v":""}]
[null,114,null,null,null,null,null,null,null,null,{"$f":"IF('教育訓練費入力（前期）'!$C123=\"\",\"\",TEXT('教育訓練費入力（前期）'!$C123,\"yyyy年\")&TEXT('教育訓練費入力（前期）'!$C123,\"m月\")&TEXT('教育訓練費入力（前期）'!$C123,\"ｄ日\")&\"から\"&'教育訓練費入力（前期）'!$D123&\"日間\")","v":""},{"$f":"IF('教育訓練費入力（前期）'!$F123=\"\",\"\",IF('教育訓練費入力（前期）'!$G123=1,'教育訓練費入力（前期）'!$F123,'教育訓練費入力（前期）'!$F123&\"他\"&'教育訓練費入力（前期）'!$G123-1&\"名\"))","v":""}]
[null,115,null,null,null,null,null,null,null,null,{"$f":"IF('教育訓練費入力（前期）'!$C124=\"\",\"\",TEXT('教育訓練費入力（前期）'!$C124,\"yyyy年\")&TEXT('教育訓練費入力（前期）'!$C124,\"m月\")&TEXT('教育訓練費入力（前期）'!$C124,\"ｄ日\")&\"から\"&'教育訓練費入力（前期）'!$D124&\"日間\")","v":""},{"$f":"IF('教育訓練費入力（前期）'!$F124=\"\",\"\",IF('教育訓練費入力（前期）'!$G124=1,'教育訓練費入力（前期）'!$F124,'教育訓練費入力（前期）'!$F124&\"他\"&'教育訓練費入力（前期）'!$G124-1&\"名\"))","v":""}]
[null,116,null,null,null,null,null,null,null,null,{"$f":"IF('教育訓練費入力（前期）'!$C125=\"\",\"\",TEXT('教育訓練費入力（前期）'!$C125,\"yyyy年\")&TEXT('教育訓練費入力（前期）'!$C125,\"m月\")&TEXT('教育訓練費入力（前期）'!$C125,\"ｄ日\")&\"から\"&'教育訓練費入力（前期）'!$D125&\"日間\")","v":""},{"$f":"IF('教育訓練費入力（前期）'!$F125=\"\",\"\",IF('教育訓練費入力（前期）'!$G125=1,'教育訓練費入力（前期）'!$F125,'教育訓練費入力（前期）'!$F125&\"他\"&'教育訓練費入力（前期）'!$G125-1&\"名\"))","v":""}]
[null,117,null,null,null,null,null,null,null,null,{"$f":"IF('教育訓練費入力（前期）'!$C126=\"\",\"\",TEXT('教育訓練費入力（前期）'!$C126,\"yyyy年\")&TEXT('教育訓練費入力（前期）'!$C126,\"m月\")&TEXT('教育訓練費入力（前期）'!$C126,\"ｄ日\")&\"から\"&'教育訓練費入力（前期）'!$D126&\"日間\")","v":""},{"$f":"IF('教育訓練費入力（前期）'!$F126=\"\",\"\",IF('教育訓練費入力（前期）'!$G126=1,'教育訓練費入力（前期）'!$F126,'教育訓練費入力（前期）'!$F126&\"他\"&'教育訓練費入力（前期）'!$G126-1&\"名\"))","v":""}]
[null,118,null,null,null,null,null,null,null,null,{"$f":"IF('教育訓練費入力（前期）'!$C127=\"\",\"\",TEXT('教育訓練費入力（前期）'!$C127,\"yyyy年\")&TEXT('教育訓練費入力（前期）'!$C127,\"m月\")&TEXT('教育訓練費入力（前期）'!$C127,\"ｄ日\")&\"から\"&'教育訓練費入力（前期）'!$D127&\"日間\")","v":""},{"$f":"IF('教育訓練費入力（前期）'!$F127=\"\",\"\",IF('教育訓練費入力（前期）'!$G127=1,'教育訓練費入力（前期）'!$F127,'教育訓練費入力（前期）'!$F127&\"他\"&'教育訓練費入力（前期）'!$G127-1&\"名\"))","v":""}]
[null,119,null,null,null,null,null,null,null,null,{"$f":"IF('教育訓練費入力（前期）'!$C128=\"\",\"\",TEXT('教育訓練費入力（前期）'!$C128,\"yyyy年\")&TEXT('教育訓練費入力（前期）'!$C128,\"m月\")&TEXT('教育訓練費入力（前期）'!$C128,\"ｄ日\")&\"から\"&'教育訓練費入力（前期）'!$D128&\"日間\")","v":""},{"$f":"IF('教育訓練費入力（前期）'!$F128=\"\",\"\",IF('教育訓練費入力（前期）'!$G128=1,'教育訓練費入力（前期）'!$F128,'教育訓練費入力（前期）'!$F128&\"他\"&'教育訓練費入力（前期）'!$G128-1&\"名\"))","v":""}]
[null,120,null,null,null,null,null,null,null,null,{"$f":"IF('教育訓練費入力（前期）'!$C129=\"\",\"\",TEXT('教育訓練費入力（前期）'!$C129,\"yyyy年\")&TEXT('教育訓練費入力（前期）'!$C129,\"m月\")&TEXT('教育訓練費入力（前期）'!$C129,\"ｄ日\")&\"から\"&'教育訓練費入力（前期）'!$D129&\"日間\")","v":""},{"$f":"IF('教育訓練費入力（前期）'!$F129=\"\",\"\",IF('教育訓練費入力（前期）'!$G129=1,'教育訓練費入力（前期）'!$F129,'教育訓練費入力（前期）'!$F129&\"他\"&'教育訓練費入力（前期）'!$G129-1&\"名\"))","v":""}]
[null,121,null,null,null,null,null,null,null,null,{"$f":"IF('教育訓練費入力（前期）'!$C130=\"\",\"\",TEXT('教育訓練費入力（前期）'!$C130,\"yyyy年\")&TEXT('教育訓練費入力（前期）'!$C130,\"m月\")&TEXT('教育訓練費入力（前期）'!$C130,\"ｄ日\")&\"から\"&'教育訓練費入力（前期）'!$D130&\"日間\")","v":""},{"$f":"IF('教育訓練費入力（前期）'!$F130=\"\",\"\",IF('教育訓練費入力（前期）'!$G130=1,'教育訓練費入力（前期）'!$F130,'教育訓練費入力（前期）'!$F130&\"他\"&'教育訓練費入力（前期）'!$G130-1&\"名\"))","v":""}]
[null,122,null,null,null,null,null,null,null,null,{"$f":"IF('教育訓練費入力（前期）'!$C131=\"\",\"\",TEXT('教育訓練費入力（前期）'!$C131,\"yyyy年\")&TEXT('教育訓練費入力（前期）'!$C131,\"m月\")&TEXT('教育訓練費入力（前期）'!$C131,\"ｄ日\")&\"から\"&'教育訓練費入力（前期）'!$D131&\"日間\")","v":""},{"$f":"IF('教育訓練費入力（前期）'!$F131=\"\",\"\",IF('教育訓練費入力（前期）'!$G131=1,'教育訓練費入力（前期）'!$F131,'教育訓練費入力（前期）'!$F131&\"他\"&'教育訓練費入力（前期）'!$G131-1&\"名\"))","v":""}]
[null,123,null,null,null,null,null,null,null,null,{"$f":"IF('教育訓練費入力（前期）'!$C132=\"\",\"\",TEXT('教育訓練費入力（前期）'!$C132,\"yyyy年\")&TEXT('教育訓練費入力（前期）'!$C132,\"m月\")&TEXT('教育訓練費入力（前期）'!$C132,\"ｄ日\")&\"から\"&'教育訓練費入力（前期）'!$D132&\"日間\")","v":""},{"$f":"IF('教育訓練費入力（前期）'!$F132=\"\",\"\",IF('教育訓練費入力（前期）'!$G132=1,'教育訓練費入力（前期）'!$F132,'教育訓練費入力（前期）'!$F132&\"他\"&'教育訓練費入力（前期）'!$G132-1&\"名\"))","v":""}]
[null,124,null,null,null,null,null,null,null,null,{"$f":"IF('教育訓練費入力（前期）'!$C133=\"\",\"\",TEXT('教育訓練費入力（前期）'!$C133,\"yyyy年\")&TEXT('教育訓練費入力（前期）'!$C133,\"m月\")&TEXT('教育訓練費入力（前期）'!$C133,\"ｄ日\")&\"から\"&'教育訓練費入力（前期）'!$D133&\"日間\")","v":""},{"$f":"IF('教育訓練費入力（前期）'!$F133=\"\",\"\",IF('教育訓練費入力（前期）'!$G133=1,'教育訓練費入力（前期）'!$F133,'教育訓練費入力（前期）'!$F133&\"他\"&'教育訓練費入力（前期）'!$G133-1&\"名\"))","v":""}]
[null,125,null,null,null,null,null,null,null,null,{"$f":"IF('教育訓練費入力（前期）'!$C134=\"\",\"\",TEXT('教育訓練費入力（前期）'!$C134,\"yyyy年\")&TEXT('教育訓練費入力（前期）'!$C134,\"m月\")&TEXT('教育訓練費入力（前期）'!$C134,\"ｄ日\")&\"から\"&'教育訓練費入力（前期）'!$D134&\"日間\")","v":""},{"$f":"IF('教育訓練費入力（前期）'!$F134=\"\",\"\",IF('教育訓練費入力（前期）'!$G134=1,'教育訓練費入力（前期）'!$F134,'教育訓練費入力（前期）'!$F134&\"他\"&'教育訓練費入力（前期）'!$G134-1&\"名\"))","v":""}]
[null,126,null,null,null,null,null,null,null,null,{"$f":"IF('教育訓練費入力（前期）'!$C135=\"\",\"\",TEXT('教育訓練費入力（前期）'!$C135,\"yyyy年\")&TEXT('教育訓練費入力（前期）'!$C135,\"m月\")&TEXT('教育訓練費入力（前期）'!$C135,\"ｄ日\")&\"から\"&'教育訓練費入力（前期）'!$D135&\"日間\")","v":""},{"$f":"IF('教育訓練費入力（前期）'!$F135=\"\",\"\",IF('教育訓練費入力（前期）'!$G135=1,'教育訓練費入力（前期）'!$F135,'教育訓練費入力（前期）'!$F135&\"他\"&'教育訓練費入力（前期）'!$G135-1&\"名\"))","v":""}]
[null,127,null,null,null,null,null,null,null,null,{"$f":"IF('教育訓練費入力（前期）'!$C136=\"\",\"\",TEXT('教育訓練費入力（前期）'!$C136,\"yyyy年\")&TEXT('教育訓練費入力（前期）'!$C136,\"m月\")&TEXT('教育訓練費入力（前期）'!$C136,\"ｄ日\")&\"から\"&'教育訓練費入力（前期）'!$D136&\"日間\")","v":""},{"$f":"IF('教育訓練費入力（前期）'!$F136=\"\",\"\",IF('教育訓練費入力（前期）'!$G136=1,'教育訓練費入力（前期）'!$F136,'教育訓練費入力（前期）'!$F136&\"他\"&'教育訓練費入力（前期）'!$G136-1&\"名\"))","v":""}]
[null,128,null,null,null,null,null,null,null,null,{"$f":"IF('教育訓練費入力（前期）'!$C137=\"\",\"\",TEXT('教育訓練費入力（前期）'!$C137,\"yyyy年\")&TEXT('教育訓練費入力（前期）'!$C137,\"m月\")&TEXT('教育訓練費入力（前期）'!$C137,\"ｄ日\")&\"から\"&'教育訓練費入力（前期）'!$D137&\"日間\")","v":""},{"$f":"IF('教育訓練費入力（前期）'!$F137=\"\",\"\",IF('教育訓練費入力（前期）'!$G137=1,'教育訓練費入力（前期）'!$F137,'教育訓練費入力（前期）'!$F137&\"他\"&'教育訓練費入力（前期）'!$G137-1&\"名\"))","v":""}]
[null,129,null,null,null,null,null,null,null,null,{"$f":"IF('教育訓練費入力（前期）'!$C138=\"\",\"\",TEXT('教育訓練費入力（前期）'!$C138,\"yyyy年\")&TEXT('教育訓練費入力（前期）'!$C138,\"m月\")&TEXT('教育訓練費入力（前期）'!$C138,\"ｄ日\")&\"から\"&'教育訓練費入力（前期）'!$D138&\"日間\")","v":""},{"$f":"IF('教育訓練費入力（前期）'!$F138=\"\",\"\",IF('教育訓練費入力（前期）'!$G138=1,'教育訓練費入力（前期）'!$F138,'教育訓練費入力（前期）'!$F138&\"他\"&'教育訓練費入力（前期）'!$G138-1&\"名\"))","v":""}]
[null,130,null,null,null,null,null,null,null,null,{"$f":"IF('教育訓練費入力（前期）'!$C139=\"\",\"\",TEXT('教育訓練費入力（前期）'!$C139,\"yyyy年\")&TEXT('教育訓練費入力（前期）'!$C139,\"m月\")&TEXT('教育訓練費入力（前期）'!$C139,\"ｄ日\")&\"から\"&'教育訓練費入力（前期）'!$D139&\"日間\")","v":""},{"$f":"IF('教育訓練費入力（前期）'!$F139=\"\",\"\",IF('教育訓練費入力（前期）'!$G139=1,'教育訓練費入力（前期）'!$F139,'教育訓練費入力（前期）'!$F139&\"他\"&'教育訓練費入力（前期）'!$G139-1&\"名\"))","v":""}]
[null,131,null,null,null,null,null,null,null,null,{"$f":"IF('教育訓練費入力（前期）'!$C140=\"\",\"\",TEXT('教育訓練費入力（前期）'!$C140,\"yyyy年\")&TEXT('教育訓練費入力（前期）'!$C140,\"m月\")&TEXT('教育訓練費入力（前期）'!$C140,\"ｄ日\")&\"から\"&'教育訓練費入力（前期）'!$D140&\"日間\")","v":""},{"$f":"IF('教育訓練費入力（前期）'!$F140=\"\",\"\",IF('教育訓練費入力（前期）'!$G140=1,'教育訓練費入力（前期）'!$F140,'教育訓練費入力（前期）'!$F140&\"他\"&'教育訓練費入力（前期）'!$G140-1&\"名\"))","v":""}]
[null,132,null,null,null,null,null,null,null,null,{"$f":"IF('教育訓練費入力（前期）'!$C141=\"\",\"\",TEXT('教育訓練費入力（前期）'!$C141,\"yyyy年\")&TEXT('教育訓練費入力（前期）'!$C141,\"m月\")&TEXT('教育訓練費入力（前期）'!$C141,\"ｄ日\")&\"から\"&'教育訓練費入力（前期）'!$D141&\"日間\")","v":""},{"$f":"IF('教育訓練費入力（前期）'!$F141=\"\",\"\",IF('教育訓練費入力（前期）'!$G141=1,'教育訓練費入力（前期）'!$F141,'教育訓練費入力（前期）'!$F141&\"他\"&'教育訓練費入力（前期）'!$G141-1&\"名\"))","v":""}]
[null,133,null,null,null,null,null,null,null,null,{"$f":"IF('教育訓練費入力（前期）'!$C142=\"\",\"\",TEXT('教育訓練費入力（前期）'!$C142,\"yyyy年\")&TEXT('教育訓練費入力（前期）'!$C142,\"m月\")&TEXT('教育訓練費入力（前期）'!$C142,\"ｄ日\")&\"から\"&'教育訓練費入力（前期）'!$D142&\"日間\")","v":""},{"$f":"IF('教育訓練費入力（前期）'!$F142=\"\",\"\",IF('教育訓練費入力（前期）'!$G142=1,'教育訓練費入力（前期）'!$F142,'教育訓練費入力（前期）'!$F142&\"他\"&'教育訓練費入力（前期）'!$G142-1&\"名\"))","v":""}]
[null,134,null,null,null,null,null,null,null,null,{"$f":"IF('教育訓練費入力（前期）'!$C143=\"\",\"\",TEXT('教育訓練費入力（前期）'!$C143,\"yyyy年\")&TEXT('教育訓練費入力（前期）'!$C143,\"m月\")&TEXT('教育訓練費入力（前期）'!$C143,\"ｄ日\")&\"から\"&'教育訓練費入力（前期）'!$D143&\"日間\")","v":""},{"$f":"IF('教育訓練費入力（前期）'!$F143=\"\",\"\",IF('教育訓練費入力（前期）'!$G143=1,'教育訓練費入力（前期）'!$F143,'教育訓練費入力（前期）'!$F143&\"他\"&'教育訓練費入力（前期）'!$G143-1&\"名\"))","v":""}]
[null,135,null,null,null,null,null,null,null,null,{"$f":"IF('教育訓練費入力（前期）'!$C144=\"\",\"\",TEXT('教育訓練費入力（前期）'!$C144,\"yyyy年\")&TEXT('教育訓練費入力（前期）'!$C144,\"m月\")&TEXT('教育訓練費入力（前期）'!$C144,\"ｄ日\")&\"から\"&'教育訓練費入力（前期）'!$D144&\"日間\")","v":""},{"$f":"IF('教育訓練費入力（前期）'!$F144=\"\",\"\",IF('教育訓練費入力（前期）'!$G144=1,'教育訓練費入力（前期）'!$F144,'教育訓練費入力（前期）'!$F144&\"他\"&'教育訓練費入力（前期）'!$G144-1&\"名\"))","v":""}]
[null,136,null,null,null,null,null,null,null,null,{"$f":"IF('教育訓練費入力（前期）'!$C145=\"\",\"\",TEXT('教育訓練費入力（前期）'!$C145,\"yyyy年\")&TEXT('教育訓練費入力（前期）'!$C145,\"m月\")&TEXT('教育訓練費入力（前期）'!$C145,\"ｄ日\")&\"から\"&'教育訓練費入力（前期）'!$D145&\"日間\")","v":""},{"$f":"IF('教育訓練費入力（前期）'!$F145=\"\",\"\",IF('教育訓練費入力（前期）'!$G145=1,'教育訓練費入力（前期）'!$F145,'教育訓練費入力（前期）'!$F145&\"他\"&'教育訓練費入力（前期）'!$G145-1&\"名\"))","v":""}]
[null,137,null,null,null,null,null,null,null,null,{"$f":"IF('教育訓練費入力（前期）'!$C146=\"\",\"\",TEXT('教育訓練費入力（前期）'!$C146,\"yyyy年\")&TEXT('教育訓練費入力（前期）'!$C146,\"m月\")&TEXT('教育訓練費入力（前期）'!$C146,\"ｄ日\")&\"から\"&'教育訓練費入力（前期）'!$D146&\"日間\")","v":""},{"$f":"IF('教育訓練費入力（前期）'!$F146=\"\",\"\",IF('教育訓練費入力（前期）'!$G146=1,'教育訓練費入力（前期）'!$F146,'教育訓練費入力（前期）'!$F146&\"他\"&'教育訓練費入力（前期）'!$G146-1&\"名\"))","v":""}]
[null,138,null,null,null,null,null,null,null,null,{"$f":"IF('教育訓練費入力（前期）'!$C147=\"\",\"\",TEXT('教育訓練費入力（前期）'!$C147,\"yyyy年\")&TEXT('教育訓練費入力（前期）'!$C147,\"m月\")&TEXT('教育訓練費入力（前期）'!$C147,\"ｄ日\")&\"から\"&'教育訓練費入力（前期）'!$D147&\"日間\")","v":""},{"$f":"IF('教育訓練費入力（前期）'!$F147=\"\",\"\",IF('教育訓練費入力（前期）'!$G147=1,'教育訓練費入力（前期）'!$F147,'教育訓練費入力（前期）'!$F147&\"他\"&'教育訓練費入力（前期）'!$G147-1&\"名\"))","v":""}]
[null,139,null,null,null,null,null,null,null,null,{"$f":"IF('教育訓練費入力（前期）'!$C148=\"\",\"\",TEXT('教育訓練費入力（前期）'!$C148,\"yyyy年\")&TEXT('教育訓練費入力（前期）'!$C148,\"m月\")&TEXT('教育訓練費入力（前期）'!$C148,\"ｄ日\")&\"から\"&'教育訓練費入力（前期）'!$D148&\"日間\")","v":""},{"$f":"IF('教育訓練費入力（前期）'!$F148=\"\",\"\",IF('教育訓練費入力（前期）'!$G148=1,'教育訓練費入力（前期）'!$F148,'教育訓練費入力（前期）'!$F148&\"他\"&'教育訓練費入力（前期）'!$G148-1&\"名\"))","v":""}]
[null,140,null,null,null,null,null,null,null,null,{"$f":"IF('教育訓練費入力（前期）'!$C149=\"\",\"\",TEXT('教育訓練費入力（前期）'!$C149,\"yyyy年\")&TEXT('教育訓練費入力（前期）'!$C149,\"m月\")&TEXT('教育訓練費入力（前期）'!$C149,\"ｄ日\")&\"から\"&'教育訓練費入力（前期）'!$D149&\"日間\")","v":""},{"$f":"IF('教育訓練費入力（前期）'!$F149=\"\",\"\",IF('教育訓練費入力（前期）'!$G149=1,'教育訓練費入力（前期）'!$F149,'教育訓練費入力（前期）'!$F149&\"他\"&'教育訓練費入力（前期）'!$G149-1&\"名\"))","v":""}]
[null,141,null,null,null,null,null,null,null,null,{"$f":"IF('教育訓練費入力（前期）'!$C150=\"\",\"\",TEXT('教育訓練費入力（前期）'!$C150,\"yyyy年\")&TEXT('教育訓練費入力（前期）'!$C150,\"m月\")&TEXT('教育訓練費入力（前期）'!$C150,\"ｄ日\")&\"から\"&'教育訓練費入力（前期）'!$D150&\"日間\")","v":""},{"$f":"IF('教育訓練費入力（前期）'!$F150=\"\",\"\",IF('教育訓練費入力（前期）'!$G150=1,'教育訓練費入力（前期）'!$F150,'教育訓練費入力（前期）'!$F150&\"他\"&'教育訓練費入力（前期）'!$G150-1&\"名\"))","v":""}]
[null,142,null,null,null,null,null,null,null,null,{"$f":"IF('教育訓練費入力（前期）'!$C151=\"\",\"\",TEXT('教育訓練費入力（前期）'!$C151,\"yyyy年\")&TEXT('教育訓練費入力（前期）'!$C151,\"m月\")&TEXT('教育訓練費入力（前期）'!$C151,\"ｄ日\")&\"から\"&'教育訓練費入力（前期）'!$D151&\"日間\")","v":""},{"$f":"IF('教育訓練費入力（前期）'!$F151=\"\",\"\",IF('教育訓練費入力（前期）'!$G151=1,'教育訓練費入力（前期）'!$F151,'教育訓練費入力（前期）'!$F151&\"他\"&'教育訓練費入力（前期）'!$G151-1&\"名\"))","v":""}]
[null,143,null,null,null,null,null,null,null,null,{"$f":"IF('教育訓練費入力（前期）'!$C152=\"\",\"\",TEXT('教育訓練費入力（前期）'!$C152,\"yyyy年\")&TEXT('教育訓練費入力（前期）'!$C152,\"m月\")&TEXT('教育訓練費入力（前期）'!$C152,\"ｄ日\")&\"から\"&'教育訓練費入力（前期）'!$D152&\"日間\")","v":""},{"$f":"IF('教育訓練費入力（前期）'!$F152=\"\",\"\",IF('教育訓練費入力（前期）'!$G152=1,'教育訓練費入力（前期）'!$F152,'教育訓練費入力（前期）'!$F152&\"他\"&'教育訓練費入力（前期）'!$G152-1&\"名\"))","v":""}]
[null,144,null,null,null,null,null,null,null,null,{"$f":"IF('教育訓練費入力（前期）'!$C153=\"\",\"\",TEXT('教育訓練費入力（前期）'!$C153,\"yyyy年\")&TEXT('教育訓練費入力（前期）'!$C153,\"m月\")&TEXT('教育訓練費入力（前期）'!$C153,\"ｄ日\")&\"から\"&'教育訓練費入力（前期）'!$D153&\"日間\")","v":""},{"$f":"IF('教育訓練費入力（前期）'!$F153=\"\",\"\",IF('教育訓練費入力（前期）'!$G153=1,'教育訓練費入力（前期）'!$F153,'教育訓練費入力（前期）'!$F153&\"他\"&'教育訓練費入力（前期）'!$G153-1&\"名\"))","v":""}]
[null,145,null,null,null,null,null,null,null,null,{"$f":"IF('教育訓練費入力（前期）'!$C154=\"\",\"\",TEXT('教育訓練費入力（前期）'!$C154,\"yyyy年\")&TEXT('教育訓練費入力（前期）'!$C154,\"m月\")&TEXT('教育訓練費入力（前期）'!$C154,\"ｄ日\")&\"から\"&'教育訓練費入力（前期）'!$D154&\"日間\")","v":""},{"$f":"IF('教育訓練費入力（前期）'!$F154=\"\",\"\",IF('教育訓練費入力（前期）'!$G154=1,'教育訓練費入力（前期）'!$F154,'教育訓練費入力（前期）'!$F154&\"他\"&'教育訓練費入力（前期）'!$G154-1&\"名\"))","v":""}]
[null,146,null,null,null,null,null,null,null,null,{"$f":"IF('教育訓練費入力（前期）'!$C155=\"\",\"\",TEXT('教育訓練費入力（前期）'!$C155,\"yyyy年\")&TEXT('教育訓練費入力（前期）'!$C155,\"m月\")&TEXT('教育訓練費入力（前期）'!$C155,\"ｄ日\")&\"から\"&'教育訓練費入力（前期）'!$D155&\"日間\")","v":""},{"$f":"IF('教育訓練費入力（前期）'!$F155=\"\",\"\",IF('教育訓練費入力（前期）'!$G155=1,'教育訓練費入力（前期）'!$F155,'教育訓練費入力（前期）'!$F155&\"他\"&'教育訓練費入力（前期）'!$G155-1&\"名\"))","v":""}]
[null,147,null,null,null,null,null,null,null,null,{"$f":"IF('教育訓練費入力（前期）'!$C156=\"\",\"\",TEXT('教育訓練費入力（前期）'!$C156,\"yyyy年\")&TEXT('教育訓練費入力（前期）'!$C156,\"m月\")&TEXT('教育訓練費入力（前期）'!$C156,\"ｄ日\")&\"から\"&'教育訓練費入力（前期）'!$D156&\"日間\")","v":""},{"$f":"IF('教育訓練費入力（前期）'!$F156=\"\",\"\",IF('教育訓練費入力（前期）'!$G156=1,'教育訓練費入力（前期）'!$F156,'教育訓練費入力（前期）'!$F156&\"他\"&'教育訓練費入力（前期）'!$G156-1&\"名\"))","v":""}]
[null,148,null,null,null,null,null,null,null,null,{"$f":"IF('教育訓練費入力（前期）'!$C157=\"\",\"\",TEXT('教育訓練費入力（前期）'!$C157,\"yyyy年\")&TEXT('教育訓練費入力（前期）'!$C157,\"m月\")&TEXT('教育訓練費入力（前期）'!$C157,\"ｄ日\")&\"から\"&'教育訓練費入力（前期）'!$D157&\"日間\")","v":""},{"$f":"IF('教育訓練費入力（前期）'!$F157=\"\",\"\",IF('教育訓練費入力（前期）'!$G157=1,'教育訓練費入力（前期）'!$F157,'教育訓練費入力（前期）'!$F157&\"他\"&'教育訓練費入力（前期）'!$G157-1&\"名\"))","v":""}]
[null,149,null,null,null,null,null,null,null,null,{"$f":"IF('教育訓練費入力（前期）'!$C158=\"\",\"\",TEXT('教育訓練費入力（前期）'!$C158,\"yyyy年\")&TEXT('教育訓練費入力（前期）'!$C158,\"m月\")&TEXT('教育訓練費入力（前期）'!$C158,\"ｄ日\")&\"から\"&'教育訓練費入力（前期）'!$D158&\"日間\")","v":""},{"$f":"IF('教育訓練費入力（前期）'!$F158=\"\",\"\",IF('教育訓練費入力（前期）'!$G158=1,'教育訓練費入力（前期）'!$F158,'教育訓練費入力（前期）'!$F158&\"他\"&'教育訓練費入力（前期）'!$G158-1&\"名\"))","v":""}]
[null,150,null,null,null,null,null,null,null,null,{"$f":"IF('教育訓練費入力（前期）'!$C159=\"\",\"\",TEXT('教育訓練費入力（前期）'!$C159,\"yyyy年\")&TEXT('教育訓練費入力（前期）'!$C159,\"m月\")&TEXT('教育訓練費入力（前期）'!$C159,\"ｄ日\")&\"から\"&'教育訓練費入力（前期）'!$D159&\"日間\")","v":""},{"$f":"IF('教育訓練費入力（前期）'!$F159=\"\",\"\",IF('教育訓練費入力（前期）'!$G159=1,'教育訓練費入力（前期）'!$F159,'教育訓練費入力（前期）'!$F159&\"他\"&'教育訓練費入力（前期）'!$G159-1&\"名\"))","v":""}]
[null,151,null,null,null,null,null,null,null,null,{"$f":"IF('教育訓練費入力（前期）'!$C160=\"\",\"\",TEXT('教育訓練費入力（前期）'!$C160,\"yyyy年\")&TEXT('教育訓練費入力（前期）'!$C160,\"m月\")&TEXT('教育訓練費入力（前期）'!$C160,\"ｄ日\")&\"から\"&'教育訓練費入力（前期）'!$D160&\"日間\")","v":""},{"$f":"IF('教育訓練費入力（前期）'!$F160=\"\",\"\",IF('教育訓練費入力（前期）'!$G160=1,'教育訓練費入力（前期）'!$F160,'教育訓練費入力（前期）'!$F160&\"他\"&'教育訓練費入力（前期）'!$G160-1&\"名\"))","v":""}]
[null,152,null,null,null,null,null,null,null,null,{"$f":"IF('教育訓練費入力（前期）'!$C161=\"\",\"\",TEXT('教育訓練費入力（前期）'!$C161,\"yyyy年\")&TEXT('教育訓練費入力（前期）'!$C161,\"m月\")&TEXT('教育訓練費入力（前期）'!$C161,\"ｄ日\")&\"から\"&'教育訓練費入力（前期）'!$D161&\"日間\")","v":""},{"$f":"IF('教育訓練費入力（前期）'!$F161=\"\",\"\",IF('教育訓練費入力（前期）'!$G161=1,'教育訓練費入力（前期）'!$F161,'教育訓練費入力（前期）'!$F161&\"他\"&'教育訓練費入力（前期）'!$G161-1&\"名\"))","v":""}]
[null,153,null,null,null,null,null,null,null,null,{"$f":"IF('教育訓練費入力（前期）'!$C162=\"\",\"\",TEXT('教育訓練費入力（前期）'!$C162,\"yyyy年\")&TEXT('教育訓練費入力（前期）'!$C162,\"m月\")&TEXT('教育訓練費入力（前期）'!$C162,\"ｄ日\")&\"から\"&'教育訓練費入力（前期）'!$D162&\"日間\")","v":""},{"$f":"IF('教育訓練費入力（前期）'!$F162=\"\",\"\",IF('教育訓練費入力（前期）'!$G162=1,'教育訓練費入力（前期）'!$F162,'教育訓練費入力（前期）'!$F162&\"他\"&'教育訓練費入力（前期）'!$G162-1&\"名\"))","v":""}]
[null,154,null,null,null,null,null,null,null,null,{"$f":"IF('教育訓練費入力（前期）'!$C163=\"\",\"\",TEXT('教育訓練費入力（前期）'!$C163,\"yyyy年\")&TEXT('教育訓練費入力（前期）'!$C163,\"m月\")&TEXT('教育訓練費入力（前期）'!$C163,\"ｄ日\")&\"から\"&'教育訓練費入力（前期）'!$D163&\"日間\")","v":""},{"$f":"IF('教育訓練費入力（前期）'!$F163=\"\",\"\",IF('教育訓練費入力（前期）'!$G163=1,'教育訓練費入力（前期）'!$F163,'教育訓練費入力（前期）'!$F163&\"他\"&'教育訓練費入力（前期）'!$G163-1&\"名\"))","v":""}]
[null,155,null,null,null,null,null,null,null,null,{"$f":"IF('教育訓練費入力（前期）'!$C164=\"\",\"\",TEXT('教育訓練費入力（前期）'!$C164,\"yyyy年\")&TEXT('教育訓練費入力（前期）'!$C164,\"m月\")&TEXT('教育訓練費入力（前期）'!$C164,\"ｄ日\")&\"から\"&'教育訓練費入力（前期）'!$D164&\"日間\")","v":""},{"$f":"IF('教育訓練費入力（前期）'!$F164=\"\",\"\",IF('教育訓練費入力（前期）'!$G164=1,'教育訓練費入力（前期）'!$F164,'教育訓練費入力（前期）'!$F164&\"他\"&'教育訓練費入力（前期）'!$G164-1&\"名\"))","v":""}]
[null,156,null,null,null,null,null,null,null,null,{"$f":"IF('教育訓練費入力（前期）'!$C165=\"\",\"\",TEXT('教育訓練費入力（前期）'!$C165,\"yyyy年\")&TEXT('教育訓練費入力（前期）'!$C165,\"m月\")&TEXT('教育訓練費入力（前期）'!$C165,\"ｄ日\")&\"から\"&'教育訓練費入力（前期）'!$D165&\"日間\")","v":""},{"$f":"IF('教育訓練費入力（前期）'!$F165=\"\",\"\",IF('教育訓練費入力（前期）'!$G165=1,'教育訓練費入力（前期）'!$F165,'教育訓練費入力（前期）'!$F165&\"他\"&'教育訓練費入力（前期）'!$G165-1&\"名\"))","v":""}]
[null,157,null,null,null,null,null,null,null,null,{"$f":"IF('教育訓練費入力（前期）'!$C166=\"\",\"\",TEXT('教育訓練費入力（前期）'!$C166,\"yyyy年\")&TEXT('教育訓練費入力（前期）'!$C166,\"m月\")&TEXT('教育訓練費入力（前期）'!$C166,\"ｄ日\")&\"から\"&'教育訓練費入力（前期）'!$D166&\"日間\")","v":""},{"$f":"IF('教育訓練費入力（前期）'!$F166=\"\",\"\",IF('教育訓練費入力（前期）'!$G166=1,'教育訓練費入力（前期）'!$F166,'教育訓練費入力（前期）'!$F166&\"他\"&'教育訓練費入力（前期）'!$G166-1&\"名\"))","v":""}]
[null,158,null,null,null,null,null,null,null,null,{"$f":"IF('教育訓練費入力（前期）'!$C167=\"\",\"\",TEXT('教育訓練費入力（前期）'!$C167,\"yyyy年\")&TEXT('教育訓練費入力（前期）'!$C167,\"m月\")&TEXT('教育訓練費入力（前期）'!$C167,\"ｄ日\")&\"から\"&'教育訓練費入力（前期）'!$D167&\"日間\")","v":""},{"$f":"IF('教育訓練費入力（前期）'!$F167=\"\",\"\",IF('教育訓練費入力（前期）'!$G167=1,'教育訓練費入力（前期）'!$F167,'教育訓練費入力（前期）'!$F167&\"他\"&'教育訓練費入力（前期）'!$G167-1&\"名\"))","v":""}]
[null,159,null,null,null,null,null,null,null,null,{"$f":"IF('教育訓練費入力（前期）'!$C168=\"\",\"\",TEXT('教育訓練費入力（前期）'!$C168,\"yyyy年\")&TEXT('教育訓練費入力（前期）'!$C168,\"m月\")&TEXT('教育訓練費入力（前期）'!$C168,\"ｄ日\")&\"から\"&'教育訓練費入力（前期）'!$D168&\"日間\")","v":""},{"$f":"IF('教育訓練費入力（前期）'!$F168=\"\",\"\",IF('教育訓練費入力（前期）'!$G168=1,'教育訓練費入力（前期）'!$F168,'教育訓練費入力（前期）'!$F168&\"他\"&'教育訓練費入力（前期）'!$G168-1&\"名\"))","v":""}]
[null,160,null,null,null,null,null,null,null,null,{"$f":"IF('教育訓練費入力（前期）'!$C169=\"\",\"\",TEXT('教育訓練費入力（前期）'!$C169,\"yyyy年\")&TEXT('教育訓練費入力（前期）'!$C169,\"m月\")&TEXT('教育訓練費入力（前期）'!$C169,\"ｄ日\")&\"から\"&'教育訓練費入力（前期）'!$D169&\"日間\")","v":""},{"$f":"IF('教育訓練費入力（前期）'!$F169=\"\",\"\",IF('教育訓練費入力（前期）'!$G169=1,'教育訓練費入力（前期）'!$F169,'教育訓練費入力（前期）'!$F169&\"他\"&'教育訓練費入力（前期）'!$G169-1&\"名\"))","v":""}]
[null,161,null,null,null,null,null,null,null,null,{"$f":"IF('教育訓練費入力（前期）'!$C170=\"\",\"\",TEXT('教育訓練費入力（前期）'!$C170,\"yyyy年\")&TEXT('教育訓練費入力（前期）'!$C170,\"m月\")&TEXT('教育訓練費入力（前期）'!$C170,\"ｄ日\")&\"から\"&'教育訓練費入力（前期）'!$D170&\"日間\")","v":""},{"$f":"IF('教育訓練費入力（前期）'!$F170=\"\",\"\",IF('教育訓練費入力（前期）'!$G170=1,'教育訓練費入力（前期）'!$F170,'教育訓練費入力（前期）'!$F170&\"他\"&'教育訓練費入力（前期）'!$G170-1&\"名\"))","v":""}]
[null,162,null,null,null,null,null,null,null,null,{"$f":"IF('教育訓練費入力（前期）'!$C171=\"\",\"\",TEXT('教育訓練費入力（前期）'!$C171,\"yyyy年\")&TEXT('教育訓練費入力（前期）'!$C171,\"m月\")&TEXT('教育訓練費入力（前期）'!$C171,\"ｄ日\")&\"から\"&'教育訓練費入力（前期）'!$D171&\"日間\")","v":""},{"$f":"IF('教育訓練費入力（前期）'!$F171=\"\",\"\",IF('教育訓練費入力（前期）'!$G171=1,'教育訓練費入力（前期）'!$F171,'教育訓練費入力（前期）'!$F171&\"他\"&'教育訓練費入力（前期）'!$G171-1&\"名\"))","v":""}]
[null,163,null,null,null,null,null,null,null,null,{"$f":"IF('教育訓練費入力（前期）'!$C172=\"\",\"\",TEXT('教育訓練費入力（前期）'!$C172,\"yyyy年\")&TEXT('教育訓練費入力（前期）'!$C172,\"m月\")&TEXT('教育訓練費入力（前期）'!$C172,\"ｄ日\")&\"から\"&'教育訓練費入力（前期）'!$D172&\"日間\")","v":""},{"$f":"IF('教育訓練費入力（前期）'!$F172=\"\",\"\",IF('教育訓練費入力（前期）'!$G172=1,'教育訓練費入力（前期）'!$F172,'教育訓練費入力（前期）'!$F172&\"他\"&'教育訓練費入力（前期）'!$G172-1&\"名\"))","v":""}]
[null,164,null,null,null,null,null,null,null,null,{"$f":"IF('教育訓練費入力（前期）'!$C173=\"\",\"\",TEXT('教育訓練費入力（前期）'!$C173,\"yyyy年\")&TEXT('教育訓練費入力（前期）'!$C173,\"m月\")&TEXT('教育訓練費入力（前期）'!$C173,\"ｄ日\")&\"から\"&'教育訓練費入力（前期）'!$D173&\"日間\")","v":""},{"$f":"IF('教育訓練費入力（前期）'!$F173=\"\",\"\",IF('教育訓練費入力（前期）'!$G173=1,'教育訓練費入力（前期）'!$F173,'教育訓練費入力（前期）'!$F173&\"他\"&'教育訓練費入力（前期）'!$G173-1&\"名\"))","v":""}]
[null,165,null,null,null,null,null,null,null,null,{"$f":"IF('教育訓練費入力（前期）'!$C174=\"\",\"\",TEXT('教育訓練費入力（前期）'!$C174,\"yyyy年\")&TEXT('教育訓練費入力（前期）'!$C174,\"m月\")&TEXT('教育訓練費入力（前期）'!$C174,\"ｄ日\")&\"から\"&'教育訓練費入力（前期）'!$D174&\"日間\")","v":""},{"$f":"IF('教育訓練費入力（前期）'!$F174=\"\",\"\",IF('教育訓練費入力（前期）'!$G174=1,'教育訓練費入力（前期）'!$F174,'教育訓練費入力（前期）'!$F174&\"他\"&'教育訓練費入力（前期）'!$G174-1&\"名\"))","v":""}]
[null,166,null,null,null,null,null,null,null,null,{"$f":"IF('教育訓練費入力（前期）'!$C175=\"\",\"\",TEXT('教育訓練費入力（前期）'!$C175,\"yyyy年\")&TEXT('教育訓練費入力（前期）'!$C175,\"m月\")&TEXT('教育訓練費入力（前期）'!$C175,\"ｄ日\")&\"から\"&'教育訓練費入力（前期）'!$D175&\"日間\")","v":""},{"$f":"IF('教育訓練費入力（前期）'!$F175=\"\",\"\",IF('教育訓練費入力（前期）'!$G175=1,'教育訓練費入力（前期）'!$F175,'教育訓練費入力（前期）'!$F175&\"他\"&'教育訓練費入力（前期）'!$G175-1&\"名\"))","v":""}]
[null,167,null,null,null,null,null,null,null,null,{"$f":"IF('教育訓練費入力（前期）'!$C176=\"\",\"\",TEXT('教育訓練費入力（前期）'!$C176,\"yyyy年\")&TEXT('教育訓練費入力（前期）'!$C176,\"m月\")&TEXT('教育訓練費入力（前期）'!$C176,\"ｄ日\")&\"から\"&'教育訓練費入力（前期）'!$D176&\"日間\")","v":""},{"$f":"IF('教育訓練費入力（前期）'!$F176=\"\",\"\",IF('教育訓練費入力（前期）'!$G176=1,'教育訓練費入力（前期）'!$F176,'教育訓練費入力（前期）'!$F176&\"他\"&'教育訓練費入力（前期）'!$G176-1&\"名\"))","v":""}]
[null,168,null,null,null,null,null,null,null,null,{"$f":"IF('教育訓練費入力（前期）'!$C177=\"\",\"\",TEXT('教育訓練費入力（前期）'!$C177,\"yyyy年\")&TEXT('教育訓練費入力（前期）'!$C177,\"m月\")&TEXT('教育訓練費入力（前期）'!$C177,\"ｄ日\")&\"から\"&'教育訓練費入力（前期）'!$D177&\"日間\")","v":""},{"$f":"IF('教育訓練費入力（前期）'!$F177=\"\",\"\",IF('教育訓練費入力（前期）'!$G177=1,'教育訓練費入力（前期）'!$F177,'教育訓練費入力（前期）'!$F177&\"他\"&'教育訓練費入力（前期）'!$G177-1&\"名\"))","v":""}]
[null,169,null,null,null,null,null,null,null,null,{"$f":"IF('教育訓練費入力（前期）'!$C178=\"\",\"\",TEXT('教育訓練費入力（前期）'!$C178,\"yyyy年\")&TEXT('教育訓練費入力（前期）'!$C178,\"m月\")&TEXT('教育訓練費入力（前期）'!$C178,\"ｄ日\")&\"から\"&'教育訓練費入力（前期）'!$D178&\"日間\")","v":""},{"$f":"IF('教育訓練費入力（前期）'!$F178=\"\",\"\",IF('教育訓練費入力（前期）'!$G178=1,'教育訓練費入力（前期）'!$F178,'教育訓練費入力（前期）'!$F178&\"他\"&'教育訓練費入力（前期）'!$G178-1&\"名\"))","v":""}]
[null,170,null,null,null,null,null,null,null,null,{"$f":"IF('教育訓練費入力（前期）'!$C179=\"\",\"\",TEXT('教育訓練費入力（前期）'!$C179,\"yyyy年\")&TEXT('教育訓練費入力（前期）'!$C179,\"m月\")&TEXT('教育訓練費入力（前期）'!$C179,\"ｄ日\")&\"から\"&'教育訓練費入力（前期）'!$D179&\"日間\")","v":""},{"$f":"IF('教育訓練費入力（前期）'!$F179=\"\",\"\",IF('教育訓練費入力（前期）'!$G179=1,'教育訓練費入力（前期）'!$F179,'教育訓練費入力（前期）'!$F179&\"他\"&'教育訓練費入力（前期）'!$G179-1&\"名\"))","v":""}]
[null,171,null,null,null,null,null,null,null,null,{"$f":"IF('教育訓練費入力（前期）'!$C180=\"\",\"\",TEXT('教育訓練費入力（前期）'!$C180,\"yyyy年\")&TEXT('教育訓練費入力（前期）'!$C180,\"m月\")&TEXT('教育訓練費入力（前期）'!$C180,\"ｄ日\")&\"から\"&'教育訓練費入力（前期）'!$D180&\"日間\")","v":""},{"$f":"IF('教育訓練費入力（前期）'!$F180=\"\",\"\",IF('教育訓練費入力（前期）'!$G180=1,'教育訓練費入力（前期）'!$F180,'教育訓練費入力（前期）'!$F180&\"他\"&'教育訓練費入力（前期）'!$G180-1&\"名\"))","v":""}]
[null,172,null,null,null,null,null,null,null,null,{"$f":"IF('教育訓練費入力（前期）'!$C181=\"\",\"\",TEXT('教育訓練費入力（前期）'!$C181,\"yyyy年\")&TEXT('教育訓練費入力（前期）'!$C181,\"m月\")&TEXT('教育訓練費入力（前期）'!$C181,\"ｄ日\")&\"から\"&'教育訓練費入力（前期）'!$D181&\"日間\")","v":""},{"$f":"IF('教育訓練費入力（前期）'!$F181=\"\",\"\",IF('教育訓練費入力（前期）'!$G181=1,'教育訓練費入力（前期）'!$F181,'教育訓練費入力（前期）'!$F181&\"他\"&'教育訓練費入力（前期）'!$G181-1&\"名\"))","v":""}]
[null,173,null,null,null,null,null,null,null,null,{"$f":"IF('教育訓練費入力（前期）'!$C182=\"\",\"\",TEXT('教育訓練費入力（前期）'!$C182,\"yyyy年\")&TEXT('教育訓練費入力（前期）'!$C182,\"m月\")&TEXT('教育訓練費入力（前期）'!$C182,\"ｄ日\")&\"から\"&'教育訓練費入力（前期）'!$D182&\"日間\")","v":""},{"$f":"IF('教育訓練費入力（前期）'!$F182=\"\",\"\",IF('教育訓練費入力（前期）'!$G182=1,'教育訓練費入力（前期）'!$F182,'教育訓練費入力（前期）'!$F182&\"他\"&'教育訓練費入力（前期）'!$G182-1&\"名\"))","v":""}]
[null,174,null,null,null,null,null,null,null,null,{"$f":"IF('教育訓練費入力（前期）'!$C183=\"\",\"\",TEXT('教育訓練費入力（前期）'!$C183,\"yyyy年\")&TEXT('教育訓練費入力（前期）'!$C183,\"m月\")&TEXT('教育訓練費入力（前期）'!$C183,\"ｄ日\")&\"から\"&'教育訓練費入力（前期）'!$D183&\"日間\")","v":""},{"$f":"IF('教育訓練費入力（前期）'!$F183=\"\",\"\",IF('教育訓練費入力（前期）'!$G183=1,'教育訓練費入力（前期）'!$F183,'教育訓練費入力（前期）'!$F183&\"他\"&'教育訓練費入力（前期）'!$G183-1&\"名\"))","v":""}]
[null,175,null,null,null,null,null,null,null,null,{"$f":"IF('教育訓練費入力（前期）'!$C184=\"\",\"\",TEXT('教育訓練費入力（前期）'!$C184,\"yyyy年\")&TEXT('教育訓練費入力（前期）'!$C184,\"m月\")&TEXT('教育訓練費入力（前期）'!$C184,\"ｄ日\")&\"から\"&'教育訓練費入力（前期）'!$D184&\"日間\")","v":""},{"$f":"IF('教育訓練費入力（前期）'!$F184=\"\",\"\",IF('教育訓練費入力（前期）'!$G184=1,'教育訓練費入力（前期）'!$F184,'教育訓練費入力（前期）'!$F184&\"他\"&'教育訓練費入力（前期）'!$G184-1&\"名\"))","v":""}]
[null,176,null,null,null,null,null,null,null,null,{"$f":"IF('教育訓練費入力（前期）'!$C185=\"\",\"\",TEXT('教育訓練費入力（前期）'!$C185,\"yyyy年\")&TEXT('教育訓練費入力（前期）'!$C185,\"m月\")&TEXT('教育訓練費入力（前期）'!$C185,\"ｄ日\")&\"から\"&'教育訓練費入力（前期）'!$D185&\"日間\")","v":""},{"$f":"IF('教育訓練費入力（前期）'!$F185=\"\",\"\",IF('教育訓練費入力（前期）'!$G185=1,'教育訓練費入力（前期）'!$F185,'教育訓練費入力（前期）'!$F185&\"他\"&'教育訓練費入力（前期）'!$G185-1&\"名\"))","v":""}]
[null,177,null,null,null,null,null,null,null,null,{"$f":"IF('教育訓練費入力（前期）'!$C186=\"\",\"\",TEXT('教育訓練費入力（前期）'!$C186,\"yyyy年\")&TEXT('教育訓練費入力（前期）'!$C186,\"m月\")&TEXT('教育訓練費入力（前期）'!$C186,\"ｄ日\")&\"から\"&'教育訓練費入力（前期）'!$D186&\"日間\")","v":""},{"$f":"IF('教育訓練費入力（前期）'!$F186=\"\",\"\",IF('教育訓練費入力（前期）'!$G186=1,'教育訓練費入力（前期）'!$F186,'教育訓練費入力（前期）'!$F186&\"他\"&'教育訓練費入力（前期）'!$G186-1&\"名\"))","v":""}]
[null,178,null,null,null,null,null,null,null,null,{"$f":"IF('教育訓練費入力（前期）'!$C187=\"\",\"\",TEXT('教育訓練費入力（前期）'!$C187,\"yyyy年\")&TEXT('教育訓練費入力（前期）'!$C187,\"m月\")&TEXT('教育訓練費入力（前期）'!$C187,\"ｄ日\")&\"から\"&'教育訓練費入力（前期）'!$D187&\"日間\")","v":""},{"$f":"IF('教育訓練費入力（前期）'!$F187=\"\",\"\",IF('教育訓練費入力（前期）'!$G187=1,'教育訓練費入力（前期）'!$F187,'教育訓練費入力（前期）'!$F187&\"他\"&'教育訓練費入力（前期）'!$G187-1&\"名\"))","v":""}]
[null,179,null,null,null,null,null,null,null,null,{"$f":"IF('教育訓練費入力（前期）'!$C188=\"\",\"\",TEXT('教育訓練費入力（前期）'!$C188,\"yyyy年\")&TEXT('教育訓練費入力（前期）'!$C188,\"m月\")&TEXT('教育訓練費入力（前期）'!$C188,\"ｄ日\")&\"から\"&'教育訓練費入力（前期）'!$D188&\"日間\")","v":""},{"$f":"IF('教育訓練費入力（前期）'!$F188=\"\",\"\",IF('教育訓練費入力（前期）'!$G188=1,'教育訓練費入力（前期）'!$F188,'教育訓練費入力（前期）'!$F188&\"他\"&'教育訓練費入力（前期）'!$G188-1&\"名\"))","v":""}]
[null,180,null,null,null,null,null,null,null,null,{"$f":"IF('教育訓練費入力（前期）'!$C189=\"\",\"\",TEXT('教育訓練費入力（前期）'!$C189,\"yyyy年\")&TEXT('教育訓練費入力（前期）'!$C189,\"m月\")&TEXT('教育訓練費入力（前期）'!$C189,\"ｄ日\")&\"から\"&'教育訓練費入力（前期）'!$D189&\"日間\")","v":""},{"$f":"IF('教育訓練費入力（前期）'!$F189=\"\",\"\",IF('教育訓練費入力（前期）'!$G189=1,'教育訓練費入力（前期）'!$F189,'教育訓練費入力（前期）'!$F189&\"他\"&'教育訓練費入力（前期）'!$G189-1&\"名\"))","v":""}]
[null,181,null,null,null,null,null,null,null,null,{"$f":"IF('教育訓練費入力（前期）'!$C190=\"\",\"\",TEXT('教育訓練費入力（前期）'!$C190,\"yyyy年\")&TEXT('教育訓練費入力（前期）'!$C190,\"m月\")&TEXT('教育訓練費入力（前期）'!$C190,\"ｄ日\")&\"から\"&'教育訓練費入力（前期）'!$D190&\"日間\")","v":""},{"$f":"IF('教育訓練費入力（前期）'!$F190=\"\",\"\",IF('教育訓練費入力（前期）'!$G190=1,'教育訓練費入力（前期）'!$F190,'教育訓練費入力（前期）'!$F190&\"他\"&'教育訓練費入力（前期）'!$G190-1&\"名\"))","v":""}]
[null,182,null,null,null,null,null,null,null,null,{"$f":"IF('教育訓練費入力（前期）'!$C191=\"\",\"\",TEXT('教育訓練費入力（前期）'!$C191,\"yyyy年\")&TEXT('教育訓練費入力（前期）'!$C191,\"m月\")&TEXT('教育訓練費入力（前期）'!$C191,\"ｄ日\")&\"から\"&'教育訓練費入力（前期）'!$D191&\"日間\")","v":""},{"$f":"IF('教育訓練費入力（前期）'!$F191=\"\",\"\",IF('教育訓練費入力（前期）'!$G191=1,'教育訓練費入力（前期）'!$F191,'教育訓練費入力（前期）'!$F191&\"他\"&'教育訓練費入力（前期）'!$G191-1&\"名\"))","v":""}]
[null,183,null,null,null,null,null,null,null,null,{"$f":"IF('教育訓練費入力（前期）'!$C192=\"\",\"\",TEXT('教育訓練費入力（前期）'!$C192,\"yyyy年\")&TEXT('教育訓練費入力（前期）'!$C192,\"m月\")&TEXT('教育訓練費入力（前期）'!$C192,\"ｄ日\")&\"から\"&'教育訓練費入力（前期）'!$D192&\"日間\")","v":""},{"$f":"IF('教育訓練費入力（前期）'!$F192=\"\",\"\",IF('教育訓練費入力（前期）'!$G192=1,'教育訓練費入力（前期）'!$F192,'教育訓練費入力（前期）'!$F192&\"他\"&'教育訓練費入力（前期）'!$G192-1&\"名\"))","v":""}]
[null,184,null,null,null,null,null,null,null,null,{"$f":"IF('教育訓練費入力（前期）'!$C193=\"\",\"\",TEXT('教育訓練費入力（前期）'!$C193,\"yyyy年\")&TEXT('教育訓練費入力（前期）'!$C193,\"m月\")&TEXT('教育訓練費入力（前期）'!$C193,\"ｄ日\")&\"から\"&'教育訓練費入力（前期）'!$D193&\"日間\")","v":""},{"$f":"IF('教育訓練費入力（前期）'!$F193=\"\",\"\",IF('教育訓練費入力（前期）'!$G193=1,'教育訓練費入力（前期）'!$F193,'教育訓練費入力（前期）'!$F193&\"他\"&'教育訓練費入力（前期）'!$G193-1&\"名\"))","v":""}]
[null,185,null,null,null,null,null,null,null,null,{"$f":"IF('教育訓練費入力（前期）'!$C194=\"\",\"\",TEXT('教育訓練費入力（前期）'!$C194,\"yyyy年\")&TEXT('教育訓練費入力（前期）'!$C194,\"m月\")&TEXT('教育訓練費入力（前期）'!$C194,\"ｄ日\")&\"から\"&'教育訓練費入力（前期）'!$D194&\"日間\")","v":""},{"$f":"IF('教育訓練費入力（前期）'!$F194=\"\",\"\",IF('教育訓練費入力（前期）'!$G194=1,'教育訓練費入力（前期）'!$F194,'教育訓練費入力（前期）'!$F194&\"他\"&'教育訓練費入力（前期）'!$G194-1&\"名\"))","v":""}]
[null,186,null,null,null,null,null,null,null,null,{"$f":"IF('教育訓練費入力（前期）'!$C195=\"\",\"\",TEXT('教育訓練費入力（前期）'!$C195,\"yyyy年\")&TEXT('教育訓練費入力（前期）'!$C195,\"m月\")&TEXT('教育訓練費入力（前期）'!$C195,\"ｄ日\")&\"から\"&'教育訓練費入力（前期）'!$D195&\"日間\")","v":""},{"$f":"IF('教育訓練費入力（前期）'!$F195=\"\",\"\",IF('教育訓練費入力（前期）'!$G195=1,'教育訓練費入力（前期）'!$F195,'教育訓練費入力（前期）'!$F195&\"他\"&'教育訓練費入力（前期）'!$G195-1&\"名\"))","v":""}]
[null,187,null,null,null,null,null,null,null,null,{"$f":"IF('教育訓練費入力（前期）'!$C196=\"\",\"\",TEXT('教育訓練費入力（前期）'!$C196,\"yyyy年\")&TEXT('教育訓練費入力（前期）'!$C196,\"m月\")&TEXT('教育訓練費入力（前期）'!$C196,\"ｄ日\")&\"から\"&'教育訓練費入力（前期）'!$D196&\"日間\")","v":""},{"$f":"IF('教育訓練費入力（前期）'!$F196=\"\",\"\",IF('教育訓練費入力（前期）'!$G196=1,'教育訓練費入力（前期）'!$F196,'教育訓練費入力（前期）'!$F196&\"他\"&'教育訓練費入力（前期）'!$G196-1&\"名\"))","v":""}]
[null,188,null,null,null,null,null,null,null,null,{"$f":"IF('教育訓練費入力（前期）'!$C197=\"\",\"\",TEXT('教育訓練費入力（前期）'!$C197,\"yyyy年\")&TEXT('教育訓練費入力（前期）'!$C197,\"m月\")&TEXT('教育訓練費入力（前期）'!$C197,\"ｄ日\")&\"から\"&'教育訓練費入力（前期）'!$D197&\"日間\")","v":""},{"$f":"IF('教育訓練費入力（前期）'!$F197=\"\",\"\",IF('教育訓練費入力（前期）'!$G197=1,'教育訓練費入力（前期）'!$F197,'教育訓練費入力（前期）'!$F197&\"他\"&'教育訓練費入力（前期）'!$G197-1&\"名\"))","v":""}]
[null,189,null,null,null,null,null,null,null,null,{"$f":"IF('教育訓練費入力（前期）'!$C198=\"\",\"\",TEXT('教育訓練費入力（前期）'!$C198,\"yyyy年\")&TEXT('教育訓練費入力（前期）'!$C198,\"m月\")&TEXT('教育訓練費入力（前期）'!$C198,\"ｄ日\")&\"から\"&'教育訓練費入力（前期）'!$D198&\"日間\")","v":""},{"$f":"IF('教育訓練費入力（前期）'!$F198=\"\",\"\",IF('教育訓練費入力（前期）'!$G198=1,'教育訓練費入力（前期）'!$F198,'教育訓練費入力（前期）'!$F198&\"他\"&'教育訓練費入力（前期）'!$G198-1&\"名\"))","v":""}]
[null,190,null,null,null,null,null,null,null,null,{"$f":"IF('教育訓練費入力（前期）'!$C199=\"\",\"\",TEXT('教育訓練費入力（前期）'!$C199,\"yyyy年\")&TEXT('教育訓練費入力（前期）'!$C199,\"m月\")&TEXT('教育訓練費入力（前期）'!$C199,\"ｄ日\")&\"から\"&'教育訓練費入力（前期）'!$D199&\"日間\")","v":""},{"$f":"IF('教育訓練費入力（前期）'!$F199=\"\",\"\",IF('教育訓練費入力（前期）'!$G199=1,'教育訓練費入力（前期）'!$F199,'教育訓練費入力（前期）'!$F199&\"他\"&'教育訓練費入力（前期）'!$G199-1&\"名\"))","v":""}]
[null,191,null,null,null,null,null,null,null,null,{"$f":"IF('教育訓練費入力（前期）'!$C200=\"\",\"\",TEXT('教育訓練費入力（前期）'!$C200,\"yyyy年\")&TEXT('教育訓練費入力（前期）'!$C200,\"m月\")&TEXT('教育訓練費入力（前期）'!$C200,\"ｄ日\")&\"から\"&'教育訓練費入力（前期）'!$D200&\"日間\")","v":""},{"$f":"IF('教育訓練費入力（前期）'!$F200=\"\",\"\",IF('教育訓練費入力（前期）'!$G200=1,'教育訓練費入力（前期）'!$F200,'教育訓練費入力（前期）'!$F200&\"他\"&'教育訓練費入力（前期）'!$G200-1&\"名\"))","v":""}]
[null,192,null,null,null,null,null,null,null,null,{"$f":"IF('教育訓練費入力（前期）'!$C201=\"\",\"\",TEXT('教育訓練費入力（前期）'!$C201,\"yyyy年\")&TEXT('教育訓練費入力（前期）'!$C201,\"m月\")&TEXT('教育訓練費入力（前期）'!$C201,\"ｄ日\")&\"から\"&'教育訓練費入力（前期）'!$D201&\"日間\")","v":""},{"$f":"IF('教育訓練費入力（前期）'!$F201=\"\",\"\",IF('教育訓練費入力（前期）'!$G201=1,'教育訓練費入力（前期）'!$F201,'教育訓練費入力（前期）'!$F201&\"他\"&'教育訓練費入力（前期）'!$G201-1&\"名\"))","v":""}]
[null,193,null,null,null,null,null,null,null,null,{"$f":"IF('教育訓練費入力（前期）'!$C202=\"\",\"\",TEXT('教育訓練費入力（前期）'!$C202,\"yyyy年\")&TEXT('教育訓練費入力（前期）'!$C202,\"m月\")&TEXT('教育訓練費入力（前期）'!$C202,\"ｄ日\")&\"から\"&'教育訓練費入力（前期）'!$D202&\"日間\")","v":""},{"$f":"IF('教育訓練費入力（前期）'!$F202=\"\",\"\",IF('教育訓練費入力（前期）'!$G202=1,'教育訓練費入力（前期）'!$F202,'教育訓練費入力（前期）'!$F202&\"他\"&'教育訓練費入力（前期）'!$G202-1&\"名\"))","v":""}]
[null,194,null,null,null,null,null,null,null,null,{"$f":"IF('教育訓練費入力（前期）'!$C203=\"\",\"\",TEXT('教育訓練費入力（前期）'!$C203,\"yyyy年\")&TEXT('教育訓練費入力（前期）'!$C203,\"m月\")&TEXT('教育訓練費入力（前期）'!$C203,\"ｄ日\")&\"から\"&'教育訓練費入力（前期）'!$D203&\"日間\")","v":""},{"$f":"IF('教育訓練費入力（前期）'!$F203=\"\",\"\",IF('教育訓練費入力（前期）'!$G203=1,'教育訓練費入力（前期）'!$F203,'教育訓練費入力（前期）'!$F203&\"他\"&'教育訓練費入力（前期）'!$G203-1&\"名\"))","v":""}]
[null,195,null,null,null,null,null,null,null,null,{"$f":"IF('教育訓練費入力（前期）'!$C204=\"\",\"\",TEXT('教育訓練費入力（前期）'!$C204,\"yyyy年\")&TEXT('教育訓練費入力（前期）'!$C204,\"m月\")&TEXT('教育訓練費入力（前期）'!$C204,\"ｄ日\")&\"から\"&'教育訓練費入力（前期）'!$D204&\"日間\")","v":""},{"$f":"IF('教育訓練費入力（前期）'!$F204=\"\",\"\",IF('教育訓練費入力（前期）'!$G204=1,'教育訓練費入力（前期）'!$F204,'教育訓練費入力（前期）'!$F204&\"他\"&'教育訓練費入力（前期）'!$G204-1&\"名\"))","v":""}]
[null,196,null,null,null,null,null,null,null,null,{"$f":"IF('教育訓練費入力（前期）'!$C205=\"\",\"\",TEXT('教育訓練費入力（前期）'!$C205,\"yyyy年\")&TEXT('教育訓練費入力（前期）'!$C205,\"m月\")&TEXT('教育訓練費入力（前期）'!$C205,\"ｄ日\")&\"から\"&'教育訓練費入力（前期）'!$D205&\"日間\")","v":""},{"$f":"IF('教育訓練費入力（前期）'!$F205=\"\",\"\",IF('教育訓練費入力（前期）'!$G205=1,'教育訓練費入力（前期）'!$F205,'教育訓練費入力（前期）'!$F205&\"他\"&'教育訓練費入力（前期）'!$G205-1&\"名\"))","v":""}]
[null,197,null,null,null,null,null,null,null,null,{"$f":"IF('教育訓練費入力（前期）'!$C206=\"\",\"\",TEXT('教育訓練費入力（前期）'!$C206,\"yyyy年\")&TEXT('教育訓練費入力（前期）'!$C206,\"m月\")&TEXT('教育訓練費入力（前期）'!$C206,\"ｄ日\")&\"から\"&'教育訓練費入力（前期）'!$D206&\"日間\")","v":""},{"$f":"IF('教育訓練費入力（前期）'!$F206=\"\",\"\",IF('教育訓練費入力（前期）'!$G206=1,'教育訓練費入力（前期）'!$F206,'教育訓練費入力（前期）'!$F206&\"他\"&'教育訓練費入力（前期）'!$G206-1&\"名\"))","v":""}]
[null,198,null,null,null,null,null,null,null,null,{"$f":"IF('教育訓練費入力（前期）'!$C207=\"\",\"\",TEXT('教育訓練費入力（前期）'!$C207,\"yyyy年\")&TEXT('教育訓練費入力（前期）'!$C207,\"m月\")&TEXT('教育訓練費入力（前期）'!$C207,\"ｄ日\")&\"から\"&'教育訓練費入力（前期）'!$D207&\"日間\")","v":""},{"$f":"IF('教育訓練費入力（前期）'!$F207=\"\",\"\",IF('教育訓練費入力（前期）'!$G207=1,'教育訓練費入力（前期）'!$F207,'教育訓練費入力（前期）'!$F207&\"他\"&'教育訓練費入力（前期）'!$G207-1&\"名\"))","v":""}]
[null,199,null,null,null,null,null,null,null,null,{"$f":"IF('教育訓練費入力（前期）'!$C208=\"\",\"\",TEXT('教育訓練費入力（前期）'!$C208,\"yyyy年\")&TEXT('教育訓練費入力（前期）'!$C208,\"m月\")&TEXT('教育訓練費入力（前期）'!$C208,\"ｄ日\")&\"から\"&'教育訓練費入力（前期）'!$D208&\"日間\")","v":""},{"$f":"IF('教育訓練費入力（前期）'!$F208=\"\",\"\",IF('教育訓練費入力（前期）'!$G208=1,'教育訓練費入力（前期）'!$F208,'教育訓練費入力（前期）'!$F208&\"他\"&'教育訓練費入力（前期）'!$G208-1&\"名\"))","v":""}]
[null,200,null,null,null,null,null,null,null,null,{"$f":"IF('教育訓練費入力（前期）'!$C209=\"\",\"\",TEXT('教育訓練費入力（前期）'!$C209,\"yyyy年\")&TEXT('教育訓練費入力（前期）'!$C209,\"m月\")&TEXT('教育訓練費入力（前期）'!$C209,\"ｄ日\")&\"から\"&'教育訓練費入力（前期）'!$D209&\"日間\")","v":""},{"$f":"IF('教育訓練費入力（前期）'!$F209=\"\",\"\",IF('教育訓練費入力（前期）'!$G209=1,'教育訓練費入力（前期）'!$F209,'教育訓練費入力（前期）'!$F209&\"他\"&'教育訓練費入力（前期）'!$G209-1&\"名\"))","v":""}]
[null,201,null,null,null,null,null,null,null,null,{"$f":"IF('教育訓練費入力（前期）'!$C210=\"\",\"\",TEXT('教育訓練費入力（前期）'!$C210,\"yyyy年\")&TEXT('教育訓練費入力（前期）'!$C210,\"m月\")&TEXT('教育訓練費入力（前期）'!$C210,\"ｄ日\")&\"から\"&'教育訓練費入力（前期）'!$D210&\"日間\")","v":""},{"$f":"IF('教育訓練費入力（前期）'!$F210=\"\",\"\",IF('教育訓練費入力（前期）'!$G210=1,'教育訓練費入力（前期）'!$F210,'教育訓練費入力（前期）'!$F210&\"他\"&'教育訓練費入力（前期）'!$G210-1&\"名\"))","v":""}]
[null,202,null,null,null,null,null,null,null,null,{"$f":"IF('教育訓練費入力（前期）'!$C211=\"\",\"\",TEXT('教育訓練費入力（前期）'!$C211,\"yyyy年\")&TEXT('教育訓練費入力（前期）'!$C211,\"m月\")&TEXT('教育訓練費入力（前期）'!$C211,\"ｄ日\")&\"から\"&'教育訓練費入力（前期）'!$D211&\"日間\")","v":""},{"$f":"IF('教育訓練費入力（前期）'!$F211=\"\",\"\",IF('教育訓練費入力（前期）'!$G211=1,'教育訓練費入力（前期）'!$F211,'教育訓練費入力（前期）'!$F211&\"他\"&'教育訓練費入力（前期）'!$G211-1&\"名\"))","v":""}]
[null,203,null,null,null,null,null,null,null,null,{"$f":"IF('教育訓練費入力（前期）'!$C212=\"\",\"\",TEXT('教育訓練費入力（前期）'!$C212,\"yyyy年\")&TEXT('教育訓練費入力（前期）'!$C212,\"m月\")&TEXT('教育訓練費入力（前期）'!$C212,\"ｄ日\")&\"から\"&'教育訓練費入力（前期）'!$D212&\"日間\")","v":""},{"$f":"IF('教育訓練費入力（前期）'!$F212=\"\",\"\",IF('教育訓練費入力（前期）'!$G212=1,'教育訓練費入力（前期）'!$F212,'教育訓練費入力（前期）'!$F212&\"他\"&'教育訓練費入力（前期）'!$G212-1&\"名\"))","v":""}]
[null,204,null,null,null,null,null,null,null,null,{"$f":"IF('教育訓練費入力（前期）'!$C213=\"\",\"\",TEXT('教育訓練費入力（前期）'!$C213,\"yyyy年\")&TEXT('教育訓練費入力（前期）'!$C213,\"m月\")&TEXT('教育訓練費入力（前期）'!$C213,\"ｄ日\")&\"から\"&'教育訓練費入力（前期）'!$D213&\"日間\")","v":""},{"$f":"IF('教育訓練費入力（前期）'!$F213=\"\",\"\",IF('教育訓練費入力（前期）'!$G213=1,'教育訓練費入力（前期）'!$F213,'教育訓練費入力（前期）'!$F213&\"他\"&'教育訓練費入力（前期）'!$G213-1&\"名\"))","v":""}]
[null,205,null,null,null,null,null,null,null,null,{"$f":"IF('教育訓練費入力（前期）'!$C214=\"\",\"\",TEXT('教育訓練費入力（前期）'!$C214,\"yyyy年\")&TEXT('教育訓練費入力（前期）'!$C214,\"m月\")&TEXT('教育訓練費入力（前期）'!$C214,\"ｄ日\")&\"から\"&'教育訓練費入力（前期）'!$D214&\"日間\")","v":""},{"$f":"IF('教育訓練費入力（前期）'!$F214=\"\",\"\",IF('教育訓練費入力（前期）'!$G214=1,'教育訓練費入力（前期）'!$F214,'教育訓練費入力（前期）'!$F214&\"他\"&'教育訓練費入力（前期）'!$G214-1&\"名\"))","v":""}]
[null,206,null,null,null,null,null,null,null,null,{"$f":"IF('教育訓練費入力（前期）'!$C215=\"\",\"\",TEXT('教育訓練費入力（前期）'!$C215,\"yyyy年\")&TEXT('教育訓練費入力（前期）'!$C215,\"m月\")&TEXT('教育訓練費入力（前期）'!$C215,\"ｄ日\")&\"から\"&'教育訓練費入力（前期）'!$D215&\"日間\")","v":""},{"$f":"IF('教育訓練費入力（前期）'!$F215=\"\",\"\",IF('教育訓練費入力（前期）'!$G215=1,'教育訓練費入力（前期）'!$F215,'教育訓練費入力（前期）'!$F215&\"他\"&'教育訓練費入力（前期）'!$G215-1&\"名\"))","v":""}]
[null,207,null,null,null,null,null,null,null,null,{"$f":"IF('教育訓練費入力（前期）'!$C216=\"\",\"\",TEXT('教育訓練費入力（前期）'!$C216,\"yyyy年\")&TEXT('教育訓練費入力（前期）'!$C216,\"m月\")&TEXT('教育訓練費入力（前期）'!$C216,\"ｄ日\")&\"から\"&'教育訓練費入力（前期）'!$D216&\"日間\")","v":""},{"$f":"IF('教育訓練費入力（前期）'!$F216=\"\",\"\",IF('教育訓練費入力（前期）'!$G216=1,'教育訓練費入力（前期）'!$F216,'教育訓練費入力（前期）'!$F216&\"他\"&'教育訓練費入力（前期）'!$G216-1&\"名\"))","v":""}]
[null,208,null,null,null,null,null,null,null,null,{"$f":"IF('教育訓練費入力（前期）'!$C217=\"\",\"\",TEXT('教育訓練費入力（前期）'!$C217,\"yyyy年\")&TEXT('教育訓練費入力（前期）'!$C217,\"m月\")&TEXT('教育訓練費入力（前期）'!$C217,\"ｄ日\")&\"から\"&'教育訓練費入力（前期）'!$D217&\"日間\")","v":""},{"$f":"IF('教育訓練費入力（前期）'!$F217=\"\",\"\",IF('教育訓練費入力（前期）'!$G217=1,'教育訓練費入力（前期）'!$F217,'教育訓練費入力（前期）'!$F217&\"他\"&'教育訓練費入力（前期）'!$G217-1&\"名\"))","v":""}]
[null,209,null,null,null,null,null,null,null,null,{"$f":"IF('教育訓練費入力（前期）'!$C218=\"\",\"\",TEXT('教育訓練費入力（前期）'!$C218,\"yyyy年\")&TEXT('教育訓練費入力（前期）'!$C218,\"m月\")&TEXT('教育訓練費入力（前期）'!$C218,\"ｄ日\")&\"から\"&'教育訓練費入力（前期）'!$D218&\"日間\")","v":""},{"$f":"IF('教育訓練費入力（前期）'!$F218=\"\",\"\",IF('教育訓練費入力（前期）'!$G218=1,'教育訓練費入力（前期）'!$F218,'教育訓練費入力（前期）'!$F218&\"他\"&'教育訓練費入力（前期）'!$G218-1&\"名\"))","v":""}]
[null,210,null,null,null,null,null,null,null,null,{"$f":"IF('教育訓練費入力（前期）'!$C219=\"\",\"\",TEXT('教育訓練費入力（前期）'!$C219,\"yyyy年\")&TEXT('教育訓練費入力（前期）'!$C219,\"m月\")&TEXT('教育訓練費入力（前期）'!$C219,\"ｄ日\")&\"から\"&'教育訓練費入力（前期）'!$D219&\"日間\")","v":""},{"$f":"IF('教育訓練費入力（前期）'!$F219=\"\",\"\",IF('教育訓練費入力（前期）'!$G219=1,'教育訓練費入力（前期）'!$F219,'教育訓練費入力（前期）'!$F219&\"他\"&'教育訓練費入力（前期）'!$G219-1&\"名\"))","v":""}]
[null,211,null,null,null,null,null,null,null,null,{"$f":"IF('教育訓練費入力（前期）'!$C220=\"\",\"\",TEXT('教育訓練費入力（前期）'!$C220,\"yyyy年\")&TEXT('教育訓練費入力（前期）'!$C220,\"m月\")&TEXT('教育訓練費入力（前期）'!$C220,\"ｄ日\")&\"から\"&'教育訓練費入力（前期）'!$D220&\"日間\")","v":""},{"$f":"IF('教育訓練費入力（前期）'!$F220=\"\",\"\",IF('教育訓練費入力（前期）'!$G220=1,'教育訓練費入力（前期）'!$F220,'教育訓練費入力（前期）'!$F220&\"他\"&'教育訓練費入力（前期）'!$G220-1&\"名\"))","v":""}]
[null,212,null,null,null,null,null,null,null,null,{"$f":"IF('教育訓練費入力（前期）'!$C221=\"\",\"\",TEXT('教育訓練費入力（前期）'!$C221,\"yyyy年\")&TEXT('教育訓練費入力（前期）'!$C221,\"m月\")&TEXT('教育訓練費入力（前期）'!$C221,\"ｄ日\")&\"から\"&'教育訓練費入力（前期）'!$D221&\"日間\")","v":""},{"$f":"IF('教育訓練費入力（前期）'!$F221=\"\",\"\",IF('教育訓練費入力（前期）'!$G221=1,'教育訓練費入力（前期）'!$F221,'教育訓練費入力（前期）'!$F221&\"他\"&'教育訓練費入力（前期）'!$G221-1&\"名\"))","v":""}]
[null,213,null,null,null,null,null,null,null,null,{"$f":"IF('教育訓練費入力（前期）'!$C222=\"\",\"\",TEXT('教育訓練費入力（前期）'!$C222,\"yyyy年\")&TEXT('教育訓練費入力（前期）'!$C222,\"m月\")&TEXT('教育訓練費入力（前期）'!$C222,\"ｄ日\")&\"から\"&'教育訓練費入力（前期）'!$D222&\"日間\")","v":""},{"$f":"IF('教育訓練費入力（前期）'!$F222=\"\",\"\",IF('教育訓練費入力（前期）'!$G222=1,'教育訓練費入力（前期）'!$F222,'教育訓練費入力（前期）'!$F222&\"他\"&'教育訓練費入力（前期）'!$G222-1&\"名\"))","v":""}]
[null,214,null,null,null,null,null,null,null,null,{"$f":"IF('教育訓練費入力（前期）'!$C223=\"\",\"\",TEXT('教育訓練費入力（前期）'!$C223,\"yyyy年\")&TEXT('教育訓練費入力（前期）'!$C223,\"m月\")&TEXT('教育訓練費入力（前期）'!$C223,\"ｄ日\")&\"から\"&'教育訓練費入力（前期）'!$D223&\"日間\")","v":""},{"$f":"IF('教育訓練費入力（前期）'!$F223=\"\",\"\",IF('教育訓練費入力（前期）'!$G223=1,'教育訓練費入力（前期）'!$F223,'教育訓練費入力（前期）'!$F223&\"他\"&'教育訓練費入力（前期）'!$G223-1&\"名\"))","v":""}]
[null,215,null,null,null,null,null,null,null,null,{"$f":"IF('教育訓練費入力（前期）'!$C224=\"\",\"\",TEXT('教育訓練費入力（前期）'!$C224,\"yyyy年\")&TEXT('教育訓練費入力（前期）'!$C224,\"m月\")&TEXT('教育訓練費入力（前期）'!$C224,\"ｄ日\")&\"から\"&'教育訓練費入力（前期）'!$D224&\"日間\")","v":""},{"$f":"IF('教育訓練費入力（前期）'!$F224=\"\",\"\",IF('教育訓練費入力（前期）'!$G224=1,'教育訓練費入力（前期）'!$F224,'教育訓練費入力（前期）'!$F224&\"他\"&'教育訓練費入力（前期）'!$G224-1&\"名\"))","v":""}]
[null,216,null,null,null,null,null,null,null,null,{"$f":"IF('教育訓練費入力（前期）'!$C225=\"\",\"\",TEXT('教育訓練費入力（前期）'!$C225,\"yyyy年\")&TEXT('教育訓練費入力（前期）'!$C225,\"m月\")&TEXT('教育訓練費入力（前期）'!$C225,\"ｄ日\")&\"から\"&'教育訓練費入力（前期）'!$D225&\"日間\")","v":""},{"$f":"IF('教育訓練費入力（前期）'!$F225=\"\",\"\",IF('教育訓練費入力（前期）'!$G225=1,'教育訓練費入力（前期）'!$F225,'教育訓練費入力（前期）'!$F225&\"他\"&'教育訓練費入力（前期）'!$G225-1&\"名\"))","v":""}]
[null,217,null,null,null,null,null,null,null,null,{"$f":"IF('教育訓練費入力（前期）'!$C226=\"\",\"\",TEXT('教育訓練費入力（前期）'!$C226,\"yyyy年\")&TEXT('教育訓練費入力（前期）'!$C226,\"m月\")&TEXT('教育訓練費入力（前期）'!$C226,\"ｄ日\")&\"から\"&'教育訓練費入力（前期）'!$D226&\"日間\")","v":""},{"$f":"IF('教育訓練費入力（前期）'!$F226=\"\",\"\",IF('教育訓練費入力（前期）'!$G226=1,'教育訓練費入力（前期）'!$F226,'教育訓練費入力（前期）'!$F226&\"他\"&'教育訓練費入力（前期）'!$G226-1&\"名\"))","v":""}]
[null,218,null,null,null,null,null,null,null,null,{"$f":"IF('教育訓練費入力（前期）'!$C227=\"\",\"\",TEXT('教育訓練費入力（前期）'!$C227,\"yyyy年\")&TEXT('教育訓練費入力（前期）'!$C227,\"m月\")&TEXT('教育訓練費入力（前期）'!$C227,\"ｄ日\")&\"から\"&'教育訓練費入力（前期）'!$D227&\"日間\")","v":""},{"$f":"IF('教育訓練費入力（前期）'!$F227=\"\",\"\",IF('教育訓練費入力（前期）'!$G227=1,'教育訓練費入力（前期）'!$F227,'教育訓練費入力（前期）'!$F227&\"他\"&'教育訓練費入力（前期）'!$G227-1&\"名\"))","v":""}]
[null,219,null,null,null,null,null,null,null,null,{"$f":"IF('教育訓練費入力（前期）'!$C228=\"\",\"\",TEXT('教育訓練費入力（前期）'!$C228,\"yyyy年\")&TEXT('教育訓練費入力（前期）'!$C228,\"m月\")&TEXT('教育訓練費入力（前期）'!$C228,\"ｄ日\")&\"から\"&'教育訓練費入力（前期）'!$D228&\"日間\")","v":""},{"$f":"IF('教育訓練費入力（前期）'!$F228=\"\",\"\",IF('教育訓練費入力（前期）'!$G228=1,'教育訓練費入力（前期）'!$F228,'教育訓練費入力（前期）'!$F228&\"他\"&'教育訓練費入力（前期）'!$G228-1&\"名\"))","v":""}]
[null,220,null,null,null,null,null,null,null,null,{"$f":"IF('教育訓練費入力（前期）'!$C229=\"\",\"\",TEXT('教育訓練費入力（前期）'!$C229,\"yyyy年\")&TEXT('教育訓練費入力（前期）'!$C229,\"m月\")&TEXT('教育訓練費入力（前期）'!$C229,\"ｄ日\")&\"から\"&'教育訓練費入力（前期）'!$D229&\"日間\")","v":""},{"$f":"IF('教育訓練費入力（前期）'!$F229=\"\",\"\",IF('教育訓練費入力（前期）'!$G229=1,'教育訓練費入力（前期）'!$F229,'教育訓練費入力（前期）'!$F229&\"他\"&'教育訓練費入力（前期）'!$G229-1&\"名\"))","v":""}]
[null,221,null,null,null,null,null,null,null,null,{"$f":"IF('教育訓練費入力（前期）'!$C230=\"\",\"\",TEXT('教育訓練費入力（前期）'!$C230,\"yyyy年\")&TEXT('教育訓練費入力（前期）'!$C230,\"m月\")&TEXT('教育訓練費入力（前期）'!$C230,\"ｄ日\")&\"から\"&'教育訓練費入力（前期）'!$D230&\"日間\")","v":""},{"$f":"IF('教育訓練費入力（前期）'!$F230=\"\",\"\",IF('教育訓練費入力（前期）'!$G230=1,'教育訓練費入力（前期）'!$F230,'教育訓練費入力（前期）'!$F230&\"他\"&'教育訓練費入力（前期）'!$G230-1&\"名\"))","v":""}]
[null,222,null,null,null,null,null,null,null,null,{"$f":"IF('教育訓練費入力（前期）'!$C231=\"\",\"\",TEXT('教育訓練費入力（前期）'!$C231,\"yyyy年\")&TEXT('教育訓練費入力（前期）'!$C231,\"m月\")&TEXT('教育訓練費入力（前期）'!$C231,\"ｄ日\")&\"から\"&'教育訓練費入力（前期）'!$D231&\"日間\")","v":""},{"$f":"IF('教育訓練費入力（前期）'!$F231=\"\",\"\",IF('教育訓練費入力（前期）'!$G231=1,'教育訓練費入力（前期）'!$F231,'教育訓練費入力（前期）'!$F231&\"他\"&'教育訓練費入力（前期）'!$G231-1&\"名\"))","v":""}]
[null,223,null,null,null,null,null,null,null,null,{"$f":"IF('教育訓練費入力（前期）'!$C232=\"\",\"\",TEXT('教育訓練費入力（前期）'!$C232,\"yyyy年\")&TEXT('教育訓練費入力（前期）'!$C232,\"m月\")&TEXT('教育訓練費入力（前期）'!$C232,\"ｄ日\")&\"から\"&'教育訓練費入力（前期）'!$D232&\"日間\")","v":""},{"$f":"IF('教育訓練費入力（前期）'!$F232=\"\",\"\",IF('教育訓練費入力（前期）'!$G232=1,'教育訓練費入力（前期）'!$F232,'教育訓練費入力（前期）'!$F232&\"他\"&'教育訓練費入力（前期）'!$G232-1&\"名\"))","v":""}]
[null,224,null,null,null,null,null,null,null,null,{"$f":"IF('教育訓練費入力（前期）'!$C233=\"\",\"\",TEXT('教育訓練費入力（前期）'!$C233,\"yyyy年\")&TEXT('教育訓練費入力（前期）'!$C233,\"m月\")&TEXT('教育訓練費入力（前期）'!$C233,\"ｄ日\")&\"から\"&'教育訓練費入力（前期）'!$D233&\"日間\")","v":""},{"$f":"IF('教育訓練費入力（前期）'!$F233=\"\",\"\",IF('教育訓練費入力（前期）'!$G233=1,'教育訓練費入力（前期）'!$F233,'教育訓練費入力（前期）'!$F233&\"他\"&'教育訓練費入力（前期）'!$G233-1&\"名\"))","v":""}]
[null,225,null,null,null,null,null,null,null,null,{"$f":"IF('教育訓練費入力（前期）'!$C234=\"\",\"\",TEXT('教育訓練費入力（前期）'!$C234,\"yyyy年\")&TEXT('教育訓練費入力（前期）'!$C234,\"m月\")&TEXT('教育訓練費入力（前期）'!$C234,\"ｄ日\")&\"から\"&'教育訓練費入力（前期）'!$D234&\"日間\")","v":""},{"$f":"IF('教育訓練費入力（前期）'!$F234=\"\",\"\",IF('教育訓練費入力（前期）'!$G234=1,'教育訓練費入力（前期）'!$F234,'教育訓練費入力（前期）'!$F234&\"他\"&'教育訓練費入力（前期）'!$G234-1&\"名\"))","v":""}]
[null,226,null,null,null,null,null,null,null,null,{"$f":"IF('教育訓練費入力（前期）'!$C235=\"\",\"\",TEXT('教育訓練費入力（前期）'!$C235,\"yyyy年\")&TEXT('教育訓練費入力（前期）'!$C235,\"m月\")&TEXT('教育訓練費入力（前期）'!$C235,\"ｄ日\")&\"から\"&'教育訓練費入力（前期）'!$D235&\"日間\")","v":""},{"$f":"IF('教育訓練費入力（前期）'!$F235=\"\",\"\",IF('教育訓練費入力（前期）'!$G235=1,'教育訓練費入力（前期）'!$F235,'教育訓練費入力（前期）'!$F235&\"他\"&'教育訓練費入力（前期）'!$G235-1&\"名\"))","v":""}]
[null,227,null,null,null,null,null,null,null,null,{"$f":"IF('教育訓練費入力（前期）'!$C236=\"\",\"\",TEXT('教育訓練費入力（前期）'!$C236,\"yyyy年\")&TEXT('教育訓練費入力（前期）'!$C236,\"m月\")&TEXT('教育訓練費入力（前期）'!$C236,\"ｄ日\")&\"から\"&'教育訓練費入力（前期）'!$D236&\"日間\")","v":""},{"$f":"IF('教育訓練費入力（前期）'!$F236=\"\",\"\",IF('教育訓練費入力（前期）'!$G236=1,'教育訓練費入力（前期）'!$F236,'教育訓練費入力（前期）'!$F236&\"他\"&'教育訓練費入力（前期）'!$G236-1&\"名\"))","v":""}]
[null,228,null,null,null,null,null,null,null,null,{"$f":"IF('教育訓練費入力（前期）'!$C237=\"\",\"\",TEXT('教育訓練費入力（前期）'!$C237,\"yyyy年\")&TEXT('教育訓練費入力（前期）'!$C237,\"m月\")&TEXT('教育訓練費入力（前期）'!$C237,\"ｄ日\")&\"から\"&'教育訓練費入力（前期）'!$D237&\"日間\")","v":""},{"$f":"IF('教育訓練費入力（前期）'!$F237=\"\",\"\",IF('教育訓練費入力（前期）'!$G237=1,'教育訓練費入力（前期）'!$F237,'教育訓練費入力（前期）'!$F237&\"他\"&'教育訓練費入力（前期）'!$G237-1&\"名\"))","v":""}]
[null,229,null,null,null,null,null,null,null,null,{"$f":"IF('教育訓練費入力（前期）'!$C238=\"\",\"\",TEXT('教育訓練費入力（前期）'!$C238,\"yyyy年\")&TEXT('教育訓練費入力（前期）'!$C238,\"m月\")&TEXT('教育訓練費入力（前期）'!$C238,\"ｄ日\")&\"から\"&'教育訓練費入力（前期）'!$D238&\"日間\")","v":""},{"$f":"IF('教育訓練費入力（前期）'!$F238=\"\",\"\",IF('教育訓練費入力（前期）'!$G238=1,'教育訓練費入力（前期）'!$F238,'教育訓練費入力（前期）'!$F238&\"他\"&'教育訓練費入力（前期）'!$G238-1&\"名\"))","v":""}]
[null,230,null,null,null,null,null,null,null,null,{"$f":"IF('教育訓練費入力（前期）'!$C239=\"\",\"\",TEXT('教育訓練費入力（前期）'!$C239,\"yyyy年\")&TEXT('教育訓練費入力（前期）'!$C239,\"m月\")&TEXT('教育訓練費入力（前期）'!$C239,\"ｄ日\")&\"から\"&'教育訓練費入力（前期）'!$D239&\"日間\")","v":""},{"$f":"IF('教育訓練費入力（前期）'!$F239=\"\",\"\",IF('教育訓練費入力（前期）'!$G239=1,'教育訓練費入力（前期）'!$F239,'教育訓練費入力（前期）'!$F239&\"他\"&'教育訓練費入力（前期）'!$G239-1&\"名\"))","v":""}]
[null,231,null,null,null,null,null,null,null,null,{"$f":"IF('教育訓練費入力（前期）'!$C240=\"\",\"\",TEXT('教育訓練費入力（前期）'!$C240,\"yyyy年\")&TEXT('教育訓練費入力（前期）'!$C240,\"m月\")&TEXT('教育訓練費入力（前期）'!$C240,\"ｄ日\")&\"から\"&'教育訓練費入力（前期）'!$D240&\"日間\")","v":""},{"$f":"IF('教育訓練費入力（前期）'!$F240=\"\",\"\",IF('教育訓練費入力（前期）'!$G240=1,'教育訓練費入力（前期）'!$F240,'教育訓練費入力（前期）'!$F240&\"他\"&'教育訓練費入力（前期）'!$G240-1&\"名\"))","v":""}]
[null,232,null,null,null,null,null,null,null,null,{"$f":"IF('教育訓練費入力（前期）'!$C241=\"\",\"\",TEXT('教育訓練費入力（前期）'!$C241,\"yyyy年\")&TEXT('教育訓練費入力（前期）'!$C241,\"m月\")&TEXT('教育訓練費入力（前期）'!$C241,\"ｄ日\")&\"から\"&'教育訓練費入力（前期）'!$D241&\"日間\")","v":""},{"$f":"IF('教育訓練費入力（前期）'!$F241=\"\",\"\",IF('教育訓練費入力（前期）'!$G241=1,'教育訓練費入力（前期）'!$F241,'教育訓練費入力（前期）'!$F241&\"他\"&'教育訓練費入力（前期）'!$G241-1&\"名\"))","v":""}]
[null,233,null,null,null,null,null,null,null,null,{"$f":"IF('教育訓練費入力（前期）'!$C242=\"\",\"\",TEXT('教育訓練費入力（前期）'!$C242,\"yyyy年\")&TEXT('教育訓練費入力（前期）'!$C242,\"m月\")&TEXT('教育訓練費入力（前期）'!$C242,\"ｄ日\")&\"から\"&'教育訓練費入力（前期）'!$D242&\"日間\")","v":""},{"$f":"IF('教育訓練費入力（前期）'!$F242=\"\",\"\",IF('教育訓練費入力（前期）'!$G242=1,'教育訓練費入力（前期）'!$F242,'教育訓練費入力（前期）'!$F242&\"他\"&'教育訓練費入力（前期）'!$G242-1&\"名\"))","v":""}]
[null,234,null,null,null,null,null,null,null,null,{"$f":"IF('教育訓練費入力（前期）'!$C243=\"\",\"\",TEXT('教育訓練費入力（前期）'!$C243,\"yyyy年\")&TEXT('教育訓練費入力（前期）'!$C243,\"m月\")&TEXT('教育訓練費入力（前期）'!$C243,\"ｄ日\")&\"から\"&'教育訓練費入力（前期）'!$D243&\"日間\")","v":""},{"$f":"IF('教育訓練費入力（前期）'!$F243=\"\",\"\",IF('教育訓練費入力（前期）'!$G243=1,'教育訓練費入力（前期）'!$F243,'教育訓練費入力（前期）'!$F243&\"他\"&'教育訓練費入力（前期）'!$G243-1&\"名\"))","v":""}]
[null,235,null,null,null,null,null,null,null,null,{"$f":"IF('教育訓練費入力（前期）'!$C244=\"\",\"\",TEXT('教育訓練費入力（前期）'!$C244,\"yyyy年\")&TEXT('教育訓練費入力（前期）'!$C244,\"m月\")&TEXT('教育訓練費入力（前期）'!$C244,\"ｄ日\")&\"から\"&'教育訓練費入力（前期）'!$D244&\"日間\")","v":""},{"$f":"IF('教育訓練費入力（前期）'!$F244=\"\",\"\",IF('教育訓練費入力（前期）'!$G244=1,'教育訓練費入力（前期）'!$F244,'教育訓練費入力（前期）'!$F244&\"他\"&'教育訓練費入力（前期）'!$G244-1&\"名\"))","v":""}]
[null,236,null,null,null,null,null,null,null,null,{"$f":"IF('教育訓練費入力（前期）'!$C245=\"\",\"\",TEXT('教育訓練費入力（前期）'!$C245,\"yyyy年\")&TEXT('教育訓練費入力（前期）'!$C245,\"m月\")&TEXT('教育訓練費入力（前期）'!$C245,\"ｄ日\")&\"から\"&'教育訓練費入力（前期）'!$D245&\"日間\")","v":""},{"$f":"IF('教育訓練費入力（前期）'!$F245=\"\",\"\",IF('教育訓練費入力（前期）'!$G245=1,'教育訓練費入力（前期）'!$F245,'教育訓練費入力（前期）'!$F245&\"他\"&'教育訓練費入力（前期）'!$G245-1&\"名\"))","v":""}]
[null,237,null,null,null,null,null,null,null,null,{"$f":"IF('教育訓練費入力（前期）'!$C246=\"\",\"\",TEXT('教育訓練費入力（前期）'!$C246,\"yyyy年\")&TEXT('教育訓練費入力（前期）'!$C246,\"m月\")&TEXT('教育訓練費入力（前期）'!$C246,\"ｄ日\")&\"から\"&'教育訓練費入力（前期）'!$D246&\"日間\")","v":""},{"$f":"IF('教育訓練費入力（前期）'!$F246=\"\",\"\",IF('教育訓練費入力（前期）'!$G246=1,'教育訓練費入力（前期）'!$F246,'教育訓練費入力（前期）'!$F246&\"他\"&'教育訓練費入力（前期）'!$G246-1&\"名\"))","v":""}]
[null,238,null,null,null,null,null,null,null,null,{"$f":"IF('教育訓練費入力（前期）'!$C247=\"\",\"\",TEXT('教育訓練費入力（前期）'!$C247,\"yyyy年\")&TEXT('教育訓練費入力（前期）'!$C247,\"m月\")&TEXT('教育訓練費入力（前期）'!$C247,\"ｄ日\")&\"から\"&'教育訓練費入力（前期）'!$D247&\"日間\")","v":""},{"$f":"IF('教育訓練費入力（前期）'!$F247=\"\",\"\",IF('教育訓練費入力（前期）'!$G247=1,'教育訓練費入力（前期）'!$F247,'教育訓練費入力（前期）'!$F247&\"他\"&'教育訓練費入力（前期）'!$G247-1&\"名\"))","v":""}]
[null,239,null,null,null,null,null,null,null,null,{"$f":"IF('教育訓練費入力（前期）'!$C248=\"\",\"\",TEXT('教育訓練費入力（前期）'!$C248,\"yyyy年\")&TEXT('教育訓練費入力（前期）'!$C248,\"m月\")&TEXT('教育訓練費入力（前期）'!$C248,\"ｄ日\")&\"から\"&'教育訓練費入力（前期）'!$D248&\"日間\")","v":""},{"$f":"IF('教育訓練費入力（前期）'!$F248=\"\",\"\",IF('教育訓練費入力（前期）'!$G248=1,'教育訓練費入力（前期）'!$F248,'教育訓練費入力（前期）'!$F248&\"他\"&'教育訓練費入力（前期）'!$G248-1&\"名\"))","v":""}]
[null,240,null,null,null,null,null,null,null,null,{"$f":"IF('教育訓練費入力（前期）'!$C249=\"\",\"\",TEXT('教育訓練費入力（前期）'!$C249,\"yyyy年\")&TEXT('教育訓練費入力（前期）'!$C249,\"m月\")&TEXT('教育訓練費入力（前期）'!$C249,\"ｄ日\")&\"から\"&'教育訓練費入力（前期）'!$D249&\"日間\")","v":""},{"$f":"IF('教育訓練費入力（前期）'!$F249=\"\",\"\",IF('教育訓練費入力（前期）'!$G249=1,'教育訓練費入力（前期）'!$F249,'教育訓練費入力（前期）'!$F249&\"他\"&'教育訓練費入力（前期）'!$G249-1&\"名\"))","v":""}]
[null,241,null,null,null,null,null,null,null,null,{"$f":"IF('教育訓練費入力（前期）'!$C250=\"\",\"\",TEXT('教育訓練費入力（前期）'!$C250,\"yyyy年\")&TEXT('教育訓練費入力（前期）'!$C250,\"m月\")&TEXT('教育訓練費入力（前期）'!$C250,\"ｄ日\")&\"から\"&'教育訓練費入力（前期）'!$D250&\"日間\")","v":""},{"$f":"IF('教育訓練費入力（前期）'!$F250=\"\",\"\",IF('教育訓練費入力（前期）'!$G250=1,'教育訓練費入力（前期）'!$F250,'教育訓練費入力（前期）'!$F250&\"他\"&'教育訓練費入力（前期）'!$G250-1&\"名\"))","v":""}]
[null,242,null,null,null,null,null,null,null,null,{"$f":"IF('教育訓練費入力（前期）'!$C251=\"\",\"\",TEXT('教育訓練費入力（前期）'!$C251,\"yyyy年\")&TEXT('教育訓練費入力（前期）'!$C251,\"m月\")&TEXT('教育訓練費入力（前期）'!$C251,\"ｄ日\")&\"から\"&'教育訓練費入力（前期）'!$D251&\"日間\")","v":""},{"$f":"IF('教育訓練費入力（前期）'!$F251=\"\",\"\",IF('教育訓練費入力（前期）'!$G251=1,'教育訓練費入力（前期）'!$F251,'教育訓練費入力（前期）'!$F251&\"他\"&'教育訓練費入力（前期）'!$G251-1&\"名\"))","v":""}]
[null,243,null,null,null,null,null,null,null,null,{"$f":"IF('教育訓練費入力（前期）'!$C252=\"\",\"\",TEXT('教育訓練費入力（前期）'!$C252,\"yyyy年\")&TEXT('教育訓練費入力（前期）'!$C252,\"m月\")&TEXT('教育訓練費入力（前期）'!$C252,\"ｄ日\")&\"から\"&'教育訓練費入力（前期）'!$D252&\"日間\")","v":""},{"$f":"IF('教育訓練費入力（前期）'!$F252=\"\",\"\",IF('教育訓練費入力（前期）'!$G252=1,'教育訓練費入力（前期）'!$F252,'教育訓練費入力（前期）'!$F252&\"他\"&'教育訓練費入力（前期）'!$G252-1&\"名\"))","v":""}]
[null,244,null,null,null,null,null,null,null,null,{"$f":"IF('教育訓練費入力（前期）'!$C253=\"\",\"\",TEXT('教育訓練費入力（前期）'!$C253,\"yyyy年\")&TEXT('教育訓練費入力（前期）'!$C253,\"m月\")&TEXT('教育訓練費入力（前期）'!$C253,\"ｄ日\")&\"から\"&'教育訓練費入力（前期）'!$D253&\"日間\")","v":""},{"$f":"IF('教育訓練費入力（前期）'!$F253=\"\",\"\",IF('教育訓練費入力（前期）'!$G253=1,'教育訓練費入力（前期）'!$F253,'教育訓練費入力（前期）'!$F253&\"他\"&'教育訓練費入力（前期）'!$G253-1&\"名\"))","v":""}]
[null,245,null,null,null,null,null,null,null,null,{"$f":"IF('教育訓練費入力（前期）'!$C254=\"\",\"\",TEXT('教育訓練費入力（前期）'!$C254,\"yyyy年\")&TEXT('教育訓練費入力（前期）'!$C254,\"m月\")&TEXT('教育訓練費入力（前期）'!$C254,\"ｄ日\")&\"から\"&'教育訓練費入力（前期）'!$D254&\"日間\")","v":""},{"$f":"IF('教育訓練費入力（前期）'!$F254=\"\",\"\",IF('教育訓練費入力（前期）'!$G254=1,'教育訓練費入力（前期）'!$F254,'教育訓練費入力（前期）'!$F254&\"他\"&'教育訓練費入力（前期）'!$G254-1&\"名\"))","v":""}]
[null,246,null,null,null,null,null,null,null,null,{"$f":"IF('教育訓練費入力（前期）'!$C255=\"\",\"\",TEXT('教育訓練費入力（前期）'!$C255,\"yyyy年\")&TEXT('教育訓練費入力（前期）'!$C255,\"m月\")&TEXT('教育訓練費入力（前期）'!$C255,\"ｄ日\")&\"から\"&'教育訓練費入力（前期）'!$D255&\"日間\")","v":""},{"$f":"IF('教育訓練費入力（前期）'!$F255=\"\",\"\",IF('教育訓練費入力（前期）'!$G255=1,'教育訓練費入力（前期）'!$F255,'教育訓練費入力（前期）'!$F255&\"他\"&'教育訓練費入力（前期）'!$G255-1&\"名\"))","v":""}]
[null,247,null,null,null,null,null,null,null,null,{"$f":"IF('教育訓練費入力（前期）'!$C256=\"\",\"\",TEXT('教育訓練費入力（前期）'!$C256,\"yyyy年\")&TEXT('教育訓練費入力（前期）'!$C256,\"m月\")&TEXT('教育訓練費入力（前期）'!$C256,\"ｄ日\")&\"から\"&'教育訓練費入力（前期）'!$D256&\"日間\")","v":""},{"$f":"IF('教育訓練費入力（前期）'!$F256=\"\",\"\",IF('教育訓練費入力（前期）'!$G256=1,'教育訓練費入力（前期）'!$F256,'教育訓練費入力（前期）'!$F256&\"他\"&'教育訓練費入力（前期）'!$G256-1&\"名\"))","v":""}]
[null,248,null,null,null,null,null,null,null,null,{"$f":"IF('教育訓練費入力（前期）'!$C257=\"\",\"\",TEXT('教育訓練費入力（前期）'!$C257,\"yyyy年\")&TEXT('教育訓練費入力（前期）'!$C257,\"m月\")&TEXT('教育訓練費入力（前期）'!$C257,\"ｄ日\")&\"から\"&'教育訓練費入力（前期）'!$D257&\"日間\")","v":""},{"$f":"IF('教育訓練費入力（前期）'!$F257=\"\",\"\",IF('教育訓練費入力（前期）'!$G257=1,'教育訓練費入力（前期）'!$F257,'教育訓練費入力（前期）'!$F257&\"他\"&'教育訓練費入力（前期）'!$G257-1&\"名\"))","v":""}]
[null,249,null,null,null,null,null,null,null,null,{"$f":"IF('教育訓練費入力（前期）'!$C258=\"\",\"\",TEXT('教育訓練費入力（前期）'!$C258,\"yyyy年\")&TEXT('教育訓練費入力（前期）'!$C258,\"m月\")&TEXT('教育訓練費入力（前期）'!$C258,\"ｄ日\")&\"から\"&'教育訓練費入力（前期）'!$D258&\"日間\")","v":""},{"$f":"IF('教育訓練費入力（前期）'!$F258=\"\",\"\",IF('教育訓練費入力（前期）'!$G258=1,'教育訓練費入力（前期）'!$F258,'教育訓練費入力（前期）'!$F258&\"他\"&'教育訓練費入力（前期）'!$G258-1&\"名\"))","v":""}]
[null,250,null,null,null,null,null,null,null,null,{"$f":"IF('教育訓練費入力（前期）'!$C259=\"\",\"\",TEXT('教育訓練費入力（前期）'!$C259,\"yyyy年\")&TEXT('教育訓練費入力（前期）'!$C259,\"m月\")&TEXT('教育訓練費入力（前期）'!$C259,\"ｄ日\")&\"から\"&'教育訓練費入力（前期）'!$D259&\"日間\")","v":""},{"$f":"IF('教育訓練費入力（前期）'!$F259=\"\",\"\",IF('教育訓練費入力（前期）'!$G259=1,'教育訓練費入力（前期）'!$F259,'教育訓練費入力（前期）'!$F259&\"他\"&'教育訓練費入力（前期）'!$G259-1&\"名\"))","v":""}]
[null,251,null,null,null,null,null,null,null,null,{"$f":"IF('教育訓練費入力（前期）'!$C260=\"\",\"\",TEXT('教育訓練費入力（前期）'!$C260,\"yyyy年\")&TEXT('教育訓練費入力（前期）'!$C260,\"m月\")&TEXT('教育訓練費入力（前期）'!$C260,\"ｄ日\")&\"から\"&'教育訓練費入力（前期）'!$D260&\"日間\")","v":""},{"$f":"IF('教育訓練費入力（前期）'!$F260=\"\",\"\",IF('教育訓練費入力（前期）'!$G260=1,'教育訓練費入力（前期）'!$F260,'教育訓練費入力（前期）'!$F260&\"他\"&'教育訓練費入力（前期）'!$G260-1&\"名\"))","v":""}]
[null,252,null,null,null,null,null,null,null,null,{"$f":"IF('教育訓練費入力（前期）'!$C261=\"\",\"\",TEXT('教育訓練費入力（前期）'!$C261,\"yyyy年\")&TEXT('教育訓練費入力（前期）'!$C261,\"m月\")&TEXT('教育訓練費入力（前期）'!$C261,\"ｄ日\")&\"から\"&'教育訓練費入力（前期）'!$D261&\"日間\")","v":""},{"$f":"IF('教育訓練費入力（前期）'!$F261=\"\",\"\",IF('教育訓練費入力（前期）'!$G261=1,'教育訓練費入力（前期）'!$F261,'教育訓練費入力（前期）'!$F261&\"他\"&'教育訓練費入力（前期）'!$G261-1&\"名\"))","v":""}]
[null,253,null,null,null,null,null,null,null,null,{"$f":"IF('教育訓練費入力（前期）'!$C262=\"\",\"\",TEXT('教育訓練費入力（前期）'!$C262,\"yyyy年\")&TEXT('教育訓練費入力（前期）'!$C262,\"m月\")&TEXT('教育訓練費入力（前期）'!$C262,\"ｄ日\")&\"から\"&'教育訓練費入力（前期）'!$D262&\"日間\")","v":""},{"$f":"IF('教育訓練費入力（前期）'!$F262=\"\",\"\",IF('教育訓練費入力（前期）'!$G262=1,'教育訓練費入力（前期）'!$F262,'教育訓練費入力（前期）'!$F262&\"他\"&'教育訓練費入力（前期）'!$G262-1&\"名\"))","v":""}]
[null,254,null,null,null,null,null,null,null,null,{"$f":"IF('教育訓練費入力（前期）'!$C263=\"\",\"\",TEXT('教育訓練費入力（前期）'!$C263,\"yyyy年\")&TEXT('教育訓練費入力（前期）'!$C263,\"m月\")&TEXT('教育訓練費入力（前期）'!$C263,\"ｄ日\")&\"から\"&'教育訓練費入力（前期）'!$D263&\"日間\")","v":""},{"$f":"IF('教育訓練費入力（前期）'!$F263=\"\",\"\",IF('教育訓練費入力（前期）'!$G263=1,'教育訓練費入力（前期）'!$F263,'教育訓練費入力（前期）'!$F263&\"他\"&'教育訓練費入力（前期）'!$G263-1&\"名\"))","v":""}]
[null,255,null,null,null,null,null,null,null,null,{"$f":"IF('教育訓練費入力（前期）'!$C264=\"\",\"\",TEXT('教育訓練費入力（前期）'!$C264,\"yyyy年\")&TEXT('教育訓練費入力（前期）'!$C264,\"m月\")&TEXT('教育訓練費入力（前期）'!$C264,\"ｄ日\")&\"から\"&'教育訓練費入力（前期）'!$D264&\"日間\")","v":""},{"$f":"IF('教育訓練費入力（前期）'!$F264=\"\",\"\",IF('教育訓練費入力（前期）'!$G264=1,'教育訓練費入力（前期）'!$F264,'教育訓練費入力（前期）'!$F264&\"他\"&'教育訓練費入力（前期）'!$G264-1&\"名\"))","v":""}]
[null,256,null,null,null,null,null,null,null,null,{"$f":"IF('教育訓練費入力（前期）'!$C265=\"\",\"\",TEXT('教育訓練費入力（前期）'!$C265,\"yyyy年\")&TEXT('教育訓練費入力（前期）'!$C265,\"m月\")&TEXT('教育訓練費入力（前期）'!$C265,\"ｄ日\")&\"から\"&'教育訓練費入力（前期）'!$D265&\"日間\")","v":""},{"$f":"IF('教育訓練費入力（前期）'!$F265=\"\",\"\",IF('教育訓練費入力（前期）'!$G265=1,'教育訓練費入力（前期）'!$F265,'教育訓練費入力（前期）'!$F265&\"他\"&'教育訓練費入力（前期）'!$G265-1&\"名\"))","v":""}]
[null,257,null,null,null,null,null,null,null,null,{"$f":"IF('教育訓練費入力（前期）'!$C266=\"\",\"\",TEXT('教育訓練費入力（前期）'!$C266,\"yyyy年\")&TEXT('教育訓練費入力（前期）'!$C266,\"m月\")&TEXT('教育訓練費入力（前期）'!$C266,\"ｄ日\")&\"から\"&'教育訓練費入力（前期）'!$D266&\"日間\")","v":""},{"$f":"IF('教育訓練費入力（前期）'!$F266=\"\",\"\",IF('教育訓練費入力（前期）'!$G266=1,'教育訓練費入力（前期）'!$F266,'教育訓練費入力（前期）'!$F266&\"他\"&'教育訓練費入力（前期）'!$G266-1&\"名\"))","v":""}]
[null,258,null,null,null,null,null,null,null,null,{"$f":"IF('教育訓練費入力（前期）'!$C267=\"\",\"\",TEXT('教育訓練費入力（前期）'!$C267,\"yyyy年\")&TEXT('教育訓練費入力（前期）'!$C267,\"m月\")&TEXT('教育訓練費入力（前期）'!$C267,\"ｄ日\")&\"から\"&'教育訓練費入力（前期）'!$D267&\"日間\")","v":""},{"$f":"IF('教育訓練費入力（前期）'!$F267=\"\",\"\",IF('教育訓練費入力（前期）'!$G267=1,'教育訓練費入力（前期）'!$F267,'教育訓練費入力（前期）'!$F267&\"他\"&'教育訓練費入力（前期）'!$G267-1&\"名\"))","v":""}]
[null,259,null,null,null,null,null,null,null,null,{"$f":"IF('教育訓練費入力（前期）'!$C268=\"\",\"\",TEXT('教育訓練費入力（前期）'!$C268,\"yyyy年\")&TEXT('教育訓練費入力（前期）'!$C268,\"m月\")&TEXT('教育訓練費入力（前期）'!$C268,\"ｄ日\")&\"から\"&'教育訓練費入力（前期）'!$D268&\"日間\")","v":""},{"$f":"IF('教育訓練費入力（前期）'!$F268=\"\",\"\",IF('教育訓練費入力（前期）'!$G268=1,'教育訓練費入力（前期）'!$F268,'教育訓練費入力（前期）'!$F268&\"他\"&'教育訓練費入力（前期）'!$G268-1&\"名\"))","v":""}]
[null,260,null,null,null,null,null,null,null,null,{"$f":"IF('教育訓練費入力（前期）'!$C269=\"\",\"\",TEXT('教育訓練費入力（前期）'!$C269,\"yyyy年\")&TEXT('教育訓練費入力（前期）'!$C269,\"m月\")&TEXT('教育訓練費入力（前期）'!$C269,\"ｄ日\")&\"から\"&'教育訓練費入力（前期）'!$D269&\"日間\")","v":""},{"$f":"IF('教育訓練費入力（前期）'!$F269=\"\",\"\",IF('教育訓練費入力（前期）'!$G269=1,'教育訓練費入力（前期）'!$F269,'教育訓練費入力（前期）'!$F269&\"他\"&'教育訓練費入力（前期）'!$G269-1&\"名\"))","v":""}]
[null,261,null,null,null,null,null,null,null,null,{"$f":"IF('教育訓練費入力（前期）'!$C270=\"\",\"\",TEXT('教育訓練費入力（前期）'!$C270,\"yyyy年\")&TEXT('教育訓練費入力（前期）'!$C270,\"m月\")&TEXT('教育訓練費入力（前期）'!$C270,\"ｄ日\")&\"から\"&'教育訓練費入力（前期）'!$D270&\"日間\")","v":""},{"$f":"IF('教育訓練費入力（前期）'!$F270=\"\",\"\",IF('教育訓練費入力（前期）'!$G270=1,'教育訓練費入力（前期）'!$F270,'教育訓練費入力（前期）'!$F270&\"他\"&'教育訓練費入力（前期）'!$G270-1&\"名\"))","v":""}]
[null,262,null,null,null,null,null,null,null,null,{"$f":"IF('教育訓練費入力（前期）'!$C271=\"\",\"\",TEXT('教育訓練費入力（前期）'!$C271,\"yyyy年\")&TEXT('教育訓練費入力（前期）'!$C271,\"m月\")&TEXT('教育訓練費入力（前期）'!$C271,\"ｄ日\")&\"から\"&'教育訓練費入力（前期）'!$D271&\"日間\")","v":""},{"$f":"IF('教育訓練費入力（前期）'!$F271=\"\",\"\",IF('教育訓練費入力（前期）'!$G271=1,'教育訓練費入力（前期）'!$F271,'教育訓練費入力（前期）'!$F271&\"他\"&'教育訓練費入力（前期）'!$G271-1&\"名\"))","v":""}]
[null,263,null,null,null,null,null,null,null,null,{"$f":"IF('教育訓練費入力（前期）'!$C272=\"\",\"\",TEXT('教育訓練費入力（前期）'!$C272,\"yyyy年\")&TEXT('教育訓練費入力（前期）'!$C272,\"m月\")&TEXT('教育訓練費入力（前期）'!$C272,\"ｄ日\")&\"から\"&'教育訓練費入力（前期）'!$D272&\"日間\")","v":""},{"$f":"IF('教育訓練費入力（前期）'!$F272=\"\",\"\",IF('教育訓練費入力（前期）'!$G272=1,'教育訓練費入力（前期）'!$F272,'教育訓練費入力（前期）'!$F272&\"他\"&'教育訓練費入力（前期）'!$G272-1&\"名\"))","v":""}]
[null,264,null,null,null,null,null,null,null,null,{"$f":"IF('教育訓練費入力（前期）'!$C273=\"\",\"\",TEXT('教育訓練費入力（前期）'!$C273,\"yyyy年\")&TEXT('教育訓練費入力（前期）'!$C273,\"m月\")&TEXT('教育訓練費入力（前期）'!$C273,\"ｄ日\")&\"から\"&'教育訓練費入力（前期）'!$D273&\"日間\")","v":""},{"$f":"IF('教育訓練費入力（前期）'!$F273=\"\",\"\",IF('教育訓練費入力（前期）'!$G273=1,'教育訓練費入力（前期）'!$F273,'教育訓練費入力（前期）'!$F273&\"他\"&'教育訓練費入力（前期）'!$G273-1&\"名\"))","v":""}]
[null,265,null,null,null,null,null,null,null,null,{"$f":"IF('教育訓練費入力（前期）'!$C274=\"\",\"\",TEXT('教育訓練費入力（前期）'!$C274,\"yyyy年\")&TEXT('教育訓練費入力（前期）'!$C274,\"m月\")&TEXT('教育訓練費入力（前期）'!$C274,\"ｄ日\")&\"から\"&'教育訓練費入力（前期）'!$D274&\"日間\")","v":""},{"$f":"IF('教育訓練費入力（前期）'!$F274=\"\",\"\",IF('教育訓練費入力（前期）'!$G274=1,'教育訓練費入力（前期）'!$F274,'教育訓練費入力（前期）'!$F274&\"他\"&'教育訓練費入力（前期）'!$G274-1&\"名\"))","v":""}]
[null,266,null,null,null,null,null,null,null,null,{"$f":"IF('教育訓練費入力（前期）'!$C275=\"\",\"\",TEXT('教育訓練費入力（前期）'!$C275,\"yyyy年\")&TEXT('教育訓練費入力（前期）'!$C275,\"m月\")&TEXT('教育訓練費入力（前期）'!$C275,\"ｄ日\")&\"から\"&'教育訓練費入力（前期）'!$D275&\"日間\")","v":""},{"$f":"IF('教育訓練費入力（前期）'!$F275=\"\",\"\",IF('教育訓練費入力（前期）'!$G275=1,'教育訓練費入力（前期）'!$F275,'教育訓練費入力（前期）'!$F275&\"他\"&'教育訓練費入力（前期）'!$G275-1&\"名\"))","v":""}]
[null,267,null,null,null,null,null,null,null,null,{"$f":"IF('教育訓練費入力（前期）'!$C276=\"\",\"\",TEXT('教育訓練費入力（前期）'!$C276,\"yyyy年\")&TEXT('教育訓練費入力（前期）'!$C276,\"m月\")&TEXT('教育訓練費入力（前期）'!$C276,\"ｄ日\")&\"から\"&'教育訓練費入力（前期）'!$D276&\"日間\")","v":""},{"$f":"IF('教育訓練費入力（前期）'!$F276=\"\",\"\",IF('教育訓練費入力（前期）'!$G276=1,'教育訓練費入力（前期）'!$F276,'教育訓練費入力（前期）'!$F276&\"他\"&'教育訓練費入力（前期）'!$G276-1&\"名\"))","v":""}]
[null,268,null,null,null,null,null,null,null,null,{"$f":"IF('教育訓練費入力（前期）'!$C277=\"\",\"\",TEXT('教育訓練費入力（前期）'!$C277,\"yyyy年\")&TEXT('教育訓練費入力（前期）'!$C277,\"m月\")&TEXT('教育訓練費入力（前期）'!$C277,\"ｄ日\")&\"から\"&'教育訓練費入力（前期）'!$D277&\"日間\")","v":""},{"$f":"IF('教育訓練費入力（前期）'!$F277=\"\",\"\",IF('教育訓練費入力（前期）'!$G277=1,'教育訓練費入力（前期）'!$F277,'教育訓練費入力（前期）'!$F277&\"他\"&'教育訓練費入力（前期）'!$G277-1&\"名\"))","v":""}]
[null,269,null,null,null,null,null,null,null,null,{"$f":"IF('教育訓練費入力（前期）'!$C278=\"\",\"\",TEXT('教育訓練費入力（前期）'!$C278,\"yyyy年\")&TEXT('教育訓練費入力（前期）'!$C278,\"m月\")&TEXT('教育訓練費入力（前期）'!$C278,\"ｄ日\")&\"から\"&'教育訓練費入力（前期）'!$D278&\"日間\")","v":""},{"$f":"IF('教育訓練費入力（前期）'!$F278=\"\",\"\",IF('教育訓練費入力（前期）'!$G278=1,'教育訓練費入力（前期）'!$F278,'教育訓練費入力（前期）'!$F278&\"他\"&'教育訓練費入力（前期）'!$G278-1&\"名\"))","v":""}]
[null,270,null,null,null,null,null,null,null,null,{"$f":"IF('教育訓練費入力（前期）'!$C279=\"\",\"\",TEXT('教育訓練費入力（前期）'!$C279,\"yyyy年\")&TEXT('教育訓練費入力（前期）'!$C279,\"m月\")&TEXT('教育訓練費入力（前期）'!$C279,\"ｄ日\")&\"から\"&'教育訓練費入力（前期）'!$D279&\"日間\")","v":""},{"$f":"IF('教育訓練費入力（前期）'!$F279=\"\",\"\",IF('教育訓練費入力（前期）'!$G279=1,'教育訓練費入力（前期）'!$F279,'教育訓練費入力（前期）'!$F279&\"他\"&'教育訓練費入力（前期）'!$G279-1&\"名\"))","v":""}]
[null,271,null,null,null,null,null,null,null,null,{"$f":"IF('教育訓練費入力（前期）'!$C280=\"\",\"\",TEXT('教育訓練費入力（前期）'!$C280,\"yyyy年\")&TEXT('教育訓練費入力（前期）'!$C280,\"m月\")&TEXT('教育訓練費入力（前期）'!$C280,\"ｄ日\")&\"から\"&'教育訓練費入力（前期）'!$D280&\"日間\")","v":""},{"$f":"IF('教育訓練費入力（前期）'!$F280=\"\",\"\",IF('教育訓練費入力（前期）'!$G280=1,'教育訓練費入力（前期）'!$F280,'教育訓練費入力（前期）'!$F280&\"他\"&'教育訓練費入力（前期）'!$G280-1&\"名\"))","v":""}]
[null,272,null,null,null,null,null,null,null,null,{"$f":"IF('教育訓練費入力（前期）'!$C281=\"\",\"\",TEXT('教育訓練費入力（前期）'!$C281,\"yyyy年\")&TEXT('教育訓練費入力（前期）'!$C281,\"m月\")&TEXT('教育訓練費入力（前期）'!$C281,\"ｄ日\")&\"から\"&'教育訓練費入力（前期）'!$D281&\"日間\")","v":""},{"$f":"IF('教育訓練費入力（前期）'!$F281=\"\",\"\",IF('教育訓練費入力（前期）'!$G281=1,'教育訓練費入力（前期）'!$F281,'教育訓練費入力（前期）'!$F281&\"他\"&'教育訓練費入力（前期）'!$G281-1&\"名\"))","v":""}]
[null,273,null,null,null,null,null,null,null,null,{"$f":"IF('教育訓練費入力（前期）'!$C282=\"\",\"\",TEXT('教育訓練費入力（前期）'!$C282,\"yyyy年\")&TEXT('教育訓練費入力（前期）'!$C282,\"m月\")&TEXT('教育訓練費入力（前期）'!$C282,\"ｄ日\")&\"から\"&'教育訓練費入力（前期）'!$D282&\"日間\")","v":""},{"$f":"IF('教育訓練費入力（前期）'!$F282=\"\",\"\",IF('教育訓練費入力（前期）'!$G282=1,'教育訓練費入力（前期）'!$F282,'教育訓練費入力（前期）'!$F282&\"他\"&'教育訓練費入力（前期）'!$G282-1&\"名\"))","v":""}]
[null,274,null,null,null,null,null,null,null,null,{"$f":"IF('教育訓練費入力（前期）'!$C283=\"\",\"\",TEXT('教育訓練費入力（前期）'!$C283,\"yyyy年\")&TEXT('教育訓練費入力（前期）'!$C283,\"m月\")&TEXT('教育訓練費入力（前期）'!$C283,\"ｄ日\")&\"から\"&'教育訓練費入力（前期）'!$D283&\"日間\")","v":""},{"$f":"IF('教育訓練費入力（前期）'!$F283=\"\",\"\",IF('教育訓練費入力（前期）'!$G283=1,'教育訓練費入力（前期）'!$F283,'教育訓練費入力（前期）'!$F283&\"他\"&'教育訓練費入力（前期）'!$G283-1&\"名\"))","v":""}]
[null,275,null,null,null,null,null,null,null,null,{"$f":"IF('教育訓練費入力（前期）'!$C284=\"\",\"\",TEXT('教育訓練費入力（前期）'!$C284,\"yyyy年\")&TEXT('教育訓練費入力（前期）'!$C284,\"m月\")&TEXT('教育訓練費入力（前期）'!$C284,\"ｄ日\")&\"から\"&'教育訓練費入力（前期）'!$D284&\"日間\")","v":""},{"$f":"IF('教育訓練費入力（前期）'!$F284=\"\",\"\",IF('教育訓練費入力（前期）'!$G284=1,'教育訓練費入力（前期）'!$F284,'教育訓練費入力（前期）'!$F284&\"他\"&'教育訓練費入力（前期）'!$G284-1&\"名\"))","v":""}]
[null,276,null,null,null,null,null,null,null,null,{"$f":"IF('教育訓練費入力（前期）'!$C285=\"\",\"\",TEXT('教育訓練費入力（前期）'!$C285,\"yyyy年\")&TEXT('教育訓練費入力（前期）'!$C285,\"m月\")&TEXT('教育訓練費入力（前期）'!$C285,\"ｄ日\")&\"から\"&'教育訓練費入力（前期）'!$D285&\"日間\")","v":""},{"$f":"IF('教育訓練費入力（前期）'!$F285=\"\",\"\",IF('教育訓練費入力（前期）'!$G285=1,'教育訓練費入力（前期）'!$F285,'教育訓練費入力（前期）'!$F285&\"他\"&'教育訓練費入力（前期）'!$G285-1&\"名\"))","v":""}]
[null,277,null,null,null,null,null,null,null,null,{"$f":"IF('教育訓練費入力（前期）'!$C286=\"\",\"\",TEXT('教育訓練費入力（前期）'!$C286,\"yyyy年\")&TEXT('教育訓練費入力（前期）'!$C286,\"m月\")&TEXT('教育訓練費入力（前期）'!$C286,\"ｄ日\")&\"から\"&'教育訓練費入力（前期）'!$D286&\"日間\")","v":""},{"$f":"IF('教育訓練費入力（前期）'!$F286=\"\",\"\",IF('教育訓練費入力（前期）'!$G286=1,'教育訓練費入力（前期）'!$F286,'教育訓練費入力（前期）'!$F286&\"他\"&'教育訓練費入力（前期）'!$G286-1&\"名\"))","v":""}]
[null,278,null,null,null,null,null,null,null,null,{"$f":"IF('教育訓練費入力（前期）'!$C287=\"\",\"\",TEXT('教育訓練費入力（前期）'!$C287,\"yyyy年\")&TEXT('教育訓練費入力（前期）'!$C287,\"m月\")&TEXT('教育訓練費入力（前期）'!$C287,\"ｄ日\")&\"から\"&'教育訓練費入力（前期）'!$D287&\"日間\")","v":""},{"$f":"IF('教育訓練費入力（前期）'!$F287=\"\",\"\",IF('教育訓練費入力（前期）'!$G287=1,'教育訓練費入力（前期）'!$F287,'教育訓練費入力（前期）'!$F287&\"他\"&'教育訓練費入力（前期）'!$G287-1&\"名\"))","v":""}]
[null,279,null,null,null,null,null,null,null,null,{"$f":"IF('教育訓練費入力（前期）'!$C288=\"\",\"\",TEXT('教育訓練費入力（前期）'!$C288,\"yyyy年\")&TEXT('教育訓練費入力（前期）'!$C288,\"m月\")&TEXT('教育訓練費入力（前期）'!$C288,\"ｄ日\")&\"から\"&'教育訓練費入力（前期）'!$D288&\"日間\")","v":""},{"$f":"IF('教育訓練費入力（前期）'!$F288=\"\",\"\",IF('教育訓練費入力（前期）'!$G288=1,'教育訓練費入力（前期）'!$F288,'教育訓練費入力（前期）'!$F288&\"他\"&'教育訓練費入力（前期）'!$G288-1&\"名\"))","v":""}]
[null,280,null,null,null,null,null,null,null,null,{"$f":"IF('教育訓練費入力（前期）'!$C289=\"\",\"\",TEXT('教育訓練費入力（前期）'!$C289,\"yyyy年\")&TEXT('教育訓練費入力（前期）'!$C289,\"m月\")&TEXT('教育訓練費入力（前期）'!$C289,\"ｄ日\")&\"から\"&'教育訓練費入力（前期）'!$D289&\"日間\")","v":""},{"$f":"IF('教育訓練費入力（前期）'!$F289=\"\",\"\",IF('教育訓練費入力（前期）'!$G289=1,'教育訓練費入力（前期）'!$F289,'教育訓練費入力（前期）'!$F289&\"他\"&'教育訓練費入力（前期）'!$G289-1&\"名\"))","v":""}]
[null,281,null,null,null,null,null,null,null,null,{"$f":"IF('教育訓練費入力（前期）'!$C290=\"\",\"\",TEXT('教育訓練費入力（前期）'!$C290,\"yyyy年\")&TEXT('教育訓練費入力（前期）'!$C290,\"m月\")&TEXT('教育訓練費入力（前期）'!$C290,\"ｄ日\")&\"から\"&'教育訓練費入力（前期）'!$D290&\"日間\")","v":""},{"$f":"IF('教育訓練費入力（前期）'!$F290=\"\",\"\",IF('教育訓練費入力（前期）'!$G290=1,'教育訓練費入力（前期）'!$F290,'教育訓練費入力（前期）'!$F290&\"他\"&'教育訓練費入力（前期）'!$G290-1&\"名\"))","v":""}]
[null,282,null,null,null,null,null,null,null,null,{"$f":"IF('教育訓練費入力（前期）'!$C291=\"\",\"\",TEXT('教育訓練費入力（前期）'!$C291,\"yyyy年\")&TEXT('教育訓練費入力（前期）'!$C291,\"m月\")&TEXT('教育訓練費入力（前期）'!$C291,\"ｄ日\")&\"から\"&'教育訓練費入力（前期）'!$D291&\"日間\")","v":""},{"$f":"IF('教育訓練費入力（前期）'!$F291=\"\",\"\",IF('教育訓練費入力（前期）'!$G291=1,'教育訓練費入力（前期）'!$F291,'教育訓練費入力（前期）'!$F291&\"他\"&'教育訓練費入力（前期）'!$G291-1&\"名\"))","v":""}]
[null,283,null,null,null,null,null,null,null,null,{"$f":"IF('教育訓練費入力（前期）'!$C292=\"\",\"\",TEXT('教育訓練費入力（前期）'!$C292,\"yyyy年\")&TEXT('教育訓練費入力（前期）'!$C292,\"m月\")&TEXT('教育訓練費入力（前期）'!$C292,\"ｄ日\")&\"から\"&'教育訓練費入力（前期）'!$D292&\"日間\")","v":""},{"$f":"IF('教育訓練費入力（前期）'!$F292=\"\",\"\",IF('教育訓練費入力（前期）'!$G292=1,'教育訓練費入力（前期）'!$F292,'教育訓練費入力（前期）'!$F292&\"他\"&'教育訓練費入力（前期）'!$G292-1&\"名\"))","v":""}]
[null,284,null,null,null,null,null,null,null,null,{"$f":"IF('教育訓練費入力（前期）'!$C293=\"\",\"\",TEXT('教育訓練費入力（前期）'!$C293,\"yyyy年\")&TEXT('教育訓練費入力（前期）'!$C293,\"m月\")&TEXT('教育訓練費入力（前期）'!$C293,\"ｄ日\")&\"から\"&'教育訓練費入力（前期）'!$D293&\"日間\")","v":""},{"$f":"IF('教育訓練費入力（前期）'!$F293=\"\",\"\",IF('教育訓練費入力（前期）'!$G293=1,'教育訓練費入力（前期）'!$F293,'教育訓練費入力（前期）'!$F293&\"他\"&'教育訓練費入力（前期）'!$G293-1&\"名\"))","v":""}]
[null,285,null,null,null,null,null,null,null,null,{"$f":"IF('教育訓練費入力（前期）'!$C294=\"\",\"\",TEXT('教育訓練費入力（前期）'!$C294,\"yyyy年\")&TEXT('教育訓練費入力（前期）'!$C294,\"m月\")&TEXT('教育訓練費入力（前期）'!$C294,\"ｄ日\")&\"から\"&'教育訓練費入力（前期）'!$D294&\"日間\")","v":""},{"$f":"IF('教育訓練費入力（前期）'!$F294=\"\",\"\",IF('教育訓練費入力（前期）'!$G294=1,'教育訓練費入力（前期）'!$F294,'教育訓練費入力（前期）'!$F294&\"他\"&'教育訓練費入力（前期）'!$G294-1&\"名\"))","v":""}]
[null,286,null,null,null,null,null,null,null,null,{"$f":"IF('教育訓練費入力（前期）'!$C295=\"\",\"\",TEXT('教育訓練費入力（前期）'!$C295,\"yyyy年\")&TEXT('教育訓練費入力（前期）'!$C295,\"m月\")&TEXT('教育訓練費入力（前期）'!$C295,\"ｄ日\")&\"から\"&'教育訓練費入力（前期）'!$D295&\"日間\")","v":""},{"$f":"IF('教育訓練費入力（前期）'!$F295=\"\",\"\",IF('教育訓練費入力（前期）'!$G295=1,'教育訓練費入力（前期）'!$F295,'教育訓練費入力（前期）'!$F295&\"他\"&'教育訓練費入力（前期）'!$G295-1&\"名\"))","v":""}]
[null,287,null,null,null,null,null,null,null,null,{"$f":"IF('教育訓練費入力（前期）'!$C296=\"\",\"\",TEXT('教育訓練費入力（前期）'!$C296,\"yyyy年\")&TEXT('教育訓練費入力（前期）'!$C296,\"m月\")&TEXT('教育訓練費入力（前期）'!$C296,\"ｄ日\")&\"から\"&'教育訓練費入力（前期）'!$D296&\"日間\")","v":""},{"$f":"IF('教育訓練費入力（前期）'!$F296=\"\",\"\",IF('教育訓練費入力（前期）'!$G296=1,'教育訓練費入力（前期）'!$F296,'教育訓練費入力（前期）'!$F296&\"他\"&'教育訓練費入力（前期）'!$G296-1&\"名\"))","v":""}]
[null,288,null,null,null,null,null,null,null,null,{"$f":"IF('教育訓練費入力（前期）'!$C297=\"\",\"\",TEXT('教育訓練費入力（前期）'!$C297,\"yyyy年\")&TEXT('教育訓練費入力（前期）'!$C297,\"m月\")&TEXT('教育訓練費入力（前期）'!$C297,\"ｄ日\")&\"から\"&'教育訓練費入力（前期）'!$D297&\"日間\")","v":""},{"$f":"IF('教育訓練費入力（前期）'!$F297=\"\",\"\",IF('教育訓練費入力（前期）'!$G297=1,'教育訓練費入力（前期）'!$F297,'教育訓練費入力（前期）'!$F297&\"他\"&'教育訓練費入力（前期）'!$G297-1&\"名\"))","v":""}]
[null,289,null,null,null,null,null,null,null,null,{"$f":"IF('教育訓練費入力（前期）'!$C298=\"\",\"\",TEXT('教育訓練費入力（前期）'!$C298,\"yyyy年\")&TEXT('教育訓練費入力（前期）'!$C298,\"m月\")&TEXT('教育訓練費入力（前期）'!$C298,\"ｄ日\")&\"から\"&'教育訓練費入力（前期）'!$D298&\"日間\")","v":""},{"$f":"IF('教育訓練費入力（前期）'!$F298=\"\",\"\",IF('教育訓練費入力（前期）'!$G298=1,'教育訓練費入力（前期）'!$F298,'教育訓練費入力（前期）'!$F298&\"他\"&'教育訓練費入力（前期）'!$G298-1&\"名\"))","v":""}]
[null,290,null,null,null,null,null,null,null,null,{"$f":"IF('教育訓練費入力（前期）'!$C299=\"\",\"\",TEXT('教育訓練費入力（前期）'!$C299,\"yyyy年\")&TEXT('教育訓練費入力（前期）'!$C299,\"m月\")&TEXT('教育訓練費入力（前期）'!$C299,\"ｄ日\")&\"から\"&'教育訓練費入力（前期）'!$D299&\"日間\")","v":""},{"$f":"IF('教育訓練費入力（前期）'!$F299=\"\",\"\",IF('教育訓練費入力（前期）'!$G299=1,'教育訓練費入力（前期）'!$F299,'教育訓練費入力（前期）'!$F299&\"他\"&'教育訓練費入力（前期）'!$G299-1&\"名\"))","v":""}]
[null,291,null,null,null,null,null,null,null,null,{"$f":"IF('教育訓練費入力（前期）'!$C300=\"\",\"\",TEXT('教育訓練費入力（前期）'!$C300,\"yyyy年\")&TEXT('教育訓練費入力（前期）'!$C300,\"m月\")&TEXT('教育訓練費入力（前期）'!$C300,\"ｄ日\")&\"から\"&'教育訓練費入力（前期）'!$D300&\"日間\")","v":""},{"$f":"IF('教育訓練費入力（前期）'!$F300=\"\",\"\",IF('教育訓練費入力（前期）'!$G300=1,'教育訓練費入力（前期）'!$F300,'教育訓練費入力（前期）'!$F300&\"他\"&'教育訓練費入力（前期）'!$G300-1&\"名\"))","v":""}]
[null,292,null,null,null,null,null,null,null,null,{"$f":"IF('教育訓練費入力（前期）'!$C301=\"\",\"\",TEXT('教育訓練費入力（前期）'!$C301,\"yyyy年\")&TEXT('教育訓練費入力（前期）'!$C301,\"m月\")&TEXT('教育訓練費入力（前期）'!$C301,\"ｄ日\")&\"から\"&'教育訓練費入力（前期）'!$D301&\"日間\")","v":""},{"$f":"IF('教育訓練費入力（前期）'!$F301=\"\",\"\",IF('教育訓練費入力（前期）'!$G301=1,'教育訓練費入力（前期）'!$F301,'教育訓練費入力（前期）'!$F301&\"他\"&'教育訓練費入力（前期）'!$G301-1&\"名\"))","v":""}]
[null,293,null,null,null,null,null,null,null,null,{"$f":"IF('教育訓練費入力（前期）'!$C302=\"\",\"\",TEXT('教育訓練費入力（前期）'!$C302,\"yyyy年\")&TEXT('教育訓練費入力（前期）'!$C302,\"m月\")&TEXT('教育訓練費入力（前期）'!$C302,\"ｄ日\")&\"から\"&'教育訓練費入力（前期）'!$D302&\"日間\")","v":""},{"$f":"IF('教育訓練費入力（前期）'!$F302=\"\",\"\",IF('教育訓練費入力（前期）'!$G302=1,'教育訓練費入力（前期）'!$F302,'教育訓練費入力（前期）'!$F302&\"他\"&'教育訓練費入力（前期）'!$G302-1&\"名\"))","v":""}]
[null,294,null,null,null,null,null,null,null,null,{"$f":"IF('教育訓練費入力（前期）'!$C303=\"\",\"\",TEXT('教育訓練費入力（前期）'!$C303,\"yyyy年\")&TEXT('教育訓練費入力（前期）'!$C303,\"m月\")&TEXT('教育訓練費入力（前期）'!$C303,\"ｄ日\")&\"から\"&'教育訓練費入力（前期）'!$D303&\"日間\")","v":""},{"$f":"IF('教育訓練費入力（前期）'!$F303=\"\",\"\",IF('教育訓練費入力（前期）'!$G303=1,'教育訓練費入力（前期）'!$F303,'教育訓練費入力（前期）'!$F303&\"他\"&'教育訓練費入力（前期）'!$G303-1&\"名\"))","v":""}]
[null,295,null,null,null,null,null,null,null,null,{"$f":"IF('教育訓練費入力（前期）'!$C304=\"\",\"\",TEXT('教育訓練費入力（前期）'!$C304,\"yyyy年\")&TEXT('教育訓練費入力（前期）'!$C304,\"m月\")&TEXT('教育訓練費入力（前期）'!$C304,\"ｄ日\")&\"から\"&'教育訓練費入力（前期）'!$D304&\"日間\")","v":""},{"$f":"IF('教育訓練費入力（前期）'!$F304=\"\",\"\",IF('教育訓練費入力（前期）'!$G304=1,'教育訓練費入力（前期）'!$F304,'教育訓練費入力（前期）'!$F304&\"他\"&'教育訓練費入力（前期）'!$G304-1&\"名\"))","v":""}]
[null,296,null,null,null,null,null,null,null,null,{"$f":"IF('教育訓練費入力（前期）'!$C305=\"\",\"\",TEXT('教育訓練費入力（前期）'!$C305,\"yyyy年\")&TEXT('教育訓練費入力（前期）'!$C305,\"m月\")&TEXT('教育訓練費入力（前期）'!$C305,\"ｄ日\")&\"から\"&'教育訓練費入力（前期）'!$D305&\"日間\")","v":""},{"$f":"IF('教育訓練費入力（前期）'!$F305=\"\",\"\",IF('教育訓練費入力（前期）'!$G305=1,'教育訓練費入力（前期）'!$F305,'教育訓練費入力（前期）'!$F305&\"他\"&'教育訓練費入力（前期）'!$G305-1&\"名\"))","v":""}]
[null,297,null,null,null,null,null,null,null,null,{"$f":"IF('教育訓練費入力（前期）'!$C306=\"\",\"\",TEXT('教育訓練費入力（前期）'!$C306,\"yyyy年\")&TEXT('教育訓練費入力（前期）'!$C306,\"m月\")&TEXT('教育訓練費入力（前期）'!$C306,\"ｄ日\")&\"から\"&'教育訓練費入力（前期）'!$D306&\"日間\")","v":""},{"$f":"IF('教育訓練費入力（前期）'!$F306=\"\",\"\",IF('教育訓練費入力（前期）'!$G306=1,'教育訓練費入力（前期）'!$F306,'教育訓練費入力（前期）'!$F306&\"他\"&'教育訓練費入力（前期）'!$G306-1&\"名\"))","v":""}]
[null,298,null,null,null,null,null,null,null,null,{"$f":"IF('教育訓練費入力（前期）'!$C307=\"\",\"\",TEXT('教育訓練費入力（前期）'!$C307,\"yyyy年\")&TEXT('教育訓練費入力（前期）'!$C307,\"m月\")&TEXT('教育訓練費入力（前期）'!$C307,\"ｄ日\")&\"から\"&'教育訓練費入力（前期）'!$D307&\"日間\")","v":""},{"$f":"IF('教育訓練費入力（前期）'!$F307=\"\",\"\",IF('教育訓練費入力（前期）'!$G307=1,'教育訓練費入力（前期）'!$F307,'教育訓練費入力（前期）'!$F307&\"他\"&'教育訓練費入力（前期）'!$G307-1&\"名\"))","v":""}]
[null,299,null,null,null,null,null,null,null,null,{"$f":"IF('教育訓練費入力（前期）'!$C308=\"\",\"\",TEXT('教育訓練費入力（前期）'!$C308,\"yyyy年\")&TEXT('教育訓練費入力（前期）'!$C308,\"m月\")&TEXT('教育訓練費入力（前期）'!$C308,\"ｄ日\")&\"から\"&'教育訓練費入力（前期）'!$D308&\"日間\")","v":""},{"$f":"IF('教育訓練費入力（前期）'!$F308=\"\",\"\",IF('教育訓練費入力（前期）'!$G308=1,'教育訓練費入力（前期）'!$F308,'教育訓練費入力（前期）'!$F308&\"他\"&'教育訓練費入力（前期）'!$G308-1&\"名\"))","v":""}]
[null,300,null,null,null,null,null,null,null,null,{"$f":"IF('教育訓練費入力（前期）'!$C309=\"\",\"\",TEXT('教育訓練費入力（前期）'!$C309,\"yyyy年\")&TEXT('教育訓練費入力（前期）'!$C309,\"m月\")&TEXT('教育訓練費入力（前期）'!$C309,\"ｄ日\")&\"から\"&'教育訓練費入力（前期）'!$D309&\"日間\")","v":""},{"$f":"IF('教育訓練費入力（前期）'!$F309=\"\",\"\",IF('教育訓練費入力（前期）'!$G309=1,'教育訓練費入力（前期）'!$F309,'教育訓練費入力（前期）'!$F309&\"他\"&'教育訓練費入力（前期）'!$G309-1&\"名\"))","v":""}]
[null,301,null,null,null,null,null,null,null,null,{"$f":"IF('教育訓練費入力（前期）'!$C310=\"\",\"\",TEXT('教育訓練費入力（前期）'!$C310,\"yyyy年\")&TEXT('教育訓練費入力（前期）'!$C310,\"m月\")&TEXT('教育訓練費入力（前期）'!$C310,\"ｄ日\")&\"から\"&'教育訓練費入力（前期）'!$D310&\"日間\")","v":""},{"$f":"IF('教育訓練費入力（前期）'!$F310=\"\",\"\",IF('教育訓練費入力（前期）'!$G310=1,'教育訓練費入力（前期）'!$F310,'教育訓練費入力（前期）'!$F310&\"他\"&'教育訓練費入力（前期）'!$G310-1&\"名\"))","v":""}]
[null,302,null,null,null,null,null,null,null,null,{"$f":"IF('教育訓練費入力（前期）'!$C311=\"\",\"\",TEXT('教育訓練費入力（前期）'!$C311,\"yyyy年\")&TEXT('教育訓練費入力（前期）'!$C311,\"m月\")&TEXT('教育訓練費入力（前期）'!$C311,\"ｄ日\")&\"から\"&'教育訓練費入力（前期）'!$D311&\"日間\")","v":""},{"$f":"IF('教育訓練費入力（前期）'!$F311=\"\",\"\",IF('教育訓練費入力（前期）'!$G311=1,'教育訓練費入力（前期）'!$F311,'教育訓練費入力（前期）'!$F311&\"他\"&'教育訓練費入力（前期）'!$G311-1&\"名\"))","v":""}]
[null,303,null,null,null,null,null,null,null,null,{"$f":"IF('教育訓練費入力（前期）'!$C312=\"\",\"\",TEXT('教育訓練費入力（前期）'!$C312,\"yyyy年\")&TEXT('教育訓練費入力（前期）'!$C312,\"m月\")&TEXT('教育訓練費入力（前期）'!$C312,\"ｄ日\")&\"から\"&'教育訓練費入力（前期）'!$D312&\"日間\")","v":""},{"$f":"IF('教育訓練費入力（前期）'!$F312=\"\",\"\",IF('教育訓練費入力（前期）'!$G312=1,'教育訓練費入力（前期）'!$F312,'教育訓練費入力（前期）'!$F312&\"他\"&'教育訓練費入力（前期）'!$G312-1&\"名\"))","v":""}]
[null,304,null,null,null,null,null,null,null,null,{"$f":"IF('教育訓練費入力（前期）'!$C313=\"\",\"\",TEXT('教育訓練費入力（前期）'!$C313,\"yyyy年\")&TEXT('教育訓練費入力（前期）'!$C313,\"m月\")&TEXT('教育訓練費入力（前期）'!$C313,\"ｄ日\")&\"から\"&'教育訓練費入力（前期）'!$D313&\"日間\")","v":""},{"$f":"IF('教育訓練費入力（前期）'!$F313=\"\",\"\",IF('教育訓練費入力（前期）'!$G313=1,'教育訓練費入力（前期）'!$F313,'教育訓練費入力（前期）'!$F313&\"他\"&'教育訓練費入力（前期）'!$G313-1&\"名\"))","v":""}]
[null,305,null,null,null,null,null,null,null,null,{"$f":"IF('教育訓練費入力（前期）'!$C314=\"\",\"\",TEXT('教育訓練費入力（前期）'!$C314,\"yyyy年\")&TEXT('教育訓練費入力（前期）'!$C314,\"m月\")&TEXT('教育訓練費入力（前期）'!$C314,\"ｄ日\")&\"から\"&'教育訓練費入力（前期）'!$D314&\"日間\")","v":""},{"$f":"IF('教育訓練費入力（前期）'!$F314=\"\",\"\",IF('教育訓練費入力（前期）'!$G314=1,'教育訓練費入力（前期）'!$F314,'教育訓練費入力（前期）'!$F314&\"他\"&'教育訓練費入力（前期）'!$G314-1&\"名\"))","v":""}]
[null,306,null,null,null,null,null,null,null,null,{"$f":"IF('教育訓練費入力（前期）'!$C315=\"\",\"\",TEXT('教育訓練費入力（前期）'!$C315,\"yyyy年\")&TEXT('教育訓練費入力（前期）'!$C315,\"m月\")&TEXT('教育訓練費入力（前期）'!$C315,\"ｄ日\")&\"から\"&'教育訓練費入力（前期）'!$D315&\"日間\")","v":""},{"$f":"IF('教育訓練費入力（前期）'!$F315=\"\",\"\",IF('教育訓練費入力（前期）'!$G315=1,'教育訓練費入力（前期）'!$F315,'教育訓練費入力（前期）'!$F315&\"他\"&'教育訓練費入力（前期）'!$G315-1&\"名\"))","v":""}]
[null,307,null,null,null,null,null,null,null,null,{"$f":"IF('教育訓練費入力（前期）'!$C316=\"\",\"\",TEXT('教育訓練費入力（前期）'!$C316,\"yyyy年\")&TEXT('教育訓練費入力（前期）'!$C316,\"m月\")&TEXT('教育訓練費入力（前期）'!$C316,\"ｄ日\")&\"から\"&'教育訓練費入力（前期）'!$D316&\"日間\")","v":""},{"$f":"IF('教育訓練費入力（前期）'!$F316=\"\",\"\",IF('教育訓練費入力（前期）'!$G316=1,'教育訓練費入力（前期）'!$F316,'教育訓練費入力（前期）'!$F316&\"他\"&'教育訓練費入力（前期）'!$G316-1&\"名\"))","v":""}]
[null,308,null,null,null,null,null,null,null,null,{"$f":"IF('教育訓練費入力（前期）'!$C317=\"\",\"\",TEXT('教育訓練費入力（前期）'!$C317,\"yyyy年\")&TEXT('教育訓練費入力（前期）'!$C317,\"m月\")&TEXT('教育訓練費入力（前期）'!$C317,\"ｄ日\")&\"から\"&'教育訓練費入力（前期）'!$D317&\"日間\")","v":""},{"$f":"IF('教育訓練費入力（前期）'!$F317=\"\",\"\",IF('教育訓練費入力（前期）'!$G317=1,'教育訓練費入力（前期）'!$F317,'教育訓練費入力（前期）'!$F317&\"他\"&'教育訓練費入力（前期）'!$G317-1&\"名\"))","v":""}]
[null,309,null,null,null,null,null,null,null,null,{"$f":"IF('教育訓練費入力（前期）'!$C318=\"\",\"\",TEXT('教育訓練費入力（前期）'!$C318,\"yyyy年\")&TEXT('教育訓練費入力（前期）'!$C318,\"m月\")&TEXT('教育訓練費入力（前期）'!$C318,\"ｄ日\")&\"から\"&'教育訓練費入力（前期）'!$D318&\"日間\")","v":""},{"$f":"IF('教育訓練費入力（前期）'!$F318=\"\",\"\",IF('教育訓練費入力（前期）'!$G318=1,'教育訓練費入力（前期）'!$F318,'教育訓練費入力（前期）'!$F318&\"他\"&'教育訓練費入力（前期）'!$G318-1&\"名\"))","v":""}]
[null,310,null,null,null,null,null,null,null,null,{"$f":"IF('教育訓練費入力（前期）'!$C319=\"\",\"\",TEXT('教育訓練費入力（前期）'!$C319,\"yyyy年\")&TEXT('教育訓練費入力（前期）'!$C319,\"m月\")&TEXT('教育訓練費入力（前期）'!$C319,\"ｄ日\")&\"から\"&'教育訓練費入力（前期）'!$D319&\"日間\")","v":""},{"$f":"IF('教育訓練費入力（前期）'!$F319=\"\",\"\",IF('教育訓練費入力（前期）'!$G319=1,'教育訓練費入力（前期）'!$F319,'教育訓練費入力（前期）'!$F319&\"他\"&'教育訓練費入力（前期）'!$G319-1&\"名\"))","v":""}]
[null,311,null,null,null,null,null,null,null,null,{"$f":"IF('教育訓練費入力（前期）'!$C320=\"\",\"\",TEXT('教育訓練費入力（前期）'!$C320,\"yyyy年\")&TEXT('教育訓練費入力（前期）'!$C320,\"m月\")&TEXT('教育訓練費入力（前期）'!$C320,\"ｄ日\")&\"から\"&'教育訓練費入力（前期）'!$D320&\"日間\")","v":""},{"$f":"IF('教育訓練費入力（前期）'!$F320=\"\",\"\",IF('教育訓練費入力（前期）'!$G320=1,'教育訓練費入力（前期）'!$F320,'教育訓練費入力（前期）'!$F320&\"他\"&'教育訓練費入力（前期）'!$G320-1&\"名\"))","v":""}]
[null,312,null,null,null,null,null,null,null,null,{"$f":"IF('教育訓練費入力（前期）'!$C321=\"\",\"\",TEXT('教育訓練費入力（前期）'!$C321,\"yyyy年\")&TEXT('教育訓練費入力（前期）'!$C321,\"m月\")&TEXT('教育訓練費入力（前期）'!$C321,\"ｄ日\")&\"から\"&'教育訓練費入力（前期）'!$D321&\"日間\")","v":""},{"$f":"IF('教育訓練費入力（前期）'!$F321=\"\",\"\",IF('教育訓練費入力（前期）'!$G321=1,'教育訓練費入力（前期）'!$F321,'教育訓練費入力（前期）'!$F321&\"他\"&'教育訓練費入力（前期）'!$G321-1&\"名\"))","v":""}]
[null,313,null,null,null,null,null,null,null,null,{"$f":"IF('教育訓練費入力（前期）'!$C322=\"\",\"\",TEXT('教育訓練費入力（前期）'!$C322,\"yyyy年\")&TEXT('教育訓練費入力（前期）'!$C322,\"m月\")&TEXT('教育訓練費入力（前期）'!$C322,\"ｄ日\")&\"から\"&'教育訓練費入力（前期）'!$D322&\"日間\")","v":""},{"$f":"IF('教育訓練費入力（前期）'!$F322=\"\",\"\",IF('教育訓練費入力（前期）'!$G322=1,'教育訓練費入力（前期）'!$F322,'教育訓練費入力（前期）'!$F322&\"他\"&'教育訓練費入力（前期）'!$G322-1&\"名\"))","v":""}]
[null,314,null,null,null,null,null,null,null,null,{"$f":"IF('教育訓練費入力（前期）'!$C323=\"\",\"\",TEXT('教育訓練費入力（前期）'!$C323,\"yyyy年\")&TEXT('教育訓練費入力（前期）'!$C323,\"m月\")&TEXT('教育訓練費入力（前期）'!$C323,\"ｄ日\")&\"から\"&'教育訓練費入力（前期）'!$D323&\"日間\")","v":""},{"$f":"IF('教育訓練費入力（前期）'!$F323=\"\",\"\",IF('教育訓練費入力（前期）'!$G323=1,'教育訓練費入力（前期）'!$F323,'教育訓練費入力（前期）'!$F323&\"他\"&'教育訓練費入力（前期）'!$G323-1&\"名\"))","v":""}]
[null,315,null,null,null,null,null,null,null,null,{"$f":"IF('教育訓練費入力（前期）'!$C324=\"\",\"\",TEXT('教育訓練費入力（前期）'!$C324,\"yyyy年\")&TEXT('教育訓練費入力（前期）'!$C324,\"m月\")&TEXT('教育訓練費入力（前期）'!$C324,\"ｄ日\")&\"から\"&'教育訓練費入力（前期）'!$D324&\"日間\")","v":""},{"$f":"IF('教育訓練費入力（前期）'!$F324=\"\",\"\",IF('教育訓練費入力（前期）'!$G324=1,'教育訓練費入力（前期）'!$F324,'教育訓練費入力（前期）'!$F324&\"他\"&'教育訓練費入力（前期）'!$G324-1&\"名\"))","v":""}]
[null,316,null,null,null,null,null,null,null,null,{"$f":"IF('教育訓練費入力（前期）'!$C325=\"\",\"\",TEXT('教育訓練費入力（前期）'!$C325,\"yyyy年\")&TEXT('教育訓練費入力（前期）'!$C325,\"m月\")&TEXT('教育訓練費入力（前期）'!$C325,\"ｄ日\")&\"から\"&'教育訓練費入力（前期）'!$D325&\"日間\")","v":""},{"$f":"IF('教育訓練費入力（前期）'!$F325=\"\",\"\",IF('教育訓練費入力（前期）'!$G325=1,'教育訓練費入力（前期）'!$F325,'教育訓練費入力（前期）'!$F325&\"他\"&'教育訓練費入力（前期）'!$G325-1&\"名\"))","v":""}]
[null,317,null,null,null,null,null,null,null,null,{"$f":"IF('教育訓練費入力（前期）'!$C326=\"\",\"\",TEXT('教育訓練費入力（前期）'!$C326,\"yyyy年\")&TEXT('教育訓練費入力（前期）'!$C326,\"m月\")&TEXT('教育訓練費入力（前期）'!$C326,\"ｄ日\")&\"から\"&'教育訓練費入力（前期）'!$D326&\"日間\")","v":""},{"$f":"IF('教育訓練費入力（前期）'!$F326=\"\",\"\",IF('教育訓練費入力（前期）'!$G326=1,'教育訓練費入力（前期）'!$F326,'教育訓練費入力（前期）'!$F326&\"他\"&'教育訓練費入力（前期）'!$G326-1&\"名\"))","v":""}]
[null,318,null,null,null,null,null,null,null,null,{"$f":"IF('教育訓練費入力（前期）'!$C327=\"\",\"\",TEXT('教育訓練費入力（前期）'!$C327,\"yyyy年\")&TEXT('教育訓練費入力（前期）'!$C327,\"m月\")&TEXT('教育訓練費入力（前期）'!$C327,\"ｄ日\")&\"から\"&'教育訓練費入力（前期）'!$D327&\"日間\")","v":""},{"$f":"IF('教育訓練費入力（前期）'!$F327=\"\",\"\",IF('教育訓練費入力（前期）'!$G327=1,'教育訓練費入力（前期）'!$F327,'教育訓練費入力（前期）'!$F327&\"他\"&'教育訓練費入力（前期）'!$G327-1&\"名\"))","v":""}]
[null,319,null,null,null,null,null,null,null,null,{"$f":"IF('教育訓練費入力（前期）'!$C328=\"\",\"\",TEXT('教育訓練費入力（前期）'!$C328,\"yyyy年\")&TEXT('教育訓練費入力（前期）'!$C328,\"m月\")&TEXT('教育訓練費入力（前期）'!$C328,\"ｄ日\")&\"から\"&'教育訓練費入力（前期）'!$D328&\"日間\")","v":""},{"$f":"IF('教育訓練費入力（前期）'!$F328=\"\",\"\",IF('教育訓練費入力（前期）'!$G328=1,'教育訓練費入力（前期）'!$F328,'教育訓練費入力（前期）'!$F328&\"他\"&'教育訓練費入力（前期）'!$G328-1&\"名\"))","v":""}]
[null,320,null,null,null,null,null,null,null,null,{"$f":"IF('教育訓練費入力（前期）'!$C329=\"\",\"\",TEXT('教育訓練費入力（前期）'!$C329,\"yyyy年\")&TEXT('教育訓練費入力（前期）'!$C329,\"m月\")&TEXT('教育訓練費入力（前期）'!$C329,\"ｄ日\")&\"から\"&'教育訓練費入力（前期）'!$D329&\"日間\")","v":""},{"$f":"IF('教育訓練費入力（前期）'!$F329=\"\",\"\",IF('教育訓練費入力（前期）'!$G329=1,'教育訓練費入力（前期）'!$F329,'教育訓練費入力（前期）'!$F329&\"他\"&'教育訓練費入力（前期）'!$G329-1&\"名\"))","v":""}]
[null,321,null,null,null,null,null,null,null,null,{"$f":"IF('教育訓練費入力（前期）'!$C330=\"\",\"\",TEXT('教育訓練費入力（前期）'!$C330,\"yyyy年\")&TEXT('教育訓練費入力（前期）'!$C330,\"m月\")&TEXT('教育訓練費入力（前期）'!$C330,\"ｄ日\")&\"から\"&'教育訓練費入力（前期）'!$D330&\"日間\")","v":""},{"$f":"IF('教育訓練費入力（前期）'!$F330=\"\",\"\",IF('教育訓練費入力（前期）'!$G330=1,'教育訓練費入力（前期）'!$F330,'教育訓練費入力（前期）'!$F330&\"他\"&'教育訓練費入力（前期）'!$G330-1&\"名\"))","v":""}]
[null,322,null,null,null,null,null,null,null,null,{"$f":"IF('教育訓練費入力（前期）'!$C331=\"\",\"\",TEXT('教育訓練費入力（前期）'!$C331,\"yyyy年\")&TEXT('教育訓練費入力（前期）'!$C331,\"m月\")&TEXT('教育訓練費入力（前期）'!$C331,\"ｄ日\")&\"から\"&'教育訓練費入力（前期）'!$D331&\"日間\")","v":""},{"$f":"IF('教育訓練費入力（前期）'!$F331=\"\",\"\",IF('教育訓練費入力（前期）'!$G331=1,'教育訓練費入力（前期）'!$F331,'教育訓練費入力（前期）'!$F331&\"他\"&'教育訓練費入力（前期）'!$G331-1&\"名\"))","v":""}]
[null,323,null,null,null,null,null,null,null,null,{"$f":"IF('教育訓練費入力（前期）'!$C332=\"\",\"\",TEXT('教育訓練費入力（前期）'!$C332,\"yyyy年\")&TEXT('教育訓練費入力（前期）'!$C332,\"m月\")&TEXT('教育訓練費入力（前期）'!$C332,\"ｄ日\")&\"から\"&'教育訓練費入力（前期）'!$D332&\"日間\")","v":""},{"$f":"IF('教育訓練費入力（前期）'!$F332=\"\",\"\",IF('教育訓練費入力（前期）'!$G332=1,'教育訓練費入力（前期）'!$F332,'教育訓練費入力（前期）'!$F332&\"他\"&'教育訓練費入力（前期）'!$G332-1&\"名\"))","v":""}]
[null,324,null,null,null,null,null,null,null,null,{"$f":"IF('教育訓練費入力（前期）'!$C333=\"\",\"\",TEXT('教育訓練費入力（前期）'!$C333,\"yyyy年\")&TEXT('教育訓練費入力（前期）'!$C333,\"m月\")&TEXT('教育訓練費入力（前期）'!$C333,\"ｄ日\")&\"から\"&'教育訓練費入力（前期）'!$D333&\"日間\")","v":""},{"$f":"IF('教育訓練費入力（前期）'!$F333=\"\",\"\",IF('教育訓練費入力（前期）'!$G333=1,'教育訓練費入力（前期）'!$F333,'教育訓練費入力（前期）'!$F333&\"他\"&'教育訓練費入力（前期）'!$G333-1&\"名\"))","v":""}]
[null,325,null,null,null,null,null,null,null,null,{"$f":"IF('教育訓練費入力（前期）'!$C334=\"\",\"\",TEXT('教育訓練費入力（前期）'!$C334,\"yyyy年\")&TEXT('教育訓練費入力（前期）'!$C334,\"m月\")&TEXT('教育訓練費入力（前期）'!$C334,\"ｄ日\")&\"から\"&'教育訓練費入力（前期）'!$D334&\"日間\")","v":""},{"$f":"IF('教育訓練費入力（前期）'!$F334=\"\",\"\",IF('教育訓練費入力（前期）'!$G334=1,'教育訓練費入力（前期）'!$F334,'教育訓練費入力（前期）'!$F334&\"他\"&'教育訓練費入力（前期）'!$G334-1&\"名\"))","v":""}]
[null,326,null,null,null,null,null,null,null,null,{"$f":"IF('教育訓練費入力（前期）'!$C335=\"\",\"\",TEXT('教育訓練費入力（前期）'!$C335,\"yyyy年\")&TEXT('教育訓練費入力（前期）'!$C335,\"m月\")&TEXT('教育訓練費入力（前期）'!$C335,\"ｄ日\")&\"から\"&'教育訓練費入力（前期）'!$D335&\"日間\")","v":""},{"$f":"IF('教育訓練費入力（前期）'!$F335=\"\",\"\",IF('教育訓練費入力（前期）'!$G335=1,'教育訓練費入力（前期）'!$F335,'教育訓練費入力（前期）'!$F335&\"他\"&'教育訓練費入力（前期）'!$G335-1&\"名\"))","v":""}]
[null,327,null,null,null,null,null,null,null,null,{"$f":"IF('教育訓練費入力（前期）'!$C336=\"\",\"\",TEXT('教育訓練費入力（前期）'!$C336,\"yyyy年\")&TEXT('教育訓練費入力（前期）'!$C336,\"m月\")&TEXT('教育訓練費入力（前期）'!$C336,\"ｄ日\")&\"から\"&'教育訓練費入力（前期）'!$D336&\"日間\")","v":""},{"$f":"IF('教育訓練費入力（前期）'!$F336=\"\",\"\",IF('教育訓練費入力（前期）'!$G336=1,'教育訓練費入力（前期）'!$F336,'教育訓練費入力（前期）'!$F336&\"他\"&'教育訓練費入力（前期）'!$G336-1&\"名\"))","v":""}]
[null,328,null,null,null,null,null,null,null,null,{"$f":"IF('教育訓練費入力（前期）'!$C337=\"\",\"\",TEXT('教育訓練費入力（前期）'!$C337,\"yyyy年\")&TEXT('教育訓練費入力（前期）'!$C337,\"m月\")&TEXT('教育訓練費入力（前期）'!$C337,\"ｄ日\")&\"から\"&'教育訓練費入力（前期）'!$D337&\"日間\")","v":""},{"$f":"IF('教育訓練費入力（前期）'!$F337=\"\",\"\",IF('教育訓練費入力（前期）'!$G337=1,'教育訓練費入力（前期）'!$F337,'教育訓練費入力（前期）'!$F337&\"他\"&'教育訓練費入力（前期）'!$G337-1&\"名\"))","v":""}]
[null,329,null,null,null,null,null,null,null,null,{"$f":"IF('教育訓練費入力（前期）'!$C338=\"\",\"\",TEXT('教育訓練費入力（前期）'!$C338,\"yyyy年\")&TEXT('教育訓練費入力（前期）'!$C338,\"m月\")&TEXT('教育訓練費入力（前期）'!$C338,\"ｄ日\")&\"から\"&'教育訓練費入力（前期）'!$D338&\"日間\")","v":""},{"$f":"IF('教育訓練費入力（前期）'!$F338=\"\",\"\",IF('教育訓練費入力（前期）'!$G338=1,'教育訓練費入力（前期）'!$F338,'教育訓練費入力（前期）'!$F338&\"他\"&'教育訓練費入力（前期）'!$G338-1&\"名\"))","v":""}]
[null,330,null,null,null,null,null,null,null,null,{"$f":"IF('教育訓練費入力（前期）'!$C339=\"\",\"\",TEXT('教育訓練費入力（前期）'!$C339,\"yyyy年\")&TEXT('教育訓練費入力（前期）'!$C339,\"m月\")&TEXT('教育訓練費入力（前期）'!$C339,\"ｄ日\")&\"から\"&'教育訓練費入力（前期）'!$D339&\"日間\")","v":""},{"$f":"IF('教育訓練費入力（前期）'!$F339=\"\",\"\",IF('教育訓練費入力（前期）'!$G339=1,'教育訓練費入力（前期）'!$F339,'教育訓練費入力（前期）'!$F339&\"他\"&'教育訓練費入力（前期）'!$G339-1&\"名\"))","v":""}]
[null,331,null,null,null,null,null,null,null,null,{"$f":"IF('教育訓練費入力（前期）'!$C340=\"\",\"\",TEXT('教育訓練費入力（前期）'!$C340,\"yyyy年\")&TEXT('教育訓練費入力（前期）'!$C340,\"m月\")&TEXT('教育訓練費入力（前期）'!$C340,\"ｄ日\")&\"から\"&'教育訓練費入力（前期）'!$D340&\"日間\")","v":""},{"$f":"IF('教育訓練費入力（前期）'!$F340=\"\",\"\",IF('教育訓練費入力（前期）'!$G340=1,'教育訓練費入力（前期）'!$F340,'教育訓練費入力（前期）'!$F340&\"他\"&'教育訓練費入力（前期）'!$G340-1&\"名\"))","v":""}]
[null,332,null,null,null,null,null,null,null,null,{"$f":"IF('教育訓練費入力（前期）'!$C341=\"\",\"\",TEXT('教育訓練費入力（前期）'!$C341,\"yyyy年\")&TEXT('教育訓練費入力（前期）'!$C341,\"m月\")&TEXT('教育訓練費入力（前期）'!$C341,\"ｄ日\")&\"から\"&'教育訓練費入力（前期）'!$D341&\"日間\")","v":""},{"$f":"IF('教育訓練費入力（前期）'!$F341=\"\",\"\",IF('教育訓練費入力（前期）'!$G341=1,'教育訓練費入力（前期）'!$F341,'教育訓練費入力（前期）'!$F341&\"他\"&'教育訓練費入力（前期）'!$G341-1&\"名\"))","v":""}]
[null,333,null,null,null,null,null,null,null,null,{"$f":"IF('教育訓練費入力（前期）'!$C342=\"\",\"\",TEXT('教育訓練費入力（前期）'!$C342,\"yyyy年\")&TEXT('教育訓練費入力（前期）'!$C342,\"m月\")&TEXT('教育訓練費入力（前期）'!$C342,\"ｄ日\")&\"から\"&'教育訓練費入力（前期）'!$D342&\"日間\")","v":""},{"$f":"IF('教育訓練費入力（前期）'!$F342=\"\",\"\",IF('教育訓練費入力（前期）'!$G342=1,'教育訓練費入力（前期）'!$F342,'教育訓練費入力（前期）'!$F342&\"他\"&'教育訓練費入力（前期）'!$G342-1&\"名\"))","v":""}]
[null,334,null,null,null,null,null,null,null,null,{"$f":"IF('教育訓練費入力（前期）'!$C343=\"\",\"\",TEXT('教育訓練費入力（前期）'!$C343,\"yyyy年\")&TEXT('教育訓練費入力（前期）'!$C343,\"m月\")&TEXT('教育訓練費入力（前期）'!$C343,\"ｄ日\")&\"から\"&'教育訓練費入力（前期）'!$D343&\"日間\")","v":""},{"$f":"IF('教育訓練費入力（前期）'!$F343=\"\",\"\",IF('教育訓練費入力（前期）'!$G343=1,'教育訓練費入力（前期）'!$F343,'教育訓練費入力（前期）'!$F343&\"他\"&'教育訓練費入力（前期）'!$G343-1&\"名\"))","v":""}]
[null,335,null,null,null,null,null,null,null,null,{"$f":"IF('教育訓練費入力（前期）'!$C344=\"\",\"\",TEXT('教育訓練費入力（前期）'!$C344,\"yyyy年\")&TEXT('教育訓練費入力（前期）'!$C344,\"m月\")&TEXT('教育訓練費入力（前期）'!$C344,\"ｄ日\")&\"から\"&'教育訓練費入力（前期）'!$D344&\"日間\")","v":""},{"$f":"IF('教育訓練費入力（前期）'!$F344=\"\",\"\",IF('教育訓練費入力（前期）'!$G344=1,'教育訓練費入力（前期）'!$F344,'教育訓練費入力（前期）'!$F344&\"他\"&'教育訓練費入力（前期）'!$G344-1&\"名\"))","v":""}]
[null,336,null,null,null,null,null,null,null,null,{"$f":"IF('教育訓練費入力（前期）'!$C345=\"\",\"\",TEXT('教育訓練費入力（前期）'!$C345,\"yyyy年\")&TEXT('教育訓練費入力（前期）'!$C345,\"m月\")&TEXT('教育訓練費入力（前期）'!$C345,\"ｄ日\")&\"から\"&'教育訓練費入力（前期）'!$D345&\"日間\")","v":""},{"$f":"IF('教育訓練費入力（前期）'!$F345=\"\",\"\",IF('教育訓練費入力（前期）'!$G345=1,'教育訓練費入力（前期）'!$F345,'教育訓練費入力（前期）'!$F345&\"他\"&'教育訓練費入力（前期）'!$G345-1&\"名\"))","v":""}]
[null,337,null,null,null,null,null,null,null,null,{"$f":"IF('教育訓練費入力（前期）'!$C346=\"\",\"\",TEXT('教育訓練費入力（前期）'!$C346,\"yyyy年\")&TEXT('教育訓練費入力（前期）'!$C346,\"m月\")&TEXT('教育訓練費入力（前期）'!$C346,\"ｄ日\")&\"から\"&'教育訓練費入力（前期）'!$D346&\"日間\")","v":""},{"$f":"IF('教育訓練費入力（前期）'!$F346=\"\",\"\",IF('教育訓練費入力（前期）'!$G346=1,'教育訓練費入力（前期）'!$F346,'教育訓練費入力（前期）'!$F346&\"他\"&'教育訓練費入力（前期）'!$G346-1&\"名\"))","v":""}]
[null,338,null,null,null,null,null,null,null,null,{"$f":"IF('教育訓練費入力（前期）'!$C347=\"\",\"\",TEXT('教育訓練費入力（前期）'!$C347,\"yyyy年\")&TEXT('教育訓練費入力（前期）'!$C347,\"m月\")&TEXT('教育訓練費入力（前期）'!$C347,\"ｄ日\")&\"から\"&'教育訓練費入力（前期）'!$D347&\"日間\")","v":""},{"$f":"IF('教育訓練費入力（前期）'!$F347=\"\",\"\",IF('教育訓練費入力（前期）'!$G347=1,'教育訓練費入力（前期）'!$F347,'教育訓練費入力（前期）'!$F347&\"他\"&'教育訓練費入力（前期）'!$G347-1&\"名\"))","v":""}]
[null,339,null,null,null,null,null,null,null,null,{"$f":"IF('教育訓練費入力（前期）'!$C348=\"\",\"\",TEXT('教育訓練費入力（前期）'!$C348,\"yyyy年\")&TEXT('教育訓練費入力（前期）'!$C348,\"m月\")&TEXT('教育訓練費入力（前期）'!$C348,\"ｄ日\")&\"から\"&'教育訓練費入力（前期）'!$D348&\"日間\")","v":""},{"$f":"IF('教育訓練費入力（前期）'!$F348=\"\",\"\",IF('教育訓練費入力（前期）'!$G348=1,'教育訓練費入力（前期）'!$F348,'教育訓練費入力（前期）'!$F348&\"他\"&'教育訓練費入力（前期）'!$G348-1&\"名\"))","v":""}]
[null,340,null,null,null,null,null,null,null,null,{"$f":"IF('教育訓練費入力（前期）'!$C349=\"\",\"\",TEXT('教育訓練費入力（前期）'!$C349,\"yyyy年\")&TEXT('教育訓練費入力（前期）'!$C349,\"m月\")&TEXT('教育訓練費入力（前期）'!$C349,\"ｄ日\")&\"から\"&'教育訓練費入力（前期）'!$D349&\"日間\")","v":""},{"$f":"IF('教育訓練費入力（前期）'!$F349=\"\",\"\",IF('教育訓練費入力（前期）'!$G349=1,'教育訓練費入力（前期）'!$F349,'教育訓練費入力（前期）'!$F349&\"他\"&'教育訓練費入力（前期）'!$G349-1&\"名\"))","v":""}]
[null,341,null,null,null,null,null,null,null,null,{"$f":"IF('教育訓練費入力（前期）'!$C350=\"\",\"\",TEXT('教育訓練費入力（前期）'!$C350,\"yyyy年\")&TEXT('教育訓練費入力（前期）'!$C350,\"m月\")&TEXT('教育訓練費入力（前期）'!$C350,\"ｄ日\")&\"から\"&'教育訓練費入力（前期）'!$D350&\"日間\")","v":""},{"$f":"IF('教育訓練費入力（前期）'!$F350=\"\",\"\",IF('教育訓練費入力（前期）'!$G350=1,'教育訓練費入力（前期）'!$F350,'教育訓練費入力（前期）'!$F350&\"他\"&'教育訓練費入力（前期）'!$G350-1&\"名\"))","v":""}]
[null,342,null,null,null,null,null,null,null,null,{"$f":"IF('教育訓練費入力（前期）'!$C351=\"\",\"\",TEXT('教育訓練費入力（前期）'!$C351,\"yyyy年\")&TEXT('教育訓練費入力（前期）'!$C351,\"m月\")&TEXT('教育訓練費入力（前期）'!$C351,\"ｄ日\")&\"から\"&'教育訓練費入力（前期）'!$D351&\"日間\")","v":""},{"$f":"IF('教育訓練費入力（前期）'!$F351=\"\",\"\",IF('教育訓練費入力（前期）'!$G351=1,'教育訓練費入力（前期）'!$F351,'教育訓練費入力（前期）'!$F351&\"他\"&'教育訓練費入力（前期）'!$G351-1&\"名\"))","v":""}]
[null,343,null,null,null,null,null,null,null,null,{"$f":"IF('教育訓練費入力（前期）'!$C352=\"\",\"\",TEXT('教育訓練費入力（前期）'!$C352,\"yyyy年\")&TEXT('教育訓練費入力（前期）'!$C352,\"m月\")&TEXT('教育訓練費入力（前期）'!$C352,\"ｄ日\")&\"から\"&'教育訓練費入力（前期）'!$D352&\"日間\")","v":""},{"$f":"IF('教育訓練費入力（前期）'!$F352=\"\",\"\",IF('教育訓練費入力（前期）'!$G352=1,'教育訓練費入力（前期）'!$F352,'教育訓練費入力（前期）'!$F352&\"他\"&'教育訓練費入力（前期）'!$G352-1&\"名\"))","v":""}]
[null,344,null,null,null,null,null,null,null,null,{"$f":"IF('教育訓練費入力（前期）'!$C353=\"\",\"\",TEXT('教育訓練費入力（前期）'!$C353,\"yyyy年\")&TEXT('教育訓練費入力（前期）'!$C353,\"m月\")&TEXT('教育訓練費入力（前期）'!$C353,\"ｄ日\")&\"から\"&'教育訓練費入力（前期）'!$D353&\"日間\")","v":""},{"$f":"IF('教育訓練費入力（前期）'!$F353=\"\",\"\",IF('教育訓練費入力（前期）'!$G353=1,'教育訓練費入力（前期）'!$F353,'教育訓練費入力（前期）'!$F353&\"他\"&'教育訓練費入力（前期）'!$G353-1&\"名\"))","v":""}]
[null,345,null,null,null,null,null,null,null,null,{"$f":"IF('教育訓練費入力（前期）'!$C354=\"\",\"\",TEXT('教育訓練費入力（前期）'!$C354,\"yyyy年\")&TEXT('教育訓練費入力（前期）'!$C354,\"m月\")&TEXT('教育訓練費入力（前期）'!$C354,\"ｄ日\")&\"から\"&'教育訓練費入力（前期）'!$D354&\"日間\")","v":""},{"$f":"IF('教育訓練費入力（前期）'!$F354=\"\",\"\",IF('教育訓練費入力（前期）'!$G354=1,'教育訓練費入力（前期）'!$F354,'教育訓練費入力（前期）'!$F354&\"他\"&'教育訓練費入力（前期）'!$G354-1&\"名\"))","v":""}]
[null,346,null,null,null,null,null,null,null,null,{"$f":"IF('教育訓練費入力（前期）'!$C355=\"\",\"\",TEXT('教育訓練費入力（前期）'!$C355,\"yyyy年\")&TEXT('教育訓練費入力（前期）'!$C355,\"m月\")&TEXT('教育訓練費入力（前期）'!$C355,\"ｄ日\")&\"から\"&'教育訓練費入力（前期）'!$D355&\"日間\")","v":""},{"$f":"IF('教育訓練費入力（前期）'!$F355=\"\",\"\",IF('教育訓練費入力（前期）'!$G355=1,'教育訓練費入力（前期）'!$F355,'教育訓練費入力（前期）'!$F355&\"他\"&'教育訓練費入力（前期）'!$G355-1&\"名\"))","v":""}]
[null,347,null,null,null,null,null,null,null,null,{"$f":"IF('教育訓練費入力（前期）'!$C356=\"\",\"\",TEXT('教育訓練費入力（前期）'!$C356,\"yyyy年\")&TEXT('教育訓練費入力（前期）'!$C356,\"m月\")&TEXT('教育訓練費入力（前期）'!$C356,\"ｄ日\")&\"から\"&'教育訓練費入力（前期）'!$D356&\"日間\")","v":""},{"$f":"IF('教育訓練費入力（前期）'!$F356=\"\",\"\",IF('教育訓練費入力（前期）'!$G356=1,'教育訓練費入力（前期）'!$F356,'教育訓練費入力（前期）'!$F356&\"他\"&'教育訓練費入力（前期）'!$G356-1&\"名\"))","v":""}]
[null,348,null,null,null,null,null,null,null,null,{"$f":"IF('教育訓練費入力（前期）'!$C357=\"\",\"\",TEXT('教育訓練費入力（前期）'!$C357,\"yyyy年\")&TEXT('教育訓練費入力（前期）'!$C357,\"m月\")&TEXT('教育訓練費入力（前期）'!$C357,\"ｄ日\")&\"から\"&'教育訓練費入力（前期）'!$D357&\"日間\")","v":""},{"$f":"IF('教育訓練費入力（前期）'!$F357=\"\",\"\",IF('教育訓練費入力（前期）'!$G357=1,'教育訓練費入力（前期）'!$F357,'教育訓練費入力（前期）'!$F357&\"他\"&'教育訓練費入力（前期）'!$G357-1&\"名\"))","v":""}]
[null,349,null,null,null,null,null,null,null,null,{"$f":"IF('教育訓練費入力（前期）'!$C358=\"\",\"\",TEXT('教育訓練費入力（前期）'!$C358,\"yyyy年\")&TEXT('教育訓練費入力（前期）'!$C358,\"m月\")&TEXT('教育訓練費入力（前期）'!$C358,\"ｄ日\")&\"から\"&'教育訓練費入力（前期）'!$D358&\"日間\")","v":""},{"$f":"IF('教育訓練費入力（前期）'!$F358=\"\",\"\",IF('教育訓練費入力（前期）'!$G358=1,'教育訓練費入力（前期）'!$F358,'教育訓練費入力（前期）'!$F358&\"他\"&'教育訓練費入力（前期）'!$G358-1&\"名\"))","v":""}]
[null,350,null,null,null,null,null,null,null,null,{"$f":"IF('教育訓練費入力（前期）'!$C359=\"\",\"\",TEXT('教育訓練費入力（前期）'!$C359,\"yyyy年\")&TEXT('教育訓練費入力（前期）'!$C359,\"m月\")&TEXT('教育訓練費入力（前期）'!$C359,\"ｄ日\")&\"から\"&'教育訓練費入力（前期）'!$D359&\"日間\")","v":""},{"$f":"IF('教育訓練費入力（前期）'!$F359=\"\",\"\",IF('教育訓練費入力（前期）'!$G359=1,'教育訓練費入力（前期）'!$F359,'教育訓練費入力（前期）'!$F359&\"他\"&'教育訓練費入力（前期）'!$G359-1&\"名\"))","v":""}]
[null,351,null,null,null,null,null,null,null,null,{"$f":"IF('教育訓練費入力（前期）'!$C360=\"\",\"\",TEXT('教育訓練費入力（前期）'!$C360,\"yyyy年\")&TEXT('教育訓練費入力（前期）'!$C360,\"m月\")&TEXT('教育訓練費入力（前期）'!$C360,\"ｄ日\")&\"から\"&'教育訓練費入力（前期）'!$D360&\"日間\")","v":""},{"$f":"IF('教育訓練費入力（前期）'!$F360=\"\",\"\",IF('教育訓練費入力（前期）'!$G360=1,'教育訓練費入力（前期）'!$F360,'教育訓練費入力（前期）'!$F360&\"他\"&'教育訓練費入力（前期）'!$G360-1&\"名\"))","v":""}]
[null,352,null,null,null,null,null,null,null,null,{"$f":"IF('教育訓練費入力（前期）'!$C361=\"\",\"\",TEXT('教育訓練費入力（前期）'!$C361,\"yyyy年\")&TEXT('教育訓練費入力（前期）'!$C361,\"m月\")&TEXT('教育訓練費入力（前期）'!$C361,\"ｄ日\")&\"から\"&'教育訓練費入力（前期）'!$D361&\"日間\")","v":""},{"$f":"IF('教育訓練費入力（前期）'!$F361=\"\",\"\",IF('教育訓練費入力（前期）'!$G361=1,'教育訓練費入力（前期）'!$F361,'教育訓練費入力（前期）'!$F361&\"他\"&'教育訓練費入力（前期）'!$G361-1&\"名\"))","v":""}]
[null,353,null,null,null,null,null,null,null,null,{"$f":"IF('教育訓練費入力（前期）'!$C362=\"\",\"\",TEXT('教育訓練費入力（前期）'!$C362,\"yyyy年\")&TEXT('教育訓練費入力（前期）'!$C362,\"m月\")&TEXT('教育訓練費入力（前期）'!$C362,\"ｄ日\")&\"から\"&'教育訓練費入力（前期）'!$D362&\"日間\")","v":""},{"$f":"IF('教育訓練費入力（前期）'!$F362=\"\",\"\",IF('教育訓練費入力（前期）'!$G362=1,'教育訓練費入力（前期）'!$F362,'教育訓練費入力（前期）'!$F362&\"他\"&'教育訓練費入力（前期）'!$G362-1&\"名\"))","v":""}]
[null,354,null,null,null,null,null,null,null,null,{"$f":"IF('教育訓練費入力（前期）'!$C363=\"\",\"\",TEXT('教育訓練費入力（前期）'!$C363,\"yyyy年\")&TEXT('教育訓練費入力（前期）'!$C363,\"m月\")&TEXT('教育訓練費入力（前期）'!$C363,\"ｄ日\")&\"から\"&'教育訓練費入力（前期）'!$D363&\"日間\")","v":""},{"$f":"IF('教育訓練費入力（前期）'!$F363=\"\",\"\",IF('教育訓練費入力（前期）'!$G363=1,'教育訓練費入力（前期）'!$F363,'教育訓練費入力（前期）'!$F363&\"他\"&'教育訓練費入力（前期）'!$G363-1&\"名\"))","v":""}]
[null,355,null,null,null,null,null,null,null,null,{"$f":"IF('教育訓練費入力（前期）'!$C364=\"\",\"\",TEXT('教育訓練費入力（前期）'!$C364,\"yyyy年\")&TEXT('教育訓練費入力（前期）'!$C364,\"m月\")&TEXT('教育訓練費入力（前期）'!$C364,\"ｄ日\")&\"から\"&'教育訓練費入力（前期）'!$D364&\"日間\")","v":""},{"$f":"IF('教育訓練費入力（前期）'!$F364=\"\",\"\",IF('教育訓練費入力（前期）'!$G364=1,'教育訓練費入力（前期）'!$F364,'教育訓練費入力（前期）'!$F364&\"他\"&'教育訓練費入力（前期）'!$G364-1&\"名\"))","v":""}]
[null,356,null,null,null,null,null,null,null,null,{"$f":"IF('教育訓練費入力（前期）'!$C365=\"\",\"\",TEXT('教育訓練費入力（前期）'!$C365,\"yyyy年\")&TEXT('教育訓練費入力（前期）'!$C365,\"m月\")&TEXT('教育訓練費入力（前期）'!$C365,\"ｄ日\")&\"から\"&'教育訓練費入力（前期）'!$D365&\"日間\")","v":""},{"$f":"IF('教育訓練費入力（前期）'!$F365=\"\",\"\",IF('教育訓練費入力（前期）'!$G365=1,'教育訓練費入力（前期）'!$F365,'教育訓練費入力（前期）'!$F365&\"他\"&'教育訓練費入力（前期）'!$G365-1&\"名\"))","v":""}]
[null,357,null,null,null,null,null,null,null,null,{"$f":"IF('教育訓練費入力（前期）'!$C366=\"\",\"\",TEXT('教育訓練費入力（前期）'!$C366,\"yyyy年\")&TEXT('教育訓練費入力（前期）'!$C366,\"m月\")&TEXT('教育訓練費入力（前期）'!$C366,\"ｄ日\")&\"から\"&'教育訓練費入力（前期）'!$D366&\"日間\")","v":""},{"$f":"IF('教育訓練費入力（前期）'!$F366=\"\",\"\",IF('教育訓練費入力（前期）'!$G366=1,'教育訓練費入力（前期）'!$F366,'教育訓練費入力（前期）'!$F366&\"他\"&'教育訓練費入力（前期）'!$G366-1&\"名\"))","v":""}]
[null,358,null,null,null,null,null,null,null,null,{"$f":"IF('教育訓練費入力（前期）'!$C367=\"\",\"\",TEXT('教育訓練費入力（前期）'!$C367,\"yyyy年\")&TEXT('教育訓練費入力（前期）'!$C367,\"m月\")&TEXT('教育訓練費入力（前期）'!$C367,\"ｄ日\")&\"から\"&'教育訓練費入力（前期）'!$D367&\"日間\")","v":""},{"$f":"IF('教育訓練費入力（前期）'!$F367=\"\",\"\",IF('教育訓練費入力（前期）'!$G367=1,'教育訓練費入力（前期）'!$F367,'教育訓練費入力（前期）'!$F367&\"他\"&'教育訓練費入力（前期）'!$G367-1&\"名\"))","v":""}]
[null,359,null,null,null,null,null,null,null,null,{"$f":"IF('教育訓練費入力（前期）'!$C368=\"\",\"\",TEXT('教育訓練費入力（前期）'!$C368,\"yyyy年\")&TEXT('教育訓練費入力（前期）'!$C368,\"m月\")&TEXT('教育訓練費入力（前期）'!$C368,\"ｄ日\")&\"から\"&'教育訓練費入力（前期）'!$D368&\"日間\")","v":""},{"$f":"IF('教育訓練費入力（前期）'!$F368=\"\",\"\",IF('教育訓練費入力（前期）'!$G368=1,'教育訓練費入力（前期）'!$F368,'教育訓練費入力（前期）'!$F368&\"他\"&'教育訓練費入力（前期）'!$G368-1&\"名\"))","v":""}]
[null,360,null,null,null,null,null,null,null,null,{"$f":"IF('教育訓練費入力（前期）'!$C369=\"\",\"\",TEXT('教育訓練費入力（前期）'!$C369,\"yyyy年\")&TEXT('教育訓練費入力（前期）'!$C369,\"m月\")&TEXT('教育訓練費入力（前期）'!$C369,\"ｄ日\")&\"から\"&'教育訓練費入力（前期）'!$D369&\"日間\")","v":""},{"$f":"IF('教育訓練費入力（前期）'!$F369=\"\",\"\",IF('教育訓練費入力（前期）'!$G369=1,'教育訓練費入力（前期）'!$F369,'教育訓練費入力（前期）'!$F369&\"他\"&'教育訓練費入力（前期）'!$G369-1&\"名\"))","v":""}]
[null,361,null,null,null,null,null,null,null,null,{"$f":"IF('教育訓練費入力（前期）'!$C370=\"\",\"\",TEXT('教育訓練費入力（前期）'!$C370,\"yyyy年\")&TEXT('教育訓練費入力（前期）'!$C370,\"m月\")&TEXT('教育訓練費入力（前期）'!$C370,\"ｄ日\")&\"から\"&'教育訓練費入力（前期）'!$D370&\"日間\")","v":""},{"$f":"IF('教育訓練費入力（前期）'!$F370=\"\",\"\",IF('教育訓練費入力（前期）'!$G370=1,'教育訓練費入力（前期）'!$F370,'教育訓練費入力（前期）'!$F370&\"他\"&'教育訓練費入力（前期）'!$G370-1&\"名\"))","v":""}]
[null,362,null,null,null,null,null,null,null,null,{"$f":"IF('教育訓練費入力（前期）'!$C371=\"\",\"\",TEXT('教育訓練費入力（前期）'!$C371,\"yyyy年\")&TEXT('教育訓練費入力（前期）'!$C371,\"m月\")&TEXT('教育訓練費入力（前期）'!$C371,\"ｄ日\")&\"から\"&'教育訓練費入力（前期）'!$D371&\"日間\")","v":""},{"$f":"IF('教育訓練費入力（前期）'!$F371=\"\",\"\",IF('教育訓練費入力（前期）'!$G371=1,'教育訓練費入力（前期）'!$F371,'教育訓練費入力（前期）'!$F371&\"他\"&'教育訓練費入力（前期）'!$G371-1&\"名\"))","v":""}]
[null,363,null,null,null,null,null,null,null,null,{"$f":"IF('教育訓練費入力（前期）'!$C372=\"\",\"\",TEXT('教育訓練費入力（前期）'!$C372,\"yyyy年\")&TEXT('教育訓練費入力（前期）'!$C372,\"m月\")&TEXT('教育訓練費入力（前期）'!$C372,\"ｄ日\")&\"から\"&'教育訓練費入力（前期）'!$D372&\"日間\")","v":""},{"$f":"IF('教育訓練費入力（前期）'!$F372=\"\",\"\",IF('教育訓練費入力（前期）'!$G372=1,'教育訓練費入力（前期）'!$F372,'教育訓練費入力（前期）'!$F372&\"他\"&'教育訓練費入力（前期）'!$G372-1&\"名\"))","v":""}]
[null,364,null,null,null,null,null,null,null,null,{"$f":"IF('教育訓練費入力（前期）'!$C373=\"\",\"\",TEXT('教育訓練費入力（前期）'!$C373,\"yyyy年\")&TEXT('教育訓練費入力（前期）'!$C373,\"m月\")&TEXT('教育訓練費入力（前期）'!$C373,\"ｄ日\")&\"から\"&'教育訓練費入力（前期）'!$D373&\"日間\")","v":""},{"$f":"IF('教育訓練費入力（前期）'!$F373=\"\",\"\",IF('教育訓練費入力（前期）'!$G373=1,'教育訓練費入力（前期）'!$F373,'教育訓練費入力（前期）'!$F373&\"他\"&'教育訓練費入力（前期）'!$G373-1&\"名\"))","v":""}]
[null,365,null,null,null,null,null,null,null,null,{"$f":"IF('教育訓練費入力（前期）'!$C374=\"\",\"\",TEXT('教育訓練費入力（前期）'!$C374,\"yyyy年\")&TEXT('教育訓練費入力（前期）'!$C374,\"m月\")&TEXT('教育訓練費入力（前期）'!$C374,\"ｄ日\")&\"から\"&'教育訓練費入力（前期）'!$D374&\"日間\")","v":""},{"$f":"IF('教育訓練費入力（前期）'!$F374=\"\",\"\",IF('教育訓練費入力（前期）'!$G374=1,'教育訓練費入力（前期）'!$F374,'教育訓練費入力（前期）'!$F374&\"他\"&'教育訓練費入力（前期）'!$G374-1&\"名\"))","v":""}]
[null,366,null,null,null,null,null,null,null,null,{"$f":"IF('教育訓練費入力（前期）'!$C375=\"\",\"\",TEXT('教育訓練費入力（前期）'!$C375,\"yyyy年\")&TEXT('教育訓練費入力（前期）'!$C375,\"m月\")&TEXT('教育訓練費入力（前期）'!$C375,\"ｄ日\")&\"から\"&'教育訓練費入力（前期）'!$D375&\"日間\")","v":""},{"$f":"IF('教育訓練費入力（前期）'!$F375=\"\",\"\",IF('教育訓練費入力（前期）'!$G375=1,'教育訓練費入力（前期）'!$F375,'教育訓練費入力（前期）'!$F375&\"他\"&'教育訓練費入力（前期）'!$G375-1&\"名\"))","v":""}]
[null,367,null,null,null,null,null,null,null,null,{"$f":"IF('教育訓練費入力（前期）'!$C376=\"\",\"\",TEXT('教育訓練費入力（前期）'!$C376,\"yyyy年\")&TEXT('教育訓練費入力（前期）'!$C376,\"m月\")&TEXT('教育訓練費入力（前期）'!$C376,\"ｄ日\")&\"から\"&'教育訓練費入力（前期）'!$D376&\"日間\")","v":""},{"$f":"IF('教育訓練費入力（前期）'!$F376=\"\",\"\",IF('教育訓練費入力（前期）'!$G376=1,'教育訓練費入力（前期）'!$F376,'教育訓練費入力（前期）'!$F376&\"他\"&'教育訓練費入力（前期）'!$G376-1&\"名\"))","v":""}]
[null,368,null,null,null,null,null,null,null,null,{"$f":"IF('教育訓練費入力（前期）'!$C377=\"\",\"\",TEXT('教育訓練費入力（前期）'!$C377,\"yyyy年\")&TEXT('教育訓練費入力（前期）'!$C377,\"m月\")&TEXT('教育訓練費入力（前期）'!$C377,\"ｄ日\")&\"から\"&'教育訓練費入力（前期）'!$D377&\"日間\")","v":""},{"$f":"IF('教育訓練費入力（前期）'!$F377=\"\",\"\",IF('教育訓練費入力（前期）'!$G377=1,'教育訓練費入力（前期）'!$F377,'教育訓練費入力（前期）'!$F377&\"他\"&'教育訓練費入力（前期）'!$G377-1&\"名\"))","v":""}]
[null,369,null,null,null,null,null,null,null,null,{"$f":"IF('教育訓練費入力（前期）'!$C378=\"\",\"\",TEXT('教育訓練費入力（前期）'!$C378,\"yyyy年\")&TEXT('教育訓練費入力（前期）'!$C378,\"m月\")&TEXT('教育訓練費入力（前期）'!$C378,\"ｄ日\")&\"から\"&'教育訓練費入力（前期）'!$D378&\"日間\")","v":""},{"$f":"IF('教育訓練費入力（前期）'!$F378=\"\",\"\",IF('教育訓練費入力（前期）'!$G378=1,'教育訓練費入力（前期）'!$F378,'教育訓練費入力（前期）'!$F378&\"他\"&'教育訓練費入力（前期）'!$G378-1&\"名\"))","v":""}]
[null,370,null,null,null,null,null,null,null,null,{"$f":"IF('教育訓練費入力（前期）'!$C379=\"\",\"\",TEXT('教育訓練費入力（前期）'!$C379,\"yyyy年\")&TEXT('教育訓練費入力（前期）'!$C379,\"m月\")&TEXT('教育訓練費入力（前期）'!$C379,\"ｄ日\")&\"から\"&'教育訓練費入力（前期）'!$D379&\"日間\")","v":""},{"$f":"IF('教育訓練費入力（前期）'!$F379=\"\",\"\",IF('教育訓練費入力（前期）'!$G379=1,'教育訓練費入力（前期）'!$F379,'教育訓練費入力（前期）'!$F379&\"他\"&'教育訓練費入力（前期）'!$G379-1&\"名\"))","v":""}]
[null,371,null,null,null,null,null,null,null,null,{"$f":"IF('教育訓練費入力（前期）'!$C380=\"\",\"\",TEXT('教育訓練費入力（前期）'!$C380,\"yyyy年\")&TEXT('教育訓練費入力（前期）'!$C380,\"m月\")&TEXT('教育訓練費入力（前期）'!$C380,\"ｄ日\")&\"から\"&'教育訓練費入力（前期）'!$D380&\"日間\")","v":""},{"$f":"IF('教育訓練費入力（前期）'!$F380=\"\",\"\",IF('教育訓練費入力（前期）'!$G380=1,'教育訓練費入力（前期）'!$F380,'教育訓練費入力（前期）'!$F380&\"他\"&'教育訓練費入力（前期）'!$G380-1&\"名\"))","v":""}]
[null,372,null,null,null,null,null,null,null,null,{"$f":"IF('教育訓練費入力（前期）'!$C381=\"\",\"\",TEXT('教育訓練費入力（前期）'!$C381,\"yyyy年\")&TEXT('教育訓練費入力（前期）'!$C381,\"m月\")&TEXT('教育訓練費入力（前期）'!$C381,\"ｄ日\")&\"から\"&'教育訓練費入力（前期）'!$D381&\"日間\")","v":""},{"$f":"IF('教育訓練費入力（前期）'!$F381=\"\",\"\",IF('教育訓練費入力（前期）'!$G381=1,'教育訓練費入力（前期）'!$F381,'教育訓練費入力（前期）'!$F381&\"他\"&'教育訓練費入力（前期）'!$G381-1&\"名\"))","v":""}]
[null,373,null,null,null,null,null,null,null,null,{"$f":"IF('教育訓練費入力（前期）'!$C382=\"\",\"\",TEXT('教育訓練費入力（前期）'!$C382,\"yyyy年\")&TEXT('教育訓練費入力（前期）'!$C382,\"m月\")&TEXT('教育訓練費入力（前期）'!$C382,\"ｄ日\")&\"から\"&'教育訓練費入力（前期）'!$D382&\"日間\")","v":""},{"$f":"IF('教育訓練費入力（前期）'!$F382=\"\",\"\",IF('教育訓練費入力（前期）'!$G382=1,'教育訓練費入力（前期）'!$F382,'教育訓練費入力（前期）'!$F382&\"他\"&'教育訓練費入力（前期）'!$G382-1&\"名\"))","v":""}]
[null,374,null,null,null,null,null,null,null,null,{"$f":"IF('教育訓練費入力（前期）'!$C383=\"\",\"\",TEXT('教育訓練費入力（前期）'!$C383,\"yyyy年\")&TEXT('教育訓練費入力（前期）'!$C383,\"m月\")&TEXT('教育訓練費入力（前期）'!$C383,\"ｄ日\")&\"から\"&'教育訓練費入力（前期）'!$D383&\"日間\")","v":""},{"$f":"IF('教育訓練費入力（前期）'!$F383=\"\",\"\",IF('教育訓練費入力（前期）'!$G383=1,'教育訓練費入力（前期）'!$F383,'教育訓練費入力（前期）'!$F383&\"他\"&'教育訓練費入力（前期）'!$G383-1&\"名\"))","v":""}]
[null,375,null,null,null,null,null,null,null,null,{"$f":"IF('教育訓練費入力（前期）'!$C384=\"\",\"\",TEXT('教育訓練費入力（前期）'!$C384,\"yyyy年\")&TEXT('教育訓練費入力（前期）'!$C384,\"m月\")&TEXT('教育訓練費入力（前期）'!$C384,\"ｄ日\")&\"から\"&'教育訓練費入力（前期）'!$D384&\"日間\")","v":""},{"$f":"IF('教育訓練費入力（前期）'!$F384=\"\",\"\",IF('教育訓練費入力（前期）'!$G384=1,'教育訓練費入力（前期）'!$F384,'教育訓練費入力（前期）'!$F384&\"他\"&'教育訓練費入力（前期）'!$G384-1&\"名\"))","v":""}]
[null,376,null,null,null,null,null,null,null,null,{"$f":"IF('教育訓練費入力（前期）'!$C385=\"\",\"\",TEXT('教育訓練費入力（前期）'!$C385,\"yyyy年\")&TEXT('教育訓練費入力（前期）'!$C385,\"m月\")&TEXT('教育訓練費入力（前期）'!$C385,\"ｄ日\")&\"から\"&'教育訓練費入力（前期）'!$D385&\"日間\")","v":""},{"$f":"IF('教育訓練費入力（前期）'!$F385=\"\",\"\",IF('教育訓練費入力（前期）'!$G385=1,'教育訓練費入力（前期）'!$F385,'教育訓練費入力（前期）'!$F385&\"他\"&'教育訓練費入力（前期）'!$G385-1&\"名\"))","v":""}]
[null,377,null,null,null,null,null,null,null,null,{"$f":"IF('教育訓練費入力（前期）'!$C386=\"\",\"\",TEXT('教育訓練費入力（前期）'!$C386,\"yyyy年\")&TEXT('教育訓練費入力（前期）'!$C386,\"m月\")&TEXT('教育訓練費入力（前期）'!$C386,\"ｄ日\")&\"から\"&'教育訓練費入力（前期）'!$D386&\"日間\")","v":""},{"$f":"IF('教育訓練費入力（前期）'!$F386=\"\",\"\",IF('教育訓練費入力（前期）'!$G386=1,'教育訓練費入力（前期）'!$F386,'教育訓練費入力（前期）'!$F386&\"他\"&'教育訓練費入力（前期）'!$G386-1&\"名\"))","v":""}]
[null,378,null,null,null,null,null,null,null,null,{"$f":"IF('教育訓練費入力（前期）'!$C387=\"\",\"\",TEXT('教育訓練費入力（前期）'!$C387,\"yyyy年\")&TEXT('教育訓練費入力（前期）'!$C387,\"m月\")&TEXT('教育訓練費入力（前期）'!$C387,\"ｄ日\")&\"から\"&'教育訓練費入力（前期）'!$D387&\"日間\")","v":""},{"$f":"IF('教育訓練費入力（前期）'!$F387=\"\",\"\",IF('教育訓練費入力（前期）'!$G387=1,'教育訓練費入力（前期）'!$F387,'教育訓練費入力（前期）'!$F387&\"他\"&'教育訓練費入力（前期）'!$G387-1&\"名\"))","v":""}]
[null,379,null,null,null,null,null,null,null,null,{"$f":"IF('教育訓練費入力（前期）'!$C388=\"\",\"\",TEXT('教育訓練費入力（前期）'!$C388,\"yyyy年\")&TEXT('教育訓練費入力（前期）'!$C388,\"m月\")&TEXT('教育訓練費入力（前期）'!$C388,\"ｄ日\")&\"から\"&'教育訓練費入力（前期）'!$D388&\"日間\")","v":""},{"$f":"IF('教育訓練費入力（前期）'!$F388=\"\",\"\",IF('教育訓練費入力（前期）'!$G388=1,'教育訓練費入力（前期）'!$F388,'教育訓練費入力（前期）'!$F388&\"他\"&'教育訓練費入力（前期）'!$G388-1&\"名\"))","v":""}]
[null,380,null,null,null,null,null,null,null,null,{"$f":"IF('教育訓練費入力（前期）'!$C389=\"\",\"\",TEXT('教育訓練費入力（前期）'!$C389,\"yyyy年\")&TEXT('教育訓練費入力（前期）'!$C389,\"m月\")&TEXT('教育訓練費入力（前期）'!$C389,\"ｄ日\")&\"から\"&'教育訓練費入力（前期）'!$D389&\"日間\")","v":""},{"$f":"IF('教育訓練費入力（前期）'!$F389=\"\",\"\",IF('教育訓練費入力（前期）'!$G389=1,'教育訓練費入力（前期）'!$F389,'教育訓練費入力（前期）'!$F389&\"他\"&'教育訓練費入力（前期）'!$G389-1&\"名\"))","v":""}]
[null,381,null,null,null,null,null,null,null,null,{"$f":"IF('教育訓練費入力（前期）'!$C390=\"\",\"\",TEXT('教育訓練費入力（前期）'!$C390,\"yyyy年\")&TEXT('教育訓練費入力（前期）'!$C390,\"m月\")&TEXT('教育訓練費入力（前期）'!$C390,\"ｄ日\")&\"から\"&'教育訓練費入力（前期）'!$D390&\"日間\")","v":""},{"$f":"IF('教育訓練費入力（前期）'!$F390=\"\",\"\",IF('教育訓練費入力（前期）'!$G390=1,'教育訓練費入力（前期）'!$F390,'教育訓練費入力（前期）'!$F390&\"他\"&'教育訓練費入力（前期）'!$G390-1&\"名\"))","v":""}]
[null,382,null,null,null,null,null,null,null,null,{"$f":"IF('教育訓練費入力（前期）'!$C391=\"\",\"\",TEXT('教育訓練費入力（前期）'!$C391,\"yyyy年\")&TEXT('教育訓練費入力（前期）'!$C391,\"m月\")&TEXT('教育訓練費入力（前期）'!$C391,\"ｄ日\")&\"から\"&'教育訓練費入力（前期）'!$D391&\"日間\")","v":""},{"$f":"IF('教育訓練費入力（前期）'!$F391=\"\",\"\",IF('教育訓練費入力（前期）'!$G391=1,'教育訓練費入力（前期）'!$F391,'教育訓練費入力（前期）'!$F391&\"他\"&'教育訓練費入力（前期）'!$G391-1&\"名\"))","v":""}]
[null,383,null,null,null,null,null,null,null,null,{"$f":"IF('教育訓練費入力（前期）'!$C392=\"\",\"\",TEXT('教育訓練費入力（前期）'!$C392,\"yyyy年\")&TEXT('教育訓練費入力（前期）'!$C392,\"m月\")&TEXT('教育訓練費入力（前期）'!$C392,\"ｄ日\")&\"から\"&'教育訓練費入力（前期）'!$D392&\"日間\")","v":""},{"$f":"IF('教育訓練費入力（前期）'!$F392=\"\",\"\",IF('教育訓練費入力（前期）'!$G392=1,'教育訓練費入力（前期）'!$F392,'教育訓練費入力（前期）'!$F392&\"他\"&'教育訓練費入力（前期）'!$G392-1&\"名\"))","v":""}]
[null,384,null,null,null,null,null,null,null,null,{"$f":"IF('教育訓練費入力（前期）'!$C393=\"\",\"\",TEXT('教育訓練費入力（前期）'!$C393,\"yyyy年\")&TEXT('教育訓練費入力（前期）'!$C393,\"m月\")&TEXT('教育訓練費入力（前期）'!$C393,\"ｄ日\")&\"から\"&'教育訓練費入力（前期）'!$D393&\"日間\")","v":""},{"$f":"IF('教育訓練費入力（前期）'!$F393=\"\",\"\",IF('教育訓練費入力（前期）'!$G393=1,'教育訓練費入力（前期）'!$F393,'教育訓練費入力（前期）'!$F393&\"他\"&'教育訓練費入力（前期）'!$G393-1&\"名\"))","v":""}]
[null,385,null,null,null,null,null,null,null,null,{"$f":"IF('教育訓練費入力（前期）'!$C394=\"\",\"\",TEXT('教育訓練費入力（前期）'!$C394,\"yyyy年\")&TEXT('教育訓練費入力（前期）'!$C394,\"m月\")&TEXT('教育訓練費入力（前期）'!$C394,\"ｄ日\")&\"から\"&'教育訓練費入力（前期）'!$D394&\"日間\")","v":""},{"$f":"IF('教育訓練費入力（前期）'!$F394=\"\",\"\",IF('教育訓練費入力（前期）'!$G394=1,'教育訓練費入力（前期）'!$F394,'教育訓練費入力（前期）'!$F394&\"他\"&'教育訓練費入力（前期）'!$G394-1&\"名\"))","v":""}]
[null,386,null,null,null,null,null,null,null,null,{"$f":"IF('教育訓練費入力（前期）'!$C395=\"\",\"\",TEXT('教育訓練費入力（前期）'!$C395,\"yyyy年\")&TEXT('教育訓練費入力（前期）'!$C395,\"m月\")&TEXT('教育訓練費入力（前期）'!$C395,\"ｄ日\")&\"から\"&'教育訓練費入力（前期）'!$D395&\"日間\")","v":""},{"$f":"IF('教育訓練費入力（前期）'!$F395=\"\",\"\",IF('教育訓練費入力（前期）'!$G395=1,'教育訓練費入力（前期）'!$F395,'教育訓練費入力（前期）'!$F395&\"他\"&'教育訓練費入力（前期）'!$G395-1&\"名\"))","v":""}]
[null,387,null,null,null,null,null,null,null,null,{"$f":"IF('教育訓練費入力（前期）'!$C396=\"\",\"\",TEXT('教育訓練費入力（前期）'!$C396,\"yyyy年\")&TEXT('教育訓練費入力（前期）'!$C396,\"m月\")&TEXT('教育訓練費入力（前期）'!$C396,\"ｄ日\")&\"から\"&'教育訓練費入力（前期）'!$D396&\"日間\")","v":""},{"$f":"IF('教育訓練費入力（前期）'!$F396=\"\",\"\",IF('教育訓練費入力（前期）'!$G396=1,'教育訓練費入力（前期）'!$F396,'教育訓練費入力（前期）'!$F396&\"他\"&'教育訓練費入力（前期）'!$G396-1&\"名\"))","v":""}]
[null,388,null,null,null,null,null,null,null,null,{"$f":"IF('教育訓練費入力（前期）'!$C397=\"\",\"\",TEXT('教育訓練費入力（前期）'!$C397,\"yyyy年\")&TEXT('教育訓練費入力（前期）'!$C397,\"m月\")&TEXT('教育訓練費入力（前期）'!$C397,\"ｄ日\")&\"から\"&'教育訓練費入力（前期）'!$D397&\"日間\")","v":""},{"$f":"IF('教育訓練費入力（前期）'!$F397=\"\",\"\",IF('教育訓練費入力（前期）'!$G397=1,'教育訓練費入力（前期）'!$F397,'教育訓練費入力（前期）'!$F397&\"他\"&'教育訓練費入力（前期）'!$G397-1&\"名\"))","v":""}]
[null,389,null,null,null,null,null,null,null,null,{"$f":"IF('教育訓練費入力（前期）'!$C398=\"\",\"\",TEXT('教育訓練費入力（前期）'!$C398,\"yyyy年\")&TEXT('教育訓練費入力（前期）'!$C398,\"m月\")&TEXT('教育訓練費入力（前期）'!$C398,\"ｄ日\")&\"から\"&'教育訓練費入力（前期）'!$D398&\"日間\")","v":""},{"$f":"IF('教育訓練費入力（前期）'!$F398=\"\",\"\",IF('教育訓練費入力（前期）'!$G398=1,'教育訓練費入力（前期）'!$F398,'教育訓練費入力（前期）'!$F398&\"他\"&'教育訓練費入力（前期）'!$G398-1&\"名\"))","v":""}]
[null,390,null,null,null,null,null,null,null,null,{"$f":"IF('教育訓練費入力（前期）'!$C399=\"\",\"\",TEXT('教育訓練費入力（前期）'!$C399,\"yyyy年\")&TEXT('教育訓練費入力（前期）'!$C399,\"m月\")&TEXT('教育訓練費入力（前期）'!$C399,\"ｄ日\")&\"から\"&'教育訓練費入力（前期）'!$D399&\"日間\")","v":""},{"$f":"IF('教育訓練費入力（前期）'!$F399=\"\",\"\",IF('教育訓練費入力（前期）'!$G399=1,'教育訓練費入力（前期）'!$F399,'教育訓練費入力（前期）'!$F399&\"他\"&'教育訓練費入力（前期）'!$G399-1&\"名\"))","v":""}]
[null,391,null,null,null,null,null,null,null,null,{"$f":"IF('教育訓練費入力（前期）'!$C400=\"\",\"\",TEXT('教育訓練費入力（前期）'!$C400,\"yyyy年\")&TEXT('教育訓練費入力（前期）'!$C400,\"m月\")&TEXT('教育訓練費入力（前期）'!$C400,\"ｄ日\")&\"から\"&'教育訓練費入力（前期）'!$D400&\"日間\")","v":""},{"$f":"IF('教育訓練費入力（前期）'!$F400=\"\",\"\",IF('教育訓練費入力（前期）'!$G400=1,'教育訓練費入力（前期）'!$F400,'教育訓練費入力（前期）'!$F400&\"他\"&'教育訓練費入力（前期）'!$G400-1&\"名\"))","v":""}]
[null,392,null,null,null,null,null,null,null,null,{"$f":"IF('教育訓練費入力（前期）'!$C401=\"\",\"\",TEXT('教育訓練費入力（前期）'!$C401,\"yyyy年\")&TEXT('教育訓練費入力（前期）'!$C401,\"m月\")&TEXT('教育訓練費入力（前期）'!$C401,\"ｄ日\")&\"から\"&'教育訓練費入力（前期）'!$D401&\"日間\")","v":""},{"$f":"IF('教育訓練費入力（前期）'!$F401=\"\",\"\",IF('教育訓練費入力（前期）'!$G401=1,'教育訓練費入力（前期）'!$F401,'教育訓練費入力（前期）'!$F401&\"他\"&'教育訓練費入力（前期）'!$G401-1&\"名\"))","v":""}]
[null,393,null,null,null,null,null,null,null,null,{"$f":"IF('教育訓練費入力（前期）'!$C402=\"\",\"\",TEXT('教育訓練費入力（前期）'!$C402,\"yyyy年\")&TEXT('教育訓練費入力（前期）'!$C402,\"m月\")&TEXT('教育訓練費入力（前期）'!$C402,\"ｄ日\")&\"から\"&'教育訓練費入力（前期）'!$D402&\"日間\")","v":""},{"$f":"IF('教育訓練費入力（前期）'!$F402=\"\",\"\",IF('教育訓練費入力（前期）'!$G402=1,'教育訓練費入力（前期）'!$F402,'教育訓練費入力（前期）'!$F402&\"他\"&'教育訓練費入力（前期）'!$G402-1&\"名\"))","v":""}]
[null,394,null,null,null,null,null,null,null,null,{"$f":"IF('教育訓練費入力（前期）'!$C403=\"\",\"\",TEXT('教育訓練費入力（前期）'!$C403,\"yyyy年\")&TEXT('教育訓練費入力（前期）'!$C403,\"m月\")&TEXT('教育訓練費入力（前期）'!$C403,\"ｄ日\")&\"から\"&'教育訓練費入力（前期）'!$D403&\"日間\")","v":""},{"$f":"IF('教育訓練費入力（前期）'!$F403=\"\",\"\",IF('教育訓練費入力（前期）'!$G403=1,'教育訓練費入力（前期）'!$F403,'教育訓練費入力（前期）'!$F403&\"他\"&'教育訓練費入力（前期）'!$G403-1&\"名\"))","v":""}]
[null,395,null,null,null,null,null,null,null,null,{"$f":"IF('教育訓練費入力（前期）'!$C404=\"\",\"\",TEXT('教育訓練費入力（前期）'!$C404,\"yyyy年\")&TEXT('教育訓練費入力（前期）'!$C404,\"m月\")&TEXT('教育訓練費入力（前期）'!$C404,\"ｄ日\")&\"から\"&'教育訓練費入力（前期）'!$D404&\"日間\")","v":""},{"$f":"IF('教育訓練費入力（前期）'!$F404=\"\",\"\",IF('教育訓練費入力（前期）'!$G404=1,'教育訓練費入力（前期）'!$F404,'教育訓練費入力（前期）'!$F404&\"他\"&'教育訓練費入力（前期）'!$G404-1&\"名\"))","v":""}]
[null,396,null,null,null,null,null,null,null,null,{"$f":"IF('教育訓練費入力（前期）'!$C405=\"\",\"\",TEXT('教育訓練費入力（前期）'!$C405,\"yyyy年\")&TEXT('教育訓練費入力（前期）'!$C405,\"m月\")&TEXT('教育訓練費入力（前期）'!$C405,\"ｄ日\")&\"から\"&'教育訓練費入力（前期）'!$D405&\"日間\")","v":""},{"$f":"IF('教育訓練費入力（前期）'!$F405=\"\",\"\",IF('教育訓練費入力（前期）'!$G405=1,'教育訓練費入力（前期）'!$F405,'教育訓練費入力（前期）'!$F405&\"他\"&'教育訓練費入力（前期）'!$G405-1&\"名\"))","v":""}]
[null,397,null,null,null,null,null,null,null,null,{"$f":"IF('教育訓練費入力（前期）'!$C406=\"\",\"\",TEXT('教育訓練費入力（前期）'!$C406,\"yyyy年\")&TEXT('教育訓練費入力（前期）'!$C406,\"m月\")&TEXT('教育訓練費入力（前期）'!$C406,\"ｄ日\")&\"から\"&'教育訓練費入力（前期）'!$D406&\"日間\")","v":""},{"$f":"IF('教育訓練費入力（前期）'!$F406=\"\",\"\",IF('教育訓練費入力（前期）'!$G406=1,'教育訓練費入力（前期）'!$F406,'教育訓練費入力（前期）'!$F406&\"他\"&'教育訓練費入力（前期）'!$G406-1&\"名\"))","v":""}]
[null,398,null,null,null,null,null,null,null,null,{"$f":"IF('教育訓練費入力（前期）'!$C407=\"\",\"\",TEXT('教育訓練費入力（前期）'!$C407,\"yyyy年\")&TEXT('教育訓練費入力（前期）'!$C407,\"m月\")&TEXT('教育訓練費入力（前期）'!$C407,\"ｄ日\")&\"から\"&'教育訓練費入力（前期）'!$D407&\"日間\")","v":""},{"$f":"IF('教育訓練費入力（前期）'!$F407=\"\",\"\",IF('教育訓練費入力（前期）'!$G407=1,'教育訓練費入力（前期）'!$F407,'教育訓練費入力（前期）'!$F407&\"他\"&'教育訓練費入力（前期）'!$G407-1&\"名\"))","v":""}]
[null,399,null,null,null,null,null,null,null,null,{"$f":"IF('教育訓練費入力（前期）'!$C408=\"\",\"\",TEXT('教育訓練費入力（前期）'!$C408,\"yyyy年\")&TEXT('教育訓練費入力（前期）'!$C408,\"m月\")&TEXT('教育訓練費入力（前期）'!$C408,\"ｄ日\")&\"から\"&'教育訓練費入力（前期）'!$D408&\"日間\")","v":""},{"$f":"IF('教育訓練費入力（前期）'!$F408=\"\",\"\",IF('教育訓練費入力（前期）'!$G408=1,'教育訓練費入力（前期）'!$F408,'教育訓練費入力（前期）'!$F408&\"他\"&'教育訓練費入力（前期）'!$G408-1&\"名\"))","v":""}]
[null,400,null,null,null,null,null,null,null,null,{"$f":"IF('教育訓練費入力（前期）'!$C409=\"\",\"\",TEXT('教育訓練費入力（前期）'!$C409,\"yyyy年\")&TEXT('教育訓練費入力（前期）'!$C409,\"m月\")&TEXT('教育訓練費入力（前期）'!$C409,\"ｄ日\")&\"から\"&'教育訓練費入力（前期）'!$D409&\"日間\")","v":""},{"$f":"IF('教育訓練費入力（前期）'!$F409=\"\",\"\",IF('教育訓練費入力（前期）'!$G409=1,'教育訓練費入力（前期）'!$F409,'教育訓練費入力（前期）'!$F409&\"他\"&'教育訓練費入力（前期）'!$G409-1&\"名\"))","v":""}]
[null,401,null,null,null,null,null,null,null,null,{"$f":"IF('教育訓練費入力（前期）'!$C410=\"\",\"\",TEXT('教育訓練費入力（前期）'!$C410,\"yyyy年\")&TEXT('教育訓練費入力（前期）'!$C410,\"m月\")&TEXT('教育訓練費入力（前期）'!$C410,\"ｄ日\")&\"から\"&'教育訓練費入力（前期）'!$D410&\"日間\")","v":""},{"$f":"IF('教育訓練費入力（前期）'!$F410=\"\",\"\",IF('教育訓練費入力（前期）'!$G410=1,'教育訓練費入力（前期）'!$F410,'教育訓練費入力（前期）'!$F410&\"他\"&'教育訓練費入力（前期）'!$G410-1&\"名\"))","v":""}]
[null,402,null,null,null,null,null,null,null,null,{"$f":"IF('教育訓練費入力（前期）'!$C411=\"\",\"\",TEXT('教育訓練費入力（前期）'!$C411,\"yyyy年\")&TEXT('教育訓練費入力（前期）'!$C411,\"m月\")&TEXT('教育訓練費入力（前期）'!$C411,\"ｄ日\")&\"から\"&'教育訓練費入力（前期）'!$D411&\"日間\")","v":""},{"$f":"IF('教育訓練費入力（前期）'!$F411=\"\",\"\",IF('教育訓練費入力（前期）'!$G411=1,'教育訓練費入力（前期）'!$F411,'教育訓練費入力（前期）'!$F411&\"他\"&'教育訓練費入力（前期）'!$G411-1&\"名\"))","v":""}]
[null,403,null,null,null,null,null,null,null,null,{"$f":"IF('教育訓練費入力（前期）'!$C412=\"\",\"\",TEXT('教育訓練費入力（前期）'!$C412,\"yyyy年\")&TEXT('教育訓練費入力（前期）'!$C412,\"m月\")&TEXT('教育訓練費入力（前期）'!$C412,\"ｄ日\")&\"から\"&'教育訓練費入力（前期）'!$D412&\"日間\")","v":""},{"$f":"IF('教育訓練費入力（前期）'!$F412=\"\",\"\",IF('教育訓練費入力（前期）'!$G412=1,'教育訓練費入力（前期）'!$F412,'教育訓練費入力（前期）'!$F412&\"他\"&'教育訓練費入力（前期）'!$G412-1&\"名\"))","v":""}]
[null,404,null,null,null,null,null,null,null,null,{"$f":"IF('教育訓練費入力（前期）'!$C413=\"\",\"\",TEXT('教育訓練費入力（前期）'!$C413,\"yyyy年\")&TEXT('教育訓練費入力（前期）'!$C413,\"m月\")&TEXT('教育訓練費入力（前期）'!$C413,\"ｄ日\")&\"から\"&'教育訓練費入力（前期）'!$D413&\"日間\")","v":""},{"$f":"IF('教育訓練費入力（前期）'!$F413=\"\",\"\",IF('教育訓練費入力（前期）'!$G413=1,'教育訓練費入力（前期）'!$F413,'教育訓練費入力（前期）'!$F413&\"他\"&'教育訓練費入力（前期）'!$G413-1&\"名\"))","v":""}]
[null,405,null,null,null,null,null,null,null,null,{"$f":"IF('教育訓練費入力（前期）'!$C414=\"\",\"\",TEXT('教育訓練費入力（前期）'!$C414,\"yyyy年\")&TEXT('教育訓練費入力（前期）'!$C414,\"m月\")&TEXT('教育訓練費入力（前期）'!$C414,\"ｄ日\")&\"から\"&'教育訓練費入力（前期）'!$D414&\"日間\")","v":""},{"$f":"IF('教育訓練費入力（前期）'!$F414=\"\",\"\",IF('教育訓練費入力（前期）'!$G414=1,'教育訓練費入力（前期）'!$F414,'教育訓練費入力（前期）'!$F414&\"他\"&'教育訓練費入力（前期）'!$G414-1&\"名\"))","v":""}]
[null,406,null,null,null,null,null,null,null,null,{"$f":"IF('教育訓練費入力（前期）'!$C415=\"\",\"\",TEXT('教育訓練費入力（前期）'!$C415,\"yyyy年\")&TEXT('教育訓練費入力（前期）'!$C415,\"m月\")&TEXT('教育訓練費入力（前期）'!$C415,\"ｄ日\")&\"から\"&'教育訓練費入力（前期）'!$D415&\"日間\")","v":""},{"$f":"IF('教育訓練費入力（前期）'!$F415=\"\",\"\",IF('教育訓練費入力（前期）'!$G415=1,'教育訓練費入力（前期）'!$F415,'教育訓練費入力（前期）'!$F415&\"他\"&'教育訓練費入力（前期）'!$G415-1&\"名\"))","v":""}]
[null,407,null,null,null,null,null,null,null,null,{"$f":"IF('教育訓練費入力（前期）'!$C416=\"\",\"\",TEXT('教育訓練費入力（前期）'!$C416,\"yyyy年\")&TEXT('教育訓練費入力（前期）'!$C416,\"m月\")&TEXT('教育訓練費入力（前期）'!$C416,\"ｄ日\")&\"から\"&'教育訓練費入力（前期）'!$D416&\"日間\")","v":""},{"$f":"IF('教育訓練費入力（前期）'!$F416=\"\",\"\",IF('教育訓練費入力（前期）'!$G416=1,'教育訓練費入力（前期）'!$F416,'教育訓練費入力（前期）'!$F416&\"他\"&'教育訓練費入力（前期）'!$G416-1&\"名\"))","v":""}]
[null,408,null,null,null,null,null,null,null,null,{"$f":"IF('教育訓練費入力（前期）'!$C417=\"\",\"\",TEXT('教育訓練費入力（前期）'!$C417,\"yyyy年\")&TEXT('教育訓練費入力（前期）'!$C417,\"m月\")&TEXT('教育訓練費入力（前期）'!$C417,\"ｄ日\")&\"から\"&'教育訓練費入力（前期）'!$D417&\"日間\")","v":""},{"$f":"IF('教育訓練費入力（前期）'!$F417=\"\",\"\",IF('教育訓練費入力（前期）'!$G417=1,'教育訓練費入力（前期）'!$F417,'教育訓練費入力（前期）'!$F417&\"他\"&'教育訓練費入力（前期）'!$G417-1&\"名\"))","v":""}]
[null,409,null,null,null,null,null,null,null,null,{"$f":"IF('教育訓練費入力（前期）'!$C418=\"\",\"\",TEXT('教育訓練費入力（前期）'!$C418,\"yyyy年\")&TEXT('教育訓練費入力（前期）'!$C418,\"m月\")&TEXT('教育訓練費入力（前期）'!$C418,\"ｄ日\")&\"から\"&'教育訓練費入力（前期）'!$D418&\"日間\")","v":""},{"$f":"IF('教育訓練費入力（前期）'!$F418=\"\",\"\",IF('教育訓練費入力（前期）'!$G418=1,'教育訓練費入力（前期）'!$F418,'教育訓練費入力（前期）'!$F418&\"他\"&'教育訓練費入力（前期）'!$G418-1&\"名\"))","v":""}]
[null,410,null,null,null,null,null,null,null,null,{"$f":"IF('教育訓練費入力（前期）'!$C419=\"\",\"\",TEXT('教育訓練費入力（前期）'!$C419,\"yyyy年\")&TEXT('教育訓練費入力（前期）'!$C419,\"m月\")&TEXT('教育訓練費入力（前期）'!$C419,\"ｄ日\")&\"から\"&'教育訓練費入力（前期）'!$D419&\"日間\")","v":""},{"$f":"IF('教育訓練費入力（前期）'!$F419=\"\",\"\",IF('教育訓練費入力（前期）'!$G419=1,'教育訓練費入力（前期）'!$F419,'教育訓練費入力（前期）'!$F419&\"他\"&'教育訓練費入力（前期）'!$G419-1&\"名\"))","v":""}]
[null,411,null,null,null,null,null,null,null,null,{"$f":"IF('教育訓練費入力（前期）'!$C420=\"\",\"\",TEXT('教育訓練費入力（前期）'!$C420,\"yyyy年\")&TEXT('教育訓練費入力（前期）'!$C420,\"m月\")&TEXT('教育訓練費入力（前期）'!$C420,\"ｄ日\")&\"から\"&'教育訓練費入力（前期）'!$D420&\"日間\")","v":""},{"$f":"IF('教育訓練費入力（前期）'!$F420=\"\",\"\",IF('教育訓練費入力（前期）'!$G420=1,'教育訓練費入力（前期）'!$F420,'教育訓練費入力（前期）'!$F420&\"他\"&'教育訓練費入力（前期）'!$G420-1&\"名\"))","v":""}]
[null,412,null,null,null,null,null,null,null,null,{"$f":"IF('教育訓練費入力（前期）'!$C421=\"\",\"\",TEXT('教育訓練費入力（前期）'!$C421,\"yyyy年\")&TEXT('教育訓練費入力（前期）'!$C421,\"m月\")&TEXT('教育訓練費入力（前期）'!$C421,\"ｄ日\")&\"から\"&'教育訓練費入力（前期）'!$D421&\"日間\")","v":""},{"$f":"IF('教育訓練費入力（前期）'!$F421=\"\",\"\",IF('教育訓練費入力（前期）'!$G421=1,'教育訓練費入力（前期）'!$F421,'教育訓練費入力（前期）'!$F421&\"他\"&'教育訓練費入力（前期）'!$G421-1&\"名\"))","v":""}]
[null,413,null,null,null,null,null,null,null,null,{"$f":"IF('教育訓練費入力（前期）'!$C422=\"\",\"\",TEXT('教育訓練費入力（前期）'!$C422,\"yyyy年\")&TEXT('教育訓練費入力（前期）'!$C422,\"m月\")&TEXT('教育訓練費入力（前期）'!$C422,\"ｄ日\")&\"から\"&'教育訓練費入力（前期）'!$D422&\"日間\")","v":""},{"$f":"IF('教育訓練費入力（前期）'!$F422=\"\",\"\",IF('教育訓練費入力（前期）'!$G422=1,'教育訓練費入力（前期）'!$F422,'教育訓練費入力（前期）'!$F422&\"他\"&'教育訓練費入力（前期）'!$G422-1&\"名\"))","v":""}]
[null,414,null,null,null,null,null,null,null,null,{"$f":"IF('教育訓練費入力（前期）'!$C423=\"\",\"\",TEXT('教育訓練費入力（前期）'!$C423,\"yyyy年\")&TEXT('教育訓練費入力（前期）'!$C423,\"m月\")&TEXT('教育訓練費入力（前期）'!$C423,\"ｄ日\")&\"から\"&'教育訓練費入力（前期）'!$D423&\"日間\")","v":""},{"$f":"IF('教育訓練費入力（前期）'!$F423=\"\",\"\",IF('教育訓練費入力（前期）'!$G423=1,'教育訓練費入力（前期）'!$F423,'教育訓練費入力（前期）'!$F423&\"他\"&'教育訓練費入力（前期）'!$G423-1&\"名\"))","v":""}]
[null,415,null,null,null,null,null,null,null,null,{"$f":"IF('教育訓練費入力（前期）'!$C424=\"\",\"\",TEXT('教育訓練費入力（前期）'!$C424,\"yyyy年\")&TEXT('教育訓練費入力（前期）'!$C424,\"m月\")&TEXT('教育訓練費入力（前期）'!$C424,\"ｄ日\")&\"から\"&'教育訓練費入力（前期）'!$D424&\"日間\")","v":""},{"$f":"IF('教育訓練費入力（前期）'!$F424=\"\",\"\",IF('教育訓練費入力（前期）'!$G424=1,'教育訓練費入力（前期）'!$F424,'教育訓練費入力（前期）'!$F424&\"他\"&'教育訓練費入力（前期）'!$G424-1&\"名\"))","v":""}]
[null,416,null,null,null,null,null,null,null,null,{"$f":"IF('教育訓練費入力（前期）'!$C425=\"\",\"\",TEXT('教育訓練費入力（前期）'!$C425,\"yyyy年\")&TEXT('教育訓練費入力（前期）'!$C425,\"m月\")&TEXT('教育訓練費入力（前期）'!$C425,\"ｄ日\")&\"から\"&'教育訓練費入力（前期）'!$D425&\"日間\")","v":""},{"$f":"IF('教育訓練費入力（前期）'!$F425=\"\",\"\",IF('教育訓練費入力（前期）'!$G425=1,'教育訓練費入力（前期）'!$F425,'教育訓練費入力（前期）'!$F425&\"他\"&'教育訓練費入力（前期）'!$G425-1&\"名\"))","v":""}]
[null,417,null,null,null,null,null,null,null,null,{"$f":"IF('教育訓練費入力（前期）'!$C426=\"\",\"\",TEXT('教育訓練費入力（前期）'!$C426,\"yyyy年\")&TEXT('教育訓練費入力（前期）'!$C426,\"m月\")&TEXT('教育訓練費入力（前期）'!$C426,\"ｄ日\")&\"から\"&'教育訓練費入力（前期）'!$D426&\"日間\")","v":""},{"$f":"IF('教育訓練費入力（前期）'!$F426=\"\",\"\",IF('教育訓練費入力（前期）'!$G426=1,'教育訓練費入力（前期）'!$F426,'教育訓練費入力（前期）'!$F426&\"他\"&'教育訓練費入力（前期）'!$G426-1&\"名\"))","v":""}]
[null,418,null,null,null,null,null,null,null,null,{"$f":"IF('教育訓練費入力（前期）'!$C427=\"\",\"\",TEXT('教育訓練費入力（前期）'!$C427,\"yyyy年\")&TEXT('教育訓練費入力（前期）'!$C427,\"m月\")&TEXT('教育訓練費入力（前期）'!$C427,\"ｄ日\")&\"から\"&'教育訓練費入力（前期）'!$D427&\"日間\")","v":""},{"$f":"IF('教育訓練費入力（前期）'!$F427=\"\",\"\",IF('教育訓練費入力（前期）'!$G427=1,'教育訓練費入力（前期）'!$F427,'教育訓練費入力（前期）'!$F427&\"他\"&'教育訓練費入力（前期）'!$G427-1&\"名\"))","v":""}]
[null,419,null,null,null,null,null,null,null,null,{"$f":"IF('教育訓練費入力（前期）'!$C428=\"\",\"\",TEXT('教育訓練費入力（前期）'!$C428,\"yyyy年\")&TEXT('教育訓練費入力（前期）'!$C428,\"m月\")&TEXT('教育訓練費入力（前期）'!$C428,\"ｄ日\")&\"から\"&'教育訓練費入力（前期）'!$D428&\"日間\")","v":""},{"$f":"IF('教育訓練費入力（前期）'!$F428=\"\",\"\",IF('教育訓練費入力（前期）'!$G428=1,'教育訓練費入力（前期）'!$F428,'教育訓練費入力（前期）'!$F428&\"他\"&'教育訓練費入力（前期）'!$G428-1&\"名\"))","v":""}]
[null,420,null,null,null,null,null,null,null,null,{"$f":"IF('教育訓練費入力（前期）'!$C429=\"\",\"\",TEXT('教育訓練費入力（前期）'!$C429,\"yyyy年\")&TEXT('教育訓練費入力（前期）'!$C429,\"m月\")&TEXT('教育訓練費入力（前期）'!$C429,\"ｄ日\")&\"から\"&'教育訓練費入力（前期）'!$D429&\"日間\")","v":""},{"$f":"IF('教育訓練費入力（前期）'!$F429=\"\",\"\",IF('教育訓練費入力（前期）'!$G429=1,'教育訓練費入力（前期）'!$F429,'教育訓練費入力（前期）'!$F429&\"他\"&'教育訓練費入力（前期）'!$G429-1&\"名\"))","v":""}]
[null,421,null,null,null,null,null,null,null,null,{"$f":"IF('教育訓練費入力（前期）'!$C430=\"\",\"\",TEXT('教育訓練費入力（前期）'!$C430,\"yyyy年\")&TEXT('教育訓練費入力（前期）'!$C430,\"m月\")&TEXT('教育訓練費入力（前期）'!$C430,\"ｄ日\")&\"から\"&'教育訓練費入力（前期）'!$D430&\"日間\")","v":""},{"$f":"IF('教育訓練費入力（前期）'!$F430=\"\",\"\",IF('教育訓練費入力（前期）'!$G430=1,'教育訓練費入力（前期）'!$F430,'教育訓練費入力（前期）'!$F430&\"他\"&'教育訓練費入力（前期）'!$G430-1&\"名\"))","v":""}]
[null,422,null,null,null,null,null,null,null,null,{"$f":"IF('教育訓練費入力（前期）'!$C431=\"\",\"\",TEXT('教育訓練費入力（前期）'!$C431,\"yyyy年\")&TEXT('教育訓練費入力（前期）'!$C431,\"m月\")&TEXT('教育訓練費入力（前期）'!$C431,\"ｄ日\")&\"から\"&'教育訓練費入力（前期）'!$D431&\"日間\")","v":""},{"$f":"IF('教育訓練費入力（前期）'!$F431=\"\",\"\",IF('教育訓練費入力（前期）'!$G431=1,'教育訓練費入力（前期）'!$F431,'教育訓練費入力（前期）'!$F431&\"他\"&'教育訓練費入力（前期）'!$G431-1&\"名\"))","v":""}]
[null,423,null,null,null,null,null,null,null,null,{"$f":"IF('教育訓練費入力（前期）'!$C432=\"\",\"\",TEXT('教育訓練費入力（前期）'!$C432,\"yyyy年\")&TEXT('教育訓練費入力（前期）'!$C432,\"m月\")&TEXT('教育訓練費入力（前期）'!$C432,\"ｄ日\")&\"から\"&'教育訓練費入力（前期）'!$D432&\"日間\")","v":""},{"$f":"IF('教育訓練費入力（前期）'!$F432=\"\",\"\",IF('教育訓練費入力（前期）'!$G432=1,'教育訓練費入力（前期）'!$F432,'教育訓練費入力（前期）'!$F432&\"他\"&'教育訓練費入力（前期）'!$G432-1&\"名\"))","v":""}]
[null,424,null,null,null,null,null,null,null,null,{"$f":"IF('教育訓練費入力（前期）'!$C433=\"\",\"\",TEXT('教育訓練費入力（前期）'!$C433,\"yyyy年\")&TEXT('教育訓練費入力（前期）'!$C433,\"m月\")&TEXT('教育訓練費入力（前期）'!$C433,\"ｄ日\")&\"から\"&'教育訓練費入力（前期）'!$D433&\"日間\")","v":""},{"$f":"IF('教育訓練費入力（前期）'!$F433=\"\",\"\",IF('教育訓練費入力（前期）'!$G433=1,'教育訓練費入力（前期）'!$F433,'教育訓練費入力（前期）'!$F433&\"他\"&'教育訓練費入力（前期）'!$G433-1&\"名\"))","v":""}]
[null,425,null,null,null,null,null,null,null,null,{"$f":"IF('教育訓練費入力（前期）'!$C434=\"\",\"\",TEXT('教育訓練費入力（前期）'!$C434,\"yyyy年\")&TEXT('教育訓練費入力（前期）'!$C434,\"m月\")&TEXT('教育訓練費入力（前期）'!$C434,\"ｄ日\")&\"から\"&'教育訓練費入力（前期）'!$D434&\"日間\")","v":""},{"$f":"IF('教育訓練費入力（前期）'!$F434=\"\",\"\",IF('教育訓練費入力（前期）'!$G434=1,'教育訓練費入力（前期）'!$F434,'教育訓練費入力（前期）'!$F434&\"他\"&'教育訓練費入力（前期）'!$G434-1&\"名\"))","v":""}]
[null,426,null,null,null,null,null,null,null,null,{"$f":"IF('教育訓練費入力（前期）'!$C435=\"\",\"\",TEXT('教育訓練費入力（前期）'!$C435,\"yyyy年\")&TEXT('教育訓練費入力（前期）'!$C435,\"m月\")&TEXT('教育訓練費入力（前期）'!$C435,\"ｄ日\")&\"から\"&'教育訓練費入力（前期）'!$D435&\"日間\")","v":""},{"$f":"IF('教育訓練費入力（前期）'!$F435=\"\",\"\",IF('教育訓練費入力（前期）'!$G435=1,'教育訓練費入力（前期）'!$F435,'教育訓練費入力（前期）'!$F435&\"他\"&'教育訓練費入力（前期）'!$G435-1&\"名\"))","v":""}]
[null,427,null,null,null,null,null,null,null,null,{"$f":"IF('教育訓練費入力（前期）'!$C436=\"\",\"\",TEXT('教育訓練費入力（前期）'!$C436,\"yyyy年\")&TEXT('教育訓練費入力（前期）'!$C436,\"m月\")&TEXT('教育訓練費入力（前期）'!$C436,\"ｄ日\")&\"から\"&'教育訓練費入力（前期）'!$D436&\"日間\")","v":""},{"$f":"IF('教育訓練費入力（前期）'!$F436=\"\",\"\",IF('教育訓練費入力（前期）'!$G436=1,'教育訓練費入力（前期）'!$F436,'教育訓練費入力（前期）'!$F436&\"他\"&'教育訓練費入力（前期）'!$G436-1&\"名\"))","v":""}]
[null,428,null,null,null,null,null,null,null,null,{"$f":"IF('教育訓練費入力（前期）'!$C437=\"\",\"\",TEXT('教育訓練費入力（前期）'!$C437,\"yyyy年\")&TEXT('教育訓練費入力（前期）'!$C437,\"m月\")&TEXT('教育訓練費入力（前期）'!$C437,\"ｄ日\")&\"から\"&'教育訓練費入力（前期）'!$D437&\"日間\")","v":""},{"$f":"IF('教育訓練費入力（前期）'!$F437=\"\",\"\",IF('教育訓練費入力（前期）'!$G437=1,'教育訓練費入力（前期）'!$F437,'教育訓練費入力（前期）'!$F437&\"他\"&'教育訓練費入力（前期）'!$G437-1&\"名\"))","v":""}]
[null,429,null,null,null,null,null,null,null,null,{"$f":"IF('教育訓練費入力（前期）'!$C438=\"\",\"\",TEXT('教育訓練費入力（前期）'!$C438,\"yyyy年\")&TEXT('教育訓練費入力（前期）'!$C438,\"m月\")&TEXT('教育訓練費入力（前期）'!$C438,\"ｄ日\")&\"から\"&'教育訓練費入力（前期）'!$D438&\"日間\")","v":""},{"$f":"IF('教育訓練費入力（前期）'!$F438=\"\",\"\",IF('教育訓練費入力（前期）'!$G438=1,'教育訓練費入力（前期）'!$F438,'教育訓練費入力（前期）'!$F438&\"他\"&'教育訓練費入力（前期）'!$G438-1&\"名\"))","v":""}]
[null,430,null,null,null,null,null,null,null,null,{"$f":"IF('教育訓練費入力（前期）'!$C439=\"\",\"\",TEXT('教育訓練費入力（前期）'!$C439,\"yyyy年\")&TEXT('教育訓練費入力（前期）'!$C439,\"m月\")&TEXT('教育訓練費入力（前期）'!$C439,\"ｄ日\")&\"から\"&'教育訓練費入力（前期）'!$D439&\"日間\")","v":""},{"$f":"IF('教育訓練費入力（前期）'!$F439=\"\",\"\",IF('教育訓練費入力（前期）'!$G439=1,'教育訓練費入力（前期）'!$F439,'教育訓練費入力（前期）'!$F439&\"他\"&'教育訓練費入力（前期）'!$G439-1&\"名\"))","v":""}]
[null,431,null,null,null,null,null,null,null,null,{"$f":"IF('教育訓練費入力（前期）'!$C440=\"\",\"\",TEXT('教育訓練費入力（前期）'!$C440,\"yyyy年\")&TEXT('教育訓練費入力（前期）'!$C440,\"m月\")&TEXT('教育訓練費入力（前期）'!$C440,\"ｄ日\")&\"から\"&'教育訓練費入力（前期）'!$D440&\"日間\")","v":""},{"$f":"IF('教育訓練費入力（前期）'!$F440=\"\",\"\",IF('教育訓練費入力（前期）'!$G440=1,'教育訓練費入力（前期）'!$F440,'教育訓練費入力（前期）'!$F440&\"他\"&'教育訓練費入力（前期）'!$G440-1&\"名\"))","v":""}]
[null,432,null,null,null,null,null,null,null,null,{"$f":"IF('教育訓練費入力（前期）'!$C441=\"\",\"\",TEXT('教育訓練費入力（前期）'!$C441,\"yyyy年\")&TEXT('教育訓練費入力（前期）'!$C441,\"m月\")&TEXT('教育訓練費入力（前期）'!$C441,\"ｄ日\")&\"から\"&'教育訓練費入力（前期）'!$D441&\"日間\")","v":""},{"$f":"IF('教育訓練費入力（前期）'!$F441=\"\",\"\",IF('教育訓練費入力（前期）'!$G441=1,'教育訓練費入力（前期）'!$F441,'教育訓練費入力（前期）'!$F441&\"他\"&'教育訓練費入力（前期）'!$G441-1&\"名\"))","v":""}]
[null,433,null,null,null,null,null,null,null,null,{"$f":"IF('教育訓練費入力（前期）'!$C442=\"\",\"\",TEXT('教育訓練費入力（前期）'!$C442,\"yyyy年\")&TEXT('教育訓練費入力（前期）'!$C442,\"m月\")&TEXT('教育訓練費入力（前期）'!$C442,\"ｄ日\")&\"から\"&'教育訓練費入力（前期）'!$D442&\"日間\")","v":""},{"$f":"IF('教育訓練費入力（前期）'!$F442=\"\",\"\",IF('教育訓練費入力（前期）'!$G442=1,'教育訓練費入力（前期）'!$F442,'教育訓練費入力（前期）'!$F442&\"他\"&'教育訓練費入力（前期）'!$G442-1&\"名\"))","v":""}]
[null,434,null,null,null,null,null,null,null,null,{"$f":"IF('教育訓練費入力（前期）'!$C443=\"\",\"\",TEXT('教育訓練費入力（前期）'!$C443,\"yyyy年\")&TEXT('教育訓練費入力（前期）'!$C443,\"m月\")&TEXT('教育訓練費入力（前期）'!$C443,\"ｄ日\")&\"から\"&'教育訓練費入力（前期）'!$D443&\"日間\")","v":""},{"$f":"IF('教育訓練費入力（前期）'!$F443=\"\",\"\",IF('教育訓練費入力（前期）'!$G443=1,'教育訓練費入力（前期）'!$F443,'教育訓練費入力（前期）'!$F443&\"他\"&'教育訓練費入力（前期）'!$G443-1&\"名\"))","v":""}]
[null,435,null,null,null,null,null,null,null,null,{"$f":"IF('教育訓練費入力（前期）'!$C444=\"\",\"\",TEXT('教育訓練費入力（前期）'!$C444,\"yyyy年\")&TEXT('教育訓練費入力（前期）'!$C444,\"m月\")&TEXT('教育訓練費入力（前期）'!$C444,\"ｄ日\")&\"から\"&'教育訓練費入力（前期）'!$D444&\"日間\")","v":""},{"$f":"IF('教育訓練費入力（前期）'!$F444=\"\",\"\",IF('教育訓練費入力（前期）'!$G444=1,'教育訓練費入力（前期）'!$F444,'教育訓練費入力（前期）'!$F444&\"他\"&'教育訓練費入力（前期）'!$G444-1&\"名\"))","v":""}]
[null,436,null,null,null,null,null,null,null,null,{"$f":"IF('教育訓練費入力（前期）'!$C445=\"\",\"\",TEXT('教育訓練費入力（前期）'!$C445,\"yyyy年\")&TEXT('教育訓練費入力（前期）'!$C445,\"m月\")&TEXT('教育訓練費入力（前期）'!$C445,\"ｄ日\")&\"から\"&'教育訓練費入力（前期）'!$D445&\"日間\")","v":""},{"$f":"IF('教育訓練費入力（前期）'!$F445=\"\",\"\",IF('教育訓練費入力（前期）'!$G445=1,'教育訓練費入力（前期）'!$F445,'教育訓練費入力（前期）'!$F445&\"他\"&'教育訓練費入力（前期）'!$G445-1&\"名\"))","v":""}]
[null,437,null,null,null,null,null,null,null,null,{"$f":"IF('教育訓練費入力（前期）'!$C446=\"\",\"\",TEXT('教育訓練費入力（前期）'!$C446,\"yyyy年\")&TEXT('教育訓練費入力（前期）'!$C446,\"m月\")&TEXT('教育訓練費入力（前期）'!$C446,\"ｄ日\")&\"から\"&'教育訓練費入力（前期）'!$D446&\"日間\")","v":""},{"$f":"IF('教育訓練費入力（前期）'!$F446=\"\",\"\",IF('教育訓練費入力（前期）'!$G446=1,'教育訓練費入力（前期）'!$F446,'教育訓練費入力（前期）'!$F446&\"他\"&'教育訓練費入力（前期）'!$G446-1&\"名\"))","v":""}]
[null,438,null,null,null,null,null,null,null,null,{"$f":"IF('教育訓練費入力（前期）'!$C447=\"\",\"\",TEXT('教育訓練費入力（前期）'!$C447,\"yyyy年\")&TEXT('教育訓練費入力（前期）'!$C447,\"m月\")&TEXT('教育訓練費入力（前期）'!$C447,\"ｄ日\")&\"から\"&'教育訓練費入力（前期）'!$D447&\"日間\")","v":""},{"$f":"IF('教育訓練費入力（前期）'!$F447=\"\",\"\",IF('教育訓練費入力（前期）'!$G447=1,'教育訓練費入力（前期）'!$F447,'教育訓練費入力（前期）'!$F447&\"他\"&'教育訓練費入力（前期）'!$G447-1&\"名\"))","v":""}]
[null,439,null,null,null,null,null,null,null,null,{"$f":"IF('教育訓練費入力（前期）'!$C448=\"\",\"\",TEXT('教育訓練費入力（前期）'!$C448,\"yyyy年\")&TEXT('教育訓練費入力（前期）'!$C448,\"m月\")&TEXT('教育訓練費入力（前期）'!$C448,\"ｄ日\")&\"から\"&'教育訓練費入力（前期）'!$D448&\"日間\")","v":""},{"$f":"IF('教育訓練費入力（前期）'!$F448=\"\",\"\",IF('教育訓練費入力（前期）'!$G448=1,'教育訓練費入力（前期）'!$F448,'教育訓練費入力（前期）'!$F448&\"他\"&'教育訓練費入力（前期）'!$G448-1&\"名\"))","v":""}]
[null,440,null,null,null,null,null,null,null,null,{"$f":"IF('教育訓練費入力（前期）'!$C449=\"\",\"\",TEXT('教育訓練費入力（前期）'!$C449,\"yyyy年\")&TEXT('教育訓練費入力（前期）'!$C449,\"m月\")&TEXT('教育訓練費入力（前期）'!$C449,\"ｄ日\")&\"から\"&'教育訓練費入力（前期）'!$D449&\"日間\")","v":""},{"$f":"IF('教育訓練費入力（前期）'!$F449=\"\",\"\",IF('教育訓練費入力（前期）'!$G449=1,'教育訓練費入力（前期）'!$F449,'教育訓練費入力（前期）'!$F449&\"他\"&'教育訓練費入力（前期）'!$G449-1&\"名\"))","v":""}]
[null,441,null,null,null,null,null,null,null,null,{"$f":"IF('教育訓練費入力（前期）'!$C450=\"\",\"\",TEXT('教育訓練費入力（前期）'!$C450,\"yyyy年\")&TEXT('教育訓練費入力（前期）'!$C450,\"m月\")&TEXT('教育訓練費入力（前期）'!$C450,\"ｄ日\")&\"から\"&'教育訓練費入力（前期）'!$D450&\"日間\")","v":""},{"$f":"IF('教育訓練費入力（前期）'!$F450=\"\",\"\",IF('教育訓練費入力（前期）'!$G450=1,'教育訓練費入力（前期）'!$F450,'教育訓練費入力（前期）'!$F450&\"他\"&'教育訓練費入力（前期）'!$G450-1&\"名\"))","v":""}]
[null,442,null,null,null,null,null,null,null,null,{"$f":"IF('教育訓練費入力（前期）'!$C451=\"\",\"\",TEXT('教育訓練費入力（前期）'!$C451,\"yyyy年\")&TEXT('教育訓練費入力（前期）'!$C451,\"m月\")&TEXT('教育訓練費入力（前期）'!$C451,\"ｄ日\")&\"から\"&'教育訓練費入力（前期）'!$D451&\"日間\")","v":""},{"$f":"IF('教育訓練費入力（前期）'!$F451=\"\",\"\",IF('教育訓練費入力（前期）'!$G451=1,'教育訓練費入力（前期）'!$F451,'教育訓練費入力（前期）'!$F451&\"他\"&'教育訓練費入力（前期）'!$G451-1&\"名\"))","v":""}]
[null,443,null,null,null,null,null,null,null,null,{"$f":"IF('教育訓練費入力（前期）'!$C452=\"\",\"\",TEXT('教育訓練費入力（前期）'!$C452,\"yyyy年\")&TEXT('教育訓練費入力（前期）'!$C452,\"m月\")&TEXT('教育訓練費入力（前期）'!$C452,\"ｄ日\")&\"から\"&'教育訓練費入力（前期）'!$D452&\"日間\")","v":""},{"$f":"IF('教育訓練費入力（前期）'!$F452=\"\",\"\",IF('教育訓練費入力（前期）'!$G452=1,'教育訓練費入力（前期）'!$F452,'教育訓練費入力（前期）'!$F452&\"他\"&'教育訓練費入力（前期）'!$G452-1&\"名\"))","v":""}]
[null,444,null,null,null,null,null,null,null,null,{"$f":"IF('教育訓練費入力（前期）'!$C453=\"\",\"\",TEXT('教育訓練費入力（前期）'!$C453,\"yyyy年\")&TEXT('教育訓練費入力（前期）'!$C453,\"m月\")&TEXT('教育訓練費入力（前期）'!$C453,\"ｄ日\")&\"から\"&'教育訓練費入力（前期）'!$D453&\"日間\")","v":""},{"$f":"IF('教育訓練費入力（前期）'!$F453=\"\",\"\",IF('教育訓練費入力（前期）'!$G453=1,'教育訓練費入力（前期）'!$F453,'教育訓練費入力（前期）'!$F453&\"他\"&'教育訓練費入力（前期）'!$G453-1&\"名\"))","v":""}]
[null,445,null,null,null,null,null,null,null,null,{"$f":"IF('教育訓練費入力（前期）'!$C454=\"\",\"\",TEXT('教育訓練費入力（前期）'!$C454,\"yyyy年\")&TEXT('教育訓練費入力（前期）'!$C454,\"m月\")&TEXT('教育訓練費入力（前期）'!$C454,\"ｄ日\")&\"から\"&'教育訓練費入力（前期）'!$D454&\"日間\")","v":""},{"$f":"IF('教育訓練費入力（前期）'!$F454=\"\",\"\",IF('教育訓練費入力（前期）'!$G454=1,'教育訓練費入力（前期）'!$F454,'教育訓練費入力（前期）'!$F454&\"他\"&'教育訓練費入力（前期）'!$G454-1&\"名\"))","v":""}]
[null,446,null,null,null,null,null,null,null,null,{"$f":"IF('教育訓練費入力（前期）'!$C455=\"\",\"\",TEXT('教育訓練費入力（前期）'!$C455,\"yyyy年\")&TEXT('教育訓練費入力（前期）'!$C455,\"m月\")&TEXT('教育訓練費入力（前期）'!$C455,\"ｄ日\")&\"から\"&'教育訓練費入力（前期）'!$D455&\"日間\")","v":""},{"$f":"IF('教育訓練費入力（前期）'!$F455=\"\",\"\",IF('教育訓練費入力（前期）'!$G455=1,'教育訓練費入力（前期）'!$F455,'教育訓練費入力（前期）'!$F455&\"他\"&'教育訓練費入力（前期）'!$G455-1&\"名\"))","v":""}]
[null,447,null,null,null,null,null,null,null,null,{"$f":"IF('教育訓練費入力（前期）'!$C456=\"\",\"\",TEXT('教育訓練費入力（前期）'!$C456,\"yyyy年\")&TEXT('教育訓練費入力（前期）'!$C456,\"m月\")&TEXT('教育訓練費入力（前期）'!$C456,\"ｄ日\")&\"から\"&'教育訓練費入力（前期）'!$D456&\"日間\")","v":""},{"$f":"IF('教育訓練費入力（前期）'!$F456=\"\",\"\",IF('教育訓練費入力（前期）'!$G456=1,'教育訓練費入力（前期）'!$F456,'教育訓練費入力（前期）'!$F456&\"他\"&'教育訓練費入力（前期）'!$G456-1&\"名\"))","v":""}]
[null,448,null,null,null,null,null,null,null,null,{"$f":"IF('教育訓練費入力（前期）'!$C457=\"\",\"\",TEXT('教育訓練費入力（前期）'!$C457,\"yyyy年\")&TEXT('教育訓練費入力（前期）'!$C457,\"m月\")&TEXT('教育訓練費入力（前期）'!$C457,\"ｄ日\")&\"から\"&'教育訓練費入力（前期）'!$D457&\"日間\")","v":""},{"$f":"IF('教育訓練費入力（前期）'!$F457=\"\",\"\",IF('教育訓練費入力（前期）'!$G457=1,'教育訓練費入力（前期）'!$F457,'教育訓練費入力（前期）'!$F457&\"他\"&'教育訓練費入力（前期）'!$G457-1&\"名\"))","v":""}]
[null,449,null,null,null,null,null,null,null,null,{"$f":"IF('教育訓練費入力（前期）'!$C458=\"\",\"\",TEXT('教育訓練費入力（前期）'!$C458,\"yyyy年\")&TEXT('教育訓練費入力（前期）'!$C458,\"m月\")&TEXT('教育訓練費入力（前期）'!$C458,\"ｄ日\")&\"から\"&'教育訓練費入力（前期）'!$D458&\"日間\")","v":""},{"$f":"IF('教育訓練費入力（前期）'!$F458=\"\",\"\",IF('教育訓練費入力（前期）'!$G458=1,'教育訓練費入力（前期）'!$F458,'教育訓練費入力（前期）'!$F458&\"他\"&'教育訓練費入力（前期）'!$G458-1&\"名\"))","v":""}]
[null,450,null,null,null,null,null,null,null,null,{"$f":"IF('教育訓練費入力（前期）'!$C459=\"\",\"\",TEXT('教育訓練費入力（前期）'!$C459,\"yyyy年\")&TEXT('教育訓練費入力（前期）'!$C459,\"m月\")&TEXT('教育訓練費入力（前期）'!$C459,\"ｄ日\")&\"から\"&'教育訓練費入力（前期）'!$D459&\"日間\")","v":""},{"$f":"IF('教育訓練費入力（前期）'!$F459=\"\",\"\",IF('教育訓練費入力（前期）'!$G459=1,'教育訓練費入力（前期）'!$F459,'教育訓練費入力（前期）'!$F459&\"他\"&'教育訓練費入力（前期）'!$G459-1&\"名\"))","v":""}]
[null,451,null,null,null,null,null,null,null,null,{"$f":"IF('教育訓練費入力（前期）'!$C460=\"\",\"\",TEXT('教育訓練費入力（前期）'!$C460,\"yyyy年\")&TEXT('教育訓練費入力（前期）'!$C460,\"m月\")&TEXT('教育訓練費入力（前期）'!$C460,\"ｄ日\")&\"から\"&'教育訓練費入力（前期）'!$D460&\"日間\")","v":""},{"$f":"IF('教育訓練費入力（前期）'!$F460=\"\",\"\",IF('教育訓練費入力（前期）'!$G460=1,'教育訓練費入力（前期）'!$F460,'教育訓練費入力（前期）'!$F460&\"他\"&'教育訓練費入力（前期）'!$G460-1&\"名\"))","v":""}]
[null,452,null,null,null,null,null,null,null,null,{"$f":"IF('教育訓練費入力（前期）'!$C461=\"\",\"\",TEXT('教育訓練費入力（前期）'!$C461,\"yyyy年\")&TEXT('教育訓練費入力（前期）'!$C461,\"m月\")&TEXT('教育訓練費入力（前期）'!$C461,\"ｄ日\")&\"から\"&'教育訓練費入力（前期）'!$D461&\"日間\")","v":""},{"$f":"IF('教育訓練費入力（前期）'!$F461=\"\",\"\",IF('教育訓練費入力（前期）'!$G461=1,'教育訓練費入力（前期）'!$F461,'教育訓練費入力（前期）'!$F461&\"他\"&'教育訓練費入力（前期）'!$G461-1&\"名\"))","v":""}]
[null,453,null,null,null,null,null,null,null,null,{"$f":"IF('教育訓練費入力（前期）'!$C462=\"\",\"\",TEXT('教育訓練費入力（前期）'!$C462,\"yyyy年\")&TEXT('教育訓練費入力（前期）'!$C462,\"m月\")&TEXT('教育訓練費入力（前期）'!$C462,\"ｄ日\")&\"から\"&'教育訓練費入力（前期）'!$D462&\"日間\")","v":""},{"$f":"IF('教育訓練費入力（前期）'!$F462=\"\",\"\",IF('教育訓練費入力（前期）'!$G462=1,'教育訓練費入力（前期）'!$F462,'教育訓練費入力（前期）'!$F462&\"他\"&'教育訓練費入力（前期）'!$G462-1&\"名\"))","v":""}]
[null,454,null,null,null,null,null,null,null,null,{"$f":"IF('教育訓練費入力（前期）'!$C463=\"\",\"\",TEXT('教育訓練費入力（前期）'!$C463,\"yyyy年\")&TEXT('教育訓練費入力（前期）'!$C463,\"m月\")&TEXT('教育訓練費入力（前期）'!$C463,\"ｄ日\")&\"から\"&'教育訓練費入力（前期）'!$D463&\"日間\")","v":""},{"$f":"IF('教育訓練費入力（前期）'!$F463=\"\",\"\",IF('教育訓練費入力（前期）'!$G463=1,'教育訓練費入力（前期）'!$F463,'教育訓練費入力（前期）'!$F463&\"他\"&'教育訓練費入力（前期）'!$G463-1&\"名\"))","v":""}]
[null,455,null,null,null,null,null,null,null,null,{"$f":"IF('教育訓練費入力（前期）'!$C464=\"\",\"\",TEXT('教育訓練費入力（前期）'!$C464,\"yyyy年\")&TEXT('教育訓練費入力（前期）'!$C464,\"m月\")&TEXT('教育訓練費入力（前期）'!$C464,\"ｄ日\")&\"から\"&'教育訓練費入力（前期）'!$D464&\"日間\")","v":""},{"$f":"IF('教育訓練費入力（前期）'!$F464=\"\",\"\",IF('教育訓練費入力（前期）'!$G464=1,'教育訓練費入力（前期）'!$F464,'教育訓練費入力（前期）'!$F464&\"他\"&'教育訓練費入力（前期）'!$G464-1&\"名\"))","v":""}]
[null,456,null,null,null,null,null,null,null,null,{"$f":"IF('教育訓練費入力（前期）'!$C465=\"\",\"\",TEXT('教育訓練費入力（前期）'!$C465,\"yyyy年\")&TEXT('教育訓練費入力（前期）'!$C465,\"m月\")&TEXT('教育訓練費入力（前期）'!$C465,\"ｄ日\")&\"から\"&'教育訓練費入力（前期）'!$D465&\"日間\")","v":""},{"$f":"IF('教育訓練費入力（前期）'!$F465=\"\",\"\",IF('教育訓練費入力（前期）'!$G465=1,'教育訓練費入力（前期）'!$F465,'教育訓練費入力（前期）'!$F465&\"他\"&'教育訓練費入力（前期）'!$G465-1&\"名\"))","v":""}]
[null,457,null,null,null,null,null,null,null,null,{"$f":"IF('教育訓練費入力（前期）'!$C466=\"\",\"\",TEXT('教育訓練費入力（前期）'!$C466,\"yyyy年\")&TEXT('教育訓練費入力（前期）'!$C466,\"m月\")&TEXT('教育訓練費入力（前期）'!$C466,\"ｄ日\")&\"から\"&'教育訓練費入力（前期）'!$D466&\"日間\")","v":""},{"$f":"IF('教育訓練費入力（前期）'!$F466=\"\",\"\",IF('教育訓練費入力（前期）'!$G466=1,'教育訓練費入力（前期）'!$F466,'教育訓練費入力（前期）'!$F466&\"他\"&'教育訓練費入力（前期）'!$G466-1&\"名\"))","v":""}]
[null,458,null,null,null,null,null,null,null,null,{"$f":"IF('教育訓練費入力（前期）'!$C467=\"\",\"\",TEXT('教育訓練費入力（前期）'!$C467,\"yyyy年\")&TEXT('教育訓練費入力（前期）'!$C467,\"m月\")&TEXT('教育訓練費入力（前期）'!$C467,\"ｄ日\")&\"から\"&'教育訓練費入力（前期）'!$D467&\"日間\")","v":""},{"$f":"IF('教育訓練費入力（前期）'!$F467=\"\",\"\",IF('教育訓練費入力（前期）'!$G467=1,'教育訓練費入力（前期）'!$F467,'教育訓練費入力（前期）'!$F467&\"他\"&'教育訓練費入力（前期）'!$G467-1&\"名\"))","v":""}]
[null,459,null,null,null,null,null,null,null,null,{"$f":"IF('教育訓練費入力（前期）'!$C468=\"\",\"\",TEXT('教育訓練費入力（前期）'!$C468,\"yyyy年\")&TEXT('教育訓練費入力（前期）'!$C468,\"m月\")&TEXT('教育訓練費入力（前期）'!$C468,\"ｄ日\")&\"から\"&'教育訓練費入力（前期）'!$D468&\"日間\")","v":""},{"$f":"IF('教育訓練費入力（前期）'!$F468=\"\",\"\",IF('教育訓練費入力（前期）'!$G468=1,'教育訓練費入力（前期）'!$F468,'教育訓練費入力（前期）'!$F468&\"他\"&'教育訓練費入力（前期）'!$G468-1&\"名\"))","v":""}]
[null,460,null,null,null,null,null,null,null,null,{"$f":"IF('教育訓練費入力（前期）'!$C469=\"\",\"\",TEXT('教育訓練費入力（前期）'!$C469,\"yyyy年\")&TEXT('教育訓練費入力（前期）'!$C469,\"m月\")&TEXT('教育訓練費入力（前期）'!$C469,\"ｄ日\")&\"から\"&'教育訓練費入力（前期）'!$D469&\"日間\")","v":""},{"$f":"IF('教育訓練費入力（前期）'!$F469=\"\",\"\",IF('教育訓練費入力（前期）'!$G469=1,'教育訓練費入力（前期）'!$F469,'教育訓練費入力（前期）'!$F469&\"他\"&'教育訓練費入力（前期）'!$G469-1&\"名\"))","v":""}]
[null,461,null,null,null,null,null,null,null,null,{"$f":"IF('教育訓練費入力（前期）'!$C470=\"\",\"\",TEXT('教育訓練費入力（前期）'!$C470,\"yyyy年\")&TEXT('教育訓練費入力（前期）'!$C470,\"m月\")&TEXT('教育訓練費入力（前期）'!$C470,\"ｄ日\")&\"から\"&'教育訓練費入力（前期）'!$D470&\"日間\")","v":""},{"$f":"IF('教育訓練費入力（前期）'!$F470=\"\",\"\",IF('教育訓練費入力（前期）'!$G470=1,'教育訓練費入力（前期）'!$F470,'教育訓練費入力（前期）'!$F470&\"他\"&'教育訓練費入力（前期）'!$G470-1&\"名\"))","v":""}]
[null,462,null,null,null,null,null,null,null,null,{"$f":"IF('教育訓練費入力（前期）'!$C471=\"\",\"\",TEXT('教育訓練費入力（前期）'!$C471,\"yyyy年\")&TEXT('教育訓練費入力（前期）'!$C471,\"m月\")&TEXT('教育訓練費入力（前期）'!$C471,\"ｄ日\")&\"から\"&'教育訓練費入力（前期）'!$D471&\"日間\")","v":""},{"$f":"IF('教育訓練費入力（前期）'!$F471=\"\",\"\",IF('教育訓練費入力（前期）'!$G471=1,'教育訓練費入力（前期）'!$F471,'教育訓練費入力（前期）'!$F471&\"他\"&'教育訓練費入力（前期）'!$G471-1&\"名\"))","v":""}]
[null,463,null,null,null,null,null,null,null,null,{"$f":"IF('教育訓練費入力（前期）'!$C472=\"\",\"\",TEXT('教育訓練費入力（前期）'!$C472,\"yyyy年\")&TEXT('教育訓練費入力（前期）'!$C472,\"m月\")&TEXT('教育訓練費入力（前期）'!$C472,\"ｄ日\")&\"から\"&'教育訓練費入力（前期）'!$D472&\"日間\")","v":""},{"$f":"IF('教育訓練費入力（前期）'!$F472=\"\",\"\",IF('教育訓練費入力（前期）'!$G472=1,'教育訓練費入力（前期）'!$F472,'教育訓練費入力（前期）'!$F472&\"他\"&'教育訓練費入力（前期）'!$G472-1&\"名\"))","v":""}]
[null,464,null,null,null,null,null,null,null,null,{"$f":"IF('教育訓練費入力（前期）'!$C473=\"\",\"\",TEXT('教育訓練費入力（前期）'!$C473,\"yyyy年\")&TEXT('教育訓練費入力（前期）'!$C473,\"m月\")&TEXT('教育訓練費入力（前期）'!$C473,\"ｄ日\")&\"から\"&'教育訓練費入力（前期）'!$D473&\"日間\")","v":""},{"$f":"IF('教育訓練費入力（前期）'!$F473=\"\",\"\",IF('教育訓練費入力（前期）'!$G473=1,'教育訓練費入力（前期）'!$F473,'教育訓練費入力（前期）'!$F473&\"他\"&'教育訓練費入力（前期）'!$G473-1&\"名\"))","v":""}]
[null,465,null,null,null,null,null,null,null,null,{"$f":"IF('教育訓練費入力（前期）'!$C474=\"\",\"\",TEXT('教育訓練費入力（前期）'!$C474,\"yyyy年\")&TEXT('教育訓練費入力（前期）'!$C474,\"m月\")&TEXT('教育訓練費入力（前期）'!$C474,\"ｄ日\")&\"から\"&'教育訓練費入力（前期）'!$D474&\"日間\")","v":""},{"$f":"IF('教育訓練費入力（前期）'!$F474=\"\",\"\",IF('教育訓練費入力（前期）'!$G474=1,'教育訓練費入力（前期）'!$F474,'教育訓練費入力（前期）'!$F474&\"他\"&'教育訓練費入力（前期）'!$G474-1&\"名\"))","v":""}]
[null,466,null,null,null,null,null,null,null,null,{"$f":"IF('教育訓練費入力（前期）'!$C475=\"\",\"\",TEXT('教育訓練費入力（前期）'!$C475,\"yyyy年\")&TEXT('教育訓練費入力（前期）'!$C475,\"m月\")&TEXT('教育訓練費入力（前期）'!$C475,\"ｄ日\")&\"から\"&'教育訓練費入力（前期）'!$D475&\"日間\")","v":""},{"$f":"IF('教育訓練費入力（前期）'!$F475=\"\",\"\",IF('教育訓練費入力（前期）'!$G475=1,'教育訓練費入力（前期）'!$F475,'教育訓練費入力（前期）'!$F475&\"他\"&'教育訓練費入力（前期）'!$G475-1&\"名\"))","v":""}]
[null,467,null,null,null,null,null,null,null,null,{"$f":"IF('教育訓練費入力（前期）'!$C476=\"\",\"\",TEXT('教育訓練費入力（前期）'!$C476,\"yyyy年\")&TEXT('教育訓練費入力（前期）'!$C476,\"m月\")&TEXT('教育訓練費入力（前期）'!$C476,\"ｄ日\")&\"から\"&'教育訓練費入力（前期）'!$D476&\"日間\")","v":""},{"$f":"IF('教育訓練費入力（前期）'!$F476=\"\",\"\",IF('教育訓練費入力（前期）'!$G476=1,'教育訓練費入力（前期）'!$F476,'教育訓練費入力（前期）'!$F476&\"他\"&'教育訓練費入力（前期）'!$G476-1&\"名\"))","v":""}]
[null,468,null,null,null,null,null,null,null,null,{"$f":"IF('教育訓練費入力（前期）'!$C477=\"\",\"\",TEXT('教育訓練費入力（前期）'!$C477,\"yyyy年\")&TEXT('教育訓練費入力（前期）'!$C477,\"m月\")&TEXT('教育訓練費入力（前期）'!$C477,\"ｄ日\")&\"から\"&'教育訓練費入力（前期）'!$D477&\"日間\")","v":""},{"$f":"IF('教育訓練費入力（前期）'!$F477=\"\",\"\",IF('教育訓練費入力（前期）'!$G477=1,'教育訓練費入力（前期）'!$F477,'教育訓練費入力（前期）'!$F477&\"他\"&'教育訓練費入力（前期）'!$G477-1&\"名\"))","v":""}]
[null,469,null,null,null,null,null,null,null,null,{"$f":"IF('教育訓練費入力（前期）'!$C478=\"\",\"\",TEXT('教育訓練費入力（前期）'!$C478,\"yyyy年\")&TEXT('教育訓練費入力（前期）'!$C478,\"m月\")&TEXT('教育訓練費入力（前期）'!$C478,\"ｄ日\")&\"から\"&'教育訓練費入力（前期）'!$D478&\"日間\")","v":""},{"$f":"IF('教育訓練費入力（前期）'!$F478=\"\",\"\",IF('教育訓練費入力（前期）'!$G478=1,'教育訓練費入力（前期）'!$F478,'教育訓練費入力（前期）'!$F478&\"他\"&'教育訓練費入力（前期）'!$G478-1&\"名\"))","v":""}]
[null,470,null,null,null,null,null,null,null,null,{"$f":"IF('教育訓練費入力（前期）'!$C479=\"\",\"\",TEXT('教育訓練費入力（前期）'!$C479,\"yyyy年\")&TEXT('教育訓練費入力（前期）'!$C479,\"m月\")&TEXT('教育訓練費入力（前期）'!$C479,\"ｄ日\")&\"から\"&'教育訓練費入力（前期）'!$D479&\"日間\")","v":""},{"$f":"IF('教育訓練費入力（前期）'!$F479=\"\",\"\",IF('教育訓練費入力（前期）'!$G479=1,'教育訓練費入力（前期）'!$F479,'教育訓練費入力（前期）'!$F479&\"他\"&'教育訓練費入力（前期）'!$G479-1&\"名\"))","v":""}]
[null,471,null,null,null,null,null,null,null,null,{"$f":"IF('教育訓練費入力（前期）'!$C480=\"\",\"\",TEXT('教育訓練費入力（前期）'!$C480,\"yyyy年\")&TEXT('教育訓練費入力（前期）'!$C480,\"m月\")&TEXT('教育訓練費入力（前期）'!$C480,\"ｄ日\")&\"から\"&'教育訓練費入力（前期）'!$D480&\"日間\")","v":""},{"$f":"IF('教育訓練費入力（前期）'!$F480=\"\",\"\",IF('教育訓練費入力（前期）'!$G480=1,'教育訓練費入力（前期）'!$F480,'教育訓練費入力（前期）'!$F480&\"他\"&'教育訓練費入力（前期）'!$G480-1&\"名\"))","v":""}]
[null,472,null,null,null,null,null,null,null,null,{"$f":"IF('教育訓練費入力（前期）'!$C481=\"\",\"\",TEXT('教育訓練費入力（前期）'!$C481,\"yyyy年\")&TEXT('教育訓練費入力（前期）'!$C481,\"m月\")&TEXT('教育訓練費入力（前期）'!$C481,\"ｄ日\")&\"から\"&'教育訓練費入力（前期）'!$D481&\"日間\")","v":""},{"$f":"IF('教育訓練費入力（前期）'!$F481=\"\",\"\",IF('教育訓練費入力（前期）'!$G481=1,'教育訓練費入力（前期）'!$F481,'教育訓練費入力（前期）'!$F481&\"他\"&'教育訓練費入力（前期）'!$G481-1&\"名\"))","v":""}]
[null,473,null,null,null,null,null,null,null,null,{"$f":"IF('教育訓練費入力（前期）'!$C482=\"\",\"\",TEXT('教育訓練費入力（前期）'!$C482,\"yyyy年\")&TEXT('教育訓練費入力（前期）'!$C482,\"m月\")&TEXT('教育訓練費入力（前期）'!$C482,\"ｄ日\")&\"から\"&'教育訓練費入力（前期）'!$D482&\"日間\")","v":""},{"$f":"IF('教育訓練費入力（前期）'!$F482=\"\",\"\",IF('教育訓練費入力（前期）'!$G482=1,'教育訓練費入力（前期）'!$F482,'教育訓練費入力（前期）'!$F482&\"他\"&'教育訓練費入力（前期）'!$G482-1&\"名\"))","v":""}]
[null,474,null,null,null,null,null,null,null,null,{"$f":"IF('教育訓練費入力（前期）'!$C483=\"\",\"\",TEXT('教育訓練費入力（前期）'!$C483,\"yyyy年\")&TEXT('教育訓練費入力（前期）'!$C483,\"m月\")&TEXT('教育訓練費入力（前期）'!$C483,\"ｄ日\")&\"から\"&'教育訓練費入力（前期）'!$D483&\"日間\")","v":""},{"$f":"IF('教育訓練費入力（前期）'!$F483=\"\",\"\",IF('教育訓練費入力（前期）'!$G483=1,'教育訓練費入力（前期）'!$F483,'教育訓練費入力（前期）'!$F483&\"他\"&'教育訓練費入力（前期）'!$G483-1&\"名\"))","v":""}]
[null,475,null,null,null,null,null,null,null,null,{"$f":"IF('教育訓練費入力（前期）'!$C484=\"\",\"\",TEXT('教育訓練費入力（前期）'!$C484,\"yyyy年\")&TEXT('教育訓練費入力（前期）'!$C484,\"m月\")&TEXT('教育訓練費入力（前期）'!$C484,\"ｄ日\")&\"から\"&'教育訓練費入力（前期）'!$D484&\"日間\")","v":""},{"$f":"IF('教育訓練費入力（前期）'!$F484=\"\",\"\",IF('教育訓練費入力（前期）'!$G484=1,'教育訓練費入力（前期）'!$F484,'教育訓練費入力（前期）'!$F484&\"他\"&'教育訓練費入力（前期）'!$G484-1&\"名\"))","v":""}]
[null,476,null,null,null,null,null,null,null,null,{"$f":"IF('教育訓練費入力（前期）'!$C485=\"\",\"\",TEXT('教育訓練費入力（前期）'!$C485,\"yyyy年\")&TEXT('教育訓練費入力（前期）'!$C485,\"m月\")&TEXT('教育訓練費入力（前期）'!$C485,\"ｄ日\")&\"から\"&'教育訓練費入力（前期）'!$D485&\"日間\")","v":""},{"$f":"IF('教育訓練費入力（前期）'!$F485=\"\",\"\",IF('教育訓練費入力（前期）'!$G485=1,'教育訓練費入力（前期）'!$F485,'教育訓練費入力（前期）'!$F485&\"他\"&'教育訓練費入力（前期）'!$G485-1&\"名\"))","v":""}]
[null,477,null,null,null,null,null,null,null,null,{"$f":"IF('教育訓練費入力（前期）'!$C486=\"\",\"\",TEXT('教育訓練費入力（前期）'!$C486,\"yyyy年\")&TEXT('教育訓練費入力（前期）'!$C486,\"m月\")&TEXT('教育訓練費入力（前期）'!$C486,\"ｄ日\")&\"から\"&'教育訓練費入力（前期）'!$D486&\"日間\")","v":""},{"$f":"IF('教育訓練費入力（前期）'!$F486=\"\",\"\",IF('教育訓練費入力（前期）'!$G486=1,'教育訓練費入力（前期）'!$F486,'教育訓練費入力（前期）'!$F486&\"他\"&'教育訓練費入力（前期）'!$G486-1&\"名\"))","v":""}]
[null,478,null,null,null,null,null,null,null,null,{"$f":"IF('教育訓練費入力（前期）'!$C487=\"\",\"\",TEXT('教育訓練費入力（前期）'!$C487,\"yyyy年\")&TEXT('教育訓練費入力（前期）'!$C487,\"m月\")&TEXT('教育訓練費入力（前期）'!$C487,\"ｄ日\")&\"から\"&'教育訓練費入力（前期）'!$D487&\"日間\")","v":""},{"$f":"IF('教育訓練費入力（前期）'!$F487=\"\",\"\",IF('教育訓練費入力（前期）'!$G487=1,'教育訓練費入力（前期）'!$F487,'教育訓練費入力（前期）'!$F487&\"他\"&'教育訓練費入力（前期）'!$G487-1&\"名\"))","v":""}]
[null,479,null,null,null,null,null,null,null,null,{"$f":"IF('教育訓練費入力（前期）'!$C488=\"\",\"\",TEXT('教育訓練費入力（前期）'!$C488,\"yyyy年\")&TEXT('教育訓練費入力（前期）'!$C488,\"m月\")&TEXT('教育訓練費入力（前期）'!$C488,\"ｄ日\")&\"から\"&'教育訓練費入力（前期）'!$D488&\"日間\")","v":""},{"$f":"IF('教育訓練費入力（前期）'!$F488=\"\",\"\",IF('教育訓練費入力（前期）'!$G488=1,'教育訓練費入力（前期）'!$F488,'教育訓練費入力（前期）'!$F488&\"他\"&'教育訓練費入力（前期）'!$G488-1&\"名\"))","v":""}]
[null,480,null,null,null,null,null,null,null,null,{"$f":"IF('教育訓練費入力（前期）'!$C489=\"\",\"\",TEXT('教育訓練費入力（前期）'!$C489,\"yyyy年\")&TEXT('教育訓練費入力（前期）'!$C489,\"m月\")&TEXT('教育訓練費入力（前期）'!$C489,\"ｄ日\")&\"から\"&'教育訓練費入力（前期）'!$D489&\"日間\")","v":""},{"$f":"IF('教育訓練費入力（前期）'!$F489=\"\",\"\",IF('教育訓練費入力（前期）'!$G489=1,'教育訓練費入力（前期）'!$F489,'教育訓練費入力（前期）'!$F489&\"他\"&'教育訓練費入力（前期）'!$G489-1&\"名\"))","v":""}]
[null,481,null,null,null,null,null,null,null,null,{"$f":"IF('教育訓練費入力（前期）'!$C490=\"\",\"\",TEXT('教育訓練費入力（前期）'!$C490,\"yyyy年\")&TEXT('教育訓練費入力（前期）'!$C490,\"m月\")&TEXT('教育訓練費入力（前期）'!$C490,\"ｄ日\")&\"から\"&'教育訓練費入力（前期）'!$D490&\"日間\")","v":""},{"$f":"IF('教育訓練費入力（前期）'!$F490=\"\",\"\",IF('教育訓練費入力（前期）'!$G490=1,'教育訓練費入力（前期）'!$F490,'教育訓練費入力（前期）'!$F490&\"他\"&'教育訓練費入力（前期）'!$G490-1&\"名\"))","v":""}]
[null,482,null,null,null,null,null,null,null,null,{"$f":"IF('教育訓練費入力（前期）'!$C491=\"\",\"\",TEXT('教育訓練費入力（前期）'!$C491,\"yyyy年\")&TEXT('教育訓練費入力（前期）'!$C491,\"m月\")&TEXT('教育訓練費入力（前期）'!$C491,\"ｄ日\")&\"から\"&'教育訓練費入力（前期）'!$D491&\"日間\")","v":""},{"$f":"IF('教育訓練費入力（前期）'!$F491=\"\",\"\",IF('教育訓練費入力（前期）'!$G491=1,'教育訓練費入力（前期）'!$F491,'教育訓練費入力（前期）'!$F491&\"他\"&'教育訓練費入力（前期）'!$G491-1&\"名\"))","v":""}]
[null,483,null,null,null,null,null,null,null,null,{"$f":"IF('教育訓練費入力（前期）'!$C492=\"\",\"\",TEXT('教育訓練費入力（前期）'!$C492,\"yyyy年\")&TEXT('教育訓練費入力（前期）'!$C492,\"m月\")&TEXT('教育訓練費入力（前期）'!$C492,\"ｄ日\")&\"から\"&'教育訓練費入力（前期）'!$D492&\"日間\")","v":""},{"$f":"IF('教育訓練費入力（前期）'!$F492=\"\",\"\",IF('教育訓練費入力（前期）'!$G492=1,'教育訓練費入力（前期）'!$F492,'教育訓練費入力（前期）'!$F492&\"他\"&'教育訓練費入力（前期）'!$G492-1&\"名\"))","v":""}]
[null,484,null,null,null,null,null,null,null,null,{"$f":"IF('教育訓練費入力（前期）'!$C493=\"\",\"\",TEXT('教育訓練費入力（前期）'!$C493,\"yyyy年\")&TEXT('教育訓練費入力（前期）'!$C493,\"m月\")&TEXT('教育訓練費入力（前期）'!$C493,\"ｄ日\")&\"から\"&'教育訓練費入力（前期）'!$D493&\"日間\")","v":""},{"$f":"IF('教育訓練費入力（前期）'!$F493=\"\",\"\",IF('教育訓練費入力（前期）'!$G493=1,'教育訓練費入力（前期）'!$F493,'教育訓練費入力（前期）'!$F493&\"他\"&'教育訓練費入力（前期）'!$G493-1&\"名\"))","v":""}]
[null,485,null,null,null,null,null,null,null,null,{"$f":"IF('教育訓練費入力（前期）'!$C494=\"\",\"\",TEXT('教育訓練費入力（前期）'!$C494,\"yyyy年\")&TEXT('教育訓練費入力（前期）'!$C494,\"m月\")&TEXT('教育訓練費入力（前期）'!$C494,\"ｄ日\")&\"から\"&'教育訓練費入力（前期）'!$D494&\"日間\")","v":""},{"$f":"IF('教育訓練費入力（前期）'!$F494=\"\",\"\",IF('教育訓練費入力（前期）'!$G494=1,'教育訓練費入力（前期）'!$F494,'教育訓練費入力（前期）'!$F494&\"他\"&'教育訓練費入力（前期）'!$G494-1&\"名\"))","v":""}]
[null,486,null,null,null,null,null,null,null,null,{"$f":"IF('教育訓練費入力（前期）'!$C495=\"\",\"\",TEXT('教育訓練費入力（前期）'!$C495,\"yyyy年\")&TEXT('教育訓練費入力（前期）'!$C495,\"m月\")&TEXT('教育訓練費入力（前期）'!$C495,\"ｄ日\")&\"から\"&'教育訓練費入力（前期）'!$D495&\"日間\")","v":""},{"$f":"IF('教育訓練費入力（前期）'!$F495=\"\",\"\",IF('教育訓練費入力（前期）'!$G495=1,'教育訓練費入力（前期）'!$F495,'教育訓練費入力（前期）'!$F495&\"他\"&'教育訓練費入力（前期）'!$G495-1&\"名\"))","v":""}]
[null,487,null,null,null,null,null,null,null,null,{"$f":"IF('教育訓練費入力（前期）'!$C496=\"\",\"\",TEXT('教育訓練費入力（前期）'!$C496,\"yyyy年\")&TEXT('教育訓練費入力（前期）'!$C496,\"m月\")&TEXT('教育訓練費入力（前期）'!$C496,\"ｄ日\")&\"から\"&'教育訓練費入力（前期）'!$D496&\"日間\")","v":""},{"$f":"IF('教育訓練費入力（前期）'!$F496=\"\",\"\",IF('教育訓練費入力（前期）'!$G496=1,'教育訓練費入力（前期）'!$F496,'教育訓練費入力（前期）'!$F496&\"他\"&'教育訓練費入力（前期）'!$G496-1&\"名\"))","v":""}]
[null,488,null,null,null,null,null,null,null,null,{"$f":"IF('教育訓練費入力（前期）'!$C497=\"\",\"\",TEXT('教育訓練費入力（前期）'!$C497,\"yyyy年\")&TEXT('教育訓練費入力（前期）'!$C497,\"m月\")&TEXT('教育訓練費入力（前期）'!$C497,\"ｄ日\")&\"から\"&'教育訓練費入力（前期）'!$D497&\"日間\")","v":""},{"$f":"IF('教育訓練費入力（前期）'!$F497=\"\",\"\",IF('教育訓練費入力（前期）'!$G497=1,'教育訓練費入力（前期）'!$F497,'教育訓練費入力（前期）'!$F497&\"他\"&'教育訓練費入力（前期）'!$G497-1&\"名\"))","v":""}]
[null,489,null,null,null,null,null,null,null,null,{"$f":"IF('教育訓練費入力（前期）'!$C498=\"\",\"\",TEXT('教育訓練費入力（前期）'!$C498,\"yyyy年\")&TEXT('教育訓練費入力（前期）'!$C498,\"m月\")&TEXT('教育訓練費入力（前期）'!$C498,\"ｄ日\")&\"から\"&'教育訓練費入力（前期）'!$D498&\"日間\")","v":""},{"$f":"IF('教育訓練費入力（前期）'!$F498=\"\",\"\",IF('教育訓練費入力（前期）'!$G498=1,'教育訓練費入力（前期）'!$F498,'教育訓練費入力（前期）'!$F498&\"他\"&'教育訓練費入力（前期）'!$G498-1&\"名\"))","v":""}]
[null,490,null,null,null,null,null,null,null,null,{"$f":"IF('教育訓練費入力（前期）'!$C499=\"\",\"\",TEXT('教育訓練費入力（前期）'!$C499,\"yyyy年\")&TEXT('教育訓練費入力（前期）'!$C499,\"m月\")&TEXT('教育訓練費入力（前期）'!$C499,\"ｄ日\")&\"から\"&'教育訓練費入力（前期）'!$D499&\"日間\")","v":""},{"$f":"IF('教育訓練費入力（前期）'!$F499=\"\",\"\",IF('教育訓練費入力（前期）'!$G499=1,'教育訓練費入力（前期）'!$F499,'教育訓練費入力（前期）'!$F499&\"他\"&'教育訓練費入力（前期）'!$G499-1&\"名\"))","v":""}]
[null,491,null,null,null,null,null,null,null,null,{"$f":"IF('教育訓練費入力（前期）'!$C500=\"\",\"\",TEXT('教育訓練費入力（前期）'!$C500,\"yyyy年\")&TEXT('教育訓練費入力（前期）'!$C500,\"m月\")&TEXT('教育訓練費入力（前期）'!$C500,\"ｄ日\")&\"から\"&'教育訓練費入力（前期）'!$D500&\"日間\")","v":""},{"$f":"IF('教育訓練費入力（前期）'!$F500=\"\",\"\",IF('教育訓練費入力（前期）'!$G500=1,'教育訓練費入力（前期）'!$F500,'教育訓練費入力（前期）'!$F500&\"他\"&'教育訓練費入力（前期）'!$G500-1&\"名\"))","v":""}]
[null,492,null,null,null,null,null,null,null,null,{"$f":"IF('教育訓練費入力（前期）'!$C501=\"\",\"\",TEXT('教育訓練費入力（前期）'!$C501,\"yyyy年\")&TEXT('教育訓練費入力（前期）'!$C501,\"m月\")&TEXT('教育訓練費入力（前期）'!$C501,\"ｄ日\")&\"から\"&'教育訓練費入力（前期）'!$D501&\"日間\")","v":""},{"$f":"IF('教育訓練費入力（前期）'!$F501=\"\",\"\",IF('教育訓練費入力（前期）'!$G501=1,'教育訓練費入力（前期）'!$F501,'教育訓練費入力（前期）'!$F501&\"他\"&'教育訓練費入力（前期）'!$G501-1&\"名\"))","v":""}]
[null,493,null,null,null,null,null,null,null,null,{"$f":"IF('教育訓練費入力（前期）'!$C502=\"\",\"\",TEXT('教育訓練費入力（前期）'!$C502,\"yyyy年\")&TEXT('教育訓練費入力（前期）'!$C502,\"m月\")&TEXT('教育訓練費入力（前期）'!$C502,\"ｄ日\")&\"から\"&'教育訓練費入力（前期）'!$D502&\"日間\")","v":""},{"$f":"IF('教育訓練費入力（前期）'!$F502=\"\",\"\",IF('教育訓練費入力（前期）'!$G502=1,'教育訓練費入力（前期）'!$F502,'教育訓練費入力（前期）'!$F502&\"他\"&'教育訓練費入力（前期）'!$G502-1&\"名\"))","v":""}]
[null,494,null,null,null,null,null,null,null,null,{"$f":"IF('教育訓練費入力（前期）'!$C503=\"\",\"\",TEXT('教育訓練費入力（前期）'!$C503,\"yyyy年\")&TEXT('教育訓練費入力（前期）'!$C503,\"m月\")&TEXT('教育訓練費入力（前期）'!$C503,\"ｄ日\")&\"から\"&'教育訓練費入力（前期）'!$D503&\"日間\")","v":""},{"$f":"IF('教育訓練費入力（前期）'!$F503=\"\",\"\",IF('教育訓練費入力（前期）'!$G503=1,'教育訓練費入力（前期）'!$F503,'教育訓練費入力（前期）'!$F503&\"他\"&'教育訓練費入力（前期）'!$G503-1&\"名\"))","v":""}]
[null,495,null,null,null,null,null,null,null,null,{"$f":"IF('教育訓練費入力（前期）'!$C504=\"\",\"\",TEXT('教育訓練費入力（前期）'!$C504,\"yyyy年\")&TEXT('教育訓練費入力（前期）'!$C504,\"m月\")&TEXT('教育訓練費入力（前期）'!$C504,\"ｄ日\")&\"から\"&'教育訓練費入力（前期）'!$D504&\"日間\")","v":""},{"$f":"IF('教育訓練費入力（前期）'!$F504=\"\",\"\",IF('教育訓練費入力（前期）'!$G504=1,'教育訓練費入力（前期）'!$F504,'教育訓練費入力（前期）'!$F504&\"他\"&'教育訓練費入力（前期）'!$G504-1&\"名\"))","v":""}]
[null,496,null,null,null,null,null,null,null,null,{"$f":"IF('教育訓練費入力（前期）'!$C505=\"\",\"\",TEXT('教育訓練費入力（前期）'!$C505,\"yyyy年\")&TEXT('教育訓練費入力（前期）'!$C505,\"m月\")&TEXT('教育訓練費入力（前期）'!$C505,\"ｄ日\")&\"から\"&'教育訓練費入力（前期）'!$D505&\"日間\")","v":""},{"$f":"IF('教育訓練費入力（前期）'!$F505=\"\",\"\",IF('教育訓練費入力（前期）'!$G505=1,'教育訓練費入力（前期）'!$F505,'教育訓練費入力（前期）'!$F505&\"他\"&'教育訓練費入力（前期）'!$G505-1&\"名\"))","v":""}]
[null,497,null,null,null,null,null,null,null,null,{"$f":"IF('教育訓練費入力（前期）'!$C506=\"\",\"\",TEXT('教育訓練費入力（前期）'!$C506,\"yyyy年\")&TEXT('教育訓練費入力（前期）'!$C506,\"m月\")&TEXT('教育訓練費入力（前期）'!$C506,\"ｄ日\")&\"から\"&'教育訓練費入力（前期）'!$D506&\"日間\")","v":""},{"$f":"IF('教育訓練費入力（前期）'!$F506=\"\",\"\",IF('教育訓練費入力（前期）'!$G506=1,'教育訓練費入力（前期）'!$F506,'教育訓練費入力（前期）'!$F506&\"他\"&'教育訓練費入力（前期）'!$G506-1&\"名\"))","v":""}]
[null,498,null,null,null,null,null,null,null,null,{"$f":"IF('教育訓練費入力（前期）'!$C507=\"\",\"\",TEXT('教育訓練費入力（前期）'!$C507,\"yyyy年\")&TEXT('教育訓練費入力（前期）'!$C507,\"m月\")&TEXT('教育訓練費入力（前期）'!$C507,\"ｄ日\")&\"から\"&'教育訓練費入力（前期）'!$D507&\"日間\")","v":""},{"$f":"IF('教育訓練費入力（前期）'!$F507=\"\",\"\",IF('教育訓練費入力（前期）'!$G507=1,'教育訓練費入力（前期）'!$F507,'教育訓練費入力（前期）'!$F507&\"他\"&'教育訓練費入力（前期）'!$G507-1&\"名\"))","v":""}]
[null,499,null,null,null,null,null,null,null,null,{"$f":"IF('教育訓練費入力（前期）'!$C508=\"\",\"\",TEXT('教育訓練費入力（前期）'!$C508,\"yyyy年\")&TEXT('教育訓練費入力（前期）'!$C508,\"m月\")&TEXT('教育訓練費入力（前期）'!$C508,\"ｄ日\")&\"から\"&'教育訓練費入力（前期）'!$D508&\"日間\")","v":""},{"$f":"IF('教育訓練費入力（前期）'!$F508=\"\",\"\",IF('教育訓練費入力（前期）'!$G508=1,'教育訓練費入力（前期）'!$F508,'教育訓練費入力（前期）'!$F508&\"他\"&'教育訓練費入力（前期）'!$G508-1&\"名\"))","v":""}]
[null,500,null,null,null,null,null,null,null,null,{"$f":"IF('教育訓練費入力（前期）'!$C509=\"\",\"\",TEXT('教育訓練費入力（前期）'!$C509,\"yyyy年\")&TEXT('教育訓練費入力（前期）'!$C509,\"m月\")&TEXT('教育訓練費入力（前期）'!$C509,\"ｄ日\")&\"から\"&'教育訓練費入力（前期）'!$D509&\"日間\")","v":""},{"$f":"IF('教育訓練費入力（前期）'!$F509=\"\",\"\",IF('教育訓練費入力（前期）'!$G509=1,'教育訓練費入力（前期）'!$F509,'教育訓練費入力（前期）'!$F509&\"他\"&'教育訓練費入力（前期）'!$G509-1&\"名\"))","v":""}]
[null,501,null,null,null,null,null,null,null,null,{"$f":"IF('教育訓練費入力（前期）'!$C510=\"\",\"\",TEXT('教育訓練費入力（前期）'!$C510,\"yyyy年\")&TEXT('教育訓練費入力（前期）'!$C510,\"m月\")&TEXT('教育訓練費入力（前期）'!$C510,\"ｄ日\")&\"から\"&'教育訓練費入力（前期）'!$D510&\"日間\")","v":""},{"$f":"IF('教育訓練費入力（前期）'!$F510=\"\",\"\",IF('教育訓練費入力（前期）'!$G510=1,'教育訓練費入力（前期）'!$F510,'教育訓練費入力（前期）'!$F510&\"他\"&'教育訓練費入力（前期）'!$G510-1&\"名\"))","v":""}]
[null,502,null,null,null,null,null,null,null,null,{"$f":"IF('教育訓練費入力（前期）'!$C511=\"\",\"\",TEXT('教育訓練費入力（前期）'!$C511,\"yyyy年\")&TEXT('教育訓練費入力（前期）'!$C511,\"m月\")&TEXT('教育訓練費入力（前期）'!$C511,\"ｄ日\")&\"から\"&'教育訓練費入力（前期）'!$D511&\"日間\")","v":""},{"$f":"IF('教育訓練費入力（前期）'!$F511=\"\",\"\",IF('教育訓練費入力（前期）'!$G511=1,'教育訓練費入力（前期）'!$F511,'教育訓練費入力（前期）'!$F511&\"他\"&'教育訓練費入力（前期）'!$G511-1&\"名\"))","v":""}]
[null,503,null,null,null,null,null,null,null,null,{"$f":"IF('教育訓練費入力（前期）'!$C512=\"\",\"\",TEXT('教育訓練費入力（前期）'!$C512,\"yyyy年\")&TEXT('教育訓練費入力（前期）'!$C512,\"m月\")&TEXT('教育訓練費入力（前期）'!$C512,\"ｄ日\")&\"から\"&'教育訓練費入力（前期）'!$D512&\"日間\")","v":""},{"$f":"IF('教育訓練費入力（前期）'!$F512=\"\",\"\",IF('教育訓練費入力（前期）'!$G512=1,'教育訓練費入力（前期）'!$F512,'教育訓練費入力（前期）'!$F512&\"他\"&'教育訓練費入力（前期）'!$G512-1&\"名\"))","v":""}]
[null,504,null,null,null,null,null,null,null,null,{"$f":"IF('教育訓練費入力（前期）'!$C513=\"\",\"\",TEXT('教育訓練費入力（前期）'!$C513,\"yyyy年\")&TEXT('教育訓練費入力（前期）'!$C513,\"m月\")&TEXT('教育訓練費入力（前期）'!$C513,\"ｄ日\")&\"から\"&'教育訓練費入力（前期）'!$D513&\"日間\")","v":""},{"$f":"IF('教育訓練費入力（前期）'!$F513=\"\",\"\",IF('教育訓練費入力（前期）'!$G513=1,'教育訓練費入力（前期）'!$F513,'教育訓練費入力（前期）'!$F513&\"他\"&'教育訓練費入力（前期）'!$G513-1&\"名\"))","v":""}]
[null,505,null,null,null,null,null,null,null,null,{"$f":"IF('教育訓練費入力（前期）'!$C514=\"\",\"\",TEXT('教育訓練費入力（前期）'!$C514,\"yyyy年\")&TEXT('教育訓練費入力（前期）'!$C514,\"m月\")&TEXT('教育訓練費入力（前期）'!$C514,\"ｄ日\")&\"から\"&'教育訓練費入力（前期）'!$D514&\"日間\")","v":""},{"$f":"IF('教育訓練費入力（前期）'!$F514=\"\",\"\",IF('教育訓練費入力（前期）'!$G514=1,'教育訓練費入力（前期）'!$F514,'教育訓練費入力（前期）'!$F514&\"他\"&'教育訓練費入力（前期）'!$G514-1&\"名\"))","v":""}]
[null,506,null,null,null,null,null,null,null,null,{"$f":"IF('教育訓練費入力（前期）'!$C515=\"\",\"\",TEXT('教育訓練費入力（前期）'!$C515,\"yyyy年\")&TEXT('教育訓練費入力（前期）'!$C515,\"m月\")&TEXT('教育訓練費入力（前期）'!$C515,\"ｄ日\")&\"から\"&'教育訓練費入力（前期）'!$D515&\"日間\")","v":""},{"$f":"IF('教育訓練費入力（前期）'!$F515=\"\",\"\",IF('教育訓練費入力（前期）'!$G515=1,'教育訓練費入力（前期）'!$F515,'教育訓練費入力（前期）'!$F515&\"他\"&'教育訓練費入力（前期）'!$G515-1&\"名\"))","v":""}]
[null,507,null,null,null,null,null,null,null,null,{"$f":"IF('教育訓練費入力（前期）'!$C516=\"\",\"\",TEXT('教育訓練費入力（前期）'!$C516,\"yyyy年\")&TEXT('教育訓練費入力（前期）'!$C516,\"m月\")&TEXT('教育訓練費入力（前期）'!$C516,\"ｄ日\")&\"から\"&'教育訓練費入力（前期）'!$D516&\"日間\")","v":""},{"$f":"IF('教育訓練費入力（前期）'!$F516=\"\",\"\",IF('教育訓練費入力（前期）'!$G516=1,'教育訓練費入力（前期）'!$F516,'教育訓練費入力（前期）'!$F516&\"他\"&'教育訓練費入力（前期）'!$G516-1&\"名\"))","v":""}]
[null,508,null,null,null,null,null,null,null,null,{"$f":"IF('教育訓練費入力（前期）'!$C517=\"\",\"\",TEXT('教育訓練費入力（前期）'!$C517,\"yyyy年\")&TEXT('教育訓練費入力（前期）'!$C517,\"m月\")&TEXT('教育訓練費入力（前期）'!$C517,\"ｄ日\")&\"から\"&'教育訓練費入力（前期）'!$D517&\"日間\")","v":""},{"$f":"IF('教育訓練費入力（前期）'!$F517=\"\",\"\",IF('教育訓練費入力（前期）'!$G517=1,'教育訓練費入力（前期）'!$F517,'教育訓練費入力（前期）'!$F517&\"他\"&'教育訓練費入力（前期）'!$G517-1&\"名\"))","v":""}]
[null,509,null,null,null,null,null,null,null,null,{"$f":"IF('教育訓練費入力（前期）'!$C518=\"\",\"\",TEXT('教育訓練費入力（前期）'!$C518,\"yyyy年\")&TEXT('教育訓練費入力（前期）'!$C518,\"m月\")&TEXT('教育訓練費入力（前期）'!$C518,\"ｄ日\")&\"から\"&'教育訓練費入力（前期）'!$D518&\"日間\")","v":""},{"$f":"IF('教育訓練費入力（前期）'!$F518=\"\",\"\",IF('教育訓練費入力（前期）'!$G518=1,'教育訓練費入力（前期）'!$F518,'教育訓練費入力（前期）'!$F518&\"他\"&'教育訓練費入力（前期）'!$G518-1&\"名\"))","v":""}]
[null,510,null,null,null,null,null,null,null,null,{"$f":"IF('教育訓練費入力（前期）'!$C519=\"\",\"\",TEXT('教育訓練費入力（前期）'!$C519,\"yyyy年\")&TEXT('教育訓練費入力（前期）'!$C519,\"m月\")&TEXT('教育訓練費入力（前期）'!$C519,\"ｄ日\")&\"から\"&'教育訓練費入力（前期）'!$D519&\"日間\")","v":""},{"$f":"IF('教育訓練費入力（前期）'!$F519=\"\",\"\",IF('教育訓練費入力（前期）'!$G519=1,'教育訓練費入力（前期）'!$F519,'教育訓練費入力（前期）'!$F519&\"他\"&'教育訓練費入力（前期）'!$G519-1&\"名\"))","v":""}]
[null,511,null,null,null,null,null,null,null,null,{"$f":"IF('教育訓練費入力（前期）'!$C520=\"\",\"\",TEXT('教育訓練費入力（前期）'!$C520,\"yyyy年\")&TEXT('教育訓練費入力（前期）'!$C520,\"m月\")&TEXT('教育訓練費入力（前期）'!$C520,\"ｄ日\")&\"から\"&'教育訓練費入力（前期）'!$D520&\"日間\")","v":""},{"$f":"IF('教育訓練費入力（前期）'!$F520=\"\",\"\",IF('教育訓練費入力（前期）'!$G520=1,'教育訓練費入力（前期）'!$F520,'教育訓練費入力（前期）'!$F520&\"他\"&'教育訓練費入力（前期）'!$G520-1&\"名\"))","v":""}]
[null,512,null,null,null,null,null,null,null,null,{"$f":"IF('教育訓練費入力（前期）'!$C521=\"\",\"\",TEXT('教育訓練費入力（前期）'!$C521,\"yyyy年\")&TEXT('教育訓練費入力（前期）'!$C521,\"m月\")&TEXT('教育訓練費入力（前期）'!$C521,\"ｄ日\")&\"から\"&'教育訓練費入力（前期）'!$D521&\"日間\")","v":""},{"$f":"IF('教育訓練費入力（前期）'!$F521=\"\",\"\",IF('教育訓練費入力（前期）'!$G521=1,'教育訓練費入力（前期）'!$F521,'教育訓練費入力（前期）'!$F521&\"他\"&'教育訓練費入力（前期）'!$G521-1&\"名\"))","v":""}]
[null,513,null,null,null,null,null,null,null,null,{"$f":"IF('教育訓練費入力（前期）'!$C522=\"\",\"\",TEXT('教育訓練費入力（前期）'!$C522,\"yyyy年\")&TEXT('教育訓練費入力（前期）'!$C522,\"m月\")&TEXT('教育訓練費入力（前期）'!$C522,\"ｄ日\")&\"から\"&'教育訓練費入力（前期）'!$D522&\"日間\")","v":""},{"$f":"IF('教育訓練費入力（前期）'!$F522=\"\",\"\",IF('教育訓練費入力（前期）'!$G522=1,'教育訓練費入力（前期）'!$F522,'教育訓練費入力（前期）'!$F522&\"他\"&'教育訓練費入力（前期）'!$G522-1&\"名\"))","v":""}]
[null,514,null,null,null,null,null,null,null,null,{"$f":"IF('教育訓練費入力（前期）'!$C523=\"\",\"\",TEXT('教育訓練費入力（前期）'!$C523,\"yyyy年\")&TEXT('教育訓練費入力（前期）'!$C523,\"m月\")&TEXT('教育訓練費入力（前期）'!$C523,\"ｄ日\")&\"から\"&'教育訓練費入力（前期）'!$D523&\"日間\")","v":""},{"$f":"IF('教育訓練費入力（前期）'!$F523=\"\",\"\",IF('教育訓練費入力（前期）'!$G523=1,'教育訓練費入力（前期）'!$F523,'教育訓練費入力（前期）'!$F523&\"他\"&'教育訓練費入力（前期）'!$G523-1&\"名\"))","v":""}]
[null,515,null,null,null,null,null,null,null,null,{"$f":"IF('教育訓練費入力（前期）'!$C524=\"\",\"\",TEXT('教育訓練費入力（前期）'!$C524,\"yyyy年\")&TEXT('教育訓練費入力（前期）'!$C524,\"m月\")&TEXT('教育訓練費入力（前期）'!$C524,\"ｄ日\")&\"から\"&'教育訓練費入力（前期）'!$D524&\"日間\")","v":""},{"$f":"IF('教育訓練費入力（前期）'!$F524=\"\",\"\",IF('教育訓練費入力（前期）'!$G524=1,'教育訓練費入力（前期）'!$F524,'教育訓練費入力（前期）'!$F524&\"他\"&'教育訓練費入力（前期）'!$G524-1&\"名\"))","v":""}]
[null,516,null,null,null,null,null,null,null,null,{"$f":"IF('教育訓練費入力（前期）'!$C525=\"\",\"\",TEXT('教育訓練費入力（前期）'!$C525,\"yyyy年\")&TEXT('教育訓練費入力（前期）'!$C525,\"m月\")&TEXT('教育訓練費入力（前期）'!$C525,\"ｄ日\")&\"から\"&'教育訓練費入力（前期）'!$D525&\"日間\")","v":""},{"$f":"IF('教育訓練費入力（前期）'!$F525=\"\",\"\",IF('教育訓練費入力（前期）'!$G525=1,'教育訓練費入力（前期）'!$F525,'教育訓練費入力（前期）'!$F525&\"他\"&'教育訓練費入力（前期）'!$G525-1&\"名\"))","v":""}]
[null,517,null,null,null,null,null,null,null,null,{"$f":"IF('教育訓練費入力（前期）'!$C526=\"\",\"\",TEXT('教育訓練費入力（前期）'!$C526,\"yyyy年\")&TEXT('教育訓練費入力（前期）'!$C526,\"m月\")&TEXT('教育訓練費入力（前期）'!$C526,\"ｄ日\")&\"から\"&'教育訓練費入力（前期）'!$D526&\"日間\")","v":""},{"$f":"IF('教育訓練費入力（前期）'!$F526=\"\",\"\",IF('教育訓練費入力（前期）'!$G526=1,'教育訓練費入力（前期）'!$F526,'教育訓練費入力（前期）'!$F526&\"他\"&'教育訓練費入力（前期）'!$G526-1&\"名\"))","v":""}]
[null,518,null,null,null,null,null,null,null,null,{"$f":"IF('教育訓練費入力（前期）'!$C527=\"\",\"\",TEXT('教育訓練費入力（前期）'!$C527,\"yyyy年\")&TEXT('教育訓練費入力（前期）'!$C527,\"m月\")&TEXT('教育訓練費入力（前期）'!$C527,\"ｄ日\")&\"から\"&'教育訓練費入力（前期）'!$D527&\"日間\")","v":""},{"$f":"IF('教育訓練費入力（前期）'!$F527=\"\",\"\",IF('教育訓練費入力（前期）'!$G527=1,'教育訓練費入力（前期）'!$F527,'教育訓練費入力（前期）'!$F527&\"他\"&'教育訓練費入力（前期）'!$G527-1&\"名\"))","v":""}]
[null,519,null,null,null,null,null,null,null,null,{"$f":"IF('教育訓練費入力（前期）'!$C528=\"\",\"\",TEXT('教育訓練費入力（前期）'!$C528,\"yyyy年\")&TEXT('教育訓練費入力（前期）'!$C528,\"m月\")&TEXT('教育訓練費入力（前期）'!$C528,\"ｄ日\")&\"から\"&'教育訓練費入力（前期）'!$D528&\"日間\")","v":""},{"$f":"IF('教育訓練費入力（前期）'!$F528=\"\",\"\",IF('教育訓練費入力（前期）'!$G528=1,'教育訓練費入力（前期）'!$F528,'教育訓練費入力（前期）'!$F528&\"他\"&'教育訓練費入力（前期）'!$G528-1&\"名\"))","v":""}]
[null,520,null,null,null,null,null,null,null,null,{"$f":"IF('教育訓練費入力（前期）'!$C529=\"\",\"\",TEXT('教育訓練費入力（前期）'!$C529,\"yyyy年\")&TEXT('教育訓練費入力（前期）'!$C529,\"m月\")&TEXT('教育訓練費入力（前期）'!$C529,\"ｄ日\")&\"から\"&'教育訓練費入力（前期）'!$D529&\"日間\")","v":""},{"$f":"IF('教育訓練費入力（前期）'!$F529=\"\",\"\",IF('教育訓練費入力（前期）'!$G529=1,'教育訓練費入力（前期）'!$F529,'教育訓練費入力（前期）'!$F529&\"他\"&'教育訓練費入力（前期）'!$G529-1&\"名\"))","v":""}]
[null,521,null,null,null,null,null,null,null,null,{"$f":"IF('教育訓練費入力（前期）'!$C530=\"\",\"\",TEXT('教育訓練費入力（前期）'!$C530,\"yyyy年\")&TEXT('教育訓練費入力（前期）'!$C530,\"m月\")&TEXT('教育訓練費入力（前期）'!$C530,\"ｄ日\")&\"から\"&'教育訓練費入力（前期）'!$D530&\"日間\")","v":""},{"$f":"IF('教育訓練費入力（前期）'!$F530=\"\",\"\",IF('教育訓練費入力（前期）'!$G530=1,'教育訓練費入力（前期）'!$F530,'教育訓練費入力（前期）'!$F530&\"他\"&'教育訓練費入力（前期）'!$G530-1&\"名\"))","v":""}]
[null,522,null,null,null,null,null,null,null,null,{"$f":"IF('教育訓練費入力（前期）'!$C531=\"\",\"\",TEXT('教育訓練費入力（前期）'!$C531,\"yyyy年\")&TEXT('教育訓練費入力（前期）'!$C531,\"m月\")&TEXT('教育訓練費入力（前期）'!$C531,\"ｄ日\")&\"から\"&'教育訓練費入力（前期）'!$D531&\"日間\")","v":""},{"$f":"IF('教育訓練費入力（前期）'!$F531=\"\",\"\",IF('教育訓練費入力（前期）'!$G531=1,'教育訓練費入力（前期）'!$F531,'教育訓練費入力（前期）'!$F531&\"他\"&'教育訓練費入力（前期）'!$G531-1&\"名\"))","v":""}]
[null,523,null,null,null,null,null,null,null,null,{"$f":"IF('教育訓練費入力（前期）'!$C532=\"\",\"\",TEXT('教育訓練費入力（前期）'!$C532,\"yyyy年\")&TEXT('教育訓練費入力（前期）'!$C532,\"m月\")&TEXT('教育訓練費入力（前期）'!$C532,\"ｄ日\")&\"から\"&'教育訓練費入力（前期）'!$D532&\"日間\")","v":""},{"$f":"IF('教育訓練費入力（前期）'!$F532=\"\",\"\",IF('教育訓練費入力（前期）'!$G532=1,'教育訓練費入力（前期）'!$F532,'教育訓練費入力（前期）'!$F532&\"他\"&'教育訓練費入力（前期）'!$G532-1&\"名\"))","v":""}]
[null,524,null,null,null,null,null,null,null,null,{"$f":"IF('教育訓練費入力（前期）'!$C533=\"\",\"\",TEXT('教育訓練費入力（前期）'!$C533,\"yyyy年\")&TEXT('教育訓練費入力（前期）'!$C533,\"m月\")&TEXT('教育訓練費入力（前期）'!$C533,\"ｄ日\")&\"から\"&'教育訓練費入力（前期）'!$D533&\"日間\")","v":""},{"$f":"IF('教育訓練費入力（前期）'!$F533=\"\",\"\",IF('教育訓練費入力（前期）'!$G533=1,'教育訓練費入力（前期）'!$F533,'教育訓練費入力（前期）'!$F533&\"他\"&'教育訓練費入力（前期）'!$G533-1&\"名\"))","v":""}]
[null,525,null,null,null,null,null,null,null,null,{"$f":"IF('教育訓練費入力（前期）'!$C534=\"\",\"\",TEXT('教育訓練費入力（前期）'!$C534,\"yyyy年\")&TEXT('教育訓練費入力（前期）'!$C534,\"m月\")&TEXT('教育訓練費入力（前期）'!$C534,\"ｄ日\")&\"から\"&'教育訓練費入力（前期）'!$D534&\"日間\")","v":""},{"$f":"IF('教育訓練費入力（前期）'!$F534=\"\",\"\",IF('教育訓練費入力（前期）'!$G534=1,'教育訓練費入力（前期）'!$F534,'教育訓練費入力（前期）'!$F534&\"他\"&'教育訓練費入力（前期）'!$G534-1&\"名\"))","v":""}]
[null,526,null,null,null,null,null,null,null,null,{"$f":"IF('教育訓練費入力（前期）'!$C535=\"\",\"\",TEXT('教育訓練費入力（前期）'!$C535,\"yyyy年\")&TEXT('教育訓練費入力（前期）'!$C535,\"m月\")&TEXT('教育訓練費入力（前期）'!$C535,\"ｄ日\")&\"から\"&'教育訓練費入力（前期）'!$D535&\"日間\")","v":""},{"$f":"IF('教育訓練費入力（前期）'!$F535=\"\",\"\",IF('教育訓練費入力（前期）'!$G535=1,'教育訓練費入力（前期）'!$F535,'教育訓練費入力（前期）'!$F535&\"他\"&'教育訓練費入力（前期）'!$G535-1&\"名\"))","v":""}]
[null,527,null,null,null,null,null,null,null,null,{"$f":"IF('教育訓練費入力（前期）'!$C536=\"\",\"\",TEXT('教育訓練費入力（前期）'!$C536,\"yyyy年\")&TEXT('教育訓練費入力（前期）'!$C536,\"m月\")&TEXT('教育訓練費入力（前期）'!$C536,\"ｄ日\")&\"から\"&'教育訓練費入力（前期）'!$D536&\"日間\")","v":""},{"$f":"IF('教育訓練費入力（前期）'!$F536=\"\",\"\",IF('教育訓練費入力（前期）'!$G536=1,'教育訓練費入力（前期）'!$F536,'教育訓練費入力（前期）'!$F536&\"他\"&'教育訓練費入力（前期）'!$G536-1&\"名\"))","v":""}]
[null,528,null,null,null,null,null,null,null,null,{"$f":"IF('教育訓練費入力（前期）'!$C537=\"\",\"\",TEXT('教育訓練費入力（前期）'!$C537,\"yyyy年\")&TEXT('教育訓練費入力（前期）'!$C537,\"m月\")&TEXT('教育訓練費入力（前期）'!$C537,\"ｄ日\")&\"から\"&'教育訓練費入力（前期）'!$D537&\"日間\")","v":""},{"$f":"IF('教育訓練費入力（前期）'!$F537=\"\",\"\",IF('教育訓練費入力（前期）'!$G537=1,'教育訓練費入力（前期）'!$F537,'教育訓練費入力（前期）'!$F537&\"他\"&'教育訓練費入力（前期）'!$G537-1&\"名\"))","v":""}]
[null,529,null,null,null,null,null,null,null,null,{"$f":"IF('教育訓練費入力（前期）'!$C538=\"\",\"\",TEXT('教育訓練費入力（前期）'!$C538,\"yyyy年\")&TEXT('教育訓練費入力（前期）'!$C538,\"m月\")&TEXT('教育訓練費入力（前期）'!$C538,\"ｄ日\")&\"から\"&'教育訓練費入力（前期）'!$D538&\"日間\")","v":""},{"$f":"IF('教育訓練費入力（前期）'!$F538=\"\",\"\",IF('教育訓練費入力（前期）'!$G538=1,'教育訓練費入力（前期）'!$F538,'教育訓練費入力（前期）'!$F538&\"他\"&'教育訓練費入力（前期）'!$G538-1&\"名\"))","v":""}]
[null,530,null,null,null,null,null,null,null,null,{"$f":"IF('教育訓練費入力（前期）'!$C539=\"\",\"\",TEXT('教育訓練費入力（前期）'!$C539,\"yyyy年\")&TEXT('教育訓練費入力（前期）'!$C539,\"m月\")&TEXT('教育訓練費入力（前期）'!$C539,\"ｄ日\")&\"から\"&'教育訓練費入力（前期）'!$D539&\"日間\")","v":""},{"$f":"IF('教育訓練費入力（前期）'!$F539=\"\",\"\",IF('教育訓練費入力（前期）'!$G539=1,'教育訓練費入力（前期）'!$F539,'教育訓練費入力（前期）'!$F539&\"他\"&'教育訓練費入力（前期）'!$G539-1&\"名\"))","v":""}]
[null,531,null,null,null,null,null,null,null,null,{"$f":"IF('教育訓練費入力（前期）'!$C540=\"\",\"\",TEXT('教育訓練費入力（前期）'!$C540,\"yyyy年\")&TEXT('教育訓練費入力（前期）'!$C540,\"m月\")&TEXT('教育訓練費入力（前期）'!$C540,\"ｄ日\")&\"から\"&'教育訓練費入力（前期）'!$D540&\"日間\")","v":""},{"$f":"IF('教育訓練費入力（前期）'!$F540=\"\",\"\",IF('教育訓練費入力（前期）'!$G540=1,'教育訓練費入力（前期）'!$F540,'教育訓練費入力（前期）'!$F540&\"他\"&'教育訓練費入力（前期）'!$G540-1&\"名\"))","v":""}]
[null,532,null,null,null,null,null,null,null,null,{"$f":"IF('教育訓練費入力（前期）'!$C541=\"\",\"\",TEXT('教育訓練費入力（前期）'!$C541,\"yyyy年\")&TEXT('教育訓練費入力（前期）'!$C541,\"m月\")&TEXT('教育訓練費入力（前期）'!$C541,\"ｄ日\")&\"から\"&'教育訓練費入力（前期）'!$D541&\"日間\")","v":""},{"$f":"IF('教育訓練費入力（前期）'!$F541=\"\",\"\",IF('教育訓練費入力（前期）'!$G541=1,'教育訓練費入力（前期）'!$F541,'教育訓練費入力（前期）'!$F541&\"他\"&'教育訓練費入力（前期）'!$G541-1&\"名\"))","v":""}]
[null,533,null,null,null,null,null,null,null,null,{"$f":"IF('教育訓練費入力（前期）'!$C542=\"\",\"\",TEXT('教育訓練費入力（前期）'!$C542,\"yyyy年\")&TEXT('教育訓練費入力（前期）'!$C542,\"m月\")&TEXT('教育訓練費入力（前期）'!$C542,\"ｄ日\")&\"から\"&'教育訓練費入力（前期）'!$D542&\"日間\")","v":""},{"$f":"IF('教育訓練費入力（前期）'!$F542=\"\",\"\",IF('教育訓練費入力（前期）'!$G542=1,'教育訓練費入力（前期）'!$F542,'教育訓練費入力（前期）'!$F542&\"他\"&'教育訓練費入力（前期）'!$G542-1&\"名\"))","v":""}]
[null,534,null,null,null,null,null,null,null,null,{"$f":"IF('教育訓練費入力（前期）'!$C543=\"\",\"\",TEXT('教育訓練費入力（前期）'!$C543,\"yyyy年\")&TEXT('教育訓練費入力（前期）'!$C543,\"m月\")&TEXT('教育訓練費入力（前期）'!$C543,\"ｄ日\")&\"から\"&'教育訓練費入力（前期）'!$D543&\"日間\")","v":""},{"$f":"IF('教育訓練費入力（前期）'!$F543=\"\",\"\",IF('教育訓練費入力（前期）'!$G543=1,'教育訓練費入力（前期）'!$F543,'教育訓練費入力（前期）'!$F543&\"他\"&'教育訓練費入力（前期）'!$G543-1&\"名\"))","v":""}]
[null,535,null,null,null,null,null,null,null,null,{"$f":"IF('教育訓練費入力（前期）'!$C544=\"\",\"\",TEXT('教育訓練費入力（前期）'!$C544,\"yyyy年\")&TEXT('教育訓練費入力（前期）'!$C544,\"m月\")&TEXT('教育訓練費入力（前期）'!$C544,\"ｄ日\")&\"から\"&'教育訓練費入力（前期）'!$D544&\"日間\")","v":""},{"$f":"IF('教育訓練費入力（前期）'!$F544=\"\",\"\",IF('教育訓練費入力（前期）'!$G544=1,'教育訓練費入力（前期）'!$F544,'教育訓練費入力（前期）'!$F544&\"他\"&'教育訓練費入力（前期）'!$G544-1&\"名\"))","v":""}]
[null,536,null,null,null,null,null,null,null,null,{"$f":"IF('教育訓練費入力（前期）'!$C545=\"\",\"\",TEXT('教育訓練費入力（前期）'!$C545,\"yyyy年\")&TEXT('教育訓練費入力（前期）'!$C545,\"m月\")&TEXT('教育訓練費入力（前期）'!$C545,\"ｄ日\")&\"から\"&'教育訓練費入力（前期）'!$D545&\"日間\")","v":""},{"$f":"IF('教育訓練費入力（前期）'!$F545=\"\",\"\",IF('教育訓練費入力（前期）'!$G545=1,'教育訓練費入力（前期）'!$F545,'教育訓練費入力（前期）'!$F545&\"他\"&'教育訓練費入力（前期）'!$G545-1&\"名\"))","v":""}]
[null,537,null,null,null,null,null,null,null,null,{"$f":"IF('教育訓練費入力（前期）'!$C546=\"\",\"\",TEXT('教育訓練費入力（前期）'!$C546,\"yyyy年\")&TEXT('教育訓練費入力（前期）'!$C546,\"m月\")&TEXT('教育訓練費入力（前期）'!$C546,\"ｄ日\")&\"から\"&'教育訓練費入力（前期）'!$D546&\"日間\")","v":""},{"$f":"IF('教育訓練費入力（前期）'!$F546=\"\",\"\",IF('教育訓練費入力（前期）'!$G546=1,'教育訓練費入力（前期）'!$F546,'教育訓練費入力（前期）'!$F546&\"他\"&'教育訓練費入力（前期）'!$G546-1&\"名\"))","v":""}]
[null,538,null,null,null,null,null,null,null,null,{"$f":"IF('教育訓練費入力（前期）'!$C547=\"\",\"\",TEXT('教育訓練費入力（前期）'!$C547,\"yyyy年\")&TEXT('教育訓練費入力（前期）'!$C547,\"m月\")&TEXT('教育訓練費入力（前期）'!$C547,\"ｄ日\")&\"から\"&'教育訓練費入力（前期）'!$D547&\"日間\")","v":""},{"$f":"IF('教育訓練費入力（前期）'!$F547=\"\",\"\",IF('教育訓練費入力（前期）'!$G547=1,'教育訓練費入力（前期）'!$F547,'教育訓練費入力（前期）'!$F547&\"他\"&'教育訓練費入力（前期）'!$G547-1&\"名\"))","v":""}]
[null,539,null,null,null,null,null,null,null,null,{"$f":"IF('教育訓練費入力（前期）'!$C548=\"\",\"\",TEXT('教育訓練費入力（前期）'!$C548,\"yyyy年\")&TEXT('教育訓練費入力（前期）'!$C548,\"m月\")&TEXT('教育訓練費入力（前期）'!$C548,\"ｄ日\")&\"から\"&'教育訓練費入力（前期）'!$D548&\"日間\")","v":""},{"$f":"IF('教育訓練費入力（前期）'!$F548=\"\",\"\",IF('教育訓練費入力（前期）'!$G548=1,'教育訓練費入力（前期）'!$F548,'教育訓練費入力（前期）'!$F548&\"他\"&'教育訓練費入力（前期）'!$G548-1&\"名\"))","v":""}]
[null,540,null,null,null,null,null,null,null,null,{"$f":"IF('教育訓練費入力（前期）'!$C549=\"\",\"\",TEXT('教育訓練費入力（前期）'!$C549,\"yyyy年\")&TEXT('教育訓練費入力（前期）'!$C549,\"m月\")&TEXT('教育訓練費入力（前期）'!$C549,\"ｄ日\")&\"から\"&'教育訓練費入力（前期）'!$D549&\"日間\")","v":""},{"$f":"IF('教育訓練費入力（前期）'!$F549=\"\",\"\",IF('教育訓練費入力（前期）'!$G549=1,'教育訓練費入力（前期）'!$F549,'教育訓練費入力（前期）'!$F549&\"他\"&'教育訓練費入力（前期）'!$G549-1&\"名\"))","v":""}]
[null,541,null,null,null,null,null,null,null,null,{"$f":"IF('教育訓練費入力（前期）'!$C550=\"\",\"\",TEXT('教育訓練費入力（前期）'!$C550,\"yyyy年\")&TEXT('教育訓練費入力（前期）'!$C550,\"m月\")&TEXT('教育訓練費入力（前期）'!$C550,\"ｄ日\")&\"から\"&'教育訓練費入力（前期）'!$D550&\"日間\")","v":""},{"$f":"IF('教育訓練費入力（前期）'!$F550=\"\",\"\",IF('教育訓練費入力（前期）'!$G550=1,'教育訓練費入力（前期）'!$F550,'教育訓練費入力（前期）'!$F550&\"他\"&'教育訓練費入力（前期）'!$G550-1&\"名\"))","v":""}]
[null,542,null,null,null,null,null,null,null,null,{"$f":"IF('教育訓練費入力（前期）'!$C551=\"\",\"\",TEXT('教育訓練費入力（前期）'!$C551,\"yyyy年\")&TEXT('教育訓練費入力（前期）'!$C551,\"m月\")&TEXT('教育訓練費入力（前期）'!$C551,\"ｄ日\")&\"から\"&'教育訓練費入力（前期）'!$D551&\"日間\")","v":""},{"$f":"IF('教育訓練費入力（前期）'!$F551=\"\",\"\",IF('教育訓練費入力（前期）'!$G551=1,'教育訓練費入力（前期）'!$F551,'教育訓練費入力（前期）'!$F551&\"他\"&'教育訓練費入力（前期）'!$G551-1&\"名\"))","v":""}]
[null,543,null,null,null,null,null,null,null,null,{"$f":"IF('教育訓練費入力（前期）'!$C552=\"\",\"\",TEXT('教育訓練費入力（前期）'!$C552,\"yyyy年\")&TEXT('教育訓練費入力（前期）'!$C552,\"m月\")&TEXT('教育訓練費入力（前期）'!$C552,\"ｄ日\")&\"から\"&'教育訓練費入力（前期）'!$D552&\"日間\")","v":""},{"$f":"IF('教育訓練費入力（前期）'!$F552=\"\",\"\",IF('教育訓練費入力（前期）'!$G552=1,'教育訓練費入力（前期）'!$F552,'教育訓練費入力（前期）'!$F552&\"他\"&'教育訓練費入力（前期）'!$G552-1&\"名\"))","v":""}]
[null,544,null,null,null,null,null,null,null,null,{"$f":"IF('教育訓練費入力（前期）'!$C553=\"\",\"\",TEXT('教育訓練費入力（前期）'!$C553,\"yyyy年\")&TEXT('教育訓練費入力（前期）'!$C553,\"m月\")&TEXT('教育訓練費入力（前期）'!$C553,\"ｄ日\")&\"から\"&'教育訓練費入力（前期）'!$D553&\"日間\")","v":""},{"$f":"IF('教育訓練費入力（前期）'!$F553=\"\",\"\",IF('教育訓練費入力（前期）'!$G553=1,'教育訓練費入力（前期）'!$F553,'教育訓練費入力（前期）'!$F553&\"他\"&'教育訓練費入力（前期）'!$G553-1&\"名\"))","v":""}]
[null,545,null,null,null,null,null,null,null,null,{"$f":"IF('教育訓練費入力（前期）'!$C554=\"\",\"\",TEXT('教育訓練費入力（前期）'!$C554,\"yyyy年\")&TEXT('教育訓練費入力（前期）'!$C554,\"m月\")&TEXT('教育訓練費入力（前期）'!$C554,\"ｄ日\")&\"から\"&'教育訓練費入力（前期）'!$D554&\"日間\")","v":""},{"$f":"IF('教育訓練費入力（前期）'!$F554=\"\",\"\",IF('教育訓練費入力（前期）'!$G554=1,'教育訓練費入力（前期）'!$F554,'教育訓練費入力（前期）'!$F554&\"他\"&'教育訓練費入力（前期）'!$G554-1&\"名\"))","v":""}]
[null,546,null,null,null,null,null,null,null,null,{"$f":"IF('教育訓練費入力（前期）'!$C555=\"\",\"\",TEXT('教育訓練費入力（前期）'!$C555,\"yyyy年\")&TEXT('教育訓練費入力（前期）'!$C555,\"m月\")&TEXT('教育訓練費入力（前期）'!$C555,\"ｄ日\")&\"から\"&'教育訓練費入力（前期）'!$D555&\"日間\")","v":""},{"$f":"IF('教育訓練費入力（前期）'!$F555=\"\",\"\",IF('教育訓練費入力（前期）'!$G555=1,'教育訓練費入力（前期）'!$F555,'教育訓練費入力（前期）'!$F555&\"他\"&'教育訓練費入力（前期）'!$G555-1&\"名\"))","v":""}]
[null,547,null,null,null,null,null,null,null,null,{"$f":"IF('教育訓練費入力（前期）'!$C556=\"\",\"\",TEXT('教育訓練費入力（前期）'!$C556,\"yyyy年\")&TEXT('教育訓練費入力（前期）'!$C556,\"m月\")&TEXT('教育訓練費入力（前期）'!$C556,\"ｄ日\")&\"から\"&'教育訓練費入力（前期）'!$D556&\"日間\")","v":""},{"$f":"IF('教育訓練費入力（前期）'!$F556=\"\",\"\",IF('教育訓練費入力（前期）'!$G556=1,'教育訓練費入力（前期）'!$F556,'教育訓練費入力（前期）'!$F556&\"他\"&'教育訓練費入力（前期）'!$G556-1&\"名\"))","v":""}]
[null,548,null,null,null,null,null,null,null,null,{"$f":"IF('教育訓練費入力（前期）'!$C557=\"\",\"\",TEXT('教育訓練費入力（前期）'!$C557,\"yyyy年\")&TEXT('教育訓練費入力（前期）'!$C557,\"m月\")&TEXT('教育訓練費入力（前期）'!$C557,\"ｄ日\")&\"から\"&'教育訓練費入力（前期）'!$D557&\"日間\")","v":""},{"$f":"IF('教育訓練費入力（前期）'!$F557=\"\",\"\",IF('教育訓練費入力（前期）'!$G557=1,'教育訓練費入力（前期）'!$F557,'教育訓練費入力（前期）'!$F557&\"他\"&'教育訓練費入力（前期）'!$G557-1&\"名\"))","v":""}]
[null,549,null,null,null,null,null,null,null,null,{"$f":"IF('教育訓練費入力（前期）'!$C558=\"\",\"\",TEXT('教育訓練費入力（前期）'!$C558,\"yyyy年\")&TEXT('教育訓練費入力（前期）'!$C558,\"m月\")&TEXT('教育訓練費入力（前期）'!$C558,\"ｄ日\")&\"から\"&'教育訓練費入力（前期）'!$D558&\"日間\")","v":""},{"$f":"IF('教育訓練費入力（前期）'!$F558=\"\",\"\",IF('教育訓練費入力（前期）'!$G558=1,'教育訓練費入力（前期）'!$F558,'教育訓練費入力（前期）'!$F558&\"他\"&'教育訓練費入力（前期）'!$G558-1&\"名\"))","v":""}]
[null,550,null,null,null,null,null,null,null,null,{"$f":"IF('教育訓練費入力（前期）'!$C559=\"\",\"\",TEXT('教育訓練費入力（前期）'!$C559,\"yyyy年\")&TEXT('教育訓練費入力（前期）'!$C559,\"m月\")&TEXT('教育訓練費入力（前期）'!$C559,\"ｄ日\")&\"から\"&'教育訓練費入力（前期）'!$D559&\"日間\")","v":""},{"$f":"IF('教育訓練費入力（前期）'!$F559=\"\",\"\",IF('教育訓練費入力（前期）'!$G559=1,'教育訓練費入力（前期）'!$F559,'教育訓練費入力（前期）'!$F559&\"他\"&'教育訓練費入力（前期）'!$G559-1&\"名\"))","v":""}]
[null,551,null,null,null,null,null,null,null,null,{"$f":"IF('教育訓練費入力（前期）'!$C560=\"\",\"\",TEXT('教育訓練費入力（前期）'!$C560,\"yyyy年\")&TEXT('教育訓練費入力（前期）'!$C560,\"m月\")&TEXT('教育訓練費入力（前期）'!$C560,\"ｄ日\")&\"から\"&'教育訓練費入力（前期）'!$D560&\"日間\")","v":""},{"$f":"IF('教育訓練費入力（前期）'!$F560=\"\",\"\",IF('教育訓練費入力（前期）'!$G560=1,'教育訓練費入力（前期）'!$F560,'教育訓練費入力（前期）'!$F560&\"他\"&'教育訓練費入力（前期）'!$G560-1&\"名\"))","v":""}]
[null,552,null,null,null,null,null,null,null,null,{"$f":"IF('教育訓練費入力（前期）'!$C561=\"\",\"\",TEXT('教育訓練費入力（前期）'!$C561,\"yyyy年\")&TEXT('教育訓練費入力（前期）'!$C561,\"m月\")&TEXT('教育訓練費入力（前期）'!$C561,\"ｄ日\")&\"から\"&'教育訓練費入力（前期）'!$D561&\"日間\")","v":""},{"$f":"IF('教育訓練費入力（前期）'!$F561=\"\",\"\",IF('教育訓練費入力（前期）'!$G561=1,'教育訓練費入力（前期）'!$F561,'教育訓練費入力（前期）'!$F561&\"他\"&'教育訓練費入力（前期）'!$G561-1&\"名\"))","v":""}]
[null,553,null,null,null,null,null,null,null,null,{"$f":"IF('教育訓練費入力（前期）'!$C562=\"\",\"\",TEXT('教育訓練費入力（前期）'!$C562,\"yyyy年\")&TEXT('教育訓練費入力（前期）'!$C562,\"m月\")&TEXT('教育訓練費入力（前期）'!$C562,\"ｄ日\")&\"から\"&'教育訓練費入力（前期）'!$D562&\"日間\")","v":""},{"$f":"IF('教育訓練費入力（前期）'!$F562=\"\",\"\",IF('教育訓練費入力（前期）'!$G562=1,'教育訓練費入力（前期）'!$F562,'教育訓練費入力（前期）'!$F562&\"他\"&'教育訓練費入力（前期）'!$G562-1&\"名\"))","v":""}]
[null,554,null,null,null,null,null,null,null,null,{"$f":"IF('教育訓練費入力（前期）'!$C563=\"\",\"\",TEXT('教育訓練費入力（前期）'!$C563,\"yyyy年\")&TEXT('教育訓練費入力（前期）'!$C563,\"m月\")&TEXT('教育訓練費入力（前期）'!$C563,\"ｄ日\")&\"から\"&'教育訓練費入力（前期）'!$D563&\"日間\")","v":""},{"$f":"IF('教育訓練費入力（前期）'!$F563=\"\",\"\",IF('教育訓練費入力（前期）'!$G563=1,'教育訓練費入力（前期）'!$F563,'教育訓練費入力（前期）'!$F563&\"他\"&'教育訓練費入力（前期）'!$G563-1&\"名\"))","v":""}]
[null,555,null,null,null,null,null,null,null,null,{"$f":"IF('教育訓練費入力（前期）'!$C564=\"\",\"\",TEXT('教育訓練費入力（前期）'!$C564,\"yyyy年\")&TEXT('教育訓練費入力（前期）'!$C564,\"m月\")&TEXT('教育訓練費入力（前期）'!$C564,\"ｄ日\")&\"から\"&'教育訓練費入力（前期）'!$D564&\"日間\")","v":""},{"$f":"IF('教育訓練費入力（前期）'!$F564=\"\",\"\",IF('教育訓練費入力（前期）'!$G564=1,'教育訓練費入力（前期）'!$F564,'教育訓練費入力（前期）'!$F564&\"他\"&'教育訓練費入力（前期）'!$G564-1&\"名\"))","v":""}]
[null,556,null,null,null,null,null,null,null,null,{"$f":"IF('教育訓練費入力（前期）'!$C565=\"\",\"\",TEXT('教育訓練費入力（前期）'!$C565,\"yyyy年\")&TEXT('教育訓練費入力（前期）'!$C565,\"m月\")&TEXT('教育訓練費入力（前期）'!$C565,\"ｄ日\")&\"から\"&'教育訓練費入力（前期）'!$D565&\"日間\")","v":""},{"$f":"IF('教育訓練費入力（前期）'!$F565=\"\",\"\",IF('教育訓練費入力（前期）'!$G565=1,'教育訓練費入力（前期）'!$F565,'教育訓練費入力（前期）'!$F565&\"他\"&'教育訓練費入力（前期）'!$G565-1&\"名\"))","v":""}]
[null,557,null,null,null,null,null,null,null,null,{"$f":"IF('教育訓練費入力（前期）'!$C566=\"\",\"\",TEXT('教育訓練費入力（前期）'!$C566,\"yyyy年\")&TEXT('教育訓練費入力（前期）'!$C566,\"m月\")&TEXT('教育訓練費入力（前期）'!$C566,\"ｄ日\")&\"から\"&'教育訓練費入力（前期）'!$D566&\"日間\")","v":""},{"$f":"IF('教育訓練費入力（前期）'!$F566=\"\",\"\",IF('教育訓練費入力（前期）'!$G566=1,'教育訓練費入力（前期）'!$F566,'教育訓練費入力（前期）'!$F566&\"他\"&'教育訓練費入力（前期）'!$G566-1&\"名\"))","v":""}]
[null,558,null,null,null,null,null,null,null,null,{"$f":"IF('教育訓練費入力（前期）'!$C567=\"\",\"\",TEXT('教育訓練費入力（前期）'!$C567,\"yyyy年\")&TEXT('教育訓練費入力（前期）'!$C567,\"m月\")&TEXT('教育訓練費入力（前期）'!$C567,\"ｄ日\")&\"から\"&'教育訓練費入力（前期）'!$D567&\"日間\")","v":""},{"$f":"IF('教育訓練費入力（前期）'!$F567=\"\",\"\",IF('教育訓練費入力（前期）'!$G567=1,'教育訓練費入力（前期）'!$F567,'教育訓練費入力（前期）'!$F567&\"他\"&'教育訓練費入力（前期）'!$G567-1&\"名\"))","v":""}]
[null,559,null,null,null,null,null,null,null,null,{"$f":"IF('教育訓練費入力（前期）'!$C568=\"\",\"\",TEXT('教育訓練費入力（前期）'!$C568,\"yyyy年\")&TEXT('教育訓練費入力（前期）'!$C568,\"m月\")&TEXT('教育訓練費入力（前期）'!$C568,\"ｄ日\")&\"から\"&'教育訓練費入力（前期）'!$D568&\"日間\")","v":""},{"$f":"IF('教育訓練費入力（前期）'!$F568=\"\",\"\",IF('教育訓練費入力（前期）'!$G568=1,'教育訓練費入力（前期）'!$F568,'教育訓練費入力（前期）'!$F568&\"他\"&'教育訓練費入力（前期）'!$G568-1&\"名\"))","v":""}]
[null,560,null,null,null,null,null,null,null,null,{"$f":"IF('教育訓練費入力（前期）'!$C569=\"\",\"\",TEXT('教育訓練費入力（前期）'!$C569,\"yyyy年\")&TEXT('教育訓練費入力（前期）'!$C569,\"m月\")&TEXT('教育訓練費入力（前期）'!$C569,\"ｄ日\")&\"から\"&'教育訓練費入力（前期）'!$D569&\"日間\")","v":""},{"$f":"IF('教育訓練費入力（前期）'!$F569=\"\",\"\",IF('教育訓練費入力（前期）'!$G569=1,'教育訓練費入力（前期）'!$F569,'教育訓練費入力（前期）'!$F569&\"他\"&'教育訓練費入力（前期）'!$G569-1&\"名\"))","v":""}]
[null,561,null,null,null,null,null,null,null,null,{"$f":"IF('教育訓練費入力（前期）'!$C570=\"\",\"\",TEXT('教育訓練費入力（前期）'!$C570,\"yyyy年\")&TEXT('教育訓練費入力（前期）'!$C570,\"m月\")&TEXT('教育訓練費入力（前期）'!$C570,\"ｄ日\")&\"から\"&'教育訓練費入力（前期）'!$D570&\"日間\")","v":""},{"$f":"IF('教育訓練費入力（前期）'!$F570=\"\",\"\",IF('教育訓練費入力（前期）'!$G570=1,'教育訓練費入力（前期）'!$F570,'教育訓練費入力（前期）'!$F570&\"他\"&'教育訓練費入力（前期）'!$G570-1&\"名\"))","v":""}]
[null,562,null,null,null,null,null,null,null,null,{"$f":"IF('教育訓練費入力（前期）'!$C571=\"\",\"\",TEXT('教育訓練費入力（前期）'!$C571,\"yyyy年\")&TEXT('教育訓練費入力（前期）'!$C571,\"m月\")&TEXT('教育訓練費入力（前期）'!$C571,\"ｄ日\")&\"から\"&'教育訓練費入力（前期）'!$D571&\"日間\")","v":""},{"$f":"IF('教育訓練費入力（前期）'!$F571=\"\",\"\",IF('教育訓練費入力（前期）'!$G571=1,'教育訓練費入力（前期）'!$F571,'教育訓練費入力（前期）'!$F571&\"他\"&'教育訓練費入力（前期）'!$G571-1&\"名\"))","v":""}]
[null,563,null,null,null,null,null,null,null,null,{"$f":"IF('教育訓練費入力（前期）'!$C572=\"\",\"\",TEXT('教育訓練費入力（前期）'!$C572,\"yyyy年\")&TEXT('教育訓練費入力（前期）'!$C572,\"m月\")&TEXT('教育訓練費入力（前期）'!$C572,\"ｄ日\")&\"から\"&'教育訓練費入力（前期）'!$D572&\"日間\")","v":""},{"$f":"IF('教育訓練費入力（前期）'!$F572=\"\",\"\",IF('教育訓練費入力（前期）'!$G572=1,'教育訓練費入力（前期）'!$F572,'教育訓練費入力（前期）'!$F572&\"他\"&'教育訓練費入力（前期）'!$G572-1&\"名\"))","v":""}]
[null,564,null,null,null,null,null,null,null,null,{"$f":"IF('教育訓練費入力（前期）'!$C573=\"\",\"\",TEXT('教育訓練費入力（前期）'!$C573,\"yyyy年\")&TEXT('教育訓練費入力（前期）'!$C573,\"m月\")&TEXT('教育訓練費入力（前期）'!$C573,\"ｄ日\")&\"から\"&'教育訓練費入力（前期）'!$D573&\"日間\")","v":""},{"$f":"IF('教育訓練費入力（前期）'!$F573=\"\",\"\",IF('教育訓練費入力（前期）'!$G573=1,'教育訓練費入力（前期）'!$F573,'教育訓練費入力（前期）'!$F573&\"他\"&'教育訓練費入力（前期）'!$G573-1&\"名\"))","v":""}]
[null,565,null,null,null,null,null,null,null,null,{"$f":"IF('教育訓練費入力（前期）'!$C574=\"\",\"\",TEXT('教育訓練費入力（前期）'!$C574,\"yyyy年\")&TEXT('教育訓練費入力（前期）'!$C574,\"m月\")&TEXT('教育訓練費入力（前期）'!$C574,\"ｄ日\")&\"から\"&'教育訓練費入力（前期）'!$D574&\"日間\")","v":""},{"$f":"IF('教育訓練費入力（前期）'!$F574=\"\",\"\",IF('教育訓練費入力（前期）'!$G574=1,'教育訓練費入力（前期）'!$F574,'教育訓練費入力（前期）'!$F574&\"他\"&'教育訓練費入力（前期）'!$G574-1&\"名\"))","v":""}]
[null,566,null,null,null,null,null,null,null,null,{"$f":"IF('教育訓練費入力（前期）'!$C575=\"\",\"\",TEXT('教育訓練費入力（前期）'!$C575,\"yyyy年\")&TEXT('教育訓練費入力（前期）'!$C575,\"m月\")&TEXT('教育訓練費入力（前期）'!$C575,\"ｄ日\")&\"から\"&'教育訓練費入力（前期）'!$D575&\"日間\")","v":""},{"$f":"IF('教育訓練費入力（前期）'!$F575=\"\",\"\",IF('教育訓練費入力（前期）'!$G575=1,'教育訓練費入力（前期）'!$F575,'教育訓練費入力（前期）'!$F575&\"他\"&'教育訓練費入力（前期）'!$G575-1&\"名\"))","v":""}]
[null,567,null,null,null,null,null,null,null,null,{"$f":"IF('教育訓練費入力（前期）'!$C576=\"\",\"\",TEXT('教育訓練費入力（前期）'!$C576,\"yyyy年\")&TEXT('教育訓練費入力（前期）'!$C576,\"m月\")&TEXT('教育訓練費入力（前期）'!$C576,\"ｄ日\")&\"から\"&'教育訓練費入力（前期）'!$D576&\"日間\")","v":""},{"$f":"IF('教育訓練費入力（前期）'!$F576=\"\",\"\",IF('教育訓練費入力（前期）'!$G576=1,'教育訓練費入力（前期）'!$F576,'教育訓練費入力（前期）'!$F576&\"他\"&'教育訓練費入力（前期）'!$G576-1&\"名\"))","v":""}]
[null,568,null,null,null,null,null,null,null,null,{"$f":"IF('教育訓練費入力（前期）'!$C577=\"\",\"\",TEXT('教育訓練費入力（前期）'!$C577,\"yyyy年\")&TEXT('教育訓練費入力（前期）'!$C577,\"m月\")&TEXT('教育訓練費入力（前期）'!$C577,\"ｄ日\")&\"から\"&'教育訓練費入力（前期）'!$D577&\"日間\")","v":""},{"$f":"IF('教育訓練費入力（前期）'!$F577=\"\",\"\",IF('教育訓練費入力（前期）'!$G577=1,'教育訓練費入力（前期）'!$F577,'教育訓練費入力（前期）'!$F577&\"他\"&'教育訓練費入力（前期）'!$G577-1&\"名\"))","v":""}]
[null,569,null,null,null,null,null,null,null,null,{"$f":"IF('教育訓練費入力（前期）'!$C578=\"\",\"\",TEXT('教育訓練費入力（前期）'!$C578,\"yyyy年\")&TEXT('教育訓練費入力（前期）'!$C578,\"m月\")&TEXT('教育訓練費入力（前期）'!$C578,\"ｄ日\")&\"から\"&'教育訓練費入力（前期）'!$D578&\"日間\")","v":""},{"$f":"IF('教育訓練費入力（前期）'!$F578=\"\",\"\",IF('教育訓練費入力（前期）'!$G578=1,'教育訓練費入力（前期）'!$F578,'教育訓練費入力（前期）'!$F578&\"他\"&'教育訓練費入力（前期）'!$G578-1&\"名\"))","v":""}]
[null,570,null,null,null,null,null,null,null,null,{"$f":"IF('教育訓練費入力（前期）'!$C579=\"\",\"\",TEXT('教育訓練費入力（前期）'!$C579,\"yyyy年\")&TEXT('教育訓練費入力（前期）'!$C579,\"m月\")&TEXT('教育訓練費入力（前期）'!$C579,\"ｄ日\")&\"から\"&'教育訓練費入力（前期）'!$D579&\"日間\")","v":""},{"$f":"IF('教育訓練費入力（前期）'!$F579=\"\",\"\",IF('教育訓練費入力（前期）'!$G579=1,'教育訓練費入力（前期）'!$F579,'教育訓練費入力（前期）'!$F579&\"他\"&'教育訓練費入力（前期）'!$G579-1&\"名\"))","v":""}]
[null,571,null,null,null,null,null,null,null,null,{"$f":"IF('教育訓練費入力（前期）'!$C580=\"\",\"\",TEXT('教育訓練費入力（前期）'!$C580,\"yyyy年\")&TEXT('教育訓練費入力（前期）'!$C580,\"m月\")&TEXT('教育訓練費入力（前期）'!$C580,\"ｄ日\")&\"から\"&'教育訓練費入力（前期）'!$D580&\"日間\")","v":""},{"$f":"IF('教育訓練費入力（前期）'!$F580=\"\",\"\",IF('教育訓練費入力（前期）'!$G580=1,'教育訓練費入力（前期）'!$F580,'教育訓練費入力（前期）'!$F580&\"他\"&'教育訓練費入力（前期）'!$G580-1&\"名\"))","v":""}]
[null,572,null,null,null,null,null,null,null,null,{"$f":"IF('教育訓練費入力（前期）'!$C581=\"\",\"\",TEXT('教育訓練費入力（前期）'!$C581,\"yyyy年\")&TEXT('教育訓練費入力（前期）'!$C581,\"m月\")&TEXT('教育訓練費入力（前期）'!$C581,\"ｄ日\")&\"から\"&'教育訓練費入力（前期）'!$D581&\"日間\")","v":""},{"$f":"IF('教育訓練費入力（前期）'!$F581=\"\",\"\",IF('教育訓練費入力（前期）'!$G581=1,'教育訓練費入力（前期）'!$F581,'教育訓練費入力（前期）'!$F581&\"他\"&'教育訓練費入力（前期）'!$G581-1&\"名\"))","v":""}]
[null,573,null,null,null,null,null,null,null,null,{"$f":"IF('教育訓練費入力（前期）'!$C582=\"\",\"\",TEXT('教育訓練費入力（前期）'!$C582,\"yyyy年\")&TEXT('教育訓練費入力（前期）'!$C582,\"m月\")&TEXT('教育訓練費入力（前期）'!$C582,\"ｄ日\")&\"から\"&'教育訓練費入力（前期）'!$D582&\"日間\")","v":""},{"$f":"IF('教育訓練費入力（前期）'!$F582=\"\",\"\",IF('教育訓練費入力（前期）'!$G582=1,'教育訓練費入力（前期）'!$F582,'教育訓練費入力（前期）'!$F582&\"他\"&'教育訓練費入力（前期）'!$G582-1&\"名\"))","v":""}]
[null,574,null,null,null,null,null,null,null,null,{"$f":"IF('教育訓練費入力（前期）'!$C583=\"\",\"\",TEXT('教育訓練費入力（前期）'!$C583,\"yyyy年\")&TEXT('教育訓練費入力（前期）'!$C583,\"m月\")&TEXT('教育訓練費入力（前期）'!$C583,\"ｄ日\")&\"から\"&'教育訓練費入力（前期）'!$D583&\"日間\")","v":""},{"$f":"IF('教育訓練費入力（前期）'!$F583=\"\",\"\",IF('教育訓練費入力（前期）'!$G583=1,'教育訓練費入力（前期）'!$F583,'教育訓練費入力（前期）'!$F583&\"他\"&'教育訓練費入力（前期）'!$G583-1&\"名\"))","v":""}]
[null,575,null,null,null,null,null,null,null,null,{"$f":"IF('教育訓練費入力（前期）'!$C584=\"\",\"\",TEXT('教育訓練費入力（前期）'!$C584,\"yyyy年\")&TEXT('教育訓練費入力（前期）'!$C584,\"m月\")&TEXT('教育訓練費入力（前期）'!$C584,\"ｄ日\")&\"から\"&'教育訓練費入力（前期）'!$D584&\"日間\")","v":""},{"$f":"IF('教育訓練費入力（前期）'!$F584=\"\",\"\",IF('教育訓練費入力（前期）'!$G584=1,'教育訓練費入力（前期）'!$F584,'教育訓練費入力（前期）'!$F584&\"他\"&'教育訓練費入力（前期）'!$G584-1&\"名\"))","v":""}]
[null,576,null,null,null,null,null,null,null,null,{"$f":"IF('教育訓練費入力（前期）'!$C585=\"\",\"\",TEXT('教育訓練費入力（前期）'!$C585,\"yyyy年\")&TEXT('教育訓練費入力（前期）'!$C585,\"m月\")&TEXT('教育訓練費入力（前期）'!$C585,\"ｄ日\")&\"から\"&'教育訓練費入力（前期）'!$D585&\"日間\")","v":""},{"$f":"IF('教育訓練費入力（前期）'!$F585=\"\",\"\",IF('教育訓練費入力（前期）'!$G585=1,'教育訓練費入力（前期）'!$F585,'教育訓練費入力（前期）'!$F585&\"他\"&'教育訓練費入力（前期）'!$G585-1&\"名\"))","v":""}]
[null,577,null,null,null,null,null,null,null,null,{"$f":"IF('教育訓練費入力（前期）'!$C586=\"\",\"\",TEXT('教育訓練費入力（前期）'!$C586,\"yyyy年\")&TEXT('教育訓練費入力（前期）'!$C586,\"m月\")&TEXT('教育訓練費入力（前期）'!$C586,\"ｄ日\")&\"から\"&'教育訓練費入力（前期）'!$D586&\"日間\")","v":""},{"$f":"IF('教育訓練費入力（前期）'!$F586=\"\",\"\",IF('教育訓練費入力（前期）'!$G586=1,'教育訓練費入力（前期）'!$F586,'教育訓練費入力（前期）'!$F586&\"他\"&'教育訓練費入力（前期）'!$G586-1&\"名\"))","v":""}]
[null,578,null,null,null,null,null,null,null,null,{"$f":"IF('教育訓練費入力（前期）'!$C587=\"\",\"\",TEXT('教育訓練費入力（前期）'!$C587,\"yyyy年\")&TEXT('教育訓練費入力（前期）'!$C587,\"m月\")&TEXT('教育訓練費入力（前期）'!$C587,\"ｄ日\")&\"から\"&'教育訓練費入力（前期）'!$D587&\"日間\")","v":""},{"$f":"IF('教育訓練費入力（前期）'!$F587=\"\",\"\",IF('教育訓練費入力（前期）'!$G587=1,'教育訓練費入力（前期）'!$F587,'教育訓練費入力（前期）'!$F587&\"他\"&'教育訓練費入力（前期）'!$G587-1&\"名\"))","v":""}]
[null,579,null,null,null,null,null,null,null,null,{"$f":"IF('教育訓練費入力（前期）'!$C588=\"\",\"\",TEXT('教育訓練費入力（前期）'!$C588,\"yyyy年\")&TEXT('教育訓練費入力（前期）'!$C588,\"m月\")&TEXT('教育訓練費入力（前期）'!$C588,\"ｄ日\")&\"から\"&'教育訓練費入力（前期）'!$D588&\"日間\")","v":""},{"$f":"IF('教育訓練費入力（前期）'!$F588=\"\",\"\",IF('教育訓練費入力（前期）'!$G588=1,'教育訓練費入力（前期）'!$F588,'教育訓練費入力（前期）'!$F588&\"他\"&'教育訓練費入力（前期）'!$G588-1&\"名\"))","v":""}]
[null,580,null,null,null,null,null,null,null,null,{"$f":"IF('教育訓練費入力（前期）'!$C589=\"\",\"\",TEXT('教育訓練費入力（前期）'!$C589,\"yyyy年\")&TEXT('教育訓練費入力（前期）'!$C589,\"m月\")&TEXT('教育訓練費入力（前期）'!$C589,\"ｄ日\")&\"から\"&'教育訓練費入力（前期）'!$D589&\"日間\")","v":""},{"$f":"IF('教育訓練費入力（前期）'!$F589=\"\",\"\",IF('教育訓練費入力（前期）'!$G589=1,'教育訓練費入力（前期）'!$F589,'教育訓練費入力（前期）'!$F589&\"他\"&'教育訓練費入力（前期）'!$G589-1&\"名\"))","v":""}]
[null,581,null,null,null,null,null,null,null,null,{"$f":"IF('教育訓練費入力（前期）'!$C590=\"\",\"\",TEXT('教育訓練費入力（前期）'!$C590,\"yyyy年\")&TEXT('教育訓練費入力（前期）'!$C590,\"m月\")&TEXT('教育訓練費入力（前期）'!$C590,\"ｄ日\")&\"から\"&'教育訓練費入力（前期）'!$D590&\"日間\")","v":""},{"$f":"IF('教育訓練費入力（前期）'!$F590=\"\",\"\",IF('教育訓練費入力（前期）'!$G590=1,'教育訓練費入力（前期）'!$F590,'教育訓練費入力（前期）'!$F590&\"他\"&'教育訓練費入力（前期）'!$G590-1&\"名\"))","v":""}]
[null,582,null,null,null,null,null,null,null,null,{"$f":"IF('教育訓練費入力（前期）'!$C591=\"\",\"\",TEXT('教育訓練費入力（前期）'!$C591,\"yyyy年\")&TEXT('教育訓練費入力（前期）'!$C591,\"m月\")&TEXT('教育訓練費入力（前期）'!$C591,\"ｄ日\")&\"から\"&'教育訓練費入力（前期）'!$D591&\"日間\")","v":""},{"$f":"IF('教育訓練費入力（前期）'!$F591=\"\",\"\",IF('教育訓練費入力（前期）'!$G591=1,'教育訓練費入力（前期）'!$F591,'教育訓練費入力（前期）'!$F591&\"他\"&'教育訓練費入力（前期）'!$G591-1&\"名\"))","v":""}]
[null,583,null,null,null,null,null,null,null,null,{"$f":"IF('教育訓練費入力（前期）'!$C592=\"\",\"\",TEXT('教育訓練費入力（前期）'!$C592,\"yyyy年\")&TEXT('教育訓練費入力（前期）'!$C592,\"m月\")&TEXT('教育訓練費入力（前期）'!$C592,\"ｄ日\")&\"から\"&'教育訓練費入力（前期）'!$D592&\"日間\")","v":""},{"$f":"IF('教育訓練費入力（前期）'!$F592=\"\",\"\",IF('教育訓練費入力（前期）'!$G592=1,'教育訓練費入力（前期）'!$F592,'教育訓練費入力（前期）'!$F592&\"他\"&'教育訓練費入力（前期）'!$G592-1&\"名\"))","v":""}]
[null,584,null,null,null,null,null,null,null,null,{"$f":"IF('教育訓練費入力（前期）'!$C593=\"\",\"\",TEXT('教育訓練費入力（前期）'!$C593,\"yyyy年\")&TEXT('教育訓練費入力（前期）'!$C593,\"m月\")&TEXT('教育訓練費入力（前期）'!$C593,\"ｄ日\")&\"から\"&'教育訓練費入力（前期）'!$D593&\"日間\")","v":""},{"$f":"IF('教育訓練費入力（前期）'!$F593=\"\",\"\",IF('教育訓練費入力（前期）'!$G593=1,'教育訓練費入力（前期）'!$F593,'教育訓練費入力（前期）'!$F593&\"他\"&'教育訓練費入力（前期）'!$G593-1&\"名\"))","v":""}]
[null,585,null,null,null,null,null,null,null,null,{"$f":"IF('教育訓練費入力（前期）'!$C594=\"\",\"\",TEXT('教育訓練費入力（前期）'!$C594,\"yyyy年\")&TEXT('教育訓練費入力（前期）'!$C594,\"m月\")&TEXT('教育訓練費入力（前期）'!$C594,\"ｄ日\")&\"から\"&'教育訓練費入力（前期）'!$D594&\"日間\")","v":""},{"$f":"IF('教育訓練費入力（前期）'!$F594=\"\",\"\",IF('教育訓練費入力（前期）'!$G594=1,'教育訓練費入力（前期）'!$F594,'教育訓練費入力（前期）'!$F594&\"他\"&'教育訓練費入力（前期）'!$G594-1&\"名\"))","v":""}]
[null,586,null,null,null,null,null,null,null,null,{"$f":"IF('教育訓練費入力（前期）'!$C595=\"\",\"\",TEXT('教育訓練費入力（前期）'!$C595,\"yyyy年\")&TEXT('教育訓練費入力（前期）'!$C595,\"m月\")&TEXT('教育訓練費入力（前期）'!$C595,\"ｄ日\")&\"から\"&'教育訓練費入力（前期）'!$D595&\"日間\")","v":""},{"$f":"IF('教育訓練費入力（前期）'!$F595=\"\",\"\",IF('教育訓練費入力（前期）'!$G595=1,'教育訓練費入力（前期）'!$F595,'教育訓練費入力（前期）'!$F595&\"他\"&'教育訓練費入力（前期）'!$G595-1&\"名\"))","v":""}]
[null,587,null,null,null,null,null,null,null,null,{"$f":"IF('教育訓練費入力（前期）'!$C596=\"\",\"\",TEXT('教育訓練費入力（前期）'!$C596,\"yyyy年\")&TEXT('教育訓練費入力（前期）'!$C596,\"m月\")&TEXT('教育訓練費入力（前期）'!$C596,\"ｄ日\")&\"から\"&'教育訓練費入力（前期）'!$D596&\"日間\")","v":""},{"$f":"IF('教育訓練費入力（前期）'!$F596=\"\",\"\",IF('教育訓練費入力（前期）'!$G596=1,'教育訓練費入力（前期）'!$F596,'教育訓練費入力（前期）'!$F596&\"他\"&'教育訓練費入力（前期）'!$G596-1&\"名\"))","v":""}]
[null,588,null,null,null,null,null,null,null,null,{"$f":"IF('教育訓練費入力（前期）'!$C597=\"\",\"\",TEXT('教育訓練費入力（前期）'!$C597,\"yyyy年\")&TEXT('教育訓練費入力（前期）'!$C597,\"m月\")&TEXT('教育訓練費入力（前期）'!$C597,\"ｄ日\")&\"から\"&'教育訓練費入力（前期）'!$D597&\"日間\")","v":""},{"$f":"IF('教育訓練費入力（前期）'!$F597=\"\",\"\",IF('教育訓練費入力（前期）'!$G597=1,'教育訓練費入力（前期）'!$F597,'教育訓練費入力（前期）'!$F597&\"他\"&'教育訓練費入力（前期）'!$G597-1&\"名\"))","v":""}]
[null,589,null,null,null,null,null,null,null,null,{"$f":"IF('教育訓練費入力（前期）'!$C598=\"\",\"\",TEXT('教育訓練費入力（前期）'!$C598,\"yyyy年\")&TEXT('教育訓練費入力（前期）'!$C598,\"m月\")&TEXT('教育訓練費入力（前期）'!$C598,\"ｄ日\")&\"から\"&'教育訓練費入力（前期）'!$D598&\"日間\")","v":""},{"$f":"IF('教育訓練費入力（前期）'!$F598=\"\",\"\",IF('教育訓練費入力（前期）'!$G598=1,'教育訓練費入力（前期）'!$F598,'教育訓練費入力（前期）'!$F598&\"他\"&'教育訓練費入力（前期）'!$G598-1&\"名\"))","v":""}]
[null,590,null,null,null,null,null,null,null,null,{"$f":"IF('教育訓練費入力（前期）'!$C599=\"\",\"\",TEXT('教育訓練費入力（前期）'!$C599,\"yyyy年\")&TEXT('教育訓練費入力（前期）'!$C599,\"m月\")&TEXT('教育訓練費入力（前期）'!$C599,\"ｄ日\")&\"から\"&'教育訓練費入力（前期）'!$D599&\"日間\")","v":""},{"$f":"IF('教育訓練費入力（前期）'!$F599=\"\",\"\",IF('教育訓練費入力（前期）'!$G599=1,'教育訓練費入力（前期）'!$F599,'教育訓練費入力（前期）'!$F599&\"他\"&'教育訓練費入力（前期）'!$G599-1&\"名\"))","v":""}]
[null,591,null,null,null,null,null,null,null,null,{"$f":"IF('教育訓練費入力（前期）'!$C600=\"\",\"\",TEXT('教育訓練費入力（前期）'!$C600,\"yyyy年\")&TEXT('教育訓練費入力（前期）'!$C600,\"m月\")&TEXT('教育訓練費入力（前期）'!$C600,\"ｄ日\")&\"から\"&'教育訓練費入力（前期）'!$D600&\"日間\")","v":""},{"$f":"IF('教育訓練費入力（前期）'!$F600=\"\",\"\",IF('教育訓練費入力（前期）'!$G600=1,'教育訓練費入力（前期）'!$F600,'教育訓練費入力（前期）'!$F600&\"他\"&'教育訓練費入力（前期）'!$G600-1&\"名\"))","v":""}]
[null,592,null,null,null,null,null,null,null,null,{"$f":"IF('教育訓練費入力（前期）'!$C601=\"\",\"\",TEXT('教育訓練費入力（前期）'!$C601,\"yyyy年\")&TEXT('教育訓練費入力（前期）'!$C601,\"m月\")&TEXT('教育訓練費入力（前期）'!$C601,\"ｄ日\")&\"から\"&'教育訓練費入力（前期）'!$D601&\"日間\")","v":""},{"$f":"IF('教育訓練費入力（前期）'!$F601=\"\",\"\",IF('教育訓練費入力（前期）'!$G601=1,'教育訓練費入力（前期）'!$F601,'教育訓練費入力（前期）'!$F601&\"他\"&'教育訓練費入力（前期）'!$G601-1&\"名\"))","v":""}]
[null,593,null,null,null,null,null,null,null,null,{"$f":"IF('教育訓練費入力（前期）'!$C602=\"\",\"\",TEXT('教育訓練費入力（前期）'!$C602,\"yyyy年\")&TEXT('教育訓練費入力（前期）'!$C602,\"m月\")&TEXT('教育訓練費入力（前期）'!$C602,\"ｄ日\")&\"から\"&'教育訓練費入力（前期）'!$D602&\"日間\")","v":""},{"$f":"IF('教育訓練費入力（前期）'!$F602=\"\",\"\",IF('教育訓練費入力（前期）'!$G602=1,'教育訓練費入力（前期）'!$F602,'教育訓練費入力（前期）'!$F602&\"他\"&'教育訓練費入力（前期）'!$G602-1&\"名\"))","v":""}]
[null,594,null,null,null,null,null,null,null,null,{"$f":"IF('教育訓練費入力（前期）'!$C603=\"\",\"\",TEXT('教育訓練費入力（前期）'!$C603,\"yyyy年\")&TEXT('教育訓練費入力（前期）'!$C603,\"m月\")&TEXT('教育訓練費入力（前期）'!$C603,\"ｄ日\")&\"から\"&'教育訓練費入力（前期）'!$D603&\"日間\")","v":""},{"$f":"IF('教育訓練費入力（前期）'!$F603=\"\",\"\",IF('教育訓練費入力（前期）'!$G603=1,'教育訓練費入力（前期）'!$F603,'教育訓練費入力（前期）'!$F603&\"他\"&'教育訓練費入力（前期）'!$G603-1&\"名\"))","v":""}]
[null,595,null,null,null,null,null,null,null,null,{"$f":"IF('教育訓練費入力（前期）'!$C604=\"\",\"\",TEXT('教育訓練費入力（前期）'!$C604,\"yyyy年\")&TEXT('教育訓練費入力（前期）'!$C604,\"m月\")&TEXT('教育訓練費入力（前期）'!$C604,\"ｄ日\")&\"から\"&'教育訓練費入力（前期）'!$D604&\"日間\")","v":""},{"$f":"IF('教育訓練費入力（前期）'!$F604=\"\",\"\",IF('教育訓練費入力（前期）'!$G604=1,'教育訓練費入力（前期）'!$F604,'教育訓練費入力（前期）'!$F604&\"他\"&'教育訓練費入力（前期）'!$G604-1&\"名\"))","v":""}]
[null,596,null,null,null,null,null,null,null,null,{"$f":"IF('教育訓練費入力（前期）'!$C605=\"\",\"\",TEXT('教育訓練費入力（前期）'!$C605,\"yyyy年\")&TEXT('教育訓練費入力（前期）'!$C605,\"m月\")&TEXT('教育訓練費入力（前期）'!$C605,\"ｄ日\")&\"から\"&'教育訓練費入力（前期）'!$D605&\"日間\")","v":""},{"$f":"IF('教育訓練費入力（前期）'!$F605=\"\",\"\",IF('教育訓練費入力（前期）'!$G605=1,'教育訓練費入力（前期）'!$F605,'教育訓練費入力（前期）'!$F605&\"他\"&'教育訓練費入力（前期）'!$G605-1&\"名\"))","v":""}]
[null,597,null,null,null,null,null,null,null,null,{"$f":"IF('教育訓練費入力（前期）'!$C606=\"\",\"\",TEXT('教育訓練費入力（前期）'!$C606,\"yyyy年\")&TEXT('教育訓練費入力（前期）'!$C606,\"m月\")&TEXT('教育訓練費入力（前期）'!$C606,\"ｄ日\")&\"から\"&'教育訓練費入力（前期）'!$D606&\"日間\")","v":""},{"$f":"IF('教育訓練費入力（前期）'!$F606=\"\",\"\",IF('教育訓練費入力（前期）'!$G606=1,'教育訓練費入力（前期）'!$F606,'教育訓練費入力（前期）'!$F606&\"他\"&'教育訓練費入力（前期）'!$G606-1&\"名\"))","v":""}]
[null,598,null,null,null,null,null,null,null,null,{"$f":"IF('教育訓練費入力（前期）'!$C607=\"\",\"\",TEXT('教育訓練費入力（前期）'!$C607,\"yyyy年\")&TEXT('教育訓練費入力（前期）'!$C607,\"m月\")&TEXT('教育訓練費入力（前期）'!$C607,\"ｄ日\")&\"から\"&'教育訓練費入力（前期）'!$D607&\"日間\")","v":""},{"$f":"IF('教育訓練費入力（前期）'!$F607=\"\",\"\",IF('教育訓練費入力（前期）'!$G607=1,'教育訓練費入力（前期）'!$F607,'教育訓練費入力（前期）'!$F607&\"他\"&'教育訓練費入力（前期）'!$G607-1&\"名\"))","v":""}]
[null,599,null,null,null,null,null,null,null,null,{"$f":"IF('教育訓練費入力（前期）'!$C608=\"\",\"\",TEXT('教育訓練費入力（前期）'!$C608,\"yyyy年\")&TEXT('教育訓練費入力（前期）'!$C608,\"m月\")&TEXT('教育訓練費入力（前期）'!$C608,\"ｄ日\")&\"から\"&'教育訓練費入力（前期）'!$D608&\"日間\")","v":""},{"$f":"IF('教育訓練費入力（前期）'!$F608=\"\",\"\",IF('教育訓練費入力（前期）'!$G608=1,'教育訓練費入力（前期）'!$F608,'教育訓練費入力（前期）'!$F608&\"他\"&'教育訓練費入力（前期）'!$G608-1&\"名\"))","v":""}]
[null,600,null,null,null,null,null,null,null,null,{"$f":"IF('教育訓練費入力（前期）'!$C609=\"\",\"\",TEXT('教育訓練費入力（前期）'!$C609,\"yyyy年\")&TEXT('教育訓練費入力（前期）'!$C609,\"m月\")&TEXT('教育訓練費入力（前期）'!$C609,\"ｄ日\")&\"から\"&'教育訓練費入力（前期）'!$D609&\"日間\")","v":""},{"$f":"IF('教育訓練費入力（前期）'!$F609=\"\",\"\",IF('教育訓練費入力（前期）'!$G609=1,'教育訓練費入力（前期）'!$F609,'教育訓練費入力（前期）'!$F609&\"他\"&'教育訓練費入力（前期）'!$G609-1&\"名\"))","v":""}]
[null,601,null,null,null,null,null,null,null,null,{"$f":"IF('教育訓練費入力（前期）'!$C610=\"\",\"\",TEXT('教育訓練費入力（前期）'!$C610,\"yyyy年\")&TEXT('教育訓練費入力（前期）'!$C610,\"m月\")&TEXT('教育訓練費入力（前期）'!$C610,\"ｄ日\")&\"から\"&'教育訓練費入力（前期）'!$D610&\"日間\")","v":""},{"$f":"IF('教育訓練費入力（前期）'!$F610=\"\",\"\",IF('教育訓練費入力（前期）'!$G610=1,'教育訓練費入力（前期）'!$F610,'教育訓練費入力（前期）'!$F610&\"他\"&'教育訓練費入力（前期）'!$G610-1&\"名\"))","v":""}]
[null,602,null,null,null,null,null,null,null,null,{"$f":"IF('教育訓練費入力（前期）'!$C611=\"\",\"\",TEXT('教育訓練費入力（前期）'!$C611,\"yyyy年\")&TEXT('教育訓練費入力（前期）'!$C611,\"m月\")&TEXT('教育訓練費入力（前期）'!$C611,\"ｄ日\")&\"から\"&'教育訓練費入力（前期）'!$D611&\"日間\")","v":""},{"$f":"IF('教育訓練費入力（前期）'!$F611=\"\",\"\",IF('教育訓練費入力（前期）'!$G611=1,'教育訓練費入力（前期）'!$F611,'教育訓練費入力（前期）'!$F611&\"他\"&'教育訓練費入力（前期）'!$G611-1&\"名\"))","v":""}]
[null,603,null,null,null,null,null,null,null,null,{"$f":"IF('教育訓練費入力（前期）'!$C612=\"\",\"\",TEXT('教育訓練費入力（前期）'!$C612,\"yyyy年\")&TEXT('教育訓練費入力（前期）'!$C612,\"m月\")&TEXT('教育訓練費入力（前期）'!$C612,\"ｄ日\")&\"から\"&'教育訓練費入力（前期）'!$D612&\"日間\")","v":""},{"$f":"IF('教育訓練費入力（前期）'!$F612=\"\",\"\",IF('教育訓練費入力（前期）'!$G612=1,'教育訓練費入力（前期）'!$F612,'教育訓練費入力（前期）'!$F612&\"他\"&'教育訓練費入力（前期）'!$G612-1&\"名\"))","v":""}]
[null,604,null,null,null,null,null,null,null,null,{"$f":"IF('教育訓練費入力（前期）'!$C613=\"\",\"\",TEXT('教育訓練費入力（前期）'!$C613,\"yyyy年\")&TEXT('教育訓練費入力（前期）'!$C613,\"m月\")&TEXT('教育訓練費入力（前期）'!$C613,\"ｄ日\")&\"から\"&'教育訓練費入力（前期）'!$D613&\"日間\")","v":""},{"$f":"IF('教育訓練費入力（前期）'!$F613=\"\",\"\",IF('教育訓練費入力（前期）'!$G613=1,'教育訓練費入力（前期）'!$F613,'教育訓練費入力（前期）'!$F613&\"他\"&'教育訓練費入力（前期）'!$G613-1&\"名\"))","v":""}]
[null,605,null,null,null,null,null,null,null,null,{"$f":"IF('教育訓練費入力（前期）'!$C614=\"\",\"\",TEXT('教育訓練費入力（前期）'!$C614,\"yyyy年\")&TEXT('教育訓練費入力（前期）'!$C614,\"m月\")&TEXT('教育訓練費入力（前期）'!$C614,\"ｄ日\")&\"から\"&'教育訓練費入力（前期）'!$D614&\"日間\")","v":""},{"$f":"IF('教育訓練費入力（前期）'!$F614=\"\",\"\",IF('教育訓練費入力（前期）'!$G614=1,'教育訓練費入力（前期）'!$F614,'教育訓練費入力（前期）'!$F614&\"他\"&'教育訓練費入力（前期）'!$G614-1&\"名\"))","v":""}]
[null,606,null,null,null,null,null,null,null,null,{"$f":"IF('教育訓練費入力（前期）'!$C615=\"\",\"\",TEXT('教育訓練費入力（前期）'!$C615,\"yyyy年\")&TEXT('教育訓練費入力（前期）'!$C615,\"m月\")&TEXT('教育訓練費入力（前期）'!$C615,\"ｄ日\")&\"から\"&'教育訓練費入力（前期）'!$D615&\"日間\")","v":""},{"$f":"IF('教育訓練費入力（前期）'!$F615=\"\",\"\",IF('教育訓練費入力（前期）'!$G615=1,'教育訓練費入力（前期）'!$F615,'教育訓練費入力（前期）'!$F615&\"他\"&'教育訓練費入力（前期）'!$G615-1&\"名\"))","v":""}]
[null,607,null,null,null,null,null,null,null,null,{"$f":"IF('教育訓練費入力（前期）'!$C616=\"\",\"\",TEXT('教育訓練費入力（前期）'!$C616,\"yyyy年\")&TEXT('教育訓練費入力（前期）'!$C616,\"m月\")&TEXT('教育訓練費入力（前期）'!$C616,\"ｄ日\")&\"から\"&'教育訓練費入力（前期）'!$D616&\"日間\")","v":""},{"$f":"IF('教育訓練費入力（前期）'!$F616=\"\",\"\",IF('教育訓練費入力（前期）'!$G616=1,'教育訓練費入力（前期）'!$F616,'教育訓練費入力（前期）'!$F616&\"他\"&'教育訓練費入力（前期）'!$G616-1&\"名\"))","v":""}]
[null,608,null,null,null,null,null,null,null,null,{"$f":"IF('教育訓練費入力（前期）'!$C617=\"\",\"\",TEXT('教育訓練費入力（前期）'!$C617,\"yyyy年\")&TEXT('教育訓練費入力（前期）'!$C617,\"m月\")&TEXT('教育訓練費入力（前期）'!$C617,\"ｄ日\")&\"から\"&'教育訓練費入力（前期）'!$D617&\"日間\")","v":""},{"$f":"IF('教育訓練費入力（前期）'!$F617=\"\",\"\",IF('教育訓練費入力（前期）'!$G617=1,'教育訓練費入力（前期）'!$F617,'教育訓練費入力（前期）'!$F617&\"他\"&'教育訓練費入力（前期）'!$G617-1&\"名\"))","v":""}]
[null,609,null,null,null,null,null,null,null,null,{"$f":"IF('教育訓練費入力（前期）'!$C618=\"\",\"\",TEXT('教育訓練費入力（前期）'!$C618,\"yyyy年\")&TEXT('教育訓練費入力（前期）'!$C618,\"m月\")&TEXT('教育訓練費入力（前期）'!$C618,\"ｄ日\")&\"から\"&'教育訓練費入力（前期）'!$D618&\"日間\")","v":""},{"$f":"IF('教育訓練費入力（前期）'!$F618=\"\",\"\",IF('教育訓練費入力（前期）'!$G618=1,'教育訓練費入力（前期）'!$F618,'教育訓練費入力（前期）'!$F618&\"他\"&'教育訓練費入力（前期）'!$G618-1&\"名\"))","v":""}]
[null,610,null,null,null,null,null,null,null,null,{"$f":"IF('教育訓練費入力（前期）'!$C619=\"\",\"\",TEXT('教育訓練費入力（前期）'!$C619,\"yyyy年\")&TEXT('教育訓練費入力（前期）'!$C619,\"m月\")&TEXT('教育訓練費入力（前期）'!$C619,\"ｄ日\")&\"から\"&'教育訓練費入力（前期）'!$D619&\"日間\")","v":""},{"$f":"IF('教育訓練費入力（前期）'!$F619=\"\",\"\",IF('教育訓練費入力（前期）'!$G619=1,'教育訓練費入力（前期）'!$F619,'教育訓練費入力（前期）'!$F619&\"他\"&'教育訓練費入力（前期）'!$G619-1&\"名\"))","v":""}]
[null,611,null,null,null,null,null,null,null,null,{"$f":"IF('教育訓練費入力（前期）'!$C620=\"\",\"\",TEXT('教育訓練費入力（前期）'!$C620,\"yyyy年\")&TEXT('教育訓練費入力（前期）'!$C620,\"m月\")&TEXT('教育訓練費入力（前期）'!$C620,\"ｄ日\")&\"から\"&'教育訓練費入力（前期）'!$D620&\"日間\")","v":""},{"$f":"IF('教育訓練費入力（前期）'!$F620=\"\",\"\",IF('教育訓練費入力（前期）'!$G620=1,'教育訓練費入力（前期）'!$F620,'教育訓練費入力（前期）'!$F620&\"他\"&'教育訓練費入力（前期）'!$G620-1&\"名\"))","v":""}]
[null,612,null,null,null,null,null,null,null,null,{"$f":"IF('教育訓練費入力（前期）'!$C621=\"\",\"\",TEXT('教育訓練費入力（前期）'!$C621,\"yyyy年\")&TEXT('教育訓練費入力（前期）'!$C621,\"m月\")&TEXT('教育訓練費入力（前期）'!$C621,\"ｄ日\")&\"から\"&'教育訓練費入力（前期）'!$D621&\"日間\")","v":""},{"$f":"IF('教育訓練費入力（前期）'!$F621=\"\",\"\",IF('教育訓練費入力（前期）'!$G621=1,'教育訓練費入力（前期）'!$F621,'教育訓練費入力（前期）'!$F621&\"他\"&'教育訓練費入力（前期）'!$G621-1&\"名\"))","v":""}]
[null,613,null,null,null,null,null,null,null,null,{"$f":"IF('教育訓練費入力（前期）'!$C622=\"\",\"\",TEXT('教育訓練費入力（前期）'!$C622,\"yyyy年\")&TEXT('教育訓練費入力（前期）'!$C622,\"m月\")&TEXT('教育訓練費入力（前期）'!$C622,\"ｄ日\")&\"から\"&'教育訓練費入力（前期）'!$D622&\"日間\")","v":""},{"$f":"IF('教育訓練費入力（前期）'!$F622=\"\",\"\",IF('教育訓練費入力（前期）'!$G622=1,'教育訓練費入力（前期）'!$F622,'教育訓練費入力（前期）'!$F622&\"他\"&'教育訓練費入力（前期）'!$G622-1&\"名\"))","v":""}]
[null,614,null,null,null,null,null,null,null,null,{"$f":"IF('教育訓練費入力（前期）'!$C623=\"\",\"\",TEXT('教育訓練費入力（前期）'!$C623,\"yyyy年\")&TEXT('教育訓練費入力（前期）'!$C623,\"m月\")&TEXT('教育訓練費入力（前期）'!$C623,\"ｄ日\")&\"から\"&'教育訓練費入力（前期）'!$D623&\"日間\")","v":""},{"$f":"IF('教育訓練費入力（前期）'!$F623=\"\",\"\",IF('教育訓練費入力（前期）'!$G623=1,'教育訓練費入力（前期）'!$F623,'教育訓練費入力（前期）'!$F623&\"他\"&'教育訓練費入力（前期）'!$G623-1&\"名\"))","v":""}]
[null,615,null,null,null,null,null,null,null,null,{"$f":"IF('教育訓練費入力（前期）'!$C624=\"\",\"\",TEXT('教育訓練費入力（前期）'!$C624,\"yyyy年\")&TEXT('教育訓練費入力（前期）'!$C624,\"m月\")&TEXT('教育訓練費入力（前期）'!$C624,\"ｄ日\")&\"から\"&'教育訓練費入力（前期）'!$D624&\"日間\")","v":""},{"$f":"IF('教育訓練費入力（前期）'!$F624=\"\",\"\",IF('教育訓練費入力（前期）'!$G624=1,'教育訓練費入力（前期）'!$F624,'教育訓練費入力（前期）'!$F624&\"他\"&'教育訓練費入力（前期）'!$G624-1&\"名\"))","v":""}]
[null,616,null,null,null,null,null,null,null,null,{"$f":"IF('教育訓練費入力（前期）'!$C625=\"\",\"\",TEXT('教育訓練費入力（前期）'!$C625,\"yyyy年\")&TEXT('教育訓練費入力（前期）'!$C625,\"m月\")&TEXT('教育訓練費入力（前期）'!$C625,\"ｄ日\")&\"から\"&'教育訓練費入力（前期）'!$D625&\"日間\")","v":""},{"$f":"IF('教育訓練費入力（前期）'!$F625=\"\",\"\",IF('教育訓練費入力（前期）'!$G625=1,'教育訓練費入力（前期）'!$F625,'教育訓練費入力（前期）'!$F625&\"他\"&'教育訓練費入力（前期）'!$G625-1&\"名\"))","v":""}]
[null,617,null,null,null,null,null,null,null,null,{"$f":"IF('教育訓練費入力（前期）'!$C626=\"\",\"\",TEXT('教育訓練費入力（前期）'!$C626,\"yyyy年\")&TEXT('教育訓練費入力（前期）'!$C626,\"m月\")&TEXT('教育訓練費入力（前期）'!$C626,\"ｄ日\")&\"から\"&'教育訓練費入力（前期）'!$D626&\"日間\")","v":""},{"$f":"IF('教育訓練費入力（前期）'!$F626=\"\",\"\",IF('教育訓練費入力（前期）'!$G626=1,'教育訓練費入力（前期）'!$F626,'教育訓練費入力（前期）'!$F626&\"他\"&'教育訓練費入力（前期）'!$G626-1&\"名\"))","v":""}]
[null,618,null,null,null,null,null,null,null,null,{"$f":"IF('教育訓練費入力（前期）'!$C627=\"\",\"\",TEXT('教育訓練費入力（前期）'!$C627,\"yyyy年\")&TEXT('教育訓練費入力（前期）'!$C627,\"m月\")&TEXT('教育訓練費入力（前期）'!$C627,\"ｄ日\")&\"から\"&'教育訓練費入力（前期）'!$D627&\"日間\")","v":""},{"$f":"IF('教育訓練費入力（前期）'!$F627=\"\",\"\",IF('教育訓練費入力（前期）'!$G627=1,'教育訓練費入力（前期）'!$F627,'教育訓練費入力（前期）'!$F627&\"他\"&'教育訓練費入力（前期）'!$G627-1&\"名\"))","v":""}]
[null,619,null,null,null,null,null,null,null,null,{"$f":"IF('教育訓練費入力（前期）'!$C628=\"\",\"\",TEXT('教育訓練費入力（前期）'!$C628,\"yyyy年\")&TEXT('教育訓練費入力（前期）'!$C628,\"m月\")&TEXT('教育訓練費入力（前期）'!$C628,\"ｄ日\")&\"から\"&'教育訓練費入力（前期）'!$D628&\"日間\")","v":""},{"$f":"IF('教育訓練費入力（前期）'!$F628=\"\",\"\",IF('教育訓練費入力（前期）'!$G628=1,'教育訓練費入力（前期）'!$F628,'教育訓練費入力（前期）'!$F628&\"他\"&'教育訓練費入力（前期）'!$G628-1&\"名\"))","v":""}]
[null,620,null,null,null,null,null,null,null,null,{"$f":"IF('教育訓練費入力（前期）'!$C629=\"\",\"\",TEXT('教育訓練費入力（前期）'!$C629,\"yyyy年\")&TEXT('教育訓練費入力（前期）'!$C629,\"m月\")&TEXT('教育訓練費入力（前期）'!$C629,\"ｄ日\")&\"から\"&'教育訓練費入力（前期）'!$D629&\"日間\")","v":""},{"$f":"IF('教育訓練費入力（前期）'!$F629=\"\",\"\",IF('教育訓練費入力（前期）'!$G629=1,'教育訓練費入力（前期）'!$F629,'教育訓練費入力（前期）'!$F629&\"他\"&'教育訓練費入力（前期）'!$G629-1&\"名\"))","v":""}]
[null,621,null,null,null,null,null,null,null,null,{"$f":"IF('教育訓練費入力（前期）'!$C630=\"\",\"\",TEXT('教育訓練費入力（前期）'!$C630,\"yyyy年\")&TEXT('教育訓練費入力（前期）'!$C630,\"m月\")&TEXT('教育訓練費入力（前期）'!$C630,\"ｄ日\")&\"から\"&'教育訓練費入力（前期）'!$D630&\"日間\")","v":""},{"$f":"IF('教育訓練費入力（前期）'!$F630=\"\",\"\",IF('教育訓練費入力（前期）'!$G630=1,'教育訓練費入力（前期）'!$F630,'教育訓練費入力（前期）'!$F630&\"他\"&'教育訓練費入力（前期）'!$G630-1&\"名\"))","v":""}]
[null,622,null,null,null,null,null,null,null,null,{"$f":"IF('教育訓練費入力（前期）'!$C631=\"\",\"\",TEXT('教育訓練費入力（前期）'!$C631,\"yyyy年\")&TEXT('教育訓練費入力（前期）'!$C631,\"m月\")&TEXT('教育訓練費入力（前期）'!$C631,\"ｄ日\")&\"から\"&'教育訓練費入力（前期）'!$D631&\"日間\")","v":""},{"$f":"IF('教育訓練費入力（前期）'!$F631=\"\",\"\",IF('教育訓練費入力（前期）'!$G631=1,'教育訓練費入力（前期）'!$F631,'教育訓練費入力（前期）'!$F631&\"他\"&'教育訓練費入力（前期）'!$G631-1&\"名\"))","v":""}]
[null,623,null,null,null,null,null,null,null,null,{"$f":"IF('教育訓練費入力（前期）'!$C632=\"\",\"\",TEXT('教育訓練費入力（前期）'!$C632,\"yyyy年\")&TEXT('教育訓練費入力（前期）'!$C632,\"m月\")&TEXT('教育訓練費入力（前期）'!$C632,\"ｄ日\")&\"から\"&'教育訓練費入力（前期）'!$D632&\"日間\")","v":""},{"$f":"IF('教育訓練費入力（前期）'!$F632=\"\",\"\",IF('教育訓練費入力（前期）'!$G632=1,'教育訓練費入力（前期）'!$F632,'教育訓練費入力（前期）'!$F632&\"他\"&'教育訓練費入力（前期）'!$G632-1&\"名\"))","v":""}]
[null,624,null,null,null,null,null,null,null,null,{"$f":"IF('教育訓練費入力（前期）'!$C633=\"\",\"\",TEXT('教育訓練費入力（前期）'!$C633,\"yyyy年\")&TEXT('教育訓練費入力（前期）'!$C633,\"m月\")&TEXT('教育訓練費入力（前期）'!$C633,\"ｄ日\")&\"から\"&'教育訓練費入力（前期）'!$D633&\"日間\")","v":""},{"$f":"IF('教育訓練費入力（前期）'!$F633=\"\",\"\",IF('教育訓練費入力（前期）'!$G633=1,'教育訓練費入力（前期）'!$F633,'教育訓練費入力（前期）'!$F633&\"他\"&'教育訓練費入力（前期）'!$G633-1&\"名\"))","v":""}]
[null,625,null,null,null,null,null,null,null,null,{"$f":"IF('教育訓練費入力（前期）'!$C634=\"\",\"\",TEXT('教育訓練費入力（前期）'!$C634,\"yyyy年\")&TEXT('教育訓練費入力（前期）'!$C634,\"m月\")&TEXT('教育訓練費入力（前期）'!$C634,\"ｄ日\")&\"から\"&'教育訓練費入力（前期）'!$D634&\"日間\")","v":""},{"$f":"IF('教育訓練費入力（前期）'!$F634=\"\",\"\",IF('教育訓練費入力（前期）'!$G634=1,'教育訓練費入力（前期）'!$F634,'教育訓練費入力（前期）'!$F634&\"他\"&'教育訓練費入力（前期）'!$G634-1&\"名\"))","v":""}]
[null,626,null,null,null,null,null,null,null,null,{"$f":"IF('教育訓練費入力（前期）'!$C635=\"\",\"\",TEXT('教育訓練費入力（前期）'!$C635,\"yyyy年\")&TEXT('教育訓練費入力（前期）'!$C635,\"m月\")&TEXT('教育訓練費入力（前期）'!$C635,\"ｄ日\")&\"から\"&'教育訓練費入力（前期）'!$D635&\"日間\")","v":""},{"$f":"IF('教育訓練費入力（前期）'!$F635=\"\",\"\",IF('教育訓練費入力（前期）'!$G635=1,'教育訓練費入力（前期）'!$F635,'教育訓練費入力（前期）'!$F635&\"他\"&'教育訓練費入力（前期）'!$G635-1&\"名\"))","v":""}]
[null,627,null,null,null,null,null,null,null,null,{"$f":"IF('教育訓練費入力（前期）'!$C636=\"\",\"\",TEXT('教育訓練費入力（前期）'!$C636,\"yyyy年\")&TEXT('教育訓練費入力（前期）'!$C636,\"m月\")&TEXT('教育訓練費入力（前期）'!$C636,\"ｄ日\")&\"から\"&'教育訓練費入力（前期）'!$D636&\"日間\")","v":""},{"$f":"IF('教育訓練費入力（前期）'!$F636=\"\",\"\",IF('教育訓練費入力（前期）'!$G636=1,'教育訓練費入力（前期）'!$F636,'教育訓練費入力（前期）'!$F636&\"他\"&'教育訓練費入力（前期）'!$G636-1&\"名\"))","v":""}]
[null,628,null,null,null,null,null,null,null,null,{"$f":"IF('教育訓練費入力（前期）'!$C637=\"\",\"\",TEXT('教育訓練費入力（前期）'!$C637,\"yyyy年\")&TEXT('教育訓練費入力（前期）'!$C637,\"m月\")&TEXT('教育訓練費入力（前期）'!$C637,\"ｄ日\")&\"から\"&'教育訓練費入力（前期）'!$D637&\"日間\")","v":""},{"$f":"IF('教育訓練費入力（前期）'!$F637=\"\",\"\",IF('教育訓練費入力（前期）'!$G637=1,'教育訓練費入力（前期）'!$F637,'教育訓練費入力（前期）'!$F637&\"他\"&'教育訓練費入力（前期）'!$G637-1&\"名\"))","v":""}]
[null,629,null,null,null,null,null,null,null,null,{"$f":"IF('教育訓練費入力（前期）'!$C638=\"\",\"\",TEXT('教育訓練費入力（前期）'!$C638,\"yyyy年\")&TEXT('教育訓練費入力（前期）'!$C638,\"m月\")&TEXT('教育訓練費入力（前期）'!$C638,\"ｄ日\")&\"から\"&'教育訓練費入力（前期）'!$D638&\"日間\")","v":""},{"$f":"IF('教育訓練費入力（前期）'!$F638=\"\",\"\",IF('教育訓練費入力（前期）'!$G638=1,'教育訓練費入力（前期）'!$F638,'教育訓練費入力（前期）'!$F638&\"他\"&'教育訓練費入力（前期）'!$G638-1&\"名\"))","v":""}]
[null,630,null,null,null,null,null,null,null,null,{"$f":"IF('教育訓練費入力（前期）'!$C639=\"\",\"\",TEXT('教育訓練費入力（前期）'!$C639,\"yyyy年\")&TEXT('教育訓練費入力（前期）'!$C639,\"m月\")&TEXT('教育訓練費入力（前期）'!$C639,\"ｄ日\")&\"から\"&'教育訓練費入力（前期）'!$D639&\"日間\")","v":""},{"$f":"IF('教育訓練費入力（前期）'!$F639=\"\",\"\",IF('教育訓練費入力（前期）'!$G639=1,'教育訓練費入力（前期）'!$F639,'教育訓練費入力（前期）'!$F639&\"他\"&'教育訓練費入力（前期）'!$G639-1&\"名\"))","v":""}]
[null,631,null,null,null,null,null,null,null,null,{"$f":"IF('教育訓練費入力（前期）'!$C640=\"\",\"\",TEXT('教育訓練費入力（前期）'!$C640,\"yyyy年\")&TEXT('教育訓練費入力（前期）'!$C640,\"m月\")&TEXT('教育訓練費入力（前期）'!$C640,\"ｄ日\")&\"から\"&'教育訓練費入力（前期）'!$D640&\"日間\")","v":""},{"$f":"IF('教育訓練費入力（前期）'!$F640=\"\",\"\",IF('教育訓練費入力（前期）'!$G640=1,'教育訓練費入力（前期）'!$F640,'教育訓練費入力（前期）'!$F640&\"他\"&'教育訓練費入力（前期）'!$G640-1&\"名\"))","v":""}]
[null,632,null,null,null,null,null,null,null,null,{"$f":"IF('教育訓練費入力（前期）'!$C641=\"\",\"\",TEXT('教育訓練費入力（前期）'!$C641,\"yyyy年\")&TEXT('教育訓練費入力（前期）'!$C641,\"m月\")&TEXT('教育訓練費入力（前期）'!$C641,\"ｄ日\")&\"から\"&'教育訓練費入力（前期）'!$D641&\"日間\")","v":""},{"$f":"IF('教育訓練費入力（前期）'!$F641=\"\",\"\",IF('教育訓練費入力（前期）'!$G641=1,'教育訓練費入力（前期）'!$F641,'教育訓練費入力（前期）'!$F641&\"他\"&'教育訓練費入力（前期）'!$G641-1&\"名\"))","v":""}]
[null,633,null,null,null,null,null,null,null,null,{"$f":"IF('教育訓練費入力（前期）'!$C642=\"\",\"\",TEXT('教育訓練費入力（前期）'!$C642,\"yyyy年\")&TEXT('教育訓練費入力（前期）'!$C642,\"m月\")&TEXT('教育訓練費入力（前期）'!$C642,\"ｄ日\")&\"から\"&'教育訓練費入力（前期）'!$D642&\"日間\")","v":""},{"$f":"IF('教育訓練費入力（前期）'!$F642=\"\",\"\",IF('教育訓練費入力（前期）'!$G642=1,'教育訓練費入力（前期）'!$F642,'教育訓練費入力（前期）'!$F642&\"他\"&'教育訓練費入力（前期）'!$G642-1&\"名\"))","v":""}]
[null,634,null,null,null,null,null,null,null,null,{"$f":"IF('教育訓練費入力（前期）'!$C643=\"\",\"\",TEXT('教育訓練費入力（前期）'!$C643,\"yyyy年\")&TEXT('教育訓練費入力（前期）'!$C643,\"m月\")&TEXT('教育訓練費入力（前期）'!$C643,\"ｄ日\")&\"から\"&'教育訓練費入力（前期）'!$D643&\"日間\")","v":""},{"$f":"IF('教育訓練費入力（前期）'!$F643=\"\",\"\",IF('教育訓練費入力（前期）'!$G643=1,'教育訓練費入力（前期）'!$F643,'教育訓練費入力（前期）'!$F643&\"他\"&'教育訓練費入力（前期）'!$G643-1&\"名\"))","v":""}]
[null,635,null,null,null,null,null,null,null,null,{"$f":"IF('教育訓練費入力（前期）'!$C644=\"\",\"\",TEXT('教育訓練費入力（前期）'!$C644,\"yyyy年\")&TEXT('教育訓練費入力（前期）'!$C644,\"m月\")&TEXT('教育訓練費入力（前期）'!$C644,\"ｄ日\")&\"から\"&'教育訓練費入力（前期）'!$D644&\"日間\")","v":""},{"$f":"IF('教育訓練費入力（前期）'!$F644=\"\",\"\",IF('教育訓練費入力（前期）'!$G644=1,'教育訓練費入力（前期）'!$F644,'教育訓練費入力（前期）'!$F644&\"他\"&'教育訓練費入力（前期）'!$G644-1&\"名\"))","v":""}]
[null,636,null,null,null,null,null,null,null,null,{"$f":"IF('教育訓練費入力（前期）'!$C645=\"\",\"\",TEXT('教育訓練費入力（前期）'!$C645,\"yyyy年\")&TEXT('教育訓練費入力（前期）'!$C645,\"m月\")&TEXT('教育訓練費入力（前期）'!$C645,\"ｄ日\")&\"から\"&'教育訓練費入力（前期）'!$D645&\"日間\")","v":""},{"$f":"IF('教育訓練費入力（前期）'!$F645=\"\",\"\",IF('教育訓練費入力（前期）'!$G645=1,'教育訓練費入力（前期）'!$F645,'教育訓練費入力（前期）'!$F645&\"他\"&'教育訓練費入力（前期）'!$G645-1&\"名\"))","v":""}]
[null,637,null,null,null,null,null,null,null,null,{"$f":"IF('教育訓練費入力（前期）'!$C646=\"\",\"\",TEXT('教育訓練費入力（前期）'!$C646,\"yyyy年\")&TEXT('教育訓練費入力（前期）'!$C646,\"m月\")&TEXT('教育訓練費入力（前期）'!$C646,\"ｄ日\")&\"から\"&'教育訓練費入力（前期）'!$D646&\"日間\")","v":""},{"$f":"IF('教育訓練費入力（前期）'!$F646=\"\",\"\",IF('教育訓練費入力（前期）'!$G646=1,'教育訓練費入力（前期）'!$F646,'教育訓練費入力（前期）'!$F646&\"他\"&'教育訓練費入力（前期）'!$G646-1&\"名\"))","v":""}]
[null,638,null,null,null,null,null,null,null,null,{"$f":"IF('教育訓練費入力（前期）'!$C647=\"\",\"\",TEXT('教育訓練費入力（前期）'!$C647,\"yyyy年\")&TEXT('教育訓練費入力（前期）'!$C647,\"m月\")&TEXT('教育訓練費入力（前期）'!$C647,\"ｄ日\")&\"から\"&'教育訓練費入力（前期）'!$D647&\"日間\")","v":""},{"$f":"IF('教育訓練費入力（前期）'!$F647=\"\",\"\",IF('教育訓練費入力（前期）'!$G647=1,'教育訓練費入力（前期）'!$F647,'教育訓練費入力（前期）'!$F647&\"他\"&'教育訓練費入力（前期）'!$G647-1&\"名\"))","v":""}]
[null,639,null,null,null,null,null,null,null,null,{"$f":"IF('教育訓練費入力（前期）'!$C648=\"\",\"\",TEXT('教育訓練費入力（前期）'!$C648,\"yyyy年\")&TEXT('教育訓練費入力（前期）'!$C648,\"m月\")&TEXT('教育訓練費入力（前期）'!$C648,\"ｄ日\")&\"から\"&'教育訓練費入力（前期）'!$D648&\"日間\")","v":""},{"$f":"IF('教育訓練費入力（前期）'!$F648=\"\",\"\",IF('教育訓練費入力（前期）'!$G648=1,'教育訓練費入力（前期）'!$F648,'教育訓練費入力（前期）'!$F648&\"他\"&'教育訓練費入力（前期）'!$G648-1&\"名\"))","v":""}]
[null,640,null,null,null,null,null,null,null,null,{"$f":"IF('教育訓練費入力（前期）'!$C649=\"\",\"\",TEXT('教育訓練費入力（前期）'!$C649,\"yyyy年\")&TEXT('教育訓練費入力（前期）'!$C649,\"m月\")&TEXT('教育訓練費入力（前期）'!$C649,\"ｄ日\")&\"から\"&'教育訓練費入力（前期）'!$D649&\"日間\")","v":""},{"$f":"IF('教育訓練費入力（前期）'!$F649=\"\",\"\",IF('教育訓練費入力（前期）'!$G649=1,'教育訓練費入力（前期）'!$F649,'教育訓練費入力（前期）'!$F649&\"他\"&'教育訓練費入力（前期）'!$G649-1&\"名\"))","v":""}]
[null,641,null,null,null,null,null,null,null,null,{"$f":"IF('教育訓練費入力（前期）'!$C650=\"\",\"\",TEXT('教育訓練費入力（前期）'!$C650,\"yyyy年\")&TEXT('教育訓練費入力（前期）'!$C650,\"m月\")&TEXT('教育訓練費入力（前期）'!$C650,\"ｄ日\")&\"から\"&'教育訓練費入力（前期）'!$D650&\"日間\")","v":""},{"$f":"IF('教育訓練費入力（前期）'!$F650=\"\",\"\",IF('教育訓練費入力（前期）'!$G650=1,'教育訓練費入力（前期）'!$F650,'教育訓練費入力（前期）'!$F650&\"他\"&'教育訓練費入力（前期）'!$G650-1&\"名\"))","v":""}]
[null,642,null,null,null,null,null,null,null,null,{"$f":"IF('教育訓練費入力（前期）'!$C651=\"\",\"\",TEXT('教育訓練費入力（前期）'!$C651,\"yyyy年\")&TEXT('教育訓練費入力（前期）'!$C651,\"m月\")&TEXT('教育訓練費入力（前期）'!$C651,\"ｄ日\")&\"から\"&'教育訓練費入力（前期）'!$D651&\"日間\")","v":""},{"$f":"IF('教育訓練費入力（前期）'!$F651=\"\",\"\",IF('教育訓練費入力（前期）'!$G651=1,'教育訓練費入力（前期）'!$F651,'教育訓練費入力（前期）'!$F651&\"他\"&'教育訓練費入力（前期）'!$G651-1&\"名\"))","v":""}]
[null,643,null,null,null,null,null,null,null,null,{"$f":"IF('教育訓練費入力（前期）'!$C652=\"\",\"\",TEXT('教育訓練費入力（前期）'!$C652,\"yyyy年\")&TEXT('教育訓練費入力（前期）'!$C652,\"m月\")&TEXT('教育訓練費入力（前期）'!$C652,\"ｄ日\")&\"から\"&'教育訓練費入力（前期）'!$D652&\"日間\")","v":""},{"$f":"IF('教育訓練費入力（前期）'!$F652=\"\",\"\",IF('教育訓練費入力（前期）'!$G652=1,'教育訓練費入力（前期）'!$F652,'教育訓練費入力（前期）'!$F652&\"他\"&'教育訓練費入力（前期）'!$G652-1&\"名\"))","v":""}]
[null,644,null,null,null,null,null,null,null,null,{"$f":"IF('教育訓練費入力（前期）'!$C653=\"\",\"\",TEXT('教育訓練費入力（前期）'!$C653,\"yyyy年\")&TEXT('教育訓練費入力（前期）'!$C653,\"m月\")&TEXT('教育訓練費入力（前期）'!$C653,\"ｄ日\")&\"から\"&'教育訓練費入力（前期）'!$D653&\"日間\")","v":""},{"$f":"IF('教育訓練費入力（前期）'!$F653=\"\",\"\",IF('教育訓練費入力（前期）'!$G653=1,'教育訓練費入力（前期）'!$F653,'教育訓練費入力（前期）'!$F653&\"他\"&'教育訓練費入力（前期）'!$G653-1&\"名\"))","v":""}]
[null,645,null,null,null,null,null,null,null,null,{"$f":"IF('教育訓練費入力（前期）'!$C654=\"\",\"\",TEXT('教育訓練費入力（前期）'!$C654,\"yyyy年\")&TEXT('教育訓練費入力（前期）'!$C654,\"m月\")&TEXT('教育訓練費入力（前期）'!$C654,\"ｄ日\")&\"から\"&'教育訓練費入力（前期）'!$D654&\"日間\")","v":""},{"$f":"IF('教育訓練費入力（前期）'!$F654=\"\",\"\",IF('教育訓練費入力（前期）'!$G654=1,'教育訓練費入力（前期）'!$F654,'教育訓練費入力（前期）'!$F654&\"他\"&'教育訓練費入力（前期）'!$G654-1&\"名\"))","v":""}]
[null,646,null,null,null,null,null,null,null,null,{"$f":"IF('教育訓練費入力（前期）'!$C655=\"\",\"\",TEXT('教育訓練費入力（前期）'!$C655,\"yyyy年\")&TEXT('教育訓練費入力（前期）'!$C655,\"m月\")&TEXT('教育訓練費入力（前期）'!$C655,\"ｄ日\")&\"から\"&'教育訓練費入力（前期）'!$D655&\"日間\")","v":""},{"$f":"IF('教育訓練費入力（前期）'!$F655=\"\",\"\",IF('教育訓練費入力（前期）'!$G655=1,'教育訓練費入力（前期）'!$F655,'教育訓練費入力（前期）'!$F655&\"他\"&'教育訓練費入力（前期）'!$G655-1&\"名\"))","v":""}]
[null,647,null,null,null,null,null,null,null,null,{"$f":"IF('教育訓練費入力（前期）'!$C656=\"\",\"\",TEXT('教育訓練費入力（前期）'!$C656,\"yyyy年\")&TEXT('教育訓練費入力（前期）'!$C656,\"m月\")&TEXT('教育訓練費入力（前期）'!$C656,\"ｄ日\")&\"から\"&'教育訓練費入力（前期）'!$D656&\"日間\")","v":""},{"$f":"IF('教育訓練費入力（前期）'!$F656=\"\",\"\",IF('教育訓練費入力（前期）'!$G656=1,'教育訓練費入力（前期）'!$F656,'教育訓練費入力（前期）'!$F656&\"他\"&'教育訓練費入力（前期）'!$G656-1&\"名\"))","v":""}]
[null,648,null,null,null,null,null,null,null,null,{"$f":"IF('教育訓練費入力（前期）'!$C657=\"\",\"\",TEXT('教育訓練費入力（前期）'!$C657,\"yyyy年\")&TEXT('教育訓練費入力（前期）'!$C657,\"m月\")&TEXT('教育訓練費入力（前期）'!$C657,\"ｄ日\")&\"から\"&'教育訓練費入力（前期）'!$D657&\"日間\")","v":""},{"$f":"IF('教育訓練費入力（前期）'!$F657=\"\",\"\",IF('教育訓練費入力（前期）'!$G657=1,'教育訓練費入力（前期）'!$F657,'教育訓練費入力（前期）'!$F657&\"他\"&'教育訓練費入力（前期）'!$G657-1&\"名\"))","v":""}]
[null,649,null,null,null,null,null,null,null,null,{"$f":"IF('教育訓練費入力（前期）'!$C658=\"\",\"\",TEXT('教育訓練費入力（前期）'!$C658,\"yyyy年\")&TEXT('教育訓練費入力（前期）'!$C658,\"m月\")&TEXT('教育訓練費入力（前期）'!$C658,\"ｄ日\")&\"から\"&'教育訓練費入力（前期）'!$D658&\"日間\")","v":""},{"$f":"IF('教育訓練費入力（前期）'!$F658=\"\",\"\",IF('教育訓練費入力（前期）'!$G658=1,'教育訓練費入力（前期）'!$F658,'教育訓練費入力（前期）'!$F658&\"他\"&'教育訓練費入力（前期）'!$G658-1&\"名\"))","v":""}]
[null,650,null,null,null,null,null,null,null,null,{"$f":"IF('教育訓練費入力（前期）'!$C659=\"\",\"\",TEXT('教育訓練費入力（前期）'!$C659,\"yyyy年\")&TEXT('教育訓練費入力（前期）'!$C659,\"m月\")&TEXT('教育訓練費入力（前期）'!$C659,\"ｄ日\")&\"から\"&'教育訓練費入力（前期）'!$D659&\"日間\")","v":""},{"$f":"IF('教育訓練費入力（前期）'!$F659=\"\",\"\",IF('教育訓練費入力（前期）'!$G659=1,'教育訓練費入力（前期）'!$F659,'教育訓練費入力（前期）'!$F659&\"他\"&'教育訓練費入力（前期）'!$G659-1&\"名\"))","v":""}]
[null,651,null,null,null,null,null,null,null,null,{"$f":"IF('教育訓練費入力（前期）'!$C660=\"\",\"\",TEXT('教育訓練費入力（前期）'!$C660,\"yyyy年\")&TEXT('教育訓練費入力（前期）'!$C660,\"m月\")&TEXT('教育訓練費入力（前期）'!$C660,\"ｄ日\")&\"から\"&'教育訓練費入力（前期）'!$D660&\"日間\")","v":""},{"$f":"IF('教育訓練費入力（前期）'!$F660=\"\",\"\",IF('教育訓練費入力（前期）'!$G660=1,'教育訓練費入力（前期）'!$F660,'教育訓練費入力（前期）'!$F660&\"他\"&'教育訓練費入力（前期）'!$G660-1&\"名\"))","v":""}]
[null,652,null,null,null,null,null,null,null,null,{"$f":"IF('教育訓練費入力（前期）'!$C661=\"\",\"\",TEXT('教育訓練費入力（前期）'!$C661,\"yyyy年\")&TEXT('教育訓練費入力（前期）'!$C661,\"m月\")&TEXT('教育訓練費入力（前期）'!$C661,\"ｄ日\")&\"から\"&'教育訓練費入力（前期）'!$D661&\"日間\")","v":""},{"$f":"IF('教育訓練費入力（前期）'!$F661=\"\",\"\",IF('教育訓練費入力（前期）'!$G661=1,'教育訓練費入力（前期）'!$F661,'教育訓練費入力（前期）'!$F661&\"他\"&'教育訓練費入力（前期）'!$G661-1&\"名\"))","v":""}]
[null,653,null,null,null,null,null,null,null,null,{"$f":"IF('教育訓練費入力（前期）'!$C662=\"\",\"\",TEXT('教育訓練費入力（前期）'!$C662,\"yyyy年\")&TEXT('教育訓練費入力（前期）'!$C662,\"m月\")&TEXT('教育訓練費入力（前期）'!$C662,\"ｄ日\")&\"から\"&'教育訓練費入力（前期）'!$D662&\"日間\")","v":""},{"$f":"IF('教育訓練費入力（前期）'!$F662=\"\",\"\",IF('教育訓練費入力（前期）'!$G662=1,'教育訓練費入力（前期）'!$F662,'教育訓練費入力（前期）'!$F662&\"他\"&'教育訓練費入力（前期）'!$G662-1&\"名\"))","v":""}]
[null,654,null,null,null,null,null,null,null,null,{"$f":"IF('教育訓練費入力（前期）'!$C663=\"\",\"\",TEXT('教育訓練費入力（前期）'!$C663,\"yyyy年\")&TEXT('教育訓練費入力（前期）'!$C663,\"m月\")&TEXT('教育訓練費入力（前期）'!$C663,\"ｄ日\")&\"から\"&'教育訓練費入力（前期）'!$D663&\"日間\")","v":""},{"$f":"IF('教育訓練費入力（前期）'!$F663=\"\",\"\",IF('教育訓練費入力（前期）'!$G663=1,'教育訓練費入力（前期）'!$F663,'教育訓練費入力（前期）'!$F663&\"他\"&'教育訓練費入力（前期）'!$G663-1&\"名\"))","v":""}]
[null,655,null,null,null,null,null,null,null,null,{"$f":"IF('教育訓練費入力（前期）'!$C664=\"\",\"\",TEXT('教育訓練費入力（前期）'!$C664,\"yyyy年\")&TEXT('教育訓練費入力（前期）'!$C664,\"m月\")&TEXT('教育訓練費入力（前期）'!$C664,\"ｄ日\")&\"から\"&'教育訓練費入力（前期）'!$D664&\"日間\")","v":""},{"$f":"IF('教育訓練費入力（前期）'!$F664=\"\",\"\",IF('教育訓練費入力（前期）'!$G664=1,'教育訓練費入力（前期）'!$F664,'教育訓練費入力（前期）'!$F664&\"他\"&'教育訓練費入力（前期）'!$G664-1&\"名\"))","v":""}]
[null,656,null,null,null,null,null,null,null,null,{"$f":"IF('教育訓練費入力（前期）'!$C665=\"\",\"\",TEXT('教育訓練費入力（前期）'!$C665,\"yyyy年\")&TEXT('教育訓練費入力（前期）'!$C665,\"m月\")&TEXT('教育訓練費入力（前期）'!$C665,\"ｄ日\")&\"から\"&'教育訓練費入力（前期）'!$D665&\"日間\")","v":""},{"$f":"IF('教育訓練費入力（前期）'!$F665=\"\",\"\",IF('教育訓練費入力（前期）'!$G665=1,'教育訓練費入力（前期）'!$F665,'教育訓練費入力（前期）'!$F665&\"他\"&'教育訓練費入力（前期）'!$G665-1&\"名\"))","v":""}]
[null,657,null,null,null,null,null,null,null,null,{"$f":"IF('教育訓練費入力（前期）'!$C666=\"\",\"\",TEXT('教育訓練費入力（前期）'!$C666,\"yyyy年\")&TEXT('教育訓練費入力（前期）'!$C666,\"m月\")&TEXT('教育訓練費入力（前期）'!$C666,\"ｄ日\")&\"から\"&'教育訓練費入力（前期）'!$D666&\"日間\")","v":""},{"$f":"IF('教育訓練費入力（前期）'!$F666=\"\",\"\",IF('教育訓練費入力（前期）'!$G666=1,'教育訓練費入力（前期）'!$F666,'教育訓練費入力（前期）'!$F666&\"他\"&'教育訓練費入力（前期）'!$G666-1&\"名\"))","v":""}]
[null,658,null,null,null,null,null,null,null,null,{"$f":"IF('教育訓練費入力（前期）'!$C667=\"\",\"\",TEXT('教育訓練費入力（前期）'!$C667,\"yyyy年\")&TEXT('教育訓練費入力（前期）'!$C667,\"m月\")&TEXT('教育訓練費入力（前期）'!$C667,\"ｄ日\")&\"から\"&'教育訓練費入力（前期）'!$D667&\"日間\")","v":""},{"$f":"IF('教育訓練費入力（前期）'!$F667=\"\",\"\",IF('教育訓練費入力（前期）'!$G667=1,'教育訓練費入力（前期）'!$F667,'教育訓練費入力（前期）'!$F667&\"他\"&'教育訓練費入力（前期）'!$G667-1&\"名\"))","v":""}]
[null,659,null,null,null,null,null,null,null,null,{"$f":"IF('教育訓練費入力（前期）'!$C668=\"\",\"\",TEXT('教育訓練費入力（前期）'!$C668,\"yyyy年\")&TEXT('教育訓練費入力（前期）'!$C668,\"m月\")&TEXT('教育訓練費入力（前期）'!$C668,\"ｄ日\")&\"から\"&'教育訓練費入力（前期）'!$D668&\"日間\")","v":""},{"$f":"IF('教育訓練費入力（前期）'!$F668=\"\",\"\",IF('教育訓練費入力（前期）'!$G668=1,'教育訓練費入力（前期）'!$F668,'教育訓練費入力（前期）'!$F668&\"他\"&'教育訓練費入力（前期）'!$G668-1&\"名\"))","v":""}]
[null,660,null,null,null,null,null,null,null,null,{"$f":"IF('教育訓練費入力（前期）'!$C669=\"\",\"\",TEXT('教育訓練費入力（前期）'!$C669,\"yyyy年\")&TEXT('教育訓練費入力（前期）'!$C669,\"m月\")&TEXT('教育訓練費入力（前期）'!$C669,\"ｄ日\")&\"から\"&'教育訓練費入力（前期）'!$D669&\"日間\")","v":""},{"$f":"IF('教育訓練費入力（前期）'!$F669=\"\",\"\",IF('教育訓練費入力（前期）'!$G669=1,'教育訓練費入力（前期）'!$F669,'教育訓練費入力（前期）'!$F669&\"他\"&'教育訓練費入力（前期）'!$G669-1&\"名\"))","v":""}]
[null,661,null,null,null,null,null,null,null,null,{"$f":"IF('教育訓練費入力（前期）'!$C670=\"\",\"\",TEXT('教育訓練費入力（前期）'!$C670,\"yyyy年\")&TEXT('教育訓練費入力（前期）'!$C670,\"m月\")&TEXT('教育訓練費入力（前期）'!$C670,\"ｄ日\")&\"から\"&'教育訓練費入力（前期）'!$D670&\"日間\")","v":""},{"$f":"IF('教育訓練費入力（前期）'!$F670=\"\",\"\",IF('教育訓練費入力（前期）'!$G670=1,'教育訓練費入力（前期）'!$F670,'教育訓練費入力（前期）'!$F670&\"他\"&'教育訓練費入力（前期）'!$G670-1&\"名\"))","v":""}]
[null,662,null,null,null,null,null,null,null,null,{"$f":"IF('教育訓練費入力（前期）'!$C671=\"\",\"\",TEXT('教育訓練費入力（前期）'!$C671,\"yyyy年\")&TEXT('教育訓練費入力（前期）'!$C671,\"m月\")&TEXT('教育訓練費入力（前期）'!$C671,\"ｄ日\")&\"から\"&'教育訓練費入力（前期）'!$D671&\"日間\")","v":""},{"$f":"IF('教育訓練費入力（前期）'!$F671=\"\",\"\",IF('教育訓練費入力（前期）'!$G671=1,'教育訓練費入力（前期）'!$F671,'教育訓練費入力（前期）'!$F671&\"他\"&'教育訓練費入力（前期）'!$G671-1&\"名\"))","v":""}]
[null,663,null,null,null,null,null,null,null,null,{"$f":"IF('教育訓練費入力（前期）'!$C672=\"\",\"\",TEXT('教育訓練費入力（前期）'!$C672,\"yyyy年\")&TEXT('教育訓練費入力（前期）'!$C672,\"m月\")&TEXT('教育訓練費入力（前期）'!$C672,\"ｄ日\")&\"から\"&'教育訓練費入力（前期）'!$D672&\"日間\")","v":""},{"$f":"IF('教育訓練費入力（前期）'!$F672=\"\",\"\",IF('教育訓練費入力（前期）'!$G672=1,'教育訓練費入力（前期）'!$F672,'教育訓練費入力（前期）'!$F672&\"他\"&'教育訓練費入力（前期）'!$G672-1&\"名\"))","v":""}]
[null,664,null,null,null,null,null,null,null,null,{"$f":"IF('教育訓練費入力（前期）'!$C673=\"\",\"\",TEXT('教育訓練費入力（前期）'!$C673,\"yyyy年\")&TEXT('教育訓練費入力（前期）'!$C673,\"m月\")&TEXT('教育訓練費入力（前期）'!$C673,\"ｄ日\")&\"から\"&'教育訓練費入力（前期）'!$D673&\"日間\")","v":""},{"$f":"IF('教育訓練費入力（前期）'!$F673=\"\",\"\",IF('教育訓練費入力（前期）'!$G673=1,'教育訓練費入力（前期）'!$F673,'教育訓練費入力（前期）'!$F673&\"他\"&'教育訓練費入力（前期）'!$G673-1&\"名\"))","v":""}]
[null,665,null,null,null,null,null,null,null,null,{"$f":"IF('教育訓練費入力（前期）'!$C674=\"\",\"\",TEXT('教育訓練費入力（前期）'!$C674,\"yyyy年\")&TEXT('教育訓練費入力（前期）'!$C674,\"m月\")&TEXT('教育訓練費入力（前期）'!$C674,\"ｄ日\")&\"から\"&'教育訓練費入力（前期）'!$D674&\"日間\")","v":""},{"$f":"IF('教育訓練費入力（前期）'!$F674=\"\",\"\",IF('教育訓練費入力（前期）'!$G674=1,'教育訓練費入力（前期）'!$F674,'教育訓練費入力（前期）'!$F674&\"他\"&'教育訓練費入力（前期）'!$G674-1&\"名\"))","v":""}]
[null,666,null,null,null,null,null,null,null,null,{"$f":"IF('教育訓練費入力（前期）'!$C675=\"\",\"\",TEXT('教育訓練費入力（前期）'!$C675,\"yyyy年\")&TEXT('教育訓練費入力（前期）'!$C675,\"m月\")&TEXT('教育訓練費入力（前期）'!$C675,\"ｄ日\")&\"から\"&'教育訓練費入力（前期）'!$D675&\"日間\")","v":""},{"$f":"IF('教育訓練費入力（前期）'!$F675=\"\",\"\",IF('教育訓練費入力（前期）'!$G675=1,'教育訓練費入力（前期）'!$F675,'教育訓練費入力（前期）'!$F675&\"他\"&'教育訓練費入力（前期）'!$G675-1&\"名\"))","v":""}]
[null,667,null,null,null,null,null,null,null,null,{"$f":"IF('教育訓練費入力（前期）'!$C676=\"\",\"\",TEXT('教育訓練費入力（前期）'!$C676,\"yyyy年\")&TEXT('教育訓練費入力（前期）'!$C676,\"m月\")&TEXT('教育訓練費入力（前期）'!$C676,\"ｄ日\")&\"から\"&'教育訓練費入力（前期）'!$D676&\"日間\")","v":""},{"$f":"IF('教育訓練費入力（前期）'!$F676=\"\",\"\",IF('教育訓練費入力（前期）'!$G676=1,'教育訓練費入力（前期）'!$F676,'教育訓練費入力（前期）'!$F676&\"他\"&'教育訓練費入力（前期）'!$G676-1&\"名\"))","v":""}]
[null,668,null,null,null,null,null,null,null,null,{"$f":"IF('教育訓練費入力（前期）'!$C677=\"\",\"\",TEXT('教育訓練費入力（前期）'!$C677,\"yyyy年\")&TEXT('教育訓練費入力（前期）'!$C677,\"m月\")&TEXT('教育訓練費入力（前期）'!$C677,\"ｄ日\")&\"から\"&'教育訓練費入力（前期）'!$D677&\"日間\")","v":""},{"$f":"IF('教育訓練費入力（前期）'!$F677=\"\",\"\",IF('教育訓練費入力（前期）'!$G677=1,'教育訓練費入力（前期）'!$F677,'教育訓練費入力（前期）'!$F677&\"他\"&'教育訓練費入力（前期）'!$G677-1&\"名\"))","v":""}]
[null,669,null,null,null,null,null,null,null,null,{"$f":"IF('教育訓練費入力（前期）'!$C678=\"\",\"\",TEXT('教育訓練費入力（前期）'!$C678,\"yyyy年\")&TEXT('教育訓練費入力（前期）'!$C678,\"m月\")&TEXT('教育訓練費入力（前期）'!$C678,\"ｄ日\")&\"から\"&'教育訓練費入力（前期）'!$D678&\"日間\")","v":""},{"$f":"IF('教育訓練費入力（前期）'!$F678=\"\",\"\",IF('教育訓練費入力（前期）'!$G678=1,'教育訓練費入力（前期）'!$F678,'教育訓練費入力（前期）'!$F678&\"他\"&'教育訓練費入力（前期）'!$G678-1&\"名\"))","v":""}]
[null,670,null,null,null,null,null,null,null,null,{"$f":"IF('教育訓練費入力（前期）'!$C679=\"\",\"\",TEXT('教育訓練費入力（前期）'!$C679,\"yyyy年\")&TEXT('教育訓練費入力（前期）'!$C679,\"m月\")&TEXT('教育訓練費入力（前期）'!$C679,\"ｄ日\")&\"から\"&'教育訓練費入力（前期）'!$D679&\"日間\")","v":""},{"$f":"IF('教育訓練費入力（前期）'!$F679=\"\",\"\",IF('教育訓練費入力（前期）'!$G679=1,'教育訓練費入力（前期）'!$F679,'教育訓練費入力（前期）'!$F679&\"他\"&'教育訓練費入力（前期）'!$G679-1&\"名\"))","v":""}]
[null,671,null,null,null,null,null,null,null,null,{"$f":"IF('教育訓練費入力（前期）'!$C680=\"\",\"\",TEXT('教育訓練費入力（前期）'!$C680,\"yyyy年\")&TEXT('教育訓練費入力（前期）'!$C680,\"m月\")&TEXT('教育訓練費入力（前期）'!$C680,\"ｄ日\")&\"から\"&'教育訓練費入力（前期）'!$D680&\"日間\")","v":""},{"$f":"IF('教育訓練費入力（前期）'!$F680=\"\",\"\",IF('教育訓練費入力（前期）'!$G680=1,'教育訓練費入力（前期）'!$F680,'教育訓練費入力（前期）'!$F680&\"他\"&'教育訓練費入力（前期）'!$G680-1&\"名\"))","v":""}]
[null,672,null,null,null,null,null,null,null,null,{"$f":"IF('教育訓練費入力（前期）'!$C681=\"\",\"\",TEXT('教育訓練費入力（前期）'!$C681,\"yyyy年\")&TEXT('教育訓練費入力（前期）'!$C681,\"m月\")&TEXT('教育訓練費入力（前期）'!$C681,\"ｄ日\")&\"から\"&'教育訓練費入力（前期）'!$D681&\"日間\")","v":""},{"$f":"IF('教育訓練費入力（前期）'!$F681=\"\",\"\",IF('教育訓練費入力（前期）'!$G681=1,'教育訓練費入力（前期）'!$F681,'教育訓練費入力（前期）'!$F681&\"他\"&'教育訓練費入力（前期）'!$G681-1&\"名\"))","v":""}]
[null,673,null,null,null,null,null,null,null,null,{"$f":"IF('教育訓練費入力（前期）'!$C682=\"\",\"\",TEXT('教育訓練費入力（前期）'!$C682,\"yyyy年\")&TEXT('教育訓練費入力（前期）'!$C682,\"m月\")&TEXT('教育訓練費入力（前期）'!$C682,\"ｄ日\")&\"から\"&'教育訓練費入力（前期）'!$D682&\"日間\")","v":""},{"$f":"IF('教育訓練費入力（前期）'!$F682=\"\",\"\",IF('教育訓練費入力（前期）'!$G682=1,'教育訓練費入力（前期）'!$F682,'教育訓練費入力（前期）'!$F682&\"他\"&'教育訓練費入力（前期）'!$G682-1&\"名\"))","v":""}]
[null,674,null,null,null,null,null,null,null,null,{"$f":"IF('教育訓練費入力（前期）'!$C683=\"\",\"\",TEXT('教育訓練費入力（前期）'!$C683,\"yyyy年\")&TEXT('教育訓練費入力（前期）'!$C683,\"m月\")&TEXT('教育訓練費入力（前期）'!$C683,\"ｄ日\")&\"から\"&'教育訓練費入力（前期）'!$D683&\"日間\")","v":""},{"$f":"IF('教育訓練費入力（前期）'!$F683=\"\",\"\",IF('教育訓練費入力（前期）'!$G683=1,'教育訓練費入力（前期）'!$F683,'教育訓練費入力（前期）'!$F683&\"他\"&'教育訓練費入力（前期）'!$G683-1&\"名\"))","v":""}]
[null,675,null,null,null,null,null,null,null,null,{"$f":"IF('教育訓練費入力（前期）'!$C684=\"\",\"\",TEXT('教育訓練費入力（前期）'!$C684,\"yyyy年\")&TEXT('教育訓練費入力（前期）'!$C684,\"m月\")&TEXT('教育訓練費入力（前期）'!$C684,\"ｄ日\")&\"から\"&'教育訓練費入力（前期）'!$D684&\"日間\")","v":""},{"$f":"IF('教育訓練費入力（前期）'!$F684=\"\",\"\",IF('教育訓練費入力（前期）'!$G684=1,'教育訓練費入力（前期）'!$F684,'教育訓練費入力（前期）'!$F684&\"他\"&'教育訓練費入力（前期）'!$G684-1&\"名\"))","v":""}]
[null,676,null,null,null,null,null,null,null,null,{"$f":"IF('教育訓練費入力（前期）'!$C685=\"\",\"\",TEXT('教育訓練費入力（前期）'!$C685,\"yyyy年\")&TEXT('教育訓練費入力（前期）'!$C685,\"m月\")&TEXT('教育訓練費入力（前期）'!$C685,\"ｄ日\")&\"から\"&'教育訓練費入力（前期）'!$D685&\"日間\")","v":""},{"$f":"IF('教育訓練費入力（前期）'!$F685=\"\",\"\",IF('教育訓練費入力（前期）'!$G685=1,'教育訓練費入力（前期）'!$F685,'教育訓練費入力（前期）'!$F685&\"他\"&'教育訓練費入力（前期）'!$G685-1&\"名\"))","v":""}]
[null,677,null,null,null,null,null,null,null,null,{"$f":"IF('教育訓練費入力（前期）'!$C686=\"\",\"\",TEXT('教育訓練費入力（前期）'!$C686,\"yyyy年\")&TEXT('教育訓練費入力（前期）'!$C686,\"m月\")&TEXT('教育訓練費入力（前期）'!$C686,\"ｄ日\")&\"から\"&'教育訓練費入力（前期）'!$D686&\"日間\")","v":""},{"$f":"IF('教育訓練費入力（前期）'!$F686=\"\",\"\",IF('教育訓練費入力（前期）'!$G686=1,'教育訓練費入力（前期）'!$F686,'教育訓練費入力（前期）'!$F686&\"他\"&'教育訓練費入力（前期）'!$G686-1&\"名\"))","v":""}]
[null,678,null,null,null,null,null,null,null,null,{"$f":"IF('教育訓練費入力（前期）'!$C687=\"\",\"\",TEXT('教育訓練費入力（前期）'!$C687,\"yyyy年\")&TEXT('教育訓練費入力（前期）'!$C687,\"m月\")&TEXT('教育訓練費入力（前期）'!$C687,\"ｄ日\")&\"から\"&'教育訓練費入力（前期）'!$D687&\"日間\")","v":""},{"$f":"IF('教育訓練費入力（前期）'!$F687=\"\",\"\",IF('教育訓練費入力（前期）'!$G687=1,'教育訓練費入力（前期）'!$F687,'教育訓練費入力（前期）'!$F687&\"他\"&'教育訓練費入力（前期）'!$G687-1&\"名\"))","v":""}]
[null,679,null,null,null,null,null,null,null,null,{"$f":"IF('教育訓練費入力（前期）'!$C688=\"\",\"\",TEXT('教育訓練費入力（前期）'!$C688,\"yyyy年\")&TEXT('教育訓練費入力（前期）'!$C688,\"m月\")&TEXT('教育訓練費入力（前期）'!$C688,\"ｄ日\")&\"から\"&'教育訓練費入力（前期）'!$D688&\"日間\")","v":""},{"$f":"IF('教育訓練費入力（前期）'!$F688=\"\",\"\",IF('教育訓練費入力（前期）'!$G688=1,'教育訓練費入力（前期）'!$F688,'教育訓練費入力（前期）'!$F688&\"他\"&'教育訓練費入力（前期）'!$G688-1&\"名\"))","v":""}]
[null,680,null,null,null,null,null,null,null,null,{"$f":"IF('教育訓練費入力（前期）'!$C689=\"\",\"\",TEXT('教育訓練費入力（前期）'!$C689,\"yyyy年\")&TEXT('教育訓練費入力（前期）'!$C689,\"m月\")&TEXT('教育訓練費入力（前期）'!$C689,\"ｄ日\")&\"から\"&'教育訓練費入力（前期）'!$D689&\"日間\")","v":""},{"$f":"IF('教育訓練費入力（前期）'!$F689=\"\",\"\",IF('教育訓練費入力（前期）'!$G689=1,'教育訓練費入力（前期）'!$F689,'教育訓練費入力（前期）'!$F689&\"他\"&'教育訓練費入力（前期）'!$G689-1&\"名\"))","v":""}]
[null,681,null,null,null,null,null,null,null,null,{"$f":"IF('教育訓練費入力（前期）'!$C690=\"\",\"\",TEXT('教育訓練費入力（前期）'!$C690,\"yyyy年\")&TEXT('教育訓練費入力（前期）'!$C690,\"m月\")&TEXT('教育訓練費入力（前期）'!$C690,\"ｄ日\")&\"から\"&'教育訓練費入力（前期）'!$D690&\"日間\")","v":""},{"$f":"IF('教育訓練費入力（前期）'!$F690=\"\",\"\",IF('教育訓練費入力（前期）'!$G690=1,'教育訓練費入力（前期）'!$F690,'教育訓練費入力（前期）'!$F690&\"他\"&'教育訓練費入力（前期）'!$G690-1&\"名\"))","v":""}]
[null,682,null,null,null,null,null,null,null,null,{"$f":"IF('教育訓練費入力（前期）'!$C691=\"\",\"\",TEXT('教育訓練費入力（前期）'!$C691,\"yyyy年\")&TEXT('教育訓練費入力（前期）'!$C691,\"m月\")&TEXT('教育訓練費入力（前期）'!$C691,\"ｄ日\")&\"から\"&'教育訓練費入力（前期）'!$D691&\"日間\")","v":""},{"$f":"IF('教育訓練費入力（前期）'!$F691=\"\",\"\",IF('教育訓練費入力（前期）'!$G691=1,'教育訓練費入力（前期）'!$F691,'教育訓練費入力（前期）'!$F691&\"他\"&'教育訓練費入力（前期）'!$G691-1&\"名\"))","v":""}]
[null,683,null,null,null,null,null,null,null,null,{"$f":"IF('教育訓練費入力（前期）'!$C692=\"\",\"\",TEXT('教育訓練費入力（前期）'!$C692,\"yyyy年\")&TEXT('教育訓練費入力（前期）'!$C692,\"m月\")&TEXT('教育訓練費入力（前期）'!$C692,\"ｄ日\")&\"から\"&'教育訓練費入力（前期）'!$D692&\"日間\")","v":""},{"$f":"IF('教育訓練費入力（前期）'!$F692=\"\",\"\",IF('教育訓練費入力（前期）'!$G692=1,'教育訓練費入力（前期）'!$F692,'教育訓練費入力（前期）'!$F692&\"他\"&'教育訓練費入力（前期）'!$G692-1&\"名\"))","v":""}]
[null,684,null,null,null,null,null,null,null,null,{"$f":"IF('教育訓練費入力（前期）'!$C693=\"\",\"\",TEXT('教育訓練費入力（前期）'!$C693,\"yyyy年\")&TEXT('教育訓練費入力（前期）'!$C693,\"m月\")&TEXT('教育訓練費入力（前期）'!$C693,\"ｄ日\")&\"から\"&'教育訓練費入力（前期）'!$D693&\"日間\")","v":""},{"$f":"IF('教育訓練費入力（前期）'!$F693=\"\",\"\",IF('教育訓練費入力（前期）'!$G693=1,'教育訓練費入力（前期）'!$F693,'教育訓練費入力（前期）'!$F693&\"他\"&'教育訓練費入力（前期）'!$G693-1&\"名\"))","v":""}]
[null,685,null,null,null,null,null,null,null,null,{"$f":"IF('教育訓練費入力（前期）'!$C694=\"\",\"\",TEXT('教育訓練費入力（前期）'!$C694,\"yyyy年\")&TEXT('教育訓練費入力（前期）'!$C694,\"m月\")&TEXT('教育訓練費入力（前期）'!$C694,\"ｄ日\")&\"から\"&'教育訓練費入力（前期）'!$D694&\"日間\")","v":""},{"$f":"IF('教育訓練費入力（前期）'!$F694=\"\",\"\",IF('教育訓練費入力（前期）'!$G694=1,'教育訓練費入力（前期）'!$F694,'教育訓練費入力（前期）'!$F694&\"他\"&'教育訓練費入力（前期）'!$G694-1&\"名\"))","v":""}]
[null,686,null,null,null,null,null,null,null,null,{"$f":"IF('教育訓練費入力（前期）'!$C695=\"\",\"\",TEXT('教育訓練費入力（前期）'!$C695,\"yyyy年\")&TEXT('教育訓練費入力（前期）'!$C695,\"m月\")&TEXT('教育訓練費入力（前期）'!$C695,\"ｄ日\")&\"から\"&'教育訓練費入力（前期）'!$D695&\"日間\")","v":""},{"$f":"IF('教育訓練費入力（前期）'!$F695=\"\",\"\",IF('教育訓練費入力（前期）'!$G695=1,'教育訓練費入力（前期）'!$F695,'教育訓練費入力（前期）'!$F695&\"他\"&'教育訓練費入力（前期）'!$G695-1&\"名\"))","v":""}]
[null,687,null,null,null,null,null,null,null,null,{"$f":"IF('教育訓練費入力（前期）'!$C696=\"\",\"\",TEXT('教育訓練費入力（前期）'!$C696,\"yyyy年\")&TEXT('教育訓練費入力（前期）'!$C696,\"m月\")&TEXT('教育訓練費入力（前期）'!$C696,\"ｄ日\")&\"から\"&'教育訓練費入力（前期）'!$D696&\"日間\")","v":""},{"$f":"IF('教育訓練費入力（前期）'!$F696=\"\",\"\",IF('教育訓練費入力（前期）'!$G696=1,'教育訓練費入力（前期）'!$F696,'教育訓練費入力（前期）'!$F696&\"他\"&'教育訓練費入力（前期）'!$G696-1&\"名\"))","v":""}]
[null,688,null,null,null,null,null,null,null,null,{"$f":"IF('教育訓練費入力（前期）'!$C697=\"\",\"\",TEXT('教育訓練費入力（前期）'!$C697,\"yyyy年\")&TEXT('教育訓練費入力（前期）'!$C697,\"m月\")&TEXT('教育訓練費入力（前期）'!$C697,\"ｄ日\")&\"から\"&'教育訓練費入力（前期）'!$D697&\"日間\")","v":""},{"$f":"IF('教育訓練費入力（前期）'!$F697=\"\",\"\",IF('教育訓練費入力（前期）'!$G697=1,'教育訓練費入力（前期）'!$F697,'教育訓練費入力（前期）'!$F697&\"他\"&'教育訓練費入力（前期）'!$G697-1&\"名\"))","v":""}]
[null,689,null,null,null,null,null,null,null,null,{"$f":"IF('教育訓練費入力（前期）'!$C698=\"\",\"\",TEXT('教育訓練費入力（前期）'!$C698,\"yyyy年\")&TEXT('教育訓練費入力（前期）'!$C698,\"m月\")&TEXT('教育訓練費入力（前期）'!$C698,\"ｄ日\")&\"から\"&'教育訓練費入力（前期）'!$D698&\"日間\")","v":""},{"$f":"IF('教育訓練費入力（前期）'!$F698=\"\",\"\",IF('教育訓練費入力（前期）'!$G698=1,'教育訓練費入力（前期）'!$F698,'教育訓練費入力（前期）'!$F698&\"他\"&'教育訓練費入力（前期）'!$G698-1&\"名\"))","v":""}]
[null,690,null,null,null,null,null,null,null,null,{"$f":"IF('教育訓練費入力（前期）'!$C699=\"\",\"\",TEXT('教育訓練費入力（前期）'!$C699,\"yyyy年\")&TEXT('教育訓練費入力（前期）'!$C699,\"m月\")&TEXT('教育訓練費入力（前期）'!$C699,\"ｄ日\")&\"から\"&'教育訓練費入力（前期）'!$D699&\"日間\")","v":""},{"$f":"IF('教育訓練費入力（前期）'!$F699=\"\",\"\",IF('教育訓練費入力（前期）'!$G699=1,'教育訓練費入力（前期）'!$F699,'教育訓練費入力（前期）'!$F699&\"他\"&'教育訓練費入力（前期）'!$G699-1&\"名\"))","v":""}]
[null,691,null,null,null,null,null,null,null,null,{"$f":"IF('教育訓練費入力（前期）'!$C700=\"\",\"\",TEXT('教育訓練費入力（前期）'!$C700,\"yyyy年\")&TEXT('教育訓練費入力（前期）'!$C700,\"m月\")&TEXT('教育訓練費入力（前期）'!$C700,\"ｄ日\")&\"から\"&'教育訓練費入力（前期）'!$D700&\"日間\")","v":""},{"$f":"IF('教育訓練費入力（前期）'!$F700=\"\",\"\",IF('教育訓練費入力（前期）'!$G700=1,'教育訓練費入力（前期）'!$F700,'教育訓練費入力（前期）'!$F700&\"他\"&'教育訓練費入力（前期）'!$G700-1&\"名\"))","v":""}]
[null,692,null,null,null,null,null,null,null,null,{"$f":"IF('教育訓練費入力（前期）'!$C701=\"\",\"\",TEXT('教育訓練費入力（前期）'!$C701,\"yyyy年\")&TEXT('教育訓練費入力（前期）'!$C701,\"m月\")&TEXT('教育訓練費入力（前期）'!$C701,\"ｄ日\")&\"から\"&'教育訓練費入力（前期）'!$D701&\"日間\")","v":""},{"$f":"IF('教育訓練費入力（前期）'!$F701=\"\",\"\",IF('教育訓練費入力（前期）'!$G701=1,'教育訓練費入力（前期）'!$F701,'教育訓練費入力（前期）'!$F701&\"他\"&'教育訓練費入力（前期）'!$G701-1&\"名\"))","v":""}]
[null,693,null,null,null,null,null,null,null,null,{"$f":"IF('教育訓練費入力（前期）'!$C702=\"\",\"\",TEXT('教育訓練費入力（前期）'!$C702,\"yyyy年\")&TEXT('教育訓練費入力（前期）'!$C702,\"m月\")&TEXT('教育訓練費入力（前期）'!$C702,\"ｄ日\")&\"から\"&'教育訓練費入力（前期）'!$D702&\"日間\")","v":""},{"$f":"IF('教育訓練費入力（前期）'!$F702=\"\",\"\",IF('教育訓練費入力（前期）'!$G702=1,'教育訓練費入力（前期）'!$F702,'教育訓練費入力（前期）'!$F702&\"他\"&'教育訓練費入力（前期）'!$G702-1&\"名\"))","v":""}]
[null,694,null,null,null,null,null,null,null,null,{"$f":"IF('教育訓練費入力（前期）'!$C703=\"\",\"\",TEXT('教育訓練費入力（前期）'!$C703,\"yyyy年\")&TEXT('教育訓練費入力（前期）'!$C703,\"m月\")&TEXT('教育訓練費入力（前期）'!$C703,\"ｄ日\")&\"から\"&'教育訓練費入力（前期）'!$D703&\"日間\")","v":""},{"$f":"IF('教育訓練費入力（前期）'!$F703=\"\",\"\",IF('教育訓練費入力（前期）'!$G703=1,'教育訓練費入力（前期）'!$F703,'教育訓練費入力（前期）'!$F703&\"他\"&'教育訓練費入力（前期）'!$G703-1&\"名\"))","v":""}]
[null,695,null,null,null,null,null,null,null,null,{"$f":"IF('教育訓練費入力（前期）'!$C704=\"\",\"\",TEXT('教育訓練費入力（前期）'!$C704,\"yyyy年\")&TEXT('教育訓練費入力（前期）'!$C704,\"m月\")&TEXT('教育訓練費入力（前期）'!$C704,\"ｄ日\")&\"から\"&'教育訓練費入力（前期）'!$D704&\"日間\")","v":""},{"$f":"IF('教育訓練費入力（前期）'!$F704=\"\",\"\",IF('教育訓練費入力（前期）'!$G704=1,'教育訓練費入力（前期）'!$F704,'教育訓練費入力（前期）'!$F704&\"他\"&'教育訓練費入力（前期）'!$G704-1&\"名\"))","v":""}]
[null,696,null,null,null,null,null,null,null,null,{"$f":"IF('教育訓練費入力（前期）'!$C705=\"\",\"\",TEXT('教育訓練費入力（前期）'!$C705,\"yyyy年\")&TEXT('教育訓練費入力（前期）'!$C705,\"m月\")&TEXT('教育訓練費入力（前期）'!$C705,\"ｄ日\")&\"から\"&'教育訓練費入力（前期）'!$D705&\"日間\")","v":""},{"$f":"IF('教育訓練費入力（前期）'!$F705=\"\",\"\",IF('教育訓練費入力（前期）'!$G705=1,'教育訓練費入力（前期）'!$F705,'教育訓練費入力（前期）'!$F705&\"他\"&'教育訓練費入力（前期）'!$G705-1&\"名\"))","v":""}]
[null,697,null,null,null,null,null,null,null,null,{"$f":"IF('教育訓練費入力（前期）'!$C706=\"\",\"\",TEXT('教育訓練費入力（前期）'!$C706,\"yyyy年\")&TEXT('教育訓練費入力（前期）'!$C706,\"m月\")&TEXT('教育訓練費入力（前期）'!$C706,\"ｄ日\")&\"から\"&'教育訓練費入力（前期）'!$D706&\"日間\")","v":""},{"$f":"IF('教育訓練費入力（前期）'!$F706=\"\",\"\",IF('教育訓練費入力（前期）'!$G706=1,'教育訓練費入力（前期）'!$F706,'教育訓練費入力（前期）'!$F706&\"他\"&'教育訓練費入力（前期）'!$G706-1&\"名\"))","v":""}]
[null,698,null,null,null,null,null,null,null,null,{"$f":"IF('教育訓練費入力（前期）'!$C707=\"\",\"\",TEXT('教育訓練費入力（前期）'!$C707,\"yyyy年\")&TEXT('教育訓練費入力（前期）'!$C707,\"m月\")&TEXT('教育訓練費入力（前期）'!$C707,\"ｄ日\")&\"から\"&'教育訓練費入力（前期）'!$D707&\"日間\")","v":""},{"$f":"IF('教育訓練費入力（前期）'!$F707=\"\",\"\",IF('教育訓練費入力（前期）'!$G707=1,'教育訓練費入力（前期）'!$F707,'教育訓練費入力（前期）'!$F707&\"他\"&'教育訓練費入力（前期）'!$G707-1&\"名\"))","v":""}]
[null,699,null,null,null,null,null,null,null,null,{"$f":"IF('教育訓練費入力（前期）'!$C708=\"\",\"\",TEXT('教育訓練費入力（前期）'!$C708,\"yyyy年\")&TEXT('教育訓練費入力（前期）'!$C708,\"m月\")&TEXT('教育訓練費入力（前期）'!$C708,\"ｄ日\")&\"から\"&'教育訓練費入力（前期）'!$D708&\"日間\")","v":""},{"$f":"IF('教育訓練費入力（前期）'!$F708=\"\",\"\",IF('教育訓練費入力（前期）'!$G708=1,'教育訓練費入力（前期）'!$F708,'教育訓練費入力（前期）'!$F708&\"他\"&'教育訓練費入力（前期）'!$G708-1&\"名\"))","v":""}]
[null,700,null,null,null,null,null,null,null,null,{"$f":"IF('教育訓練費入力（前期）'!$C709=\"\",\"\",TEXT('教育訓練費入力（前期）'!$C709,\"yyyy年\")&TEXT('教育訓練費入力（前期）'!$C709,\"m月\")&TEXT('教育訓練費入力（前期）'!$C709,\"ｄ日\")&\"から\"&'教育訓練費入力（前期）'!$D709&\"日間\")","v":""},{"$f":"IF('教育訓練費入力（前期）'!$F709=\"\",\"\",IF('教育訓練費入力（前期）'!$G709=1,'教育訓練費入力（前期）'!$F709,'教育訓練費入力（前期）'!$F709&\"他\"&'教育訓練費入力（前期）'!$G709-1&\"名\"))","v":""}]
[null,701,null,null,null,null,null,null,null,null,{"$f":"IF('教育訓練費入力（前期）'!$C710=\"\",\"\",TEXT('教育訓練費入力（前期）'!$C710,\"yyyy年\")&TEXT('教育訓練費入力（前期）'!$C710,\"m月\")&TEXT('教育訓練費入力（前期）'!$C710,\"ｄ日\")&\"から\"&'教育訓練費入力（前期）'!$D710&\"日間\")","v":""},{"$f":"IF('教育訓練費入力（前期）'!$F710=\"\",\"\",IF('教育訓練費入力（前期）'!$G710=1,'教育訓練費入力（前期）'!$F710,'教育訓練費入力（前期）'!$F710&\"他\"&'教育訓練費入力（前期）'!$G710-1&\"名\"))","v":""}]
[null,702,null,null,null,null,null,null,null,null,{"$f":"IF('教育訓練費入力（前期）'!$C711=\"\",\"\",TEXT('教育訓練費入力（前期）'!$C711,\"yyyy年\")&TEXT('教育訓練費入力（前期）'!$C711,\"m月\")&TEXT('教育訓練費入力（前期）'!$C711,\"ｄ日\")&\"から\"&'教育訓練費入力（前期）'!$D711&\"日間\")","v":""},{"$f":"IF('教育訓練費入力（前期）'!$F711=\"\",\"\",IF('教育訓練費入力（前期）'!$G711=1,'教育訓練費入力（前期）'!$F711,'教育訓練費入力（前期）'!$F711&\"他\"&'教育訓練費入力（前期）'!$G711-1&\"名\"))","v":""}]
[null,703,null,null,null,null,null,null,null,null,{"$f":"IF('教育訓練費入力（前期）'!$C712=\"\",\"\",TEXT('教育訓練費入力（前期）'!$C712,\"yyyy年\")&TEXT('教育訓練費入力（前期）'!$C712,\"m月\")&TEXT('教育訓練費入力（前期）'!$C712,\"ｄ日\")&\"から\"&'教育訓練費入力（前期）'!$D712&\"日間\")","v":""},{"$f":"IF('教育訓練費入力（前期）'!$F712=\"\",\"\",IF('教育訓練費入力（前期）'!$G712=1,'教育訓練費入力（前期）'!$F712,'教育訓練費入力（前期）'!$F712&\"他\"&'教育訓練費入力（前期）'!$G712-1&\"名\"))","v":""}]
[null,704,null,null,null,null,null,null,null,null,{"$f":"IF('教育訓練費入力（前期）'!$C713=\"\",\"\",TEXT('教育訓練費入力（前期）'!$C713,\"yyyy年\")&TEXT('教育訓練費入力（前期）'!$C713,\"m月\")&TEXT('教育訓練費入力（前期）'!$C713,\"ｄ日\")&\"から\"&'教育訓練費入力（前期）'!$D713&\"日間\")","v":""},{"$f":"IF('教育訓練費入力（前期）'!$F713=\"\",\"\",IF('教育訓練費入力（前期）'!$G713=1,'教育訓練費入力（前期）'!$F713,'教育訓練費入力（前期）'!$F713&\"他\"&'教育訓練費入力（前期）'!$G713-1&\"名\"))","v":""}]
[null,705,null,null,null,null,null,null,null,null,{"$f":"IF('教育訓練費入力（前期）'!$C714=\"\",\"\",TEXT('教育訓練費入力（前期）'!$C714,\"yyyy年\")&TEXT('教育訓練費入力（前期）'!$C714,\"m月\")&TEXT('教育訓練費入力（前期）'!$C714,\"ｄ日\")&\"から\"&'教育訓練費入力（前期）'!$D714&\"日間\")","v":""},{"$f":"IF('教育訓練費入力（前期）'!$F714=\"\",\"\",IF('教育訓練費入力（前期）'!$G714=1,'教育訓練費入力（前期）'!$F714,'教育訓練費入力（前期）'!$F714&\"他\"&'教育訓練費入力（前期）'!$G714-1&\"名\"))","v":""}]
[null,706,null,null,null,null,null,null,null,null,{"$f":"IF('教育訓練費入力（前期）'!$C715=\"\",\"\",TEXT('教育訓練費入力（前期）'!$C715,\"yyyy年\")&TEXT('教育訓練費入力（前期）'!$C715,\"m月\")&TEXT('教育訓練費入力（前期）'!$C715,\"ｄ日\")&\"から\"&'教育訓練費入力（前期）'!$D715&\"日間\")","v":""},{"$f":"IF('教育訓練費入力（前期）'!$F715=\"\",\"\",IF('教育訓練費入力（前期）'!$G715=1,'教育訓練費入力（前期）'!$F715,'教育訓練費入力（前期）'!$F715&\"他\"&'教育訓練費入力（前期）'!$G715-1&\"名\"))","v":""}]
[null,707,null,null,null,null,null,null,null,null,{"$f":"IF('教育訓練費入力（前期）'!$C716=\"\",\"\",TEXT('教育訓練費入力（前期）'!$C716,\"yyyy年\")&TEXT('教育訓練費入力（前期）'!$C716,\"m月\")&TEXT('教育訓練費入力（前期）'!$C716,\"ｄ日\")&\"から\"&'教育訓練費入力（前期）'!$D716&\"日間\")","v":""},{"$f":"IF('教育訓練費入力（前期）'!$F716=\"\",\"\",IF('教育訓練費入力（前期）'!$G716=1,'教育訓練費入力（前期）'!$F716,'教育訓練費入力（前期）'!$F716&\"他\"&'教育訓練費入力（前期）'!$G716-1&\"名\"))","v":""}]
[null,708,null,null,null,null,null,null,null,null,{"$f":"IF('教育訓練費入力（前期）'!$C717=\"\",\"\",TEXT('教育訓練費入力（前期）'!$C717,\"yyyy年\")&TEXT('教育訓練費入力（前期）'!$C717,\"m月\")&TEXT('教育訓練費入力（前期）'!$C717,\"ｄ日\")&\"から\"&'教育訓練費入力（前期）'!$D717&\"日間\")","v":""},{"$f":"IF('教育訓練費入力（前期）'!$F717=\"\",\"\",IF('教育訓練費入力（前期）'!$G717=1,'教育訓練費入力（前期）'!$F717,'教育訓練費入力（前期）'!$F717&\"他\"&'教育訓練費入力（前期）'!$G717-1&\"名\"))","v":""}]
[null,709,null,null,null,null,null,null,null,null,{"$f":"IF('教育訓練費入力（前期）'!$C718=\"\",\"\",TEXT('教育訓練費入力（前期）'!$C718,\"yyyy年\")&TEXT('教育訓練費入力（前期）'!$C718,\"m月\")&TEXT('教育訓練費入力（前期）'!$C718,\"ｄ日\")&\"から\"&'教育訓練費入力（前期）'!$D718&\"日間\")","v":""},{"$f":"IF('教育訓練費入力（前期）'!$F718=\"\",\"\",IF('教育訓練費入力（前期）'!$G718=1,'教育訓練費入力（前期）'!$F718,'教育訓練費入力（前期）'!$F718&\"他\"&'教育訓練費入力（前期）'!$G718-1&\"名\"))","v":""}]
[null,710,null,null,null,null,null,null,null,null,{"$f":"IF('教育訓練費入力（前期）'!$C719=\"\",\"\",TEXT('教育訓練費入力（前期）'!$C719,\"yyyy年\")&TEXT('教育訓練費入力（前期）'!$C719,\"m月\")&TEXT('教育訓練費入力（前期）'!$C719,\"ｄ日\")&\"から\"&'教育訓練費入力（前期）'!$D719&\"日間\")","v":""},{"$f":"IF('教育訓練費入力（前期）'!$F719=\"\",\"\",IF('教育訓練費入力（前期）'!$G719=1,'教育訓練費入力（前期）'!$F719,'教育訓練費入力（前期）'!$F719&\"他\"&'教育訓練費入力（前期）'!$G719-1&\"名\"))","v":""}]
[null,711,null,null,null,null,null,null,null,null,{"$f":"IF('教育訓練費入力（前期）'!$C720=\"\",\"\",TEXT('教育訓練費入力（前期）'!$C720,\"yyyy年\")&TEXT('教育訓練費入力（前期）'!$C720,\"m月\")&TEXT('教育訓練費入力（前期）'!$C720,\"ｄ日\")&\"から\"&'教育訓練費入力（前期）'!$D720&\"日間\")","v":""},{"$f":"IF('教育訓練費入力（前期）'!$F720=\"\",\"\",IF('教育訓練費入力（前期）'!$G720=1,'教育訓練費入力（前期）'!$F720,'教育訓練費入力（前期）'!$F720&\"他\"&'教育訓練費入力（前期）'!$G720-1&\"名\"))","v":""}]
[null,712,null,null,null,null,null,null,null,null,{"$f":"IF('教育訓練費入力（前期）'!$C721=\"\",\"\",TEXT('教育訓練費入力（前期）'!$C721,\"yyyy年\")&TEXT('教育訓練費入力（前期）'!$C721,\"m月\")&TEXT('教育訓練費入力（前期）'!$C721,\"ｄ日\")&\"から\"&'教育訓練費入力（前期）'!$D721&\"日間\")","v":""},{"$f":"IF('教育訓練費入力（前期）'!$F721=\"\",\"\",IF('教育訓練費入力（前期）'!$G721=1,'教育訓練費入力（前期）'!$F721,'教育訓練費入力（前期）'!$F721&\"他\"&'教育訓練費入力（前期）'!$G721-1&\"名\"))","v":""}]
[null,713,null,null,null,null,null,null,null,null,{"$f":"IF('教育訓練費入力（前期）'!$C722=\"\",\"\",TEXT('教育訓練費入力（前期）'!$C722,\"yyyy年\")&TEXT('教育訓練費入力（前期）'!$C722,\"m月\")&TEXT('教育訓練費入力（前期）'!$C722,\"ｄ日\")&\"から\"&'教育訓練費入力（前期）'!$D722&\"日間\")","v":""},{"$f":"IF('教育訓練費入力（前期）'!$F722=\"\",\"\",IF('教育訓練費入力（前期）'!$G722=1,'教育訓練費入力（前期）'!$F722,'教育訓練費入力（前期）'!$F722&\"他\"&'教育訓練費入力（前期）'!$G722-1&\"名\"))","v":""}]
[null,714,null,null,null,null,null,null,null,null,{"$f":"IF('教育訓練費入力（前期）'!$C723=\"\",\"\",TEXT('教育訓練費入力（前期）'!$C723,\"yyyy年\")&TEXT('教育訓練費入力（前期）'!$C723,\"m月\")&TEXT('教育訓練費入力（前期）'!$C723,\"ｄ日\")&\"から\"&'教育訓練費入力（前期）'!$D723&\"日間\")","v":""},{"$f":"IF('教育訓練費入力（前期）'!$F723=\"\",\"\",IF('教育訓練費入力（前期）'!$G723=1,'教育訓練費入力（前期）'!$F723,'教育訓練費入力（前期）'!$F723&\"他\"&'教育訓練費入力（前期）'!$G723-1&\"名\"))","v":""}]
[null,715,null,null,null,null,null,null,null,null,{"$f":"IF('教育訓練費入力（前期）'!$C724=\"\",\"\",TEXT('教育訓練費入力（前期）'!$C724,\"yyyy年\")&TEXT('教育訓練費入力（前期）'!$C724,\"m月\")&TEXT('教育訓練費入力（前期）'!$C724,\"ｄ日\")&\"から\"&'教育訓練費入力（前期）'!$D724&\"日間\")","v":""},{"$f":"IF('教育訓練費入力（前期）'!$F724=\"\",\"\",IF('教育訓練費入力（前期）'!$G724=1,'教育訓練費入力（前期）'!$F724,'教育訓練費入力（前期）'!$F724&\"他\"&'教育訓練費入力（前期）'!$G724-1&\"名\"))","v":""}]
[null,716,null,null,null,null,null,null,null,null,{"$f":"IF('教育訓練費入力（前期）'!$C725=\"\",\"\",TEXT('教育訓練費入力（前期）'!$C725,\"yyyy年\")&TEXT('教育訓練費入力（前期）'!$C725,\"m月\")&TEXT('教育訓練費入力（前期）'!$C725,\"ｄ日\")&\"から\"&'教育訓練費入力（前期）'!$D725&\"日間\")","v":""},{"$f":"IF('教育訓練費入力（前期）'!$F725=\"\",\"\",IF('教育訓練費入力（前期）'!$G725=1,'教育訓練費入力（前期）'!$F725,'教育訓練費入力（前期）'!$F725&\"他\"&'教育訓練費入力（前期）'!$G725-1&\"名\"))","v":""}]
[null,717,null,null,null,null,null,null,null,null,{"$f":"IF('教育訓練費入力（前期）'!$C726=\"\",\"\",TEXT('教育訓練費入力（前期）'!$C726,\"yyyy年\")&TEXT('教育訓練費入力（前期）'!$C726,\"m月\")&TEXT('教育訓練費入力（前期）'!$C726,\"ｄ日\")&\"から\"&'教育訓練費入力（前期）'!$D726&\"日間\")","v":""},{"$f":"IF('教育訓練費入力（前期）'!$F726=\"\",\"\",IF('教育訓練費入力（前期）'!$G726=1,'教育訓練費入力（前期）'!$F726,'教育訓練費入力（前期）'!$F726&\"他\"&'教育訓練費入力（前期）'!$G726-1&\"名\"))","v":""}]
[null,718,null,null,null,null,null,null,null,null,{"$f":"IF('教育訓練費入力（前期）'!$C727=\"\",\"\",TEXT('教育訓練費入力（前期）'!$C727,\"yyyy年\")&TEXT('教育訓練費入力（前期）'!$C727,\"m月\")&TEXT('教育訓練費入力（前期）'!$C727,\"ｄ日\")&\"から\"&'教育訓練費入力（前期）'!$D727&\"日間\")","v":""},{"$f":"IF('教育訓練費入力（前期）'!$F727=\"\",\"\",IF('教育訓練費入力（前期）'!$G727=1,'教育訓練費入力（前期）'!$F727,'教育訓練費入力（前期）'!$F727&\"他\"&'教育訓練費入力（前期）'!$G727-1&\"名\"))","v":""}]
[null,719,null,null,null,null,null,null,null,null,{"$f":"IF('教育訓練費入力（前期）'!$C728=\"\",\"\",TEXT('教育訓練費入力（前期）'!$C728,\"yyyy年\")&TEXT('教育訓練費入力（前期）'!$C728,\"m月\")&TEXT('教育訓練費入力（前期）'!$C728,\"ｄ日\")&\"から\"&'教育訓練費入力（前期）'!$D728&\"日間\")","v":""},{"$f":"IF('教育訓練費入力（前期）'!$F728=\"\",\"\",IF('教育訓練費入力（前期）'!$G728=1,'教育訓練費入力（前期）'!$F728,'教育訓練費入力（前期）'!$F728&\"他\"&'教育訓練費入力（前期）'!$G728-1&\"名\"))","v":""}]
[null,720,null,null,null,null,null,null,null,null,{"$f":"IF('教育訓練費入力（前期）'!$C729=\"\",\"\",TEXT('教育訓練費入力（前期）'!$C729,\"yyyy年\")&TEXT('教育訓練費入力（前期）'!$C729,\"m月\")&TEXT('教育訓練費入力（前期）'!$C729,\"ｄ日\")&\"から\"&'教育訓練費入力（前期）'!$D729&\"日間\")","v":""},{"$f":"IF('教育訓練費入力（前期）'!$F729=\"\",\"\",IF('教育訓練費入力（前期）'!$G729=1,'教育訓練費入力（前期）'!$F729,'教育訓練費入力（前期）'!$F729&\"他\"&'教育訓練費入力（前期）'!$G729-1&\"名\"))","v":""}]
[null,721,null,null,null,null,null,null,null,null,{"$f":"IF('教育訓練費入力（前期）'!$C730=\"\",\"\",TEXT('教育訓練費入力（前期）'!$C730,\"yyyy年\")&TEXT('教育訓練費入力（前期）'!$C730,\"m月\")&TEXT('教育訓練費入力（前期）'!$C730,\"ｄ日\")&\"から\"&'教育訓練費入力（前期）'!$D730&\"日間\")","v":""},{"$f":"IF('教育訓練費入力（前期）'!$F730=\"\",\"\",IF('教育訓練費入力（前期）'!$G730=1,'教育訓練費入力（前期）'!$F730,'教育訓練費入力（前期）'!$F730&\"他\"&'教育訓練費入力（前期）'!$G730-1&\"名\"))","v":""}]
[null,722,null,null,null,null,null,null,null,null,{"$f":"IF('教育訓練費入力（前期）'!$C731=\"\",\"\",TEXT('教育訓練費入力（前期）'!$C731,\"yyyy年\")&TEXT('教育訓練費入力（前期）'!$C731,\"m月\")&TEXT('教育訓練費入力（前期）'!$C731,\"ｄ日\")&\"から\"&'教育訓練費入力（前期）'!$D731&\"日間\")","v":""},{"$f":"IF('教育訓練費入力（前期）'!$F731=\"\",\"\",IF('教育訓練費入力（前期）'!$G731=1,'教育訓練費入力（前期）'!$F731,'教育訓練費入力（前期）'!$F731&\"他\"&'教育訓練費入力（前期）'!$G731-1&\"名\"))","v":""}]
[null,723,null,null,null,null,null,null,null,null,{"$f":"IF('教育訓練費入力（前期）'!$C732=\"\",\"\",TEXT('教育訓練費入力（前期）'!$C732,\"yyyy年\")&TEXT('教育訓練費入力（前期）'!$C732,\"m月\")&TEXT('教育訓練費入力（前期）'!$C732,\"ｄ日\")&\"から\"&'教育訓練費入力（前期）'!$D732&\"日間\")","v":""},{"$f":"IF('教育訓練費入力（前期）'!$F732=\"\",\"\",IF('教育訓練費入力（前期）'!$G732=1,'教育訓練費入力（前期）'!$F732,'教育訓練費入力（前期）'!$F732&\"他\"&'教育訓練費入力（前期）'!$G732-1&\"名\"))","v":""}]
[null,724,null,null,null,null,null,null,null,null,{"$f":"IF('教育訓練費入力（前期）'!$C733=\"\",\"\",TEXT('教育訓練費入力（前期）'!$C733,\"yyyy年\")&TEXT('教育訓練費入力（前期）'!$C733,\"m月\")&TEXT('教育訓練費入力（前期）'!$C733,\"ｄ日\")&\"から\"&'教育訓練費入力（前期）'!$D733&\"日間\")","v":""},{"$f":"IF('教育訓練費入力（前期）'!$F733=\"\",\"\",IF('教育訓練費入力（前期）'!$G733=1,'教育訓練費入力（前期）'!$F733,'教育訓練費入力（前期）'!$F733&\"他\"&'教育訓練費入力（前期）'!$G733-1&\"名\"))","v":""}]
[null,725,null,null,null,null,null,null,null,null,{"$f":"IF('教育訓練費入力（前期）'!$C734=\"\",\"\",TEXT('教育訓練費入力（前期）'!$C734,\"yyyy年\")&TEXT('教育訓練費入力（前期）'!$C734,\"m月\")&TEXT('教育訓練費入力（前期）'!$C734,\"ｄ日\")&\"から\"&'教育訓練費入力（前期）'!$D734&\"日間\")","v":""},{"$f":"IF('教育訓練費入力（前期）'!$F734=\"\",\"\",IF('教育訓練費入力（前期）'!$G734=1,'教育訓練費入力（前期）'!$F734,'教育訓練費入力（前期）'!$F734&\"他\"&'教育訓練費入力（前期）'!$G734-1&\"名\"))","v":""}]
[null,726,null,null,null,null,null,null,null,null,{"$f":"IF('教育訓練費入力（前期）'!$C735=\"\",\"\",TEXT('教育訓練費入力（前期）'!$C735,\"yyyy年\")&TEXT('教育訓練費入力（前期）'!$C735,\"m月\")&TEXT('教育訓練費入力（前期）'!$C735,\"ｄ日\")&\"から\"&'教育訓練費入力（前期）'!$D735&\"日間\")","v":""},{"$f":"IF('教育訓練費入力（前期）'!$F735=\"\",\"\",IF('教育訓練費入力（前期）'!$G735=1,'教育訓練費入力（前期）'!$F735,'教育訓練費入力（前期）'!$F735&\"他\"&'教育訓練費入力（前期）'!$G735-1&\"名\"))","v":""}]
[null,727,null,null,null,null,null,null,null,null,{"$f":"IF('教育訓練費入力（前期）'!$C736=\"\",\"\",TEXT('教育訓練費入力（前期）'!$C736,\"yyyy年\")&TEXT('教育訓練費入力（前期）'!$C736,\"m月\")&TEXT('教育訓練費入力（前期）'!$C736,\"ｄ日\")&\"から\"&'教育訓練費入力（前期）'!$D736&\"日間\")","v":""},{"$f":"IF('教育訓練費入力（前期）'!$F736=\"\",\"\",IF('教育訓練費入力（前期）'!$G736=1,'教育訓練費入力（前期）'!$F736,'教育訓練費入力（前期）'!$F736&\"他\"&'教育訓練費入力（前期）'!$G736-1&\"名\"))","v":""}]
[null,728,null,null,null,null,null,null,null,null,{"$f":"IF('教育訓練費入力（前期）'!$C737=\"\",\"\",TEXT('教育訓練費入力（前期）'!$C737,\"yyyy年\")&TEXT('教育訓練費入力（前期）'!$C737,\"m月\")&TEXT('教育訓練費入力（前期）'!$C737,\"ｄ日\")&\"から\"&'教育訓練費入力（前期）'!$D737&\"日間\")","v":""},{"$f":"IF('教育訓練費入力（前期）'!$F737=\"\",\"\",IF('教育訓練費入力（前期）'!$G737=1,'教育訓練費入力（前期）'!$F737,'教育訓練費入力（前期）'!$F737&\"他\"&'教育訓練費入力（前期）'!$G737-1&\"名\"))","v":""}]
[null,729,null,null,null,null,null,null,null,null,{"$f":"IF('教育訓練費入力（前期）'!$C738=\"\",\"\",TEXT('教育訓練費入力（前期）'!$C738,\"yyyy年\")&TEXT('教育訓練費入力（前期）'!$C738,\"m月\")&TEXT('教育訓練費入力（前期）'!$C738,\"ｄ日\")&\"から\"&'教育訓練費入力（前期）'!$D738&\"日間\")","v":""},{"$f":"IF('教育訓練費入力（前期）'!$F738=\"\",\"\",IF('教育訓練費入力（前期）'!$G738=1,'教育訓練費入力（前期）'!$F738,'教育訓練費入力（前期）'!$F738&\"他\"&'教育訓練費入力（前期）'!$G738-1&\"名\"))","v":""}]
[null,730,null,null,null,null,null,null,null,null,{"$f":"IF('教育訓練費入力（前期）'!$C739=\"\",\"\",TEXT('教育訓練費入力（前期）'!$C739,\"yyyy年\")&TEXT('教育訓練費入力（前期）'!$C739,\"m月\")&TEXT('教育訓練費入力（前期）'!$C739,\"ｄ日\")&\"から\"&'教育訓練費入力（前期）'!$D739&\"日間\")","v":""},{"$f":"IF('教育訓練費入力（前期）'!$F739=\"\",\"\",IF('教育訓練費入力（前期）'!$G739=1,'教育訓練費入力（前期）'!$F739,'教育訓練費入力（前期）'!$F739&\"他\"&'教育訓練費入力（前期）'!$G739-1&\"名\"))","v":""}]
[null,731,null,null,null,null,null,null,null,null,{"$f":"IF('教育訓練費入力（前期）'!$C740=\"\",\"\",TEXT('教育訓練費入力（前期）'!$C740,\"yyyy年\")&TEXT('教育訓練費入力（前期）'!$C740,\"m月\")&TEXT('教育訓練費入力（前期）'!$C740,\"ｄ日\")&\"から\"&'教育訓練費入力（前期）'!$D740&\"日間\")","v":""},{"$f":"IF('教育訓練費入力（前期）'!$F740=\"\",\"\",IF('教育訓練費入力（前期）'!$G740=1,'教育訓練費入力（前期）'!$F740,'教育訓練費入力（前期）'!$F740&\"他\"&'教育訓練費入力（前期）'!$G740-1&\"名\"))","v":""}]
[null,732,null,null,null,null,null,null,null,null,{"$f":"IF('教育訓練費入力（前期）'!$C741=\"\",\"\",TEXT('教育訓練費入力（前期）'!$C741,\"yyyy年\")&TEXT('教育訓練費入力（前期）'!$C741,\"m月\")&TEXT('教育訓練費入力（前期）'!$C741,\"ｄ日\")&\"から\"&'教育訓練費入力（前期）'!$D741&\"日間\")","v":""},{"$f":"IF('教育訓練費入力（前期）'!$F741=\"\",\"\",IF('教育訓練費入力（前期）'!$G741=1,'教育訓練費入力（前期）'!$F741,'教育訓練費入力（前期）'!$F741&\"他\"&'教育訓練費入力（前期）'!$G741-1&\"名\"))","v":""}]
[null,733,null,null,null,null,null,null,null,null,{"$f":"IF('教育訓練費入力（前期）'!$C742=\"\",\"\",TEXT('教育訓練費入力（前期）'!$C742,\"yyyy年\")&TEXT('教育訓練費入力（前期）'!$C742,\"m月\")&TEXT('教育訓練費入力（前期）'!$C742,\"ｄ日\")&\"から\"&'教育訓練費入力（前期）'!$D742&\"日間\")","v":""},{"$f":"IF('教育訓練費入力（前期）'!$F742=\"\",\"\",IF('教育訓練費入力（前期）'!$G742=1,'教育訓練費入力（前期）'!$F742,'教育訓練費入力（前期）'!$F742&\"他\"&'教育訓練費入力（前期）'!$G742-1&\"名\"))","v":""}]
[null,734,null,null,null,null,null,null,null,null,{"$f":"IF('教育訓練費入力（前期）'!$C743=\"\",\"\",TEXT('教育訓練費入力（前期）'!$C743,\"yyyy年\")&TEXT('教育訓練費入力（前期）'!$C743,\"m月\")&TEXT('教育訓練費入力（前期）'!$C743,\"ｄ日\")&\"から\"&'教育訓練費入力（前期）'!$D743&\"日間\")","v":""},{"$f":"IF('教育訓練費入力（前期）'!$F743=\"\",\"\",IF('教育訓練費入力（前期）'!$G743=1,'教育訓練費入力（前期）'!$F743,'教育訓練費入力（前期）'!$F743&\"他\"&'教育訓練費入力（前期）'!$G743-1&\"名\"))","v":""}]
[null,735,null,null,null,null,null,null,null,null,{"$f":"IF('教育訓練費入力（前期）'!$C744=\"\",\"\",TEXT('教育訓練費入力（前期）'!$C744,\"yyyy年\")&TEXT('教育訓練費入力（前期）'!$C744,\"m月\")&TEXT('教育訓練費入力（前期）'!$C744,\"ｄ日\")&\"から\"&'教育訓練費入力（前期）'!$D744&\"日間\")","v":""},{"$f":"IF('教育訓練費入力（前期）'!$F744=\"\",\"\",IF('教育訓練費入力（前期）'!$G744=1,'教育訓練費入力（前期）'!$F744,'教育訓練費入力（前期）'!$F744&\"他\"&'教育訓練費入力（前期）'!$G744-1&\"名\"))","v":""}]
[null,736,null,null,null,null,null,null,null,null,{"$f":"IF('教育訓練費入力（前期）'!$C745=\"\",\"\",TEXT('教育訓練費入力（前期）'!$C745,\"yyyy年\")&TEXT('教育訓練費入力（前期）'!$C745,\"m月\")&TEXT('教育訓練費入力（前期）'!$C745,\"ｄ日\")&\"から\"&'教育訓練費入力（前期）'!$D745&\"日間\")","v":""},{"$f":"IF('教育訓練費入力（前期）'!$F745=\"\",\"\",IF('教育訓練費入力（前期）'!$G745=1,'教育訓練費入力（前期）'!$F745,'教育訓練費入力（前期）'!$F745&\"他\"&'教育訓練費入力（前期）'!$G745-1&\"名\"))","v":""}]
[null,737,null,null,null,null,null,null,null,null,{"$f":"IF('教育訓練費入力（前期）'!$C746=\"\",\"\",TEXT('教育訓練費入力（前期）'!$C746,\"yyyy年\")&TEXT('教育訓練費入力（前期）'!$C746,\"m月\")&TEXT('教育訓練費入力（前期）'!$C746,\"ｄ日\")&\"から\"&'教育訓練費入力（前期）'!$D746&\"日間\")","v":""},{"$f":"IF('教育訓練費入力（前期）'!$F746=\"\",\"\",IF('教育訓練費入力（前期）'!$G746=1,'教育訓練費入力（前期）'!$F746,'教育訓練費入力（前期）'!$F746&\"他\"&'教育訓練費入力（前期）'!$G746-1&\"名\"))","v":""}]
[null,738,null,null,null,null,null,null,null,null,{"$f":"IF('教育訓練費入力（前期）'!$C747=\"\",\"\",TEXT('教育訓練費入力（前期）'!$C747,\"yyyy年\")&TEXT('教育訓練費入力（前期）'!$C747,\"m月\")&TEXT('教育訓練費入力（前期）'!$C747,\"ｄ日\")&\"から\"&'教育訓練費入力（前期）'!$D747&\"日間\")","v":""},{"$f":"IF('教育訓練費入力（前期）'!$F747=\"\",\"\",IF('教育訓練費入力（前期）'!$G747=1,'教育訓練費入力（前期）'!$F747,'教育訓練費入力（前期）'!$F747&\"他\"&'教育訓練費入力（前期）'!$G747-1&\"名\"))","v":""}]
[null,739,null,null,null,null,null,null,null,null,{"$f":"IF('教育訓練費入力（前期）'!$C748=\"\",\"\",TEXT('教育訓練費入力（前期）'!$C748,\"yyyy年\")&TEXT('教育訓練費入力（前期）'!$C748,\"m月\")&TEXT('教育訓練費入力（前期）'!$C748,\"ｄ日\")&\"から\"&'教育訓練費入力（前期）'!$D748&\"日間\")","v":""},{"$f":"IF('教育訓練費入力（前期）'!$F748=\"\",\"\",IF('教育訓練費入力（前期）'!$G748=1,'教育訓練費入力（前期）'!$F748,'教育訓練費入力（前期）'!$F748&\"他\"&'教育訓練費入力（前期）'!$G748-1&\"名\"))","v":""}]
[null,740,null,null,null,null,null,null,null,null,{"$f":"IF('教育訓練費入力（前期）'!$C749=\"\",\"\",TEXT('教育訓練費入力（前期）'!$C749,\"yyyy年\")&TEXT('教育訓練費入力（前期）'!$C749,\"m月\")&TEXT('教育訓練費入力（前期）'!$C749,\"ｄ日\")&\"から\"&'教育訓練費入力（前期）'!$D749&\"日間\")","v":""},{"$f":"IF('教育訓練費入力（前期）'!$F749=\"\",\"\",IF('教育訓練費入力（前期）'!$G749=1,'教育訓練費入力（前期）'!$F749,'教育訓練費入力（前期）'!$F749&\"他\"&'教育訓練費入力（前期）'!$G749-1&\"名\"))","v":""}]
[null,741,null,null,null,null,null,null,null,null,{"$f":"IF('教育訓練費入力（前期）'!$C750=\"\",\"\",TEXT('教育訓練費入力（前期）'!$C750,\"yyyy年\")&TEXT('教育訓練費入力（前期）'!$C750,\"m月\")&TEXT('教育訓練費入力（前期）'!$C750,\"ｄ日\")&\"から\"&'教育訓練費入力（前期）'!$D750&\"日間\")","v":""},{"$f":"IF('教育訓練費入力（前期）'!$F750=\"\",\"\",IF('教育訓練費入力（前期）'!$G750=1,'教育訓練費入力（前期）'!$F750,'教育訓練費入力（前期）'!$F750&\"他\"&'教育訓練費入力（前期）'!$G750-1&\"名\"))","v":""}]
[null,742,null,null,null,null,null,null,null,null,{"$f":"IF('教育訓練費入力（前期）'!$C751=\"\",\"\",TEXT('教育訓練費入力（前期）'!$C751,\"yyyy年\")&TEXT('教育訓練費入力（前期）'!$C751,\"m月\")&TEXT('教育訓練費入力（前期）'!$C751,\"ｄ日\")&\"から\"&'教育訓練費入力（前期）'!$D751&\"日間\")","v":""},{"$f":"IF('教育訓練費入力（前期）'!$F751=\"\",\"\",IF('教育訓練費入力（前期）'!$G751=1,'教育訓練費入力（前期）'!$F751,'教育訓練費入力（前期）'!$F751&\"他\"&'教育訓練費入力（前期）'!$G751-1&\"名\"))","v":""}]
[null,743,null,null,null,null,null,null,null,null,{"$f":"IF('教育訓練費入力（前期）'!$C752=\"\",\"\",TEXT('教育訓練費入力（前期）'!$C752,\"yyyy年\")&TEXT('教育訓練費入力（前期）'!$C752,\"m月\")&TEXT('教育訓練費入力（前期）'!$C752,\"ｄ日\")&\"から\"&'教育訓練費入力（前期）'!$D752&\"日間\")","v":""},{"$f":"IF('教育訓練費入力（前期）'!$F752=\"\",\"\",IF('教育訓練費入力（前期）'!$G752=1,'教育訓練費入力（前期）'!$F752,'教育訓練費入力（前期）'!$F752&\"他\"&'教育訓練費入力（前期）'!$G752-1&\"名\"))","v":""}]
[null,744,null,null,null,null,null,null,null,null,{"$f":"IF('教育訓練費入力（前期）'!$C753=\"\",\"\",TEXT('教育訓練費入力（前期）'!$C753,\"yyyy年\")&TEXT('教育訓練費入力（前期）'!$C753,\"m月\")&TEXT('教育訓練費入力（前期）'!$C753,\"ｄ日\")&\"から\"&'教育訓練費入力（前期）'!$D753&\"日間\")","v":""},{"$f":"IF('教育訓練費入力（前期）'!$F753=\"\",\"\",IF('教育訓練費入力（前期）'!$G753=1,'教育訓練費入力（前期）'!$F753,'教育訓練費入力（前期）'!$F753&\"他\"&'教育訓練費入力（前期）'!$G753-1&\"名\"))","v":""}]
[null,745,null,null,null,null,null,null,null,null,{"$f":"IF('教育訓練費入力（前期）'!$C754=\"\",\"\",TEXT('教育訓練費入力（前期）'!$C754,\"yyyy年\")&TEXT('教育訓練費入力（前期）'!$C754,\"m月\")&TEXT('教育訓練費入力（前期）'!$C754,\"ｄ日\")&\"から\"&'教育訓練費入力（前期）'!$D754&\"日間\")","v":""},{"$f":"IF('教育訓練費入力（前期）'!$F754=\"\",\"\",IF('教育訓練費入力（前期）'!$G754=1,'教育訓練費入力（前期）'!$F754,'教育訓練費入力（前期）'!$F754&\"他\"&'教育訓練費入力（前期）'!$G754-1&\"名\"))","v":""}]
[null,746,null,null,null,null,null,null,null,null,{"$f":"IF('教育訓練費入力（前期）'!$C755=\"\",\"\",TEXT('教育訓練費入力（前期）'!$C755,\"yyyy年\")&TEXT('教育訓練費入力（前期）'!$C755,\"m月\")&TEXT('教育訓練費入力（前期）'!$C755,\"ｄ日\")&\"から\"&'教育訓練費入力（前期）'!$D755&\"日間\")","v":""},{"$f":"IF('教育訓練費入力（前期）'!$F755=\"\",\"\",IF('教育訓練費入力（前期）'!$G755=1,'教育訓練費入力（前期）'!$F755,'教育訓練費入力（前期）'!$F755&\"他\"&'教育訓練費入力（前期）'!$G755-1&\"名\"))","v":""}]
[null,747,null,null,null,null,null,null,null,null,{"$f":"IF('教育訓練費入力（前期）'!$C756=\"\",\"\",TEXT('教育訓練費入力（前期）'!$C756,\"yyyy年\")&TEXT('教育訓練費入力（前期）'!$C756,\"m月\")&TEXT('教育訓練費入力（前期）'!$C756,\"ｄ日\")&\"から\"&'教育訓練費入力（前期）'!$D756&\"日間\")","v":""},{"$f":"IF('教育訓練費入力（前期）'!$F756=\"\",\"\",IF('教育訓練費入力（前期）'!$G756=1,'教育訓練費入力（前期）'!$F756,'教育訓練費入力（前期）'!$F756&\"他\"&'教育訓練費入力（前期）'!$G756-1&\"名\"))","v":""}]
[null,748,null,null,null,null,null,null,null,null,{"$f":"IF('教育訓練費入力（前期）'!$C757=\"\",\"\",TEXT('教育訓練費入力（前期）'!$C757,\"yyyy年\")&TEXT('教育訓練費入力（前期）'!$C757,\"m月\")&TEXT('教育訓練費入力（前期）'!$C757,\"ｄ日\")&\"から\"&'教育訓練費入力（前期）'!$D757&\"日間\")","v":""},{"$f":"IF('教育訓練費入力（前期）'!$F757=\"\",\"\",IF('教育訓練費入力（前期）'!$G757=1,'教育訓練費入力（前期）'!$F757,'教育訓練費入力（前期）'!$F757&\"他\"&'教育訓練費入力（前期）'!$G757-1&\"名\"))","v":""}]
[null,749,null,null,null,null,null,null,null,null,{"$f":"IF('教育訓練費入力（前期）'!$C758=\"\",\"\",TEXT('教育訓練費入力（前期）'!$C758,\"yyyy年\")&TEXT('教育訓練費入力（前期）'!$C758,\"m月\")&TEXT('教育訓練費入力（前期）'!$C758,\"ｄ日\")&\"から\"&'教育訓練費入力（前期）'!$D758&\"日間\")","v":""},{"$f":"IF('教育訓練費入力（前期）'!$F758=\"\",\"\",IF('教育訓練費入力（前期）'!$G758=1,'教育訓練費入力（前期）'!$F758,'教育訓練費入力（前期）'!$F758&\"他\"&'教育訓練費入力（前期）'!$G758-1&\"名\"))","v":""}]
[null,750,null,null,null,null,null,null,null,null,{"$f":"IF('教育訓練費入力（前期）'!$C759=\"\",\"\",TEXT('教育訓練費入力（前期）'!$C759,\"yyyy年\")&TEXT('教育訓練費入力（前期）'!$C759,\"m月\")&TEXT('教育訓練費入力（前期）'!$C759,\"ｄ日\")&\"から\"&'教育訓練費入力（前期）'!$D759&\"日間\")","v":""},{"$f":"IF('教育訓練費入力（前期）'!$F759=\"\",\"\",IF('教育訓練費入力（前期）'!$G759=1,'教育訓練費入力（前期）'!$F759,'教育訓練費入力（前期）'!$F759&\"他\"&'教育訓練費入力（前期）'!$G759-1&\"名\"))","v":""}]
[null,751,null,null,null,null,null,null,null,null,{"$f":"IF('教育訓練費入力（前期）'!$C760=\"\",\"\",TEXT('教育訓練費入力（前期）'!$C760,\"yyyy年\")&TEXT('教育訓練費入力（前期）'!$C760,\"m月\")&TEXT('教育訓練費入力（前期）'!$C760,\"ｄ日\")&\"から\"&'教育訓練費入力（前期）'!$D760&\"日間\")","v":""},{"$f":"IF('教育訓練費入力（前期）'!$F760=\"\",\"\",IF('教育訓練費入力（前期）'!$G760=1,'教育訓練費入力（前期）'!$F760,'教育訓練費入力（前期）'!$F760&\"他\"&'教育訓練費入力（前期）'!$G760-1&\"名\"))","v":""}]
[null,752,null,null,null,null,null,null,null,null,{"$f":"IF('教育訓練費入力（前期）'!$C761=\"\",\"\",TEXT('教育訓練費入力（前期）'!$C761,\"yyyy年\")&TEXT('教育訓練費入力（前期）'!$C761,\"m月\")&TEXT('教育訓練費入力（前期）'!$C761,\"ｄ日\")&\"から\"&'教育訓練費入力（前期）'!$D761&\"日間\")","v":""},{"$f":"IF('教育訓練費入力（前期）'!$F761=\"\",\"\",IF('教育訓練費入力（前期）'!$G761=1,'教育訓練費入力（前期）'!$F761,'教育訓練費入力（前期）'!$F761&\"他\"&'教育訓練費入力（前期）'!$G761-1&\"名\"))","v":""}]
[null,753,null,null,null,null,null,null,null,null,{"$f":"IF('教育訓練費入力（前期）'!$C762=\"\",\"\",TEXT('教育訓練費入力（前期）'!$C762,\"yyyy年\")&TEXT('教育訓練費入力（前期）'!$C762,\"m月\")&TEXT('教育訓練費入力（前期）'!$C762,\"ｄ日\")&\"から\"&'教育訓練費入力（前期）'!$D762&\"日間\")","v":""},{"$f":"IF('教育訓練費入力（前期）'!$F762=\"\",\"\",IF('教育訓練費入力（前期）'!$G762=1,'教育訓練費入力（前期）'!$F762,'教育訓練費入力（前期）'!$F762&\"他\"&'教育訓練費入力（前期）'!$G762-1&\"名\"))","v":""}]
[null,754,null,null,null,null,null,null,null,null,{"$f":"IF('教育訓練費入力（前期）'!$C763=\"\",\"\",TEXT('教育訓練費入力（前期）'!$C763,\"yyyy年\")&TEXT('教育訓練費入力（前期）'!$C763,\"m月\")&TEXT('教育訓練費入力（前期）'!$C763,\"ｄ日\")&\"から\"&'教育訓練費入力（前期）'!$D763&\"日間\")","v":""},{"$f":"IF('教育訓練費入力（前期）'!$F763=\"\",\"\",IF('教育訓練費入力（前期）'!$G763=1,'教育訓練費入力（前期）'!$F763,'教育訓練費入力（前期）'!$F763&\"他\"&'教育訓練費入力（前期）'!$G763-1&\"名\"))","v":""}]
[null,755,null,null,null,null,null,null,null,null,{"$f":"IF('教育訓練費入力（前期）'!$C764=\"\",\"\",TEXT('教育訓練費入力（前期）'!$C764,\"yyyy年\")&TEXT('教育訓練費入力（前期）'!$C764,\"m月\")&TEXT('教育訓練費入力（前期）'!$C764,\"ｄ日\")&\"から\"&'教育訓練費入力（前期）'!$D764&\"日間\")","v":""},{"$f":"IF('教育訓練費入力（前期）'!$F764=\"\",\"\",IF('教育訓練費入力（前期）'!$G764=1,'教育訓練費入力（前期）'!$F764,'教育訓練費入力（前期）'!$F764&\"他\"&'教育訓練費入力（前期）'!$G764-1&\"名\"))","v":""}]
[null,756,null,null,null,null,null,null,null,null,{"$f":"IF('教育訓練費入力（前期）'!$C765=\"\",\"\",TEXT('教育訓練費入力（前期）'!$C765,\"yyyy年\")&TEXT('教育訓練費入力（前期）'!$C765,\"m月\")&TEXT('教育訓練費入力（前期）'!$C765,\"ｄ日\")&\"から\"&'教育訓練費入力（前期）'!$D765&\"日間\")","v":""},{"$f":"IF('教育訓練費入力（前期）'!$F765=\"\",\"\",IF('教育訓練費入力（前期）'!$G765=1,'教育訓練費入力（前期）'!$F765,'教育訓練費入力（前期）'!$F765&\"他\"&'教育訓練費入力（前期）'!$G765-1&\"名\"))","v":""}]
[null,757,null,null,null,null,null,null,null,null,{"$f":"IF('教育訓練費入力（前期）'!$C766=\"\",\"\",TEXT('教育訓練費入力（前期）'!$C766,\"yyyy年\")&TEXT('教育訓練費入力（前期）'!$C766,\"m月\")&TEXT('教育訓練費入力（前期）'!$C766,\"ｄ日\")&\"から\"&'教育訓練費入力（前期）'!$D766&\"日間\")","v":""},{"$f":"IF('教育訓練費入力（前期）'!$F766=\"\",\"\",IF('教育訓練費入力（前期）'!$G766=1,'教育訓練費入力（前期）'!$F766,'教育訓練費入力（前期）'!$F766&\"他\"&'教育訓練費入力（前期）'!$G766-1&\"名\"))","v":""}]
[null,758,null,null,null,null,null,null,null,null,{"$f":"IF('教育訓練費入力（前期）'!$C767=\"\",\"\",TEXT('教育訓練費入力（前期）'!$C767,\"yyyy年\")&TEXT('教育訓練費入力（前期）'!$C767,\"m月\")&TEXT('教育訓練費入力（前期）'!$C767,\"ｄ日\")&\"から\"&'教育訓練費入力（前期）'!$D767&\"日間\")","v":""},{"$f":"IF('教育訓練費入力（前期）'!$F767=\"\",\"\",IF('教育訓練費入力（前期）'!$G767=1,'教育訓練費入力（前期）'!$F767,'教育訓練費入力（前期）'!$F767&\"他\"&'教育訓練費入力（前期）'!$G767-1&\"名\"))","v":""}]
[null,759,null,null,null,null,null,null,null,null,{"$f":"IF('教育訓練費入力（前期）'!$C768=\"\",\"\",TEXT('教育訓練費入力（前期）'!$C768,\"yyyy年\")&TEXT('教育訓練費入力（前期）'!$C768,\"m月\")&TEXT('教育訓練費入力（前期）'!$C768,\"ｄ日\")&\"から\"&'教育訓練費入力（前期）'!$D768&\"日間\")","v":""},{"$f":"IF('教育訓練費入力（前期）'!$F768=\"\",\"\",IF('教育訓練費入力（前期）'!$G768=1,'教育訓練費入力（前期）'!$F768,'教育訓練費入力（前期）'!$F768&\"他\"&'教育訓練費入力（前期）'!$G768-1&\"名\"))","v":""}]
[null,760,null,null,null,null,null,null,null,null,{"$f":"IF('教育訓練費入力（前期）'!$C769=\"\",\"\",TEXT('教育訓練費入力（前期）'!$C769,\"yyyy年\")&TEXT('教育訓練費入力（前期）'!$C769,\"m月\")&TEXT('教育訓練費入力（前期）'!$C769,\"ｄ日\")&\"から\"&'教育訓練費入力（前期）'!$D769&\"日間\")","v":""},{"$f":"IF('教育訓練費入力（前期）'!$F769=\"\",\"\",IF('教育訓練費入力（前期）'!$G769=1,'教育訓練費入力（前期）'!$F769,'教育訓練費入力（前期）'!$F769&\"他\"&'教育訓練費入力（前期）'!$G769-1&\"名\"))","v":""}]
[null,761,null,null,null,null,null,null,null,null,{"$f":"IF('教育訓練費入力（前期）'!$C770=\"\",\"\",TEXT('教育訓練費入力（前期）'!$C770,\"yyyy年\")&TEXT('教育訓練費入力（前期）'!$C770,\"m月\")&TEXT('教育訓練費入力（前期）'!$C770,\"ｄ日\")&\"から\"&'教育訓練費入力（前期）'!$D770&\"日間\")","v":""},{"$f":"IF('教育訓練費入力（前期）'!$F770=\"\",\"\",IF('教育訓練費入力（前期）'!$G770=1,'教育訓練費入力（前期）'!$F770,'教育訓練費入力（前期）'!$F770&\"他\"&'教育訓練費入力（前期）'!$G770-1&\"名\"))","v":""}]
[null,762,null,null,null,null,null,null,null,null,{"$f":"IF('教育訓練費入力（前期）'!$C771=\"\",\"\",TEXT('教育訓練費入力（前期）'!$C771,\"yyyy年\")&TEXT('教育訓練費入力（前期）'!$C771,\"m月\")&TEXT('教育訓練費入力（前期）'!$C771,\"ｄ日\")&\"から\"&'教育訓練費入力（前期）'!$D771&\"日間\")","v":""},{"$f":"IF('教育訓練費入力（前期）'!$F771=\"\",\"\",IF('教育訓練費入力（前期）'!$G771=1,'教育訓練費入力（前期）'!$F771,'教育訓練費入力（前期）'!$F771&\"他\"&'教育訓練費入力（前期）'!$G771-1&\"名\"))","v":""}]
[null,763,null,null,null,null,null,null,null,null,{"$f":"IF('教育訓練費入力（前期）'!$C772=\"\",\"\",TEXT('教育訓練費入力（前期）'!$C772,\"yyyy年\")&TEXT('教育訓練費入力（前期）'!$C772,\"m月\")&TEXT('教育訓練費入力（前期）'!$C772,\"ｄ日\")&\"から\"&'教育訓練費入力（前期）'!$D772&\"日間\")","v":""},{"$f":"IF('教育訓練費入力（前期）'!$F772=\"\",\"\",IF('教育訓練費入力（前期）'!$G772=1,'教育訓練費入力（前期）'!$F772,'教育訓練費入力（前期）'!$F772&\"他\"&'教育訓練費入力（前期）'!$G772-1&\"名\"))","v":""}]
[null,764,null,null,null,null,null,null,null,null,{"$f":"IF('教育訓練費入力（前期）'!$C773=\"\",\"\",TEXT('教育訓練費入力（前期）'!$C773,\"yyyy年\")&TEXT('教育訓練費入力（前期）'!$C773,\"m月\")&TEXT('教育訓練費入力（前期）'!$C773,\"ｄ日\")&\"から\"&'教育訓練費入力（前期）'!$D773&\"日間\")","v":""},{"$f":"IF('教育訓練費入力（前期）'!$F773=\"\",\"\",IF('教育訓練費入力（前期）'!$G773=1,'教育訓練費入力（前期）'!$F773,'教育訓練費入力（前期）'!$F773&\"他\"&'教育訓練費入力（前期）'!$G773-1&\"名\"))","v":""}]
[null,765,null,null,null,null,null,null,null,null,{"$f":"IF('教育訓練費入力（前期）'!$C774=\"\",\"\",TEXT('教育訓練費入力（前期）'!$C774,\"yyyy年\")&TEXT('教育訓練費入力（前期）'!$C774,\"m月\")&TEXT('教育訓練費入力（前期）'!$C774,\"ｄ日\")&\"から\"&'教育訓練費入力（前期）'!$D774&\"日間\")","v":""},{"$f":"IF('教育訓練費入力（前期）'!$F774=\"\",\"\",IF('教育訓練費入力（前期）'!$G774=1,'教育訓練費入力（前期）'!$F774,'教育訓練費入力（前期）'!$F774&\"他\"&'教育訓練費入力（前期）'!$G774-1&\"名\"))","v":""}]
[null,766,null,null,null,null,null,null,null,null,{"$f":"IF('教育訓練費入力（前期）'!$C775=\"\",\"\",TEXT('教育訓練費入力（前期）'!$C775,\"yyyy年\")&TEXT('教育訓練費入力（前期）'!$C775,\"m月\")&TEXT('教育訓練費入力（前期）'!$C775,\"ｄ日\")&\"から\"&'教育訓練費入力（前期）'!$D775&\"日間\")","v":""},{"$f":"IF('教育訓練費入力（前期）'!$F775=\"\",\"\",IF('教育訓練費入力（前期）'!$G775=1,'教育訓練費入力（前期）'!$F775,'教育訓練費入力（前期）'!$F775&\"他\"&'教育訓練費入力（前期）'!$G775-1&\"名\"))","v":""}]
[null,767,null,null,null,null,null,null,null,null,{"$f":"IF('教育訓練費入力（前期）'!$C776=\"\",\"\",TEXT('教育訓練費入力（前期）'!$C776,\"yyyy年\")&TEXT('教育訓練費入力（前期）'!$C776,\"m月\")&TEXT('教育訓練費入力（前期）'!$C776,\"ｄ日\")&\"から\"&'教育訓練費入力（前期）'!$D776&\"日間\")","v":""},{"$f":"IF('教育訓練費入力（前期）'!$F776=\"\",\"\",IF('教育訓練費入力（前期）'!$G776=1,'教育訓練費入力（前期）'!$F776,'教育訓練費入力（前期）'!$F776&\"他\"&'教育訓練費入力（前期）'!$G776-1&\"名\"))","v":""}]
[null,768,null,null,null,null,null,null,null,null,{"$f":"IF('教育訓練費入力（前期）'!$C777=\"\",\"\",TEXT('教育訓練費入力（前期）'!$C777,\"yyyy年\")&TEXT('教育訓練費入力（前期）'!$C777,\"m月\")&TEXT('教育訓練費入力（前期）'!$C777,\"ｄ日\")&\"から\"&'教育訓練費入力（前期）'!$D777&\"日間\")","v":""},{"$f":"IF('教育訓練費入力（前期）'!$F777=\"\",\"\",IF('教育訓練費入力（前期）'!$G777=1,'教育訓練費入力（前期）'!$F777,'教育訓練費入力（前期）'!$F777&\"他\"&'教育訓練費入力（前期）'!$G777-1&\"名\"))","v":""}]
[null,769,null,null,null,null,null,null,null,null,{"$f":"IF('教育訓練費入力（前期）'!$C778=\"\",\"\",TEXT('教育訓練費入力（前期）'!$C778,\"yyyy年\")&TEXT('教育訓練費入力（前期）'!$C778,\"m月\")&TEXT('教育訓練費入力（前期）'!$C778,\"ｄ日\")&\"から\"&'教育訓練費入力（前期）'!$D778&\"日間\")","v":""},{"$f":"IF('教育訓練費入力（前期）'!$F778=\"\",\"\",IF('教育訓練費入力（前期）'!$G778=1,'教育訓練費入力（前期）'!$F778,'教育訓練費入力（前期）'!$F778&\"他\"&'教育訓練費入力（前期）'!$G778-1&\"名\"))","v":""}]
[null,770,null,null,null,null,null,null,null,null,{"$f":"IF('教育訓練費入力（前期）'!$C779=\"\",\"\",TEXT('教育訓練費入力（前期）'!$C779,\"yyyy年\")&TEXT('教育訓練費入力（前期）'!$C779,\"m月\")&TEXT('教育訓練費入力（前期）'!$C779,\"ｄ日\")&\"から\"&'教育訓練費入力（前期）'!$D779&\"日間\")","v":""},{"$f":"IF('教育訓練費入力（前期）'!$F779=\"\",\"\",IF('教育訓練費入力（前期）'!$G779=1,'教育訓練費入力（前期）'!$F779,'教育訓練費入力（前期）'!$F779&\"他\"&'教育訓練費入力（前期）'!$G779-1&\"名\"))","v":""}]
[null,771,null,null,null,null,null,null,null,null,{"$f":"IF('教育訓練費入力（前期）'!$C780=\"\",\"\",TEXT('教育訓練費入力（前期）'!$C780,\"yyyy年\")&TEXT('教育訓練費入力（前期）'!$C780,\"m月\")&TEXT('教育訓練費入力（前期）'!$C780,\"ｄ日\")&\"から\"&'教育訓練費入力（前期）'!$D780&\"日間\")","v":""},{"$f":"IF('教育訓練費入力（前期）'!$F780=\"\",\"\",IF('教育訓練費入力（前期）'!$G780=1,'教育訓練費入力（前期）'!$F780,'教育訓練費入力（前期）'!$F780&\"他\"&'教育訓練費入力（前期）'!$G780-1&\"名\"))","v":""}]
[null,772,null,null,null,null,null,null,null,null,{"$f":"IF('教育訓練費入力（前期）'!$C781=\"\",\"\",TEXT('教育訓練費入力（前期）'!$C781,\"yyyy年\")&TEXT('教育訓練費入力（前期）'!$C781,\"m月\")&TEXT('教育訓練費入力（前期）'!$C781,\"ｄ日\")&\"から\"&'教育訓練費入力（前期）'!$D781&\"日間\")","v":""},{"$f":"IF('教育訓練費入力（前期）'!$F781=\"\",\"\",IF('教育訓練費入力（前期）'!$G781=1,'教育訓練費入力（前期）'!$F781,'教育訓練費入力（前期）'!$F781&\"他\"&'教育訓練費入力（前期）'!$G781-1&\"名\"))","v":""}]
[null,773,null,null,null,null,null,null,null,null,{"$f":"IF('教育訓練費入力（前期）'!$C782=\"\",\"\",TEXT('教育訓練費入力（前期）'!$C782,\"yyyy年\")&TEXT('教育訓練費入力（前期）'!$C782,\"m月\")&TEXT('教育訓練費入力（前期）'!$C782,\"ｄ日\")&\"から\"&'教育訓練費入力（前期）'!$D782&\"日間\")","v":""},{"$f":"IF('教育訓練費入力（前期）'!$F782=\"\",\"\",IF('教育訓練費入力（前期）'!$G782=1,'教育訓練費入力（前期）'!$F782,'教育訓練費入力（前期）'!$F782&\"他\"&'教育訓練費入力（前期）'!$G782-1&\"名\"))","v":""}]
[null,774,null,null,null,null,null,null,null,null,{"$f":"IF('教育訓練費入力（前期）'!$C783=\"\",\"\",TEXT('教育訓練費入力（前期）'!$C783,\"yyyy年\")&TEXT('教育訓練費入力（前期）'!$C783,\"m月\")&TEXT('教育訓練費入力（前期）'!$C783,\"ｄ日\")&\"から\"&'教育訓練費入力（前期）'!$D783&\"日間\")","v":""},{"$f":"IF('教育訓練費入力（前期）'!$F783=\"\",\"\",IF('教育訓練費入力（前期）'!$G783=1,'教育訓練費入力（前期）'!$F783,'教育訓練費入力（前期）'!$F783&\"他\"&'教育訓練費入力（前期）'!$G783-1&\"名\"))","v":""}]
[null,775,null,null,null,null,null,null,null,null,{"$f":"IF('教育訓練費入力（前期）'!$C784=\"\",\"\",TEXT('教育訓練費入力（前期）'!$C784,\"yyyy年\")&TEXT('教育訓練費入力（前期）'!$C784,\"m月\")&TEXT('教育訓練費入力（前期）'!$C784,\"ｄ日\")&\"から\"&'教育訓練費入力（前期）'!$D784&\"日間\")","v":""},{"$f":"IF('教育訓練費入力（前期）'!$F784=\"\",\"\",IF('教育訓練費入力（前期）'!$G784=1,'教育訓練費入力（前期）'!$F784,'教育訓練費入力（前期）'!$F784&\"他\"&'教育訓練費入力（前期）'!$G784-1&\"名\"))","v":""}]
[null,776,null,null,null,null,null,null,null,null,{"$f":"IF('教育訓練費入力（前期）'!$C785=\"\",\"\",TEXT('教育訓練費入力（前期）'!$C785,\"yyyy年\")&TEXT('教育訓練費入力（前期）'!$C785,\"m月\")&TEXT('教育訓練費入力（前期）'!$C785,\"ｄ日\")&\"から\"&'教育訓練費入力（前期）'!$D785&\"日間\")","v":""},{"$f":"IF('教育訓練費入力（前期）'!$F785=\"\",\"\",IF('教育訓練費入力（前期）'!$G785=1,'教育訓練費入力（前期）'!$F785,'教育訓練費入力（前期）'!$F785&\"他\"&'教育訓練費入力（前期）'!$G785-1&\"名\"))","v":""}]
[null,777,null,null,null,null,null,null,null,null,{"$f":"IF('教育訓練費入力（前期）'!$C786=\"\",\"\",TEXT('教育訓練費入力（前期）'!$C786,\"yyyy年\")&TEXT('教育訓練費入力（前期）'!$C786,\"m月\")&TEXT('教育訓練費入力（前期）'!$C786,\"ｄ日\")&\"から\"&'教育訓練費入力（前期）'!$D786&\"日間\")","v":""},{"$f":"IF('教育訓練費入力（前期）'!$F786=\"\",\"\",IF('教育訓練費入力（前期）'!$G786=1,'教育訓練費入力（前期）'!$F786,'教育訓練費入力（前期）'!$F786&\"他\"&'教育訓練費入力（前期）'!$G786-1&\"名\"))","v":""}]
[null,778,null,null,null,null,null,null,null,null,{"$f":"IF('教育訓練費入力（前期）'!$C787=\"\",\"\",TEXT('教育訓練費入力（前期）'!$C787,\"yyyy年\")&TEXT('教育訓練費入力（前期）'!$C787,\"m月\")&TEXT('教育訓練費入力（前期）'!$C787,\"ｄ日\")&\"から\"&'教育訓練費入力（前期）'!$D787&\"日間\")","v":""},{"$f":"IF('教育訓練費入力（前期）'!$F787=\"\",\"\",IF('教育訓練費入力（前期）'!$G787=1,'教育訓練費入力（前期）'!$F787,'教育訓練費入力（前期）'!$F787&\"他\"&'教育訓練費入力（前期）'!$G787-1&\"名\"))","v":""}]
[null,779,null,null,null,null,null,null,null,null,{"$f":"IF('教育訓練費入力（前期）'!$C788=\"\",\"\",TEXT('教育訓練費入力（前期）'!$C788,\"yyyy年\")&TEXT('教育訓練費入力（前期）'!$C788,\"m月\")&TEXT('教育訓練費入力（前期）'!$C788,\"ｄ日\")&\"から\"&'教育訓練費入力（前期）'!$D788&\"日間\")","v":""},{"$f":"IF('教育訓練費入力（前期）'!$F788=\"\",\"\",IF('教育訓練費入力（前期）'!$G788=1,'教育訓練費入力（前期）'!$F788,'教育訓練費入力（前期）'!$F788&\"他\"&'教育訓練費入力（前期）'!$G788-1&\"名\"))","v":""}]
[null,780,null,null,null,null,null,null,null,null,{"$f":"IF('教育訓練費入力（前期）'!$C789=\"\",\"\",TEXT('教育訓練費入力（前期）'!$C789,\"yyyy年\")&TEXT('教育訓練費入力（前期）'!$C789,\"m月\")&TEXT('教育訓練費入力（前期）'!$C789,\"ｄ日\")&\"から\"&'教育訓練費入力（前期）'!$D789&\"日間\")","v":""},{"$f":"IF('教育訓練費入力（前期）'!$F789=\"\",\"\",IF('教育訓練費入力（前期）'!$G789=1,'教育訓練費入力（前期）'!$F789,'教育訓練費入力（前期）'!$F789&\"他\"&'教育訓練費入力（前期）'!$G789-1&\"名\"))","v":""}]
[null,781,null,null,null,null,null,null,null,null,{"$f":"IF('教育訓練費入力（前期）'!$C790=\"\",\"\",TEXT('教育訓練費入力（前期）'!$C790,\"yyyy年\")&TEXT('教育訓練費入力（前期）'!$C790,\"m月\")&TEXT('教育訓練費入力（前期）'!$C790,\"ｄ日\")&\"から\"&'教育訓練費入力（前期）'!$D790&\"日間\")","v":""},{"$f":"IF('教育訓練費入力（前期）'!$F790=\"\",\"\",IF('教育訓練費入力（前期）'!$G790=1,'教育訓練費入力（前期）'!$F790,'教育訓練費入力（前期）'!$F790&\"他\"&'教育訓練費入力（前期）'!$G790-1&\"名\"))","v":""}]
[null,782,null,null,null,null,null,null,null,null,{"$f":"IF('教育訓練費入力（前期）'!$C791=\"\",\"\",TEXT('教育訓練費入力（前期）'!$C791,\"yyyy年\")&TEXT('教育訓練費入力（前期）'!$C791,\"m月\")&TEXT('教育訓練費入力（前期）'!$C791,\"ｄ日\")&\"から\"&'教育訓練費入力（前期）'!$D791&\"日間\")","v":""},{"$f":"IF('教育訓練費入力（前期）'!$F791=\"\",\"\",IF('教育訓練費入力（前期）'!$G791=1,'教育訓練費入力（前期）'!$F791,'教育訓練費入力（前期）'!$F791&\"他\"&'教育訓練費入力（前期）'!$G791-1&\"名\"))","v":""}]
[null,783,null,null,null,null,null,null,null,null,{"$f":"IF('教育訓練費入力（前期）'!$C792=\"\",\"\",TEXT('教育訓練費入力（前期）'!$C792,\"yyyy年\")&TEXT('教育訓練費入力（前期）'!$C792,\"m月\")&TEXT('教育訓練費入力（前期）'!$C792,\"ｄ日\")&\"から\"&'教育訓練費入力（前期）'!$D792&\"日間\")","v":""},{"$f":"IF('教育訓練費入力（前期）'!$F792=\"\",\"\",IF('教育訓練費入力（前期）'!$G792=1,'教育訓練費入力（前期）'!$F792,'教育訓練費入力（前期）'!$F792&\"他\"&'教育訓練費入力（前期）'!$G792-1&\"名\"))","v":""}]
[null,784,null,null,null,null,null,null,null,null,{"$f":"IF('教育訓練費入力（前期）'!$C793=\"\",\"\",TEXT('教育訓練費入力（前期）'!$C793,\"yyyy年\")&TEXT('教育訓練費入力（前期）'!$C793,\"m月\")&TEXT('教育訓練費入力（前期）'!$C793,\"ｄ日\")&\"から\"&'教育訓練費入力（前期）'!$D793&\"日間\")","v":""},{"$f":"IF('教育訓練費入力（前期）'!$F793=\"\",\"\",IF('教育訓練費入力（前期）'!$G793=1,'教育訓練費入力（前期）'!$F793,'教育訓練費入力（前期）'!$F793&\"他\"&'教育訓練費入力（前期）'!$G793-1&\"名\"))","v":""}]
[null,785,null,null,null,null,null,null,null,null,{"$f":"IF('教育訓練費入力（前期）'!$C794=\"\",\"\",TEXT('教育訓練費入力（前期）'!$C794,\"yyyy年\")&TEXT('教育訓練費入力（前期）'!$C794,\"m月\")&TEXT('教育訓練費入力（前期）'!$C794,\"ｄ日\")&\"から\"&'教育訓練費入力（前期）'!$D794&\"日間\")","v":""},{"$f":"IF('教育訓練費入力（前期）'!$F794=\"\",\"\",IF('教育訓練費入力（前期）'!$G794=1,'教育訓練費入力（前期）'!$F794,'教育訓練費入力（前期）'!$F794&\"他\"&'教育訓練費入力（前期）'!$G794-1&\"名\"))","v":""}]
[null,786,null,null,null,null,null,null,null,null,{"$f":"IF('教育訓練費入力（前期）'!$C795=\"\",\"\",TEXT('教育訓練費入力（前期）'!$C795,\"yyyy年\")&TEXT('教育訓練費入力（前期）'!$C795,\"m月\")&TEXT('教育訓練費入力（前期）'!$C795,\"ｄ日\")&\"から\"&'教育訓練費入力（前期）'!$D795&\"日間\")","v":""},{"$f":"IF('教育訓練費入力（前期）'!$F795=\"\",\"\",IF('教育訓練費入力（前期）'!$G795=1,'教育訓練費入力（前期）'!$F795,'教育訓練費入力（前期）'!$F795&\"他\"&'教育訓練費入力（前期）'!$G795-1&\"名\"))","v":""}]
[null,787,null,null,null,null,null,null,null,null,{"$f":"IF('教育訓練費入力（前期）'!$C796=\"\",\"\",TEXT('教育訓練費入力（前期）'!$C796,\"yyyy年\")&TEXT('教育訓練費入力（前期）'!$C796,\"m月\")&TEXT('教育訓練費入力（前期）'!$C796,\"ｄ日\")&\"から\"&'教育訓練費入力（前期）'!$D796&\"日間\")","v":""},{"$f":"IF('教育訓練費入力（前期）'!$F796=\"\",\"\",IF('教育訓練費入力（前期）'!$G796=1,'教育訓練費入力（前期）'!$F796,'教育訓練費入力（前期）'!$F796&\"他\"&'教育訓練費入力（前期）'!$G796-1&\"名\"))","v":""}]
[null,788,null,null,null,null,null,null,null,null,{"$f":"IF('教育訓練費入力（前期）'!$C797=\"\",\"\",TEXT('教育訓練費入力（前期）'!$C797,\"yyyy年\")&TEXT('教育訓練費入力（前期）'!$C797,\"m月\")&TEXT('教育訓練費入力（前期）'!$C797,\"ｄ日\")&\"から\"&'教育訓練費入力（前期）'!$D797&\"日間\")","v":""},{"$f":"IF('教育訓練費入力（前期）'!$F797=\"\",\"\",IF('教育訓練費入力（前期）'!$G797=1,'教育訓練費入力（前期）'!$F797,'教育訓練費入力（前期）'!$F797&\"他\"&'教育訓練費入力（前期）'!$G797-1&\"名\"))","v":""}]
[null,789,null,null,null,null,null,null,null,null,{"$f":"IF('教育訓練費入力（前期）'!$C798=\"\",\"\",TEXT('教育訓練費入力（前期）'!$C798,\"yyyy年\")&TEXT('教育訓練費入力（前期）'!$C798,\"m月\")&TEXT('教育訓練費入力（前期）'!$C798,\"ｄ日\")&\"から\"&'教育訓練費入力（前期）'!$D798&\"日間\")","v":""},{"$f":"IF('教育訓練費入力（前期）'!$F798=\"\",\"\",IF('教育訓練費入力（前期）'!$G798=1,'教育訓練費入力（前期）'!$F798,'教育訓練費入力（前期）'!$F798&\"他\"&'教育訓練費入力（前期）'!$G798-1&\"名\"))","v":""}]
[null,790,null,null,null,null,null,null,null,null,{"$f":"IF('教育訓練費入力（前期）'!$C799=\"\",\"\",TEXT('教育訓練費入力（前期）'!$C799,\"yyyy年\")&TEXT('教育訓練費入力（前期）'!$C799,\"m月\")&TEXT('教育訓練費入力（前期）'!$C799,\"ｄ日\")&\"から\"&'教育訓練費入力（前期）'!$D799&\"日間\")","v":""},{"$f":"IF('教育訓練費入力（前期）'!$F799=\"\",\"\",IF('教育訓練費入力（前期）'!$G799=1,'教育訓練費入力（前期）'!$F799,'教育訓練費入力（前期）'!$F799&\"他\"&'教育訓練費入力（前期）'!$G799-1&\"名\"))","v":""}]
[null,791,null,null,null,null,null,null,null,null,{"$f":"IF('教育訓練費入力（前期）'!$C800=\"\",\"\",TEXT('教育訓練費入力（前期）'!$C800,\"yyyy年\")&TEXT('教育訓練費入力（前期）'!$C800,\"m月\")&TEXT('教育訓練費入力（前期）'!$C800,\"ｄ日\")&\"から\"&'教育訓練費入力（前期）'!$D800&\"日間\")","v":""},{"$f":"IF('教育訓練費入力（前期）'!$F800=\"\",\"\",IF('教育訓練費入力（前期）'!$G800=1,'教育訓練費入力（前期）'!$F800,'教育訓練費入力（前期）'!$F800&\"他\"&'教育訓練費入力（前期）'!$G800-1&\"名\"))","v":""}]
[null,792,null,null,null,null,null,null,null,null,{"$f":"IF('教育訓練費入力（前期）'!$C801=\"\",\"\",TEXT('教育訓練費入力（前期）'!$C801,\"yyyy年\")&TEXT('教育訓練費入力（前期）'!$C801,\"m月\")&TEXT('教育訓練費入力（前期）'!$C801,\"ｄ日\")&\"から\"&'教育訓練費入力（前期）'!$D801&\"日間\")","v":""},{"$f":"IF('教育訓練費入力（前期）'!$F801=\"\",\"\",IF('教育訓練費入力（前期）'!$G801=1,'教育訓練費入力（前期）'!$F801,'教育訓練費入力（前期）'!$F801&\"他\"&'教育訓練費入力（前期）'!$G801-1&\"名\"))","v":""}]
[null,793,null,null,null,null,null,null,null,null,{"$f":"IF('教育訓練費入力（前期）'!$C802=\"\",\"\",TEXT('教育訓練費入力（前期）'!$C802,\"yyyy年\")&TEXT('教育訓練費入力（前期）'!$C802,\"m月\")&TEXT('教育訓練費入力（前期）'!$C802,\"ｄ日\")&\"から\"&'教育訓練費入力（前期）'!$D802&\"日間\")","v":""},{"$f":"IF('教育訓練費入力（前期）'!$F802=\"\",\"\",IF('教育訓練費入力（前期）'!$G802=1,'教育訓練費入力（前期）'!$F802,'教育訓練費入力（前期）'!$F802&\"他\"&'教育訓練費入力（前期）'!$G802-1&\"名\"))","v":""}]
[null,794,null,null,null,null,null,null,null,null,{"$f":"IF('教育訓練費入力（前期）'!$C803=\"\",\"\",TEXT('教育訓練費入力（前期）'!$C803,\"yyyy年\")&TEXT('教育訓練費入力（前期）'!$C803,\"m月\")&TEXT('教育訓練費入力（前期）'!$C803,\"ｄ日\")&\"から\"&'教育訓練費入力（前期）'!$D803&\"日間\")","v":""},{"$f":"IF('教育訓練費入力（前期）'!$F803=\"\",\"\",IF('教育訓練費入力（前期）'!$G803=1,'教育訓練費入力（前期）'!$F803,'教育訓練費入力（前期）'!$F803&\"他\"&'教育訓練費入力（前期）'!$G803-1&\"名\"))","v":""}]
[null,795,null,null,null,null,null,null,null,null,{"$f":"IF('教育訓練費入力（前期）'!$C804=\"\",\"\",TEXT('教育訓練費入力（前期）'!$C804,\"yyyy年\")&TEXT('教育訓練費入力（前期）'!$C804,\"m月\")&TEXT('教育訓練費入力（前期）'!$C804,\"ｄ日\")&\"から\"&'教育訓練費入力（前期）'!$D804&\"日間\")","v":""},{"$f":"IF('教育訓練費入力（前期）'!$F804=\"\",\"\",IF('教育訓練費入力（前期）'!$G804=1,'教育訓練費入力（前期）'!$F804,'教育訓練費入力（前期）'!$F804&\"他\"&'教育訓練費入力（前期）'!$G804-1&\"名\"))","v":""}]
[null,796,null,null,null,null,null,null,null,null,{"$f":"IF('教育訓練費入力（前期）'!$C805=\"\",\"\",TEXT('教育訓練費入力（前期）'!$C805,\"yyyy年\")&TEXT('教育訓練費入力（前期）'!$C805,\"m月\")&TEXT('教育訓練費入力（前期）'!$C805,\"ｄ日\")&\"から\"&'教育訓練費入力（前期）'!$D805&\"日間\")","v":""},{"$f":"IF('教育訓練費入力（前期）'!$F805=\"\",\"\",IF('教育訓練費入力（前期）'!$G805=1,'教育訓練費入力（前期）'!$F805,'教育訓練費入力（前期）'!$F805&\"他\"&'教育訓練費入力（前期）'!$G805-1&\"名\"))","v":""}]
[null,797,null,null,null,null,null,null,null,null,{"$f":"IF('教育訓練費入力（前期）'!$C806=\"\",\"\",TEXT('教育訓練費入力（前期）'!$C806,\"yyyy年\")&TEXT('教育訓練費入力（前期）'!$C806,\"m月\")&TEXT('教育訓練費入力（前期）'!$C806,\"ｄ日\")&\"から\"&'教育訓練費入力（前期）'!$D806&\"日間\")","v":""},{"$f":"IF('教育訓練費入力（前期）'!$F806=\"\",\"\",IF('教育訓練費入力（前期）'!$G806=1,'教育訓練費入力（前期）'!$F806,'教育訓練費入力（前期）'!$F806&\"他\"&'教育訓練費入力（前期）'!$G806-1&\"名\"))","v":""}]
[null,798,null,null,null,null,null,null,null,null,{"$f":"IF('教育訓練費入力（前期）'!$C807=\"\",\"\",TEXT('教育訓練費入力（前期）'!$C807,\"yyyy年\")&TEXT('教育訓練費入力（前期）'!$C807,\"m月\")&TEXT('教育訓練費入力（前期）'!$C807,\"ｄ日\")&\"から\"&'教育訓練費入力（前期）'!$D807&\"日間\")","v":""},{"$f":"IF('教育訓練費入力（前期）'!$F807=\"\",\"\",IF('教育訓練費入力（前期）'!$G807=1,'教育訓練費入力（前期）'!$F807,'教育訓練費入力（前期）'!$F807&\"他\"&'教育訓練費入力（前期）'!$G807-1&\"名\"))","v":""}]
[null,799,null,null,null,null,null,null,null,null,{"$f":"IF('教育訓練費入力（前期）'!$C808=\"\",\"\",TEXT('教育訓練費入力（前期）'!$C808,\"yyyy年\")&TEXT('教育訓練費入力（前期）'!$C808,\"m月\")&TEXT('教育訓練費入力（前期）'!$C808,\"ｄ日\")&\"から\"&'教育訓練費入力（前期）'!$D808&\"日間\")","v":""},{"$f":"IF('教育訓練費入力（前期）'!$F808=\"\",\"\",IF('教育訓練費入力（前期）'!$G808=1,'教育訓練費入力（前期）'!$F808,'教育訓練費入力（前期）'!$F808&\"他\"&'教育訓練費入力（前期）'!$G808-1&\"名\"))","v":""}]
[null,800,null,null,null,null,null,null,null,null,{"$f":"IF('教育訓練費入力（前期）'!$C809=\"\",\"\",TEXT('教育訓練費入力（前期）'!$C809,\"yyyy年\")&TEXT('教育訓練費入力（前期）'!$C809,\"m月\")&TEXT('教育訓練費入力（前期）'!$C809,\"ｄ日\")&\"から\"&'教育訓練費入力（前期）'!$D809&\"日間\")","v":""},{"$f":"IF('教育訓練費入力（前期）'!$F809=\"\",\"\",IF('教育訓練費入力（前期）'!$G809=1,'教育訓練費入力（前期）'!$F809,'教育訓練費入力（前期）'!$F809&\"他\"&'教育訓練費入力（前期）'!$G809-1&\"名\"))","v":""}]
[null,801,null,null,null,null,null,null,null,null,{"$f":"IF('教育訓練費入力（前期）'!$C810=\"\",\"\",TEXT('教育訓練費入力（前期）'!$C810,\"yyyy年\")&TEXT('教育訓練費入力（前期）'!$C810,\"m月\")&TEXT('教育訓練費入力（前期）'!$C810,\"ｄ日\")&\"から\"&'教育訓練費入力（前期）'!$D810&\"日間\")","v":""},{"$f":"IF('教育訓練費入力（前期）'!$F810=\"\",\"\",IF('教育訓練費入力（前期）'!$G810=1,'教育訓練費入力（前期）'!$F810,'教育訓練費入力（前期）'!$F810&\"他\"&'教育訓練費入力（前期）'!$G810-1&\"名\"))","v":""}]
[null,802,null,null,null,null,null,null,null,null,{"$f":"IF('教育訓練費入力（前期）'!$C811=\"\",\"\",TEXT('教育訓練費入力（前期）'!$C811,\"yyyy年\")&TEXT('教育訓練費入力（前期）'!$C811,\"m月\")&TEXT('教育訓練費入力（前期）'!$C811,\"ｄ日\")&\"から\"&'教育訓練費入力（前期）'!$D811&\"日間\")","v":""},{"$f":"IF('教育訓練費入力（前期）'!$F811=\"\",\"\",IF('教育訓練費入力（前期）'!$G811=1,'教育訓練費入力（前期）'!$F811,'教育訓練費入力（前期）'!$F811&\"他\"&'教育訓練費入力（前期）'!$G811-1&\"名\"))","v":""}]
[null,803,null,null,null,null,null,null,null,null,{"$f":"IF('教育訓練費入力（前期）'!$C812=\"\",\"\",TEXT('教育訓練費入力（前期）'!$C812,\"yyyy年\")&TEXT('教育訓練費入力（前期）'!$C812,\"m月\")&TEXT('教育訓練費入力（前期）'!$C812,\"ｄ日\")&\"から\"&'教育訓練費入力（前期）'!$D812&\"日間\")","v":""},{"$f":"IF('教育訓練費入力（前期）'!$F812=\"\",\"\",IF('教育訓練費入力（前期）'!$G812=1,'教育訓練費入力（前期）'!$F812,'教育訓練費入力（前期）'!$F812&\"他\"&'教育訓練費入力（前期）'!$G812-1&\"名\"))","v":""}]
[null,804,null,null,null,null,null,null,null,null,{"$f":"IF('教育訓練費入力（前期）'!$C813=\"\",\"\",TEXT('教育訓練費入力（前期）'!$C813,\"yyyy年\")&TEXT('教育訓練費入力（前期）'!$C813,\"m月\")&TEXT('教育訓練費入力（前期）'!$C813,\"ｄ日\")&\"から\"&'教育訓練費入力（前期）'!$D813&\"日間\")","v":""},{"$f":"IF('教育訓練費入力（前期）'!$F813=\"\",\"\",IF('教育訓練費入力（前期）'!$G813=1,'教育訓練費入力（前期）'!$F813,'教育訓練費入力（前期）'!$F813&\"他\"&'教育訓練費入力（前期）'!$G813-1&\"名\"))","v":""}]
[null,805,null,null,null,null,null,null,null,null,{"$f":"IF('教育訓練費入力（前期）'!$C814=\"\",\"\",TEXT('教育訓練費入力（前期）'!$C814,\"yyyy年\")&TEXT('教育訓練費入力（前期）'!$C814,\"m月\")&TEXT('教育訓練費入力（前期）'!$C814,\"ｄ日\")&\"から\"&'教育訓練費入力（前期）'!$D814&\"日間\")","v":""},{"$f":"IF('教育訓練費入力（前期）'!$F814=\"\",\"\",IF('教育訓練費入力（前期）'!$G814=1,'教育訓練費入力（前期）'!$F814,'教育訓練費入力（前期）'!$F814&\"他\"&'教育訓練費入力（前期）'!$G814-1&\"名\"))","v":""}]
[null,806,null,null,null,null,null,null,null,null,{"$f":"IF('教育訓練費入力（前期）'!$C815=\"\",\"\",TEXT('教育訓練費入力（前期）'!$C815,\"yyyy年\")&TEXT('教育訓練費入力（前期）'!$C815,\"m月\")&TEXT('教育訓練費入力（前期）'!$C815,\"ｄ日\")&\"から\"&'教育訓練費入力（前期）'!$D815&\"日間\")","v":""},{"$f":"IF('教育訓練費入力（前期）'!$F815=\"\",\"\",IF('教育訓練費入力（前期）'!$G815=1,'教育訓練費入力（前期）'!$F815,'教育訓練費入力（前期）'!$F815&\"他\"&'教育訓練費入力（前期）'!$G815-1&\"名\"))","v":""}]
[null,807,null,null,null,null,null,null,null,null,{"$f":"IF('教育訓練費入力（前期）'!$C816=\"\",\"\",TEXT('教育訓練費入力（前期）'!$C816,\"yyyy年\")&TEXT('教育訓練費入力（前期）'!$C816,\"m月\")&TEXT('教育訓練費入力（前期）'!$C816,\"ｄ日\")&\"から\"&'教育訓練費入力（前期）'!$D816&\"日間\")","v":""},{"$f":"IF('教育訓練費入力（前期）'!$F816=\"\",\"\",IF('教育訓練費入力（前期）'!$G816=1,'教育訓練費入力（前期）'!$F816,'教育訓練費入力（前期）'!$F816&\"他\"&'教育訓練費入力（前期）'!$G816-1&\"名\"))","v":""}]
[null,808,null,null,null,null,null,null,null,null,{"$f":"IF('教育訓練費入力（前期）'!$C817=\"\",\"\",TEXT('教育訓練費入力（前期）'!$C817,\"yyyy年\")&TEXT('教育訓練費入力（前期）'!$C817,\"m月\")&TEXT('教育訓練費入力（前期）'!$C817,\"ｄ日\")&\"から\"&'教育訓練費入力（前期）'!$D817&\"日間\")","v":""},{"$f":"IF('教育訓練費入力（前期）'!$F817=\"\",\"\",IF('教育訓練費入力（前期）'!$G817=1,'教育訓練費入力（前期）'!$F817,'教育訓練費入力（前期）'!$F817&\"他\"&'教育訓練費入力（前期）'!$G817-1&\"名\"))","v":""}]
[null,809,null,null,null,null,null,null,null,null,{"$f":"IF('教育訓練費入力（前期）'!$C818=\"\",\"\",TEXT('教育訓練費入力（前期）'!$C818,\"yyyy年\")&TEXT('教育訓練費入力（前期）'!$C818,\"m月\")&TEXT('教育訓練費入力（前期）'!$C818,\"ｄ日\")&\"から\"&'教育訓練費入力（前期）'!$D818&\"日間\")","v":""},{"$f":"IF('教育訓練費入力（前期）'!$F818=\"\",\"\",IF('教育訓練費入力（前期）'!$G818=1,'教育訓練費入力（前期）'!$F818,'教育訓練費入力（前期）'!$F818&\"他\"&'教育訓練費入力（前期）'!$G818-1&\"名\"))","v":""}]
[null,810,null,null,null,null,null,null,null,null,{"$f":"IF('教育訓練費入力（前期）'!$C819=\"\",\"\",TEXT('教育訓練費入力（前期）'!$C819,\"yyyy年\")&TEXT('教育訓練費入力（前期）'!$C819,\"m月\")&TEXT('教育訓練費入力（前期）'!$C819,\"ｄ日\")&\"から\"&'教育訓練費入力（前期）'!$D819&\"日間\")","v":""},{"$f":"IF('教育訓練費入力（前期）'!$F819=\"\",\"\",IF('教育訓練費入力（前期）'!$G819=1,'教育訓練費入力（前期）'!$F819,'教育訓練費入力（前期）'!$F819&\"他\"&'教育訓練費入力（前期）'!$G819-1&\"名\"))","v":""}]
[null,811,null,null,null,null,null,null,null,null,{"$f":"IF('教育訓練費入力（前期）'!$C820=\"\",\"\",TEXT('教育訓練費入力（前期）'!$C820,\"yyyy年\")&TEXT('教育訓練費入力（前期）'!$C820,\"m月\")&TEXT('教育訓練費入力（前期）'!$C820,\"ｄ日\")&\"から\"&'教育訓練費入力（前期）'!$D820&\"日間\")","v":""},{"$f":"IF('教育訓練費入力（前期）'!$F820=\"\",\"\",IF('教育訓練費入力（前期）'!$G820=1,'教育訓練費入力（前期）'!$F820,'教育訓練費入力（前期）'!$F820&\"他\"&'教育訓練費入力（前期）'!$G820-1&\"名\"))","v":""}]
[null,812,null,null,null,null,null,null,null,null,{"$f":"IF('教育訓練費入力（前期）'!$C821=\"\",\"\",TEXT('教育訓練費入力（前期）'!$C821,\"yyyy年\")&TEXT('教育訓練費入力（前期）'!$C821,\"m月\")&TEXT('教育訓練費入力（前期）'!$C821,\"ｄ日\")&\"から\"&'教育訓練費入力（前期）'!$D821&\"日間\")","v":""},{"$f":"IF('教育訓練費入力（前期）'!$F821=\"\",\"\",IF('教育訓練費入力（前期）'!$G821=1,'教育訓練費入力（前期）'!$F821,'教育訓練費入力（前期）'!$F821&\"他\"&'教育訓練費入力（前期）'!$G821-1&\"名\"))","v":""}]
[null,813,null,null,null,null,null,null,null,null,{"$f":"IF('教育訓練費入力（前期）'!$C822=\"\",\"\",TEXT('教育訓練費入力（前期）'!$C822,\"yyyy年\")&TEXT('教育訓練費入力（前期）'!$C822,\"m月\")&TEXT('教育訓練費入力（前期）'!$C822,\"ｄ日\")&\"から\"&'教育訓練費入力（前期）'!$D822&\"日間\")","v":""},{"$f":"IF('教育訓練費入力（前期）'!$F822=\"\",\"\",IF('教育訓練費入力（前期）'!$G822=1,'教育訓練費入力（前期）'!$F822,'教育訓練費入力（前期）'!$F822&\"他\"&'教育訓練費入力（前期）'!$G822-1&\"名\"))","v":""}]
[null,814,null,null,null,null,null,null,null,null,{"$f":"IF('教育訓練費入力（前期）'!$C823=\"\",\"\",TEXT('教育訓練費入力（前期）'!$C823,\"yyyy年\")&TEXT('教育訓練費入力（前期）'!$C823,\"m月\")&TEXT('教育訓練費入力（前期）'!$C823,\"ｄ日\")&\"から\"&'教育訓練費入力（前期）'!$D823&\"日間\")","v":""},{"$f":"IF('教育訓練費入力（前期）'!$F823=\"\",\"\",IF('教育訓練費入力（前期）'!$G823=1,'教育訓練費入力（前期）'!$F823,'教育訓練費入力（前期）'!$F823&\"他\"&'教育訓練費入力（前期）'!$G823-1&\"名\"))","v":""}]
[null,815,null,null,null,null,null,null,null,null,{"$f":"IF('教育訓練費入力（前期）'!$C824=\"\",\"\",TEXT('教育訓練費入力（前期）'!$C824,\"yyyy年\")&TEXT('教育訓練費入力（前期）'!$C824,\"m月\")&TEXT('教育訓練費入力（前期）'!$C824,\"ｄ日\")&\"から\"&'教育訓練費入力（前期）'!$D824&\"日間\")","v":""},{"$f":"IF('教育訓練費入力（前期）'!$F824=\"\",\"\",IF('教育訓練費入力（前期）'!$G824=1,'教育訓練費入力（前期）'!$F824,'教育訓練費入力（前期）'!$F824&\"他\"&'教育訓練費入力（前期）'!$G824-1&\"名\"))","v":""}]
[null,816,null,null,null,null,null,null,null,null,{"$f":"IF('教育訓練費入力（前期）'!$C825=\"\",\"\",TEXT('教育訓練費入力（前期）'!$C825,\"yyyy年\")&TEXT('教育訓練費入力（前期）'!$C825,\"m月\")&TEXT('教育訓練費入力（前期）'!$C825,\"ｄ日\")&\"から\"&'教育訓練費入力（前期）'!$D825&\"日間\")","v":""},{"$f":"IF('教育訓練費入力（前期）'!$F825=\"\",\"\",IF('教育訓練費入力（前期）'!$G825=1,'教育訓練費入力（前期）'!$F825,'教育訓練費入力（前期）'!$F825&\"他\"&'教育訓練費入力（前期）'!$G825-1&\"名\"))","v":""}]
[null,817,null,null,null,null,null,null,null,null,{"$f":"IF('教育訓練費入力（前期）'!$C826=\"\",\"\",TEXT('教育訓練費入力（前期）'!$C826,\"yyyy年\")&TEXT('教育訓練費入力（前期）'!$C826,\"m月\")&TEXT('教育訓練費入力（前期）'!$C826,\"ｄ日\")&\"から\"&'教育訓練費入力（前期）'!$D826&\"日間\")","v":""},{"$f":"IF('教育訓練費入力（前期）'!$F826=\"\",\"\",IF('教育訓練費入力（前期）'!$G826=1,'教育訓練費入力（前期）'!$F826,'教育訓練費入力（前期）'!$F826&\"他\"&'教育訓練費入力（前期）'!$G826-1&\"名\"))","v":""}]
[null,818,null,null,null,null,null,null,null,null,{"$f":"IF('教育訓練費入力（前期）'!$C827=\"\",\"\",TEXT('教育訓練費入力（前期）'!$C827,\"yyyy年\")&TEXT('教育訓練費入力（前期）'!$C827,\"m月\")&TEXT('教育訓練費入力（前期）'!$C827,\"ｄ日\")&\"から\"&'教育訓練費入力（前期）'!$D827&\"日間\")","v":""},{"$f":"IF('教育訓練費入力（前期）'!$F827=\"\",\"\",IF('教育訓練費入力（前期）'!$G827=1,'教育訓練費入力（前期）'!$F827,'教育訓練費入力（前期）'!$F827&\"他\"&'教育訓練費入力（前期）'!$G827-1&\"名\"))","v":""}]
[null,819,null,null,null,null,null,null,null,null,{"$f":"IF('教育訓練費入力（前期）'!$C828=\"\",\"\",TEXT('教育訓練費入力（前期）'!$C828,\"yyyy年\")&TEXT('教育訓練費入力（前期）'!$C828,\"m月\")&TEXT('教育訓練費入力（前期）'!$C828,\"ｄ日\")&\"から\"&'教育訓練費入力（前期）'!$D828&\"日間\")","v":""},{"$f":"IF('教育訓練費入力（前期）'!$F828=\"\",\"\",IF('教育訓練費入力（前期）'!$G828=1,'教育訓練費入力（前期）'!$F828,'教育訓練費入力（前期）'!$F828&\"他\"&'教育訓練費入力（前期）'!$G828-1&\"名\"))","v":""}]
[null,820,null,null,null,null,null,null,null,null,{"$f":"IF('教育訓練費入力（前期）'!$C829=\"\",\"\",TEXT('教育訓練費入力（前期）'!$C829,\"yyyy年\")&TEXT('教育訓練費入力（前期）'!$C829,\"m月\")&TEXT('教育訓練費入力（前期）'!$C829,\"ｄ日\")&\"から\"&'教育訓練費入力（前期）'!$D829&\"日間\")","v":""},{"$f":"IF('教育訓練費入力（前期）'!$F829=\"\",\"\",IF('教育訓練費入力（前期）'!$G829=1,'教育訓練費入力（前期）'!$F829,'教育訓練費入力（前期）'!$F829&\"他\"&'教育訓練費入力（前期）'!$G829-1&\"名\"))","v":""}]
[null,821,null,null,null,null,null,null,null,null,{"$f":"IF('教育訓練費入力（前期）'!$C830=\"\",\"\",TEXT('教育訓練費入力（前期）'!$C830,\"yyyy年\")&TEXT('教育訓練費入力（前期）'!$C830,\"m月\")&TEXT('教育訓練費入力（前期）'!$C830,\"ｄ日\")&\"から\"&'教育訓練費入力（前期）'!$D830&\"日間\")","v":""},{"$f":"IF('教育訓練費入力（前期）'!$F830=\"\",\"\",IF('教育訓練費入力（前期）'!$G830=1,'教育訓練費入力（前期）'!$F830,'教育訓練費入力（前期）'!$F830&\"他\"&'教育訓練費入力（前期）'!$G830-1&\"名\"))","v":""}]
[null,822,null,null,null,null,null,null,null,null,{"$f":"IF('教育訓練費入力（前期）'!$C831=\"\",\"\",TEXT('教育訓練費入力（前期）'!$C831,\"yyyy年\")&TEXT('教育訓練費入力（前期）'!$C831,\"m月\")&TEXT('教育訓練費入力（前期）'!$C831,\"ｄ日\")&\"から\"&'教育訓練費入力（前期）'!$D831&\"日間\")","v":""},{"$f":"IF('教育訓練費入力（前期）'!$F831=\"\",\"\",IF('教育訓練費入力（前期）'!$G831=1,'教育訓練費入力（前期）'!$F831,'教育訓練費入力（前期）'!$F831&\"他\"&'教育訓練費入力（前期）'!$G831-1&\"名\"))","v":""}]
[null,823,null,null,null,null,null,null,null,null,{"$f":"IF('教育訓練費入力（前期）'!$C832=\"\",\"\",TEXT('教育訓練費入力（前期）'!$C832,\"yyyy年\")&TEXT('教育訓練費入力（前期）'!$C832,\"m月\")&TEXT('教育訓練費入力（前期）'!$C832,\"ｄ日\")&\"から\"&'教育訓練費入力（前期）'!$D832&\"日間\")","v":""},{"$f":"IF('教育訓練費入力（前期）'!$F832=\"\",\"\",IF('教育訓練費入力（前期）'!$G832=1,'教育訓練費入力（前期）'!$F832,'教育訓練費入力（前期）'!$F832&\"他\"&'教育訓練費入力（前期）'!$G832-1&\"名\"))","v":""}]
[null,824,null,null,null,null,null,null,null,null,{"$f":"IF('教育訓練費入力（前期）'!$C833=\"\",\"\",TEXT('教育訓練費入力（前期）'!$C833,\"yyyy年\")&TEXT('教育訓練費入力（前期）'!$C833,\"m月\")&TEXT('教育訓練費入力（前期）'!$C833,\"ｄ日\")&\"から\"&'教育訓練費入力（前期）'!$D833&\"日間\")","v":""},{"$f":"IF('教育訓練費入力（前期）'!$F833=\"\",\"\",IF('教育訓練費入力（前期）'!$G833=1,'教育訓練費入力（前期）'!$F833,'教育訓練費入力（前期）'!$F833&\"他\"&'教育訓練費入力（前期）'!$G833-1&\"名\"))","v":""}]
[null,825,null,null,null,null,null,null,null,null,{"$f":"IF('教育訓練費入力（前期）'!$C834=\"\",\"\",TEXT('教育訓練費入力（前期）'!$C834,\"yyyy年\")&TEXT('教育訓練費入力（前期）'!$C834,\"m月\")&TEXT('教育訓練費入力（前期）'!$C834,\"ｄ日\")&\"から\"&'教育訓練費入力（前期）'!$D834&\"日間\")","v":""},{"$f":"IF('教育訓練費入力（前期）'!$F834=\"\",\"\",IF('教育訓練費入力（前期）'!$G834=1,'教育訓練費入力（前期）'!$F834,'教育訓練費入力（前期）'!$F834&\"他\"&'教育訓練費入力（前期）'!$G834-1&\"名\"))","v":""}]
[null,826,null,null,null,null,null,null,null,null,{"$f":"IF('教育訓練費入力（前期）'!$C835=\"\",\"\",TEXT('教育訓練費入力（前期）'!$C835,\"yyyy年\")&TEXT('教育訓練費入力（前期）'!$C835,\"m月\")&TEXT('教育訓練費入力（前期）'!$C835,\"ｄ日\")&\"から\"&'教育訓練費入力（前期）'!$D835&\"日間\")","v":""},{"$f":"IF('教育訓練費入力（前期）'!$F835=\"\",\"\",IF('教育訓練費入力（前期）'!$G835=1,'教育訓練費入力（前期）'!$F835,'教育訓練費入力（前期）'!$F835&\"他\"&'教育訓練費入力（前期）'!$G835-1&\"名\"))","v":""}]
[null,827,null,null,null,null,null,null,null,null,{"$f":"IF('教育訓練費入力（前期）'!$C836=\"\",\"\",TEXT('教育訓練費入力（前期）'!$C836,\"yyyy年\")&TEXT('教育訓練費入力（前期）'!$C836,\"m月\")&TEXT('教育訓練費入力（前期）'!$C836,\"ｄ日\")&\"から\"&'教育訓練費入力（前期）'!$D836&\"日間\")","v":""},{"$f":"IF('教育訓練費入力（前期）'!$F836=\"\",\"\",IF('教育訓練費入力（前期）'!$G836=1,'教育訓練費入力（前期）'!$F836,'教育訓練費入力（前期）'!$F836&\"他\"&'教育訓練費入力（前期）'!$G836-1&\"名\"))","v":""}]
[null,828,null,null,null,null,null,null,null,null,{"$f":"IF('教育訓練費入力（前期）'!$C837=\"\",\"\",TEXT('教育訓練費入力（前期）'!$C837,\"yyyy年\")&TEXT('教育訓練費入力（前期）'!$C837,\"m月\")&TEXT('教育訓練費入力（前期）'!$C837,\"ｄ日\")&\"から\"&'教育訓練費入力（前期）'!$D837&\"日間\")","v":""},{"$f":"IF('教育訓練費入力（前期）'!$F837=\"\",\"\",IF('教育訓練費入力（前期）'!$G837=1,'教育訓練費入力（前期）'!$F837,'教育訓練費入力（前期）'!$F837&\"他\"&'教育訓練費入力（前期）'!$G837-1&\"名\"))","v":""}]
[null,829,null,null,null,null,null,null,null,null,{"$f":"IF('教育訓練費入力（前期）'!$C838=\"\",\"\",TEXT('教育訓練費入力（前期）'!$C838,\"yyyy年\")&TEXT('教育訓練費入力（前期）'!$C838,\"m月\")&TEXT('教育訓練費入力（前期）'!$C838,\"ｄ日\")&\"から\"&'教育訓練費入力（前期）'!$D838&\"日間\")","v":""},{"$f":"IF('教育訓練費入力（前期）'!$F838=\"\",\"\",IF('教育訓練費入力（前期）'!$G838=1,'教育訓練費入力（前期）'!$F838,'教育訓練費入力（前期）'!$F838&\"他\"&'教育訓練費入力（前期）'!$G838-1&\"名\"))","v":""}]
[null,830,null,null,null,null,null,null,null,null,{"$f":"IF('教育訓練費入力（前期）'!$C839=\"\",\"\",TEXT('教育訓練費入力（前期）'!$C839,\"yyyy年\")&TEXT('教育訓練費入力（前期）'!$C839,\"m月\")&TEXT('教育訓練費入力（前期）'!$C839,\"ｄ日\")&\"から\"&'教育訓練費入力（前期）'!$D839&\"日間\")","v":""},{"$f":"IF('教育訓練費入力（前期）'!$F839=\"\",\"\",IF('教育訓練費入力（前期）'!$G839=1,'教育訓練費入力（前期）'!$F839,'教育訓練費入力（前期）'!$F839&\"他\"&'教育訓練費入力（前期）'!$G839-1&\"名\"))","v":""}]
[null,831,null,null,null,null,null,null,null,null,{"$f":"IF('教育訓練費入力（前期）'!$C840=\"\",\"\",TEXT('教育訓練費入力（前期）'!$C840,\"yyyy年\")&TEXT('教育訓練費入力（前期）'!$C840,\"m月\")&TEXT('教育訓練費入力（前期）'!$C840,\"ｄ日\")&\"から\"&'教育訓練費入力（前期）'!$D840&\"日間\")","v":""},{"$f":"IF('教育訓練費入力（前期）'!$F840=\"\",\"\",IF('教育訓練費入力（前期）'!$G840=1,'教育訓練費入力（前期）'!$F840,'教育訓練費入力（前期）'!$F840&\"他\"&'教育訓練費入力（前期）'!$G840-1&\"名\"))","v":""}]
[null,832,null,null,null,null,null,null,null,null,{"$f":"IF('教育訓練費入力（前期）'!$C841=\"\",\"\",TEXT('教育訓練費入力（前期）'!$C841,\"yyyy年\")&TEXT('教育訓練費入力（前期）'!$C841,\"m月\")&TEXT('教育訓練費入力（前期）'!$C841,\"ｄ日\")&\"から\"&'教育訓練費入力（前期）'!$D841&\"日間\")","v":""},{"$f":"IF('教育訓練費入力（前期）'!$F841=\"\",\"\",IF('教育訓練費入力（前期）'!$G841=1,'教育訓練費入力（前期）'!$F841,'教育訓練費入力（前期）'!$F841&\"他\"&'教育訓練費入力（前期）'!$G841-1&\"名\"))","v":""}]
[null,833,null,null,null,null,null,null,null,null,{"$f":"IF('教育訓練費入力（前期）'!$C842=\"\",\"\",TEXT('教育訓練費入力（前期）'!$C842,\"yyyy年\")&TEXT('教育訓練費入力（前期）'!$C842,\"m月\")&TEXT('教育訓練費入力（前期）'!$C842,\"ｄ日\")&\"から\"&'教育訓練費入力（前期）'!$D842&\"日間\")","v":""},{"$f":"IF('教育訓練費入力（前期）'!$F842=\"\",\"\",IF('教育訓練費入力（前期）'!$G842=1,'教育訓練費入力（前期）'!$F842,'教育訓練費入力（前期）'!$F842&\"他\"&'教育訓練費入力（前期）'!$G842-1&\"名\"))","v":""}]
[null,834,null,null,null,null,null,null,null,null,{"$f":"IF('教育訓練費入力（前期）'!$C843=\"\",\"\",TEXT('教育訓練費入力（前期）'!$C843,\"yyyy年\")&TEXT('教育訓練費入力（前期）'!$C843,\"m月\")&TEXT('教育訓練費入力（前期）'!$C843,\"ｄ日\")&\"から\"&'教育訓練費入力（前期）'!$D843&\"日間\")","v":""},{"$f":"IF('教育訓練費入力（前期）'!$F843=\"\",\"\",IF('教育訓練費入力（前期）'!$G843=1,'教育訓練費入力（前期）'!$F843,'教育訓練費入力（前期）'!$F843&\"他\"&'教育訓練費入力（前期）'!$G843-1&\"名\"))","v":""}]
[null,835,null,null,null,null,null,null,null,null,{"$f":"IF('教育訓練費入力（前期）'!$C844=\"\",\"\",TEXT('教育訓練費入力（前期）'!$C844,\"yyyy年\")&TEXT('教育訓練費入力（前期）'!$C844,\"m月\")&TEXT('教育訓練費入力（前期）'!$C844,\"ｄ日\")&\"から\"&'教育訓練費入力（前期）'!$D844&\"日間\")","v":""},{"$f":"IF('教育訓練費入力（前期）'!$F844=\"\",\"\",IF('教育訓練費入力（前期）'!$G844=1,'教育訓練費入力（前期）'!$F844,'教育訓練費入力（前期）'!$F844&\"他\"&'教育訓練費入力（前期）'!$G844-1&\"名\"))","v":""}]
[null,836,null,null,null,null,null,null,null,null,{"$f":"IF('教育訓練費入力（前期）'!$C845=\"\",\"\",TEXT('教育訓練費入力（前期）'!$C845,\"yyyy年\")&TEXT('教育訓練費入力（前期）'!$C845,\"m月\")&TEXT('教育訓練費入力（前期）'!$C845,\"ｄ日\")&\"から\"&'教育訓練費入力（前期）'!$D845&\"日間\")","v":""},{"$f":"IF('教育訓練費入力（前期）'!$F845=\"\",\"\",IF('教育訓練費入力（前期）'!$G845=1,'教育訓練費入力（前期）'!$F845,'教育訓練費入力（前期）'!$F845&\"他\"&'教育訓練費入力（前期）'!$G845-1&\"名\"))","v":""}]
[null,837,null,null,null,null,null,null,null,null,{"$f":"IF('教育訓練費入力（前期）'!$C846=\"\",\"\",TEXT('教育訓練費入力（前期）'!$C846,\"yyyy年\")&TEXT('教育訓練費入力（前期）'!$C846,\"m月\")&TEXT('教育訓練費入力（前期）'!$C846,\"ｄ日\")&\"から\"&'教育訓練費入力（前期）'!$D846&\"日間\")","v":""},{"$f":"IF('教育訓練費入力（前期）'!$F846=\"\",\"\",IF('教育訓練費入力（前期）'!$G846=1,'教育訓練費入力（前期）'!$F846,'教育訓練費入力（前期）'!$F846&\"他\"&'教育訓練費入力（前期）'!$G846-1&\"名\"))","v":""}]
[null,838,null,null,null,null,null,null,null,null,{"$f":"IF('教育訓練費入力（前期）'!$C847=\"\",\"\",TEXT('教育訓練費入力（前期）'!$C847,\"yyyy年\")&TEXT('教育訓練費入力（前期）'!$C847,\"m月\")&TEXT('教育訓練費入力（前期）'!$C847,\"ｄ日\")&\"から\"&'教育訓練費入力（前期）'!$D847&\"日間\")","v":""},{"$f":"IF('教育訓練費入力（前期）'!$F847=\"\",\"\",IF('教育訓練費入力（前期）'!$G847=1,'教育訓練費入力（前期）'!$F847,'教育訓練費入力（前期）'!$F847&\"他\"&'教育訓練費入力（前期）'!$G847-1&\"名\"))","v":""}]
[null,839,null,null,null,null,null,null,null,null,{"$f":"IF('教育訓練費入力（前期）'!$C848=\"\",\"\",TEXT('教育訓練費入力（前期）'!$C848,\"yyyy年\")&TEXT('教育訓練費入力（前期）'!$C848,\"m月\")&TEXT('教育訓練費入力（前期）'!$C848,\"ｄ日\")&\"から\"&'教育訓練費入力（前期）'!$D848&\"日間\")","v":""},{"$f":"IF('教育訓練費入力（前期）'!$F848=\"\",\"\",IF('教育訓練費入力（前期）'!$G848=1,'教育訓練費入力（前期）'!$F848,'教育訓練費入力（前期）'!$F848&\"他\"&'教育訓練費入力（前期）'!$G848-1&\"名\"))","v":""}]
[null,840,null,null,null,null,null,null,null,null,{"$f":"IF('教育訓練費入力（前期）'!$C849=\"\",\"\",TEXT('教育訓練費入力（前期）'!$C849,\"yyyy年\")&TEXT('教育訓練費入力（前期）'!$C849,\"m月\")&TEXT('教育訓練費入力（前期）'!$C849,\"ｄ日\")&\"から\"&'教育訓練費入力（前期）'!$D849&\"日間\")","v":""},{"$f":"IF('教育訓練費入力（前期）'!$F849=\"\",\"\",IF('教育訓練費入力（前期）'!$G849=1,'教育訓練費入力（前期）'!$F849,'教育訓練費入力（前期）'!$F849&\"他\"&'教育訓練費入力（前期）'!$G849-1&\"名\"))","v":""}]
[null,841,null,null,null,null,null,null,null,null,{"$f":"IF('教育訓練費入力（前期）'!$C850=\"\",\"\",TEXT('教育訓練費入力（前期）'!$C850,\"yyyy年\")&TEXT('教育訓練費入力（前期）'!$C850,\"m月\")&TEXT('教育訓練費入力（前期）'!$C850,\"ｄ日\")&\"から\"&'教育訓練費入力（前期）'!$D850&\"日間\")","v":""},{"$f":"IF('教育訓練費入力（前期）'!$F850=\"\",\"\",IF('教育訓練費入力（前期）'!$G850=1,'教育訓練費入力（前期）'!$F850,'教育訓練費入力（前期）'!$F850&\"他\"&'教育訓練費入力（前期）'!$G850-1&\"名\"))","v":""}]
[null,842,null,null,null,null,null,null,null,null,{"$f":"IF('教育訓練費入力（前期）'!$C851=\"\",\"\",TEXT('教育訓練費入力（前期）'!$C851,\"yyyy年\")&TEXT('教育訓練費入力（前期）'!$C851,\"m月\")&TEXT('教育訓練費入力（前期）'!$C851,\"ｄ日\")&\"から\"&'教育訓練費入力（前期）'!$D851&\"日間\")","v":""},{"$f":"IF('教育訓練費入力（前期）'!$F851=\"\",\"\",IF('教育訓練費入力（前期）'!$G851=1,'教育訓練費入力（前期）'!$F851,'教育訓練費入力（前期）'!$F851&\"他\"&'教育訓練費入力（前期）'!$G851-1&\"名\"))","v":""}]
[null,843,null,null,null,null,null,null,null,null,{"$f":"IF('教育訓練費入力（前期）'!$C852=\"\",\"\",TEXT('教育訓練費入力（前期）'!$C852,\"yyyy年\")&TEXT('教育訓練費入力（前期）'!$C852,\"m月\")&TEXT('教育訓練費入力（前期）'!$C852,\"ｄ日\")&\"から\"&'教育訓練費入力（前期）'!$D852&\"日間\")","v":""},{"$f":"IF('教育訓練費入力（前期）'!$F852=\"\",\"\",IF('教育訓練費入力（前期）'!$G852=1,'教育訓練費入力（前期）'!$F852,'教育訓練費入力（前期）'!$F852&\"他\"&'教育訓練費入力（前期）'!$G852-1&\"名\"))","v":""}]
[null,844,null,null,null,null,null,null,null,null,{"$f":"IF('教育訓練費入力（前期）'!$C853=\"\",\"\",TEXT('教育訓練費入力（前期）'!$C853,\"yyyy年\")&TEXT('教育訓練費入力（前期）'!$C853,\"m月\")&TEXT('教育訓練費入力（前期）'!$C853,\"ｄ日\")&\"から\"&'教育訓練費入力（前期）'!$D853&\"日間\")","v":""},{"$f":"IF('教育訓練費入力（前期）'!$F853=\"\",\"\",IF('教育訓練費入力（前期）'!$G853=1,'教育訓練費入力（前期）'!$F853,'教育訓練費入力（前期）'!$F853&\"他\"&'教育訓練費入力（前期）'!$G853-1&\"名\"))","v":""}]
[null,845,null,null,null,null,null,null,null,null,{"$f":"IF('教育訓練費入力（前期）'!$C854=\"\",\"\",TEXT('教育訓練費入力（前期）'!$C854,\"yyyy年\")&TEXT('教育訓練費入力（前期）'!$C854,\"m月\")&TEXT('教育訓練費入力（前期）'!$C854,\"ｄ日\")&\"から\"&'教育訓練費入力（前期）'!$D854&\"日間\")","v":""},{"$f":"IF('教育訓練費入力（前期）'!$F854=\"\",\"\",IF('教育訓練費入力（前期）'!$G854=1,'教育訓練費入力（前期）'!$F854,'教育訓練費入力（前期）'!$F854&\"他\"&'教育訓練費入力（前期）'!$G854-1&\"名\"))","v":""}]
[null,846,null,null,null,null,null,null,null,null,{"$f":"IF('教育訓練費入力（前期）'!$C855=\"\",\"\",TEXT('教育訓練費入力（前期）'!$C855,\"yyyy年\")&TEXT('教育訓練費入力（前期）'!$C855,\"m月\")&TEXT('教育訓練費入力（前期）'!$C855,\"ｄ日\")&\"から\"&'教育訓練費入力（前期）'!$D855&\"日間\")","v":""},{"$f":"IF('教育訓練費入力（前期）'!$F855=\"\",\"\",IF('教育訓練費入力（前期）'!$G855=1,'教育訓練費入力（前期）'!$F855,'教育訓練費入力（前期）'!$F855&\"他\"&'教育訓練費入力（前期）'!$G855-1&\"名\"))","v":""}]
[null,847,null,null,null,null,null,null,null,null,{"$f":"IF('教育訓練費入力（前期）'!$C856=\"\",\"\",TEXT('教育訓練費入力（前期）'!$C856,\"yyyy年\")&TEXT('教育訓練費入力（前期）'!$C856,\"m月\")&TEXT('教育訓練費入力（前期）'!$C856,\"ｄ日\")&\"から\"&'教育訓練費入力（前期）'!$D856&\"日間\")","v":""},{"$f":"IF('教育訓練費入力（前期）'!$F856=\"\",\"\",IF('教育訓練費入力（前期）'!$G856=1,'教育訓練費入力（前期）'!$F856,'教育訓練費入力（前期）'!$F856&\"他\"&'教育訓練費入力（前期）'!$G856-1&\"名\"))","v":""}]
[null,848,null,null,null,null,null,null,null,null,{"$f":"IF('教育訓練費入力（前期）'!$C857=\"\",\"\",TEXT('教育訓練費入力（前期）'!$C857,\"yyyy年\")&TEXT('教育訓練費入力（前期）'!$C857,\"m月\")&TEXT('教育訓練費入力（前期）'!$C857,\"ｄ日\")&\"から\"&'教育訓練費入力（前期）'!$D857&\"日間\")","v":""},{"$f":"IF('教育訓練費入力（前期）'!$F857=\"\",\"\",IF('教育訓練費入力（前期）'!$G857=1,'教育訓練費入力（前期）'!$F857,'教育訓練費入力（前期）'!$F857&\"他\"&'教育訓練費入力（前期）'!$G857-1&\"名\"))","v":""}]
[null,849,null,null,null,null,null,null,null,null,{"$f":"IF('教育訓練費入力（前期）'!$C858=\"\",\"\",TEXT('教育訓練費入力（前期）'!$C858,\"yyyy年\")&TEXT('教育訓練費入力（前期）'!$C858,\"m月\")&TEXT('教育訓練費入力（前期）'!$C858,\"ｄ日\")&\"から\"&'教育訓練費入力（前期）'!$D858&\"日間\")","v":""},{"$f":"IF('教育訓練費入力（前期）'!$F858=\"\",\"\",IF('教育訓練費入力（前期）'!$G858=1,'教育訓練費入力（前期）'!$F858,'教育訓練費入力（前期）'!$F858&\"他\"&'教育訓練費入力（前期）'!$G858-1&\"名\"))","v":""}]
[null,850,null,null,null,null,null,null,null,null,{"$f":"IF('教育訓練費入力（前期）'!$C859=\"\",\"\",TEXT('教育訓練費入力（前期）'!$C859,\"yyyy年\")&TEXT('教育訓練費入力（前期）'!$C859,\"m月\")&TEXT('教育訓練費入力（前期）'!$C859,\"ｄ日\")&\"から\"&'教育訓練費入力（前期）'!$D859&\"日間\")","v":""},{"$f":"IF('教育訓練費入力（前期）'!$F859=\"\",\"\",IF('教育訓練費入力（前期）'!$G859=1,'教育訓練費入力（前期）'!$F859,'教育訓練費入力（前期）'!$F859&\"他\"&'教育訓練費入力（前期）'!$G859-1&\"名\"))","v":""}]
[null,851,null,null,null,null,null,null,null,null,{"$f":"IF('教育訓練費入力（前期）'!$C860=\"\",\"\",TEXT('教育訓練費入力（前期）'!$C860,\"yyyy年\")&TEXT('教育訓練費入力（前期）'!$C860,\"m月\")&TEXT('教育訓練費入力（前期）'!$C860,\"ｄ日\")&\"から\"&'教育訓練費入力（前期）'!$D860&\"日間\")","v":""},{"$f":"IF('教育訓練費入力（前期）'!$F860=\"\",\"\",IF('教育訓練費入力（前期）'!$G860=1,'教育訓練費入力（前期）'!$F860,'教育訓練費入力（前期）'!$F860&\"他\"&'教育訓練費入力（前期）'!$G860-1&\"名\"))","v":""}]
[null,852,null,null,null,null,null,null,null,null,{"$f":"IF('教育訓練費入力（前期）'!$C861=\"\",\"\",TEXT('教育訓練費入力（前期）'!$C861,\"yyyy年\")&TEXT('教育訓練費入力（前期）'!$C861,\"m月\")&TEXT('教育訓練費入力（前期）'!$C861,\"ｄ日\")&\"から\"&'教育訓練費入力（前期）'!$D861&\"日間\")","v":""},{"$f":"IF('教育訓練費入力（前期）'!$F861=\"\",\"\",IF('教育訓練費入力（前期）'!$G861=1,'教育訓練費入力（前期）'!$F861,'教育訓練費入力（前期）'!$F861&\"他\"&'教育訓練費入力（前期）'!$G861-1&\"名\"))","v":""}]
[null,853,null,null,null,null,null,null,null,null,{"$f":"IF('教育訓練費入力（前期）'!$C862=\"\",\"\",TEXT('教育訓練費入力（前期）'!$C862,\"yyyy年\")&TEXT('教育訓練費入力（前期）'!$C862,\"m月\")&TEXT('教育訓練費入力（前期）'!$C862,\"ｄ日\")&\"から\"&'教育訓練費入力（前期）'!$D862&\"日間\")","v":""},{"$f":"IF('教育訓練費入力（前期）'!$F862=\"\",\"\",IF('教育訓練費入力（前期）'!$G862=1,'教育訓練費入力（前期）'!$F862,'教育訓練費入力（前期）'!$F862&\"他\"&'教育訓練費入力（前期）'!$G862-1&\"名\"))","v":""}]
[null,854,null,null,null,null,null,null,null,null,{"$f":"IF('教育訓練費入力（前期）'!$C863=\"\",\"\",TEXT('教育訓練費入力（前期）'!$C863,\"yyyy年\")&TEXT('教育訓練費入力（前期）'!$C863,\"m月\")&TEXT('教育訓練費入力（前期）'!$C863,\"ｄ日\")&\"から\"&'教育訓練費入力（前期）'!$D863&\"日間\")","v":""},{"$f":"IF('教育訓練費入力（前期）'!$F863=\"\",\"\",IF('教育訓練費入力（前期）'!$G863=1,'教育訓練費入力（前期）'!$F863,'教育訓練費入力（前期）'!$F863&\"他\"&'教育訓練費入力（前期）'!$G863-1&\"名\"))","v":""}]
[null,855,null,null,null,null,null,null,null,null,{"$f":"IF('教育訓練費入力（前期）'!$C864=\"\",\"\",TEXT('教育訓練費入力（前期）'!$C864,\"yyyy年\")&TEXT('教育訓練費入力（前期）'!$C864,\"m月\")&TEXT('教育訓練費入力（前期）'!$C864,\"ｄ日\")&\"から\"&'教育訓練費入力（前期）'!$D864&\"日間\")","v":""},{"$f":"IF('教育訓練費入力（前期）'!$F864=\"\",\"\",IF('教育訓練費入力（前期）'!$G864=1,'教育訓練費入力（前期）'!$F864,'教育訓練費入力（前期）'!$F864&\"他\"&'教育訓練費入力（前期）'!$G864-1&\"名\"))","v":""}]
[null,856,null,null,null,null,null,null,null,null,{"$f":"IF('教育訓練費入力（前期）'!$C865=\"\",\"\",TEXT('教育訓練費入力（前期）'!$C865,\"yyyy年\")&TEXT('教育訓練費入力（前期）'!$C865,\"m月\")&TEXT('教育訓練費入力（前期）'!$C865,\"ｄ日\")&\"から\"&'教育訓練費入力（前期）'!$D865&\"日間\")","v":""},{"$f":"IF('教育訓練費入力（前期）'!$F865=\"\",\"\",IF('教育訓練費入力（前期）'!$G865=1,'教育訓練費入力（前期）'!$F865,'教育訓練費入力（前期）'!$F865&\"他\"&'教育訓練費入力（前期）'!$G865-1&\"名\"))","v":""}]
[null,857,null,null,null,null,null,null,null,null,{"$f":"IF('教育訓練費入力（前期）'!$C866=\"\",\"\",TEXT('教育訓練費入力（前期）'!$C866,\"yyyy年\")&TEXT('教育訓練費入力（前期）'!$C866,\"m月\")&TEXT('教育訓練費入力（前期）'!$C866,\"ｄ日\")&\"から\"&'教育訓練費入力（前期）'!$D866&\"日間\")","v":""},{"$f":"IF('教育訓練費入力（前期）'!$F866=\"\",\"\",IF('教育訓練費入力（前期）'!$G866=1,'教育訓練費入力（前期）'!$F866,'教育訓練費入力（前期）'!$F866&\"他\"&'教育訓練費入力（前期）'!$G866-1&\"名\"))","v":""}]
[null,858,null,null,null,null,null,null,null,null,{"$f":"IF('教育訓練費入力（前期）'!$C867=\"\",\"\",TEXT('教育訓練費入力（前期）'!$C867,\"yyyy年\")&TEXT('教育訓練費入力（前期）'!$C867,\"m月\")&TEXT('教育訓練費入力（前期）'!$C867,\"ｄ日\")&\"から\"&'教育訓練費入力（前期）'!$D867&\"日間\")","v":""},{"$f":"IF('教育訓練費入力（前期）'!$F867=\"\",\"\",IF('教育訓練費入力（前期）'!$G867=1,'教育訓練費入力（前期）'!$F867,'教育訓練費入力（前期）'!$F867&\"他\"&'教育訓練費入力（前期）'!$G867-1&\"名\"))","v":""}]
[null,859,null,null,null,null,null,null,null,null,{"$f":"IF('教育訓練費入力（前期）'!$C868=\"\",\"\",TEXT('教育訓練費入力（前期）'!$C868,\"yyyy年\")&TEXT('教育訓練費入力（前期）'!$C868,\"m月\")&TEXT('教育訓練費入力（前期）'!$C868,\"ｄ日\")&\"から\"&'教育訓練費入力（前期）'!$D868&\"日間\")","v":""},{"$f":"IF('教育訓練費入力（前期）'!$F868=\"\",\"\",IF('教育訓練費入力（前期）'!$G868=1,'教育訓練費入力（前期）'!$F868,'教育訓練費入力（前期）'!$F868&\"他\"&'教育訓練費入力（前期）'!$G868-1&\"名\"))","v":""}]
[null,860,null,null,null,null,null,null,null,null,{"$f":"IF('教育訓練費入力（前期）'!$C869=\"\",\"\",TEXT('教育訓練費入力（前期）'!$C869,\"yyyy年\")&TEXT('教育訓練費入力（前期）'!$C869,\"m月\")&TEXT('教育訓練費入力（前期）'!$C869,\"ｄ日\")&\"から\"&'教育訓練費入力（前期）'!$D869&\"日間\")","v":""},{"$f":"IF('教育訓練費入力（前期）'!$F869=\"\",\"\",IF('教育訓練費入力（前期）'!$G869=1,'教育訓練費入力（前期）'!$F869,'教育訓練費入力（前期）'!$F869&\"他\"&'教育訓練費入力（前期）'!$G869-1&\"名\"))","v":""}]
[null,861,null,null,null,null,null,null,null,null,{"$f":"IF('教育訓練費入力（前期）'!$C870=\"\",\"\",TEXT('教育訓練費入力（前期）'!$C870,\"yyyy年\")&TEXT('教育訓練費入力（前期）'!$C870,\"m月\")&TEXT('教育訓練費入力（前期）'!$C870,\"ｄ日\")&\"から\"&'教育訓練費入力（前期）'!$D870&\"日間\")","v":""},{"$f":"IF('教育訓練費入力（前期）'!$F870=\"\",\"\",IF('教育訓練費入力（前期）'!$G870=1,'教育訓練費入力（前期）'!$F870,'教育訓練費入力（前期）'!$F870&\"他\"&'教育訓練費入力（前期）'!$G870-1&\"名\"))","v":""}]
[null,862,null,null,null,null,null,null,null,null,{"$f":"IF('教育訓練費入力（前期）'!$C871=\"\",\"\",TEXT('教育訓練費入力（前期）'!$C871,\"yyyy年\")&TEXT('教育訓練費入力（前期）'!$C871,\"m月\")&TEXT('教育訓練費入力（前期）'!$C871,\"ｄ日\")&\"から\"&'教育訓練費入力（前期）'!$D871&\"日間\")","v":""},{"$f":"IF('教育訓練費入力（前期）'!$F871=\"\",\"\",IF('教育訓練費入力（前期）'!$G871=1,'教育訓練費入力（前期）'!$F871,'教育訓練費入力（前期）'!$F871&\"他\"&'教育訓練費入力（前期）'!$G871-1&\"名\"))","v":""}]
[null,863,null,null,null,null,null,null,null,null,{"$f":"IF('教育訓練費入力（前期）'!$C872=\"\",\"\",TEXT('教育訓練費入力（前期）'!$C872,\"yyyy年\")&TEXT('教育訓練費入力（前期）'!$C872,\"m月\")&TEXT('教育訓練費入力（前期）'!$C872,\"ｄ日\")&\"から\"&'教育訓練費入力（前期）'!$D872&\"日間\")","v":""},{"$f":"IF('教育訓練費入力（前期）'!$F872=\"\",\"\",IF('教育訓練費入力（前期）'!$G872=1,'教育訓練費入力（前期）'!$F872,'教育訓練費入力（前期）'!$F872&\"他\"&'教育訓練費入力（前期）'!$G872-1&\"名\"))","v":""}]
[null,864,null,null,null,null,null,null,null,null,{"$f":"IF('教育訓練費入力（前期）'!$C873=\"\",\"\",TEXT('教育訓練費入力（前期）'!$C873,\"yyyy年\")&TEXT('教育訓練費入力（前期）'!$C873,\"m月\")&TEXT('教育訓練費入力（前期）'!$C873,\"ｄ日\")&\"から\"&'教育訓練費入力（前期）'!$D873&\"日間\")","v":""},{"$f":"IF('教育訓練費入力（前期）'!$F873=\"\",\"\",IF('教育訓練費入力（前期）'!$G873=1,'教育訓練費入力（前期）'!$F873,'教育訓練費入力（前期）'!$F873&\"他\"&'教育訓練費入力（前期）'!$G873-1&\"名\"))","v":""}]
[null,865,null,null,null,null,null,null,null,null,{"$f":"IF('教育訓練費入力（前期）'!$C874=\"\",\"\",TEXT('教育訓練費入力（前期）'!$C874,\"yyyy年\")&TEXT('教育訓練費入力（前期）'!$C874,\"m月\")&TEXT('教育訓練費入力（前期）'!$C874,\"ｄ日\")&\"から\"&'教育訓練費入力（前期）'!$D874&\"日間\")","v":""},{"$f":"IF('教育訓練費入力（前期）'!$F874=\"\",\"\",IF('教育訓練費入力（前期）'!$G874=1,'教育訓練費入力（前期）'!$F874,'教育訓練費入力（前期）'!$F874&\"他\"&'教育訓練費入力（前期）'!$G874-1&\"名\"))","v":""}]
[null,866,null,null,null,null,null,null,null,null,{"$f":"IF('教育訓練費入力（前期）'!$C875=\"\",\"\",TEXT('教育訓練費入力（前期）'!$C875,\"yyyy年\")&TEXT('教育訓練費入力（前期）'!$C875,\"m月\")&TEXT('教育訓練費入力（前期）'!$C875,\"ｄ日\")&\"から\"&'教育訓練費入力（前期）'!$D875&\"日間\")","v":""},{"$f":"IF('教育訓練費入力（前期）'!$F875=\"\",\"\",IF('教育訓練費入力（前期）'!$G875=1,'教育訓練費入力（前期）'!$F875,'教育訓練費入力（前期）'!$F875&\"他\"&'教育訓練費入力（前期）'!$G875-1&\"名\"))","v":""}]
[null,867,null,null,null,null,null,null,null,null,{"$f":"IF('教育訓練費入力（前期）'!$C876=\"\",\"\",TEXT('教育訓練費入力（前期）'!$C876,\"yyyy年\")&TEXT('教育訓練費入力（前期）'!$C876,\"m月\")&TEXT('教育訓練費入力（前期）'!$C876,\"ｄ日\")&\"から\"&'教育訓練費入力（前期）'!$D876&\"日間\")","v":""},{"$f":"IF('教育訓練費入力（前期）'!$F876=\"\",\"\",IF('教育訓練費入力（前期）'!$G876=1,'教育訓練費入力（前期）'!$F876,'教育訓練費入力（前期）'!$F876&\"他\"&'教育訓練費入力（前期）'!$G876-1&\"名\"))","v":""}]
[null,868,null,null,null,null,null,null,null,null,{"$f":"IF('教育訓練費入力（前期）'!$C877=\"\",\"\",TEXT('教育訓練費入力（前期）'!$C877,\"yyyy年\")&TEXT('教育訓練費入力（前期）'!$C877,\"m月\")&TEXT('教育訓練費入力（前期）'!$C877,\"ｄ日\")&\"から\"&'教育訓練費入力（前期）'!$D877&\"日間\")","v":""},{"$f":"IF('教育訓練費入力（前期）'!$F877=\"\",\"\",IF('教育訓練費入力（前期）'!$G877=1,'教育訓練費入力（前期）'!$F877,'教育訓練費入力（前期）'!$F877&\"他\"&'教育訓練費入力（前期）'!$G877-1&\"名\"))","v":""}]
[null,869,null,null,null,null,null,null,null,null,{"$f":"IF('教育訓練費入力（前期）'!$C878=\"\",\"\",TEXT('教育訓練費入力（前期）'!$C878,\"yyyy年\")&TEXT('教育訓練費入力（前期）'!$C878,\"m月\")&TEXT('教育訓練費入力（前期）'!$C878,\"ｄ日\")&\"から\"&'教育訓練費入力（前期）'!$D878&\"日間\")","v":""},{"$f":"IF('教育訓練費入力（前期）'!$F878=\"\",\"\",IF('教育訓練費入力（前期）'!$G878=1,'教育訓練費入力（前期）'!$F878,'教育訓練費入力（前期）'!$F878&\"他\"&'教育訓練費入力（前期）'!$G878-1&\"名\"))","v":""}]
[null,870,null,null,null,null,null,null,null,null,{"$f":"IF('教育訓練費入力（前期）'!$C879=\"\",\"\",TEXT('教育訓練費入力（前期）'!$C879,\"yyyy年\")&TEXT('教育訓練費入力（前期）'!$C879,\"m月\")&TEXT('教育訓練費入力（前期）'!$C879,\"ｄ日\")&\"から\"&'教育訓練費入力（前期）'!$D879&\"日間\")","v":""},{"$f":"IF('教育訓練費入力（前期）'!$F879=\"\",\"\",IF('教育訓練費入力（前期）'!$G879=1,'教育訓練費入力（前期）'!$F879,'教育訓練費入力（前期）'!$F879&\"他\"&'教育訓練費入力（前期）'!$G879-1&\"名\"))","v":""}]
[null,871,null,null,null,null,null,null,null,null,{"$f":"IF('教育訓練費入力（前期）'!$C880=\"\",\"\",TEXT('教育訓練費入力（前期）'!$C880,\"yyyy年\")&TEXT('教育訓練費入力（前期）'!$C880,\"m月\")&TEXT('教育訓練費入力（前期）'!$C880,\"ｄ日\")&\"から\"&'教育訓練費入力（前期）'!$D880&\"日間\")","v":""},{"$f":"IF('教育訓練費入力（前期）'!$F880=\"\",\"\",IF('教育訓練費入力（前期）'!$G880=1,'教育訓練費入力（前期）'!$F880,'教育訓練費入力（前期）'!$F880&\"他\"&'教育訓練費入力（前期）'!$G880-1&\"名\"))","v":""}]
[null,872,null,null,null,null,null,null,null,null,{"$f":"IF('教育訓練費入力（前期）'!$C881=\"\",\"\",TEXT('教育訓練費入力（前期）'!$C881,\"yyyy年\")&TEXT('教育訓練費入力（前期）'!$C881,\"m月\")&TEXT('教育訓練費入力（前期）'!$C881,\"ｄ日\")&\"から\"&'教育訓練費入力（前期）'!$D881&\"日間\")","v":""},{"$f":"IF('教育訓練費入力（前期）'!$F881=\"\",\"\",IF('教育訓練費入力（前期）'!$G881=1,'教育訓練費入力（前期）'!$F881,'教育訓練費入力（前期）'!$F881&\"他\"&'教育訓練費入力（前期）'!$G881-1&\"名\"))","v":""}]
[null,873,null,null,null,null,null,null,null,null,{"$f":"IF('教育訓練費入力（前期）'!$C882=\"\",\"\",TEXT('教育訓練費入力（前期）'!$C882,\"yyyy年\")&TEXT('教育訓練費入力（前期）'!$C882,\"m月\")&TEXT('教育訓練費入力（前期）'!$C882,\"ｄ日\")&\"から\"&'教育訓練費入力（前期）'!$D882&\"日間\")","v":""},{"$f":"IF('教育訓練費入力（前期）'!$F882=\"\",\"\",IF('教育訓練費入力（前期）'!$G882=1,'教育訓練費入力（前期）'!$F882,'教育訓練費入力（前期）'!$F882&\"他\"&'教育訓練費入力（前期）'!$G882-1&\"名\"))","v":""}]
[null,874,null,null,null,null,null,null,null,null,{"$f":"IF('教育訓練費入力（前期）'!$C883=\"\",\"\",TEXT('教育訓練費入力（前期）'!$C883,\"yyyy年\")&TEXT('教育訓練費入力（前期）'!$C883,\"m月\")&TEXT('教育訓練費入力（前期）'!$C883,\"ｄ日\")&\"から\"&'教育訓練費入力（前期）'!$D883&\"日間\")","v":""},{"$f":"IF('教育訓練費入力（前期）'!$F883=\"\",\"\",IF('教育訓練費入力（前期）'!$G883=1,'教育訓練費入力（前期）'!$F883,'教育訓練費入力（前期）'!$F883&\"他\"&'教育訓練費入力（前期）'!$G883-1&\"名\"))","v":""}]
[null,875,null,null,null,null,null,null,null,null,{"$f":"IF('教育訓練費入力（前期）'!$C884=\"\",\"\",TEXT('教育訓練費入力（前期）'!$C884,\"yyyy年\")&TEXT('教育訓練費入力（前期）'!$C884,\"m月\")&TEXT('教育訓練費入力（前期）'!$C884,\"ｄ日\")&\"から\"&'教育訓練費入力（前期）'!$D884&\"日間\")","v":""},{"$f":"IF('教育訓練費入力（前期）'!$F884=\"\",\"\",IF('教育訓練費入力（前期）'!$G884=1,'教育訓練費入力（前期）'!$F884,'教育訓練費入力（前期）'!$F884&\"他\"&'教育訓練費入力（前期）'!$G884-1&\"名\"))","v":""}]
[null,876,null,null,null,null,null,null,null,null,{"$f":"IF('教育訓練費入力（前期）'!$C885=\"\",\"\",TEXT('教育訓練費入力（前期）'!$C885,\"yyyy年\")&TEXT('教育訓練費入力（前期）'!$C885,\"m月\")&TEXT('教育訓練費入力（前期）'!$C885,\"ｄ日\")&\"から\"&'教育訓練費入力（前期）'!$D885&\"日間\")","v":""},{"$f":"IF('教育訓練費入力（前期）'!$F885=\"\",\"\",IF('教育訓練費入力（前期）'!$G885=1,'教育訓練費入力（前期）'!$F885,'教育訓練費入力（前期）'!$F885&\"他\"&'教育訓練費入力（前期）'!$G885-1&\"名\"))","v":""}]
[null,877,null,null,null,null,null,null,null,null,{"$f":"IF('教育訓練費入力（前期）'!$C886=\"\",\"\",TEXT('教育訓練費入力（前期）'!$C886,\"yyyy年\")&TEXT('教育訓練費入力（前期）'!$C886,\"m月\")&TEXT('教育訓練費入力（前期）'!$C886,\"ｄ日\")&\"から\"&'教育訓練費入力（前期）'!$D886&\"日間\")","v":""},{"$f":"IF('教育訓練費入力（前期）'!$F886=\"\",\"\",IF('教育訓練費入力（前期）'!$G886=1,'教育訓練費入力（前期）'!$F886,'教育訓練費入力（前期）'!$F886&\"他\"&'教育訓練費入力（前期）'!$G886-1&\"名\"))","v":""}]
[null,878,null,null,null,null,null,null,null,null,{"$f":"IF('教育訓練費入力（前期）'!$C887=\"\",\"\",TEXT('教育訓練費入力（前期）'!$C887,\"yyyy年\")&TEXT('教育訓練費入力（前期）'!$C887,\"m月\")&TEXT('教育訓練費入力（前期）'!$C887,\"ｄ日\")&\"から\"&'教育訓練費入力（前期）'!$D887&\"日間\")","v":""},{"$f":"IF('教育訓練費入力（前期）'!$F887=\"\",\"\",IF('教育訓練費入力（前期）'!$G887=1,'教育訓練費入力（前期）'!$F887,'教育訓練費入力（前期）'!$F887&\"他\"&'教育訓練費入力（前期）'!$G887-1&\"名\"))","v":""}]
[null,879,null,null,null,null,null,null,null,null,{"$f":"IF('教育訓練費入力（前期）'!$C888=\"\",\"\",TEXT('教育訓練費入力（前期）'!$C888,\"yyyy年\")&TEXT('教育訓練費入力（前期）'!$C888,\"m月\")&TEXT('教育訓練費入力（前期）'!$C888,\"ｄ日\")&\"から\"&'教育訓練費入力（前期）'!$D888&\"日間\")","v":""},{"$f":"IF('教育訓練費入力（前期）'!$F888=\"\",\"\",IF('教育訓練費入力（前期）'!$G888=1,'教育訓練費入力（前期）'!$F888,'教育訓練費入力（前期）'!$F888&\"他\"&'教育訓練費入力（前期）'!$G888-1&\"名\"))","v":""}]
[null,880,null,null,null,null,null,null,null,null,{"$f":"IF('教育訓練費入力（前期）'!$C889=\"\",\"\",TEXT('教育訓練費入力（前期）'!$C889,\"yyyy年\")&TEXT('教育訓練費入力（前期）'!$C889,\"m月\")&TEXT('教育訓練費入力（前期）'!$C889,\"ｄ日\")&\"から\"&'教育訓練費入力（前期）'!$D889&\"日間\")","v":""},{"$f":"IF('教育訓練費入力（前期）'!$F889=\"\",\"\",IF('教育訓練費入力（前期）'!$G889=1,'教育訓練費入力（前期）'!$F889,'教育訓練費入力（前期）'!$F889&\"他\"&'教育訓練費入力（前期）'!$G889-1&\"名\"))","v":""}]
[null,881,null,null,null,null,null,null,null,null,{"$f":"IF('教育訓練費入力（前期）'!$C890=\"\",\"\",TEXT('教育訓練費入力（前期）'!$C890,\"yyyy年\")&TEXT('教育訓練費入力（前期）'!$C890,\"m月\")&TEXT('教育訓練費入力（前期）'!$C890,\"ｄ日\")&\"から\"&'教育訓練費入力（前期）'!$D890&\"日間\")","v":""},{"$f":"IF('教育訓練費入力（前期）'!$F890=\"\",\"\",IF('教育訓練費入力（前期）'!$G890=1,'教育訓練費入力（前期）'!$F890,'教育訓練費入力（前期）'!$F890&\"他\"&'教育訓練費入力（前期）'!$G890-1&\"名\"))","v":""}]
[null,882,null,null,null,null,null,null,null,null,{"$f":"IF('教育訓練費入力（前期）'!$C891=\"\",\"\",TEXT('教育訓練費入力（前期）'!$C891,\"yyyy年\")&TEXT('教育訓練費入力（前期）'!$C891,\"m月\")&TEXT('教育訓練費入力（前期）'!$C891,\"ｄ日\")&\"から\"&'教育訓練費入力（前期）'!$D891&\"日間\")","v":""},{"$f":"IF('教育訓練費入力（前期）'!$F891=\"\",\"\",IF('教育訓練費入力（前期）'!$G891=1,'教育訓練費入力（前期）'!$F891,'教育訓練費入力（前期）'!$F891&\"他\"&'教育訓練費入力（前期）'!$G891-1&\"名\"))","v":""}]
[null,883,null,null,null,null,null,null,null,null,{"$f":"IF('教育訓練費入力（前期）'!$C892=\"\",\"\",TEXT('教育訓練費入力（前期）'!$C892,\"yyyy年\")&TEXT('教育訓練費入力（前期）'!$C892,\"m月\")&TEXT('教育訓練費入力（前期）'!$C892,\"ｄ日\")&\"から\"&'教育訓練費入力（前期）'!$D892&\"日間\")","v":""},{"$f":"IF('教育訓練費入力（前期）'!$F892=\"\",\"\",IF('教育訓練費入力（前期）'!$G892=1,'教育訓練費入力（前期）'!$F892,'教育訓練費入力（前期）'!$F892&\"他\"&'教育訓練費入力（前期）'!$G892-1&\"名\"))","v":""}]
[null,884,null,null,null,null,null,null,null,null,{"$f":"IF('教育訓練費入力（前期）'!$C893=\"\",\"\",TEXT('教育訓練費入力（前期）'!$C893,\"yyyy年\")&TEXT('教育訓練費入力（前期）'!$C893,\"m月\")&TEXT('教育訓練費入力（前期）'!$C893,\"ｄ日\")&\"から\"&'教育訓練費入力（前期）'!$D893&\"日間\")","v":""},{"$f":"IF('教育訓練費入力（前期）'!$F893=\"\",\"\",IF('教育訓練費入力（前期）'!$G893=1,'教育訓練費入力（前期）'!$F893,'教育訓練費入力（前期）'!$F893&\"他\"&'教育訓練費入力（前期）'!$G893-1&\"名\"))","v":""}]
[null,885,null,null,null,null,null,null,null,null,{"$f":"IF('教育訓練費入力（前期）'!$C894=\"\",\"\",TEXT('教育訓練費入力（前期）'!$C894,\"yyyy年\")&TEXT('教育訓練費入力（前期）'!$C894,\"m月\")&TEXT('教育訓練費入力（前期）'!$C894,\"ｄ日\")&\"から\"&'教育訓練費入力（前期）'!$D894&\"日間\")","v":""},{"$f":"IF('教育訓練費入力（前期）'!$F894=\"\",\"\",IF('教育訓練費入力（前期）'!$G894=1,'教育訓練費入力（前期）'!$F894,'教育訓練費入力（前期）'!$F894&\"他\"&'教育訓練費入力（前期）'!$G894-1&\"名\"))","v":""}]
[null,886,null,null,null,null,null,null,null,null,{"$f":"IF('教育訓練費入力（前期）'!$C895=\"\",\"\",TEXT('教育訓練費入力（前期）'!$C895,\"yyyy年\")&TEXT('教育訓練費入力（前期）'!$C895,\"m月\")&TEXT('教育訓練費入力（前期）'!$C895,\"ｄ日\")&\"から\"&'教育訓練費入力（前期）'!$D895&\"日間\")","v":""},{"$f":"IF('教育訓練費入力（前期）'!$F895=\"\",\"\",IF('教育訓練費入力（前期）'!$G895=1,'教育訓練費入力（前期）'!$F895,'教育訓練費入力（前期）'!$F895&\"他\"&'教育訓練費入力（前期）'!$G895-1&\"名\"))","v":""}]
[null,887,null,null,null,null,null,null,null,null,{"$f":"IF('教育訓練費入力（前期）'!$C896=\"\",\"\",TEXT('教育訓練費入力（前期）'!$C896,\"yyyy年\")&TEXT('教育訓練費入力（前期）'!$C896,\"m月\")&TEXT('教育訓練費入力（前期）'!$C896,\"ｄ日\")&\"から\"&'教育訓練費入力（前期）'!$D896&\"日間\")","v":""},{"$f":"IF('教育訓練費入力（前期）'!$F896=\"\",\"\",IF('教育訓練費入力（前期）'!$G896=1,'教育訓練費入力（前期）'!$F896,'教育訓練費入力（前期）'!$F896&\"他\"&'教育訓練費入力（前期）'!$G896-1&\"名\"))","v":""}]
[null,888,null,null,null,null,null,null,null,null,{"$f":"IF('教育訓練費入力（前期）'!$C897=\"\",\"\",TEXT('教育訓練費入力（前期）'!$C897,\"yyyy年\")&TEXT('教育訓練費入力（前期）'!$C897,\"m月\")&TEXT('教育訓練費入力（前期）'!$C897,\"ｄ日\")&\"から\"&'教育訓練費入力（前期）'!$D897&\"日間\")","v":""},{"$f":"IF('教育訓練費入力（前期）'!$F897=\"\",\"\",IF('教育訓練費入力（前期）'!$G897=1,'教育訓練費入力（前期）'!$F897,'教育訓練費入力（前期）'!$F897&\"他\"&'教育訓練費入力（前期）'!$G897-1&\"名\"))","v":""}]
[null,889,null,null,null,null,null,null,null,null,{"$f":"IF('教育訓練費入力（前期）'!$C898=\"\",\"\",TEXT('教育訓練費入力（前期）'!$C898,\"yyyy年\")&TEXT('教育訓練費入力（前期）'!$C898,\"m月\")&TEXT('教育訓練費入力（前期）'!$C898,\"ｄ日\")&\"から\"&'教育訓練費入力（前期）'!$D898&\"日間\")","v":""},{"$f":"IF('教育訓練費入力（前期）'!$F898=\"\",\"\",IF('教育訓練費入力（前期）'!$G898=1,'教育訓練費入力（前期）'!$F898,'教育訓練費入力（前期）'!$F898&\"他\"&'教育訓練費入力（前期）'!$G898-1&\"名\"))","v":""}]
[null,890,null,null,null,null,null,null,null,null,{"$f":"IF('教育訓練費入力（前期）'!$C899=\"\",\"\",TEXT('教育訓練費入力（前期）'!$C899,\"yyyy年\")&TEXT('教育訓練費入力（前期）'!$C899,\"m月\")&TEXT('教育訓練費入力（前期）'!$C899,\"ｄ日\")&\"から\"&'教育訓練費入力（前期）'!$D899&\"日間\")","v":""},{"$f":"IF('教育訓練費入力（前期）'!$F899=\"\",\"\",IF('教育訓練費入力（前期）'!$G899=1,'教育訓練費入力（前期）'!$F899,'教育訓練費入力（前期）'!$F899&\"他\"&'教育訓練費入力（前期）'!$G899-1&\"名\"))","v":""}]
[null,891,null,null,null,null,null,null,null,null,{"$f":"IF('教育訓練費入力（前期）'!$C900=\"\",\"\",TEXT('教育訓練費入力（前期）'!$C900,\"yyyy年\")&TEXT('教育訓練費入力（前期）'!$C900,\"m月\")&TEXT('教育訓練費入力（前期）'!$C900,\"ｄ日\")&\"から\"&'教育訓練費入力（前期）'!$D900&\"日間\")","v":""},{"$f":"IF('教育訓練費入力（前期）'!$F900=\"\",\"\",IF('教育訓練費入力（前期）'!$G900=1,'教育訓練費入力（前期）'!$F900,'教育訓練費入力（前期）'!$F900&\"他\"&'教育訓練費入力（前期）'!$G900-1&\"名\"))","v":""}]
[null,892,null,null,null,null,null,null,null,null,{"$f":"IF('教育訓練費入力（前期）'!$C901=\"\",\"\",TEXT('教育訓練費入力（前期）'!$C901,\"yyyy年\")&TEXT('教育訓練費入力（前期）'!$C901,\"m月\")&TEXT('教育訓練費入力（前期）'!$C901,\"ｄ日\")&\"から\"&'教育訓練費入力（前期）'!$D901&\"日間\")","v":""},{"$f":"IF('教育訓練費入力（前期）'!$F901=\"\",\"\",IF('教育訓練費入力（前期）'!$G901=1,'教育訓練費入力（前期）'!$F901,'教育訓練費入力（前期）'!$F901&\"他\"&'教育訓練費入力（前期）'!$G901-1&\"名\"))","v":""}]
[null,893,null,null,null,null,null,null,null,null,{"$f":"IF('教育訓練費入力（前期）'!$C902=\"\",\"\",TEXT('教育訓練費入力（前期）'!$C902,\"yyyy年\")&TEXT('教育訓練費入力（前期）'!$C902,\"m月\")&TEXT('教育訓練費入力（前期）'!$C902,\"ｄ日\")&\"から\"&'教育訓練費入力（前期）'!$D902&\"日間\")","v":""},{"$f":"IF('教育訓練費入力（前期）'!$F902=\"\",\"\",IF('教育訓練費入力（前期）'!$G902=1,'教育訓練費入力（前期）'!$F902,'教育訓練費入力（前期）'!$F902&\"他\"&'教育訓練費入力（前期）'!$G902-1&\"名\"))","v":""}]
[null,894,null,null,null,null,null,null,null,null,{"$f":"IF('教育訓練費入力（前期）'!$C903=\"\",\"\",TEXT('教育訓練費入力（前期）'!$C903,\"yyyy年\")&TEXT('教育訓練費入力（前期）'!$C903,\"m月\")&TEXT('教育訓練費入力（前期）'!$C903,\"ｄ日\")&\"から\"&'教育訓練費入力（前期）'!$D903&\"日間\")","v":""},{"$f":"IF('教育訓練費入力（前期）'!$F903=\"\",\"\",IF('教育訓練費入力（前期）'!$G903=1,'教育訓練費入力（前期）'!$F903,'教育訓練費入力（前期）'!$F903&\"他\"&'教育訓練費入力（前期）'!$G903-1&\"名\"))","v":""}]
[null,895,null,null,null,null,null,null,null,null,{"$f":"IF('教育訓練費入力（前期）'!$C904=\"\",\"\",TEXT('教育訓練費入力（前期）'!$C904,\"yyyy年\")&TEXT('教育訓練費入力（前期）'!$C904,\"m月\")&TEXT('教育訓練費入力（前期）'!$C904,\"ｄ日\")&\"から\"&'教育訓練費入力（前期）'!$D904&\"日間\")","v":""},{"$f":"IF('教育訓練費入力（前期）'!$F904=\"\",\"\",IF('教育訓練費入力（前期）'!$G904=1,'教育訓練費入力（前期）'!$F904,'教育訓練費入力（前期）'!$F904&\"他\"&'教育訓練費入力（前期）'!$G904-1&\"名\"))","v":""}]
[null,896,null,null,null,null,null,null,null,null,{"$f":"IF('教育訓練費入力（前期）'!$C905=\"\",\"\",TEXT('教育訓練費入力（前期）'!$C905,\"yyyy年\")&TEXT('教育訓練費入力（前期）'!$C905,\"m月\")&TEXT('教育訓練費入力（前期）'!$C905,\"ｄ日\")&\"から\"&'教育訓練費入力（前期）'!$D905&\"日間\")","v":""},{"$f":"IF('教育訓練費入力（前期）'!$F905=\"\",\"\",IF('教育訓練費入力（前期）'!$G905=1,'教育訓練費入力（前期）'!$F905,'教育訓練費入力（前期）'!$F905&\"他\"&'教育訓練費入力（前期）'!$G905-1&\"名\"))","v":""}]
[null,897,null,null,null,null,null,null,null,null,{"$f":"IF('教育訓練費入力（前期）'!$C906=\"\",\"\",TEXT('教育訓練費入力（前期）'!$C906,\"yyyy年\")&TEXT('教育訓練費入力（前期）'!$C906,\"m月\")&TEXT('教育訓練費入力（前期）'!$C906,\"ｄ日\")&\"から\"&'教育訓練費入力（前期）'!$D906&\"日間\")","v":""},{"$f":"IF('教育訓練費入力（前期）'!$F906=\"\",\"\",IF('教育訓練費入力（前期）'!$G906=1,'教育訓練費入力（前期）'!$F906,'教育訓練費入力（前期）'!$F906&\"他\"&'教育訓練費入力（前期）'!$G906-1&\"名\"))","v":""}]
[null,898,null,null,null,null,null,null,null,null,{"$f":"IF('教育訓練費入力（前期）'!$C907=\"\",\"\",TEXT('教育訓練費入力（前期）'!$C907,\"yyyy年\")&TEXT('教育訓練費入力（前期）'!$C907,\"m月\")&TEXT('教育訓練費入力（前期）'!$C907,\"ｄ日\")&\"から\"&'教育訓練費入力（前期）'!$D907&\"日間\")","v":""},{"$f":"IF('教育訓練費入力（前期）'!$F907=\"\",\"\",IF('教育訓練費入力（前期）'!$G907=1,'教育訓練費入力（前期）'!$F907,'教育訓練費入力（前期）'!$F907&\"他\"&'教育訓練費入力（前期）'!$G907-1&\"名\"))","v":""}]
[null,899,null,null,null,null,null,null,null,null,{"$f":"IF('教育訓練費入力（前期）'!$C908=\"\",\"\",TEXT('教育訓練費入力（前期）'!$C908,\"yyyy年\")&TEXT('教育訓練費入力（前期）'!$C908,\"m月\")&TEXT('教育訓練費入力（前期）'!$C908,\"ｄ日\")&\"から\"&'教育訓練費入力（前期）'!$D908&\"日間\")","v":""},{"$f":"IF('教育訓練費入力（前期）'!$F908=\"\",\"\",IF('教育訓練費入力（前期）'!$G908=1,'教育訓練費入力（前期）'!$F908,'教育訓練費入力（前期）'!$F908&\"他\"&'教育訓練費入力（前期）'!$G908-1&\"名\"))","v":""}]
[null,900,null,null,null,null,null,null,null,null,{"$f":"IF('教育訓練費入力（前期）'!$C909=\"\",\"\",TEXT('教育訓練費入力（前期）'!$C909,\"yyyy年\")&TEXT('教育訓練費入力（前期）'!$C909,\"m月\")&TEXT('教育訓練費入力（前期）'!$C909,\"ｄ日\")&\"から\"&'教育訓練費入力（前期）'!$D909&\"日間\")","v":""},{"$f":"IF('教育訓練費入力（前期）'!$F909=\"\",\"\",IF('教育訓練費入力（前期）'!$G909=1,'教育訓練費入力（前期）'!$F909,'教育訓練費入力（前期）'!$F909&\"他\"&'教育訓練費入力（前期）'!$G909-1&\"名\"))","v":""}]
[null,901,null,null,null,null,null,null,null,null,{"$f":"IF('教育訓練費入力（前期）'!$C910=\"\",\"\",TEXT('教育訓練費入力（前期）'!$C910,\"yyyy年\")&TEXT('教育訓練費入力（前期）'!$C910,\"m月\")&TEXT('教育訓練費入力（前期）'!$C910,\"ｄ日\")&\"から\"&'教育訓練費入力（前期）'!$D910&\"日間\")","v":""},{"$f":"IF('教育訓練費入力（前期）'!$F910=\"\",\"\",IF('教育訓練費入力（前期）'!$G910=1,'教育訓練費入力（前期）'!$F910,'教育訓練費入力（前期）'!$F910&\"他\"&'教育訓練費入力（前期）'!$G910-1&\"名\"))","v":""}]
[null,902,null,null,null,null,null,null,null,null,{"$f":"IF('教育訓練費入力（前期）'!$C911=\"\",\"\",TEXT('教育訓練費入力（前期）'!$C911,\"yyyy年\")&TEXT('教育訓練費入力（前期）'!$C911,\"m月\")&TEXT('教育訓練費入力（前期）'!$C911,\"ｄ日\")&\"から\"&'教育訓練費入力（前期）'!$D911&\"日間\")","v":""},{"$f":"IF('教育訓練費入力（前期）'!$F911=\"\",\"\",IF('教育訓練費入力（前期）'!$G911=1,'教育訓練費入力（前期）'!$F911,'教育訓練費入力（前期）'!$F911&\"他\"&'教育訓練費入力（前期）'!$G911-1&\"名\"))","v":""}]
[null,903,null,null,null,null,null,null,null,null,{"$f":"IF('教育訓練費入力（前期）'!$C912=\"\",\"\",TEXT('教育訓練費入力（前期）'!$C912,\"yyyy年\")&TEXT('教育訓練費入力（前期）'!$C912,\"m月\")&TEXT('教育訓練費入力（前期）'!$C912,\"ｄ日\")&\"から\"&'教育訓練費入力（前期）'!$D912&\"日間\")","v":""},{"$f":"IF('教育訓練費入力（前期）'!$F912=\"\",\"\",IF('教育訓練費入力（前期）'!$G912=1,'教育訓練費入力（前期）'!$F912,'教育訓練費入力（前期）'!$F912&\"他\"&'教育訓練費入力（前期）'!$G912-1&\"名\"))","v":""}]
[null,904,null,null,null,null,null,null,null,null,{"$f":"IF('教育訓練費入力（前期）'!$C913=\"\",\"\",TEXT('教育訓練費入力（前期）'!$C913,\"yyyy年\")&TEXT('教育訓練費入力（前期）'!$C913,\"m月\")&TEXT('教育訓練費入力（前期）'!$C913,\"ｄ日\")&\"から\"&'教育訓練費入力（前期）'!$D913&\"日間\")","v":""},{"$f":"IF('教育訓練費入力（前期）'!$F913=\"\",\"\",IF('教育訓練費入力（前期）'!$G913=1,'教育訓練費入力（前期）'!$F913,'教育訓練費入力（前期）'!$F913&\"他\"&'教育訓練費入力（前期）'!$G913-1&\"名\"))","v":""}]
[null,905,null,null,null,null,null,null,null,null,{"$f":"IF('教育訓練費入力（前期）'!$C914=\"\",\"\",TEXT('教育訓練費入力（前期）'!$C914,\"yyyy年\")&TEXT('教育訓練費入力（前期）'!$C914,\"m月\")&TEXT('教育訓練費入力（前期）'!$C914,\"ｄ日\")&\"から\"&'教育訓練費入力（前期）'!$D914&\"日間\")","v":""},{"$f":"IF('教育訓練費入力（前期）'!$F914=\"\",\"\",IF('教育訓練費入力（前期）'!$G914=1,'教育訓練費入力（前期）'!$F914,'教育訓練費入力（前期）'!$F914&\"他\"&'教育訓練費入力（前期）'!$G914-1&\"名\"))","v":""}]
[null,906,null,null,null,null,null,null,null,null,{"$f":"IF('教育訓練費入力（前期）'!$C915=\"\",\"\",TEXT('教育訓練費入力（前期）'!$C915,\"yyyy年\")&TEXT('教育訓練費入力（前期）'!$C915,\"m月\")&TEXT('教育訓練費入力（前期）'!$C915,\"ｄ日\")&\"から\"&'教育訓練費入力（前期）'!$D915&\"日間\")","v":""},{"$f":"IF('教育訓練費入力（前期）'!$F915=\"\",\"\",IF('教育訓練費入力（前期）'!$G915=1,'教育訓練費入力（前期）'!$F915,'教育訓練費入力（前期）'!$F915&\"他\"&'教育訓練費入力（前期）'!$G915-1&\"名\"))","v":""}]
[null,907,null,null,null,null,null,null,null,null,{"$f":"IF('教育訓練費入力（前期）'!$C916=\"\",\"\",TEXT('教育訓練費入力（前期）'!$C916,\"yyyy年\")&TEXT('教育訓練費入力（前期）'!$C916,\"m月\")&TEXT('教育訓練費入力（前期）'!$C916,\"ｄ日\")&\"から\"&'教育訓練費入力（前期）'!$D916&\"日間\")","v":""},{"$f":"IF('教育訓練費入力（前期）'!$F916=\"\",\"\",IF('教育訓練費入力（前期）'!$G916=1,'教育訓練費入力（前期）'!$F916,'教育訓練費入力（前期）'!$F916&\"他\"&'教育訓練費入力（前期）'!$G916-1&\"名\"))","v":""}]
[null,908,null,null,null,null,null,null,null,null,{"$f":"IF('教育訓練費入力（前期）'!$C917=\"\",\"\",TEXT('教育訓練費入力（前期）'!$C917,\"yyyy年\")&TEXT('教育訓練費入力（前期）'!$C917,\"m月\")&TEXT('教育訓練費入力（前期）'!$C917,\"ｄ日\")&\"から\"&'教育訓練費入力（前期）'!$D917&\"日間\")","v":""},{"$f":"IF('教育訓練費入力（前期）'!$F917=\"\",\"\",IF('教育訓練費入力（前期）'!$G917=1,'教育訓練費入力（前期）'!$F917,'教育訓練費入力（前期）'!$F917&\"他\"&'教育訓練費入力（前期）'!$G917-1&\"名\"))","v":""}]
[null,909,null,null,null,null,null,null,null,null,{"$f":"IF('教育訓練費入力（前期）'!$C918=\"\",\"\",TEXT('教育訓練費入力（前期）'!$C918,\"yyyy年\")&TEXT('教育訓練費入力（前期）'!$C918,\"m月\")&TEXT('教育訓練費入力（前期）'!$C918,\"ｄ日\")&\"から\"&'教育訓練費入力（前期）'!$D918&\"日間\")","v":""},{"$f":"IF('教育訓練費入力（前期）'!$F918=\"\",\"\",IF('教育訓練費入力（前期）'!$G918=1,'教育訓練費入力（前期）'!$F918,'教育訓練費入力（前期）'!$F918&\"他\"&'教育訓練費入力（前期）'!$G918-1&\"名\"))","v":""}]
[null,910,null,null,null,null,null,null,null,null,{"$f":"IF('教育訓練費入力（前期）'!$C919=\"\",\"\",TEXT('教育訓練費入力（前期）'!$C919,\"yyyy年\")&TEXT('教育訓練費入力（前期）'!$C919,\"m月\")&TEXT('教育訓練費入力（前期）'!$C919,\"ｄ日\")&\"から\"&'教育訓練費入力（前期）'!$D919&\"日間\")","v":""},{"$f":"IF('教育訓練費入力（前期）'!$F919=\"\",\"\",IF('教育訓練費入力（前期）'!$G919=1,'教育訓練費入力（前期）'!$F919,'教育訓練費入力（前期）'!$F919&\"他\"&'教育訓練費入力（前期）'!$G919-1&\"名\"))","v":""}]
[null,911,null,null,null,null,null,null,null,null,{"$f":"IF('教育訓練費入力（前期）'!$C920=\"\",\"\",TEXT('教育訓練費入力（前期）'!$C920,\"yyyy年\")&TEXT('教育訓練費入力（前期）'!$C920,\"m月\")&TEXT('教育訓練費入力（前期）'!$C920,\"ｄ日\")&\"から\"&'教育訓練費入力（前期）'!$D920&\"日間\")","v":""},{"$f":"IF('教育訓練費入力（前期）'!$F920=\"\",\"\",IF('教育訓練費入力（前期）'!$G920=1,'教育訓練費入力（前期）'!$F920,'教育訓練費入力（前期）'!$F920&\"他\"&'教育訓練費入力（前期）'!$G920-1&\"名\"))","v":""}]
[null,912,null,null,null,null,null,null,null,null,{"$f":"IF('教育訓練費入力（前期）'!$C921=\"\",\"\",TEXT('教育訓練費入力（前期）'!$C921,\"yyyy年\")&TEXT('教育訓練費入力（前期）'!$C921,\"m月\")&TEXT('教育訓練費入力（前期）'!$C921,\"ｄ日\")&\"から\"&'教育訓練費入力（前期）'!$D921&\"日間\")","v":""},{"$f":"IF('教育訓練費入力（前期）'!$F921=\"\",\"\",IF('教育訓練費入力（前期）'!$G921=1,'教育訓練費入力（前期）'!$F921,'教育訓練費入力（前期）'!$F921&\"他\"&'教育訓練費入力（前期）'!$G921-1&\"名\"))","v":""}]
[null,913,null,null,null,null,null,null,null,null,{"$f":"IF('教育訓練費入力（前期）'!$C922=\"\",\"\",TEXT('教育訓練費入力（前期）'!$C922,\"yyyy年\")&TEXT('教育訓練費入力（前期）'!$C922,\"m月\")&TEXT('教育訓練費入力（前期）'!$C922,\"ｄ日\")&\"から\"&'教育訓練費入力（前期）'!$D922&\"日間\")","v":""},{"$f":"IF('教育訓練費入力（前期）'!$F922=\"\",\"\",IF('教育訓練費入力（前期）'!$G922=1,'教育訓練費入力（前期）'!$F922,'教育訓練費入力（前期）'!$F922&\"他\"&'教育訓練費入力（前期）'!$G922-1&\"名\"))","v":""}]
[null,914,null,null,null,null,null,null,null,null,{"$f":"IF('教育訓練費入力（前期）'!$C923=\"\",\"\",TEXT('教育訓練費入力（前期）'!$C923,\"yyyy年\")&TEXT('教育訓練費入力（前期）'!$C923,\"m月\")&TEXT('教育訓練費入力（前期）'!$C923,\"ｄ日\")&\"から\"&'教育訓練費入力（前期）'!$D923&\"日間\")","v":""},{"$f":"IF('教育訓練費入力（前期）'!$F923=\"\",\"\",IF('教育訓練費入力（前期）'!$G923=1,'教育訓練費入力（前期）'!$F923,'教育訓練費入力（前期）'!$F923&\"他\"&'教育訓練費入力（前期）'!$G923-1&\"名\"))","v":""}]
[null,915,null,null,null,null,null,null,null,null,{"$f":"IF('教育訓練費入力（前期）'!$C924=\"\",\"\",TEXT('教育訓練費入力（前期）'!$C924,\"yyyy年\")&TEXT('教育訓練費入力（前期）'!$C924,\"m月\")&TEXT('教育訓練費入力（前期）'!$C924,\"ｄ日\")&\"から\"&'教育訓練費入力（前期）'!$D924&\"日間\")","v":""},{"$f":"IF('教育訓練費入力（前期）'!$F924=\"\",\"\",IF('教育訓練費入力（前期）'!$G924=1,'教育訓練費入力（前期）'!$F924,'教育訓練費入力（前期）'!$F924&\"他\"&'教育訓練費入力（前期）'!$G924-1&\"名\"))","v":""}]
[null,916,null,null,null,null,null,null,null,null,{"$f":"IF('教育訓練費入力（前期）'!$C925=\"\",\"\",TEXT('教育訓練費入力（前期）'!$C925,\"yyyy年\")&TEXT('教育訓練費入力（前期）'!$C925,\"m月\")&TEXT('教育訓練費入力（前期）'!$C925,\"ｄ日\")&\"から\"&'教育訓練費入力（前期）'!$D925&\"日間\")","v":""},{"$f":"IF('教育訓練費入力（前期）'!$F925=\"\",\"\",IF('教育訓練費入力（前期）'!$G925=1,'教育訓練費入力（前期）'!$F925,'教育訓練費入力（前期）'!$F925&\"他\"&'教育訓練費入力（前期）'!$G925-1&\"名\"))","v":""}]
[null,917,null,null,null,null,null,null,null,null,{"$f":"IF('教育訓練費入力（前期）'!$C926=\"\",\"\",TEXT('教育訓練費入力（前期）'!$C926,\"yyyy年\")&TEXT('教育訓練費入力（前期）'!$C926,\"m月\")&TEXT('教育訓練費入力（前期）'!$C926,\"ｄ日\")&\"から\"&'教育訓練費入力（前期）'!$D926&\"日間\")","v":""},{"$f":"IF('教育訓練費入力（前期）'!$F926=\"\",\"\",IF('教育訓練費入力（前期）'!$G926=1,'教育訓練費入力（前期）'!$F926,'教育訓練費入力（前期）'!$F926&\"他\"&'教育訓練費入力（前期）'!$G926-1&\"名\"))","v":""}]
[null,918,null,null,null,null,null,null,null,null,{"$f":"IF('教育訓練費入力（前期）'!$C927=\"\",\"\",TEXT('教育訓練費入力（前期）'!$C927,\"yyyy年\")&TEXT('教育訓練費入力（前期）'!$C927,\"m月\")&TEXT('教育訓練費入力（前期）'!$C927,\"ｄ日\")&\"から\"&'教育訓練費入力（前期）'!$D927&\"日間\")","v":""},{"$f":"IF('教育訓練費入力（前期）'!$F927=\"\",\"\",IF('教育訓練費入力（前期）'!$G927=1,'教育訓練費入力（前期）'!$F927,'教育訓練費入力（前期）'!$F927&\"他\"&'教育訓練費入力（前期）'!$G927-1&\"名\"))","v":""}]
[null,919,null,null,null,null,null,null,null,null,{"$f":"IF('教育訓練費入力（前期）'!$C928=\"\",\"\",TEXT('教育訓練費入力（前期）'!$C928,\"yyyy年\")&TEXT('教育訓練費入力（前期）'!$C928,\"m月\")&TEXT('教育訓練費入力（前期）'!$C928,\"ｄ日\")&\"から\"&'教育訓練費入力（前期）'!$D928&\"日間\")","v":""},{"$f":"IF('教育訓練費入力（前期）'!$F928=\"\",\"\",IF('教育訓練費入力（前期）'!$G928=1,'教育訓練費入力（前期）'!$F928,'教育訓練費入力（前期）'!$F928&\"他\"&'教育訓練費入力（前期）'!$G928-1&\"名\"))","v":""}]
[null,920,null,null,null,null,null,null,null,null,{"$f":"IF('教育訓練費入力（前期）'!$C929=\"\",\"\",TEXT('教育訓練費入力（前期）'!$C929,\"yyyy年\")&TEXT('教育訓練費入力（前期）'!$C929,\"m月\")&TEXT('教育訓練費入力（前期）'!$C929,\"ｄ日\")&\"から\"&'教育訓練費入力（前期）'!$D929&\"日間\")","v":""},{"$f":"IF('教育訓練費入力（前期）'!$F929=\"\",\"\",IF('教育訓練費入力（前期）'!$G929=1,'教育訓練費入力（前期）'!$F929,'教育訓練費入力（前期）'!$F929&\"他\"&'教育訓練費入力（前期）'!$G929-1&\"名\"))","v":""}]
[null,921,null,null,null,null,null,null,null,null,{"$f":"IF('教育訓練費入力（前期）'!$C930=\"\",\"\",TEXT('教育訓練費入力（前期）'!$C930,\"yyyy年\")&TEXT('教育訓練費入力（前期）'!$C930,\"m月\")&TEXT('教育訓練費入力（前期）'!$C930,\"ｄ日\")&\"から\"&'教育訓練費入力（前期）'!$D930&\"日間\")","v":""},{"$f":"IF('教育訓練費入力（前期）'!$F930=\"\",\"\",IF('教育訓練費入力（前期）'!$G930=1,'教育訓練費入力（前期）'!$F930,'教育訓練費入力（前期）'!$F930&\"他\"&'教育訓練費入力（前期）'!$G930-1&\"名\"))","v":""}]
[null,922,null,null,null,null,null,null,null,null,{"$f":"IF('教育訓練費入力（前期）'!$C931=\"\",\"\",TEXT('教育訓練費入力（前期）'!$C931,\"yyyy年\")&TEXT('教育訓練費入力（前期）'!$C931,\"m月\")&TEXT('教育訓練費入力（前期）'!$C931,\"ｄ日\")&\"から\"&'教育訓練費入力（前期）'!$D931&\"日間\")","v":""},{"$f":"IF('教育訓練費入力（前期）'!$F931=\"\",\"\",IF('教育訓練費入力（前期）'!$G931=1,'教育訓練費入力（前期）'!$F931,'教育訓練費入力（前期）'!$F931&\"他\"&'教育訓練費入力（前期）'!$G931-1&\"名\"))","v":""}]
[null,923,null,null,null,null,null,null,null,null,{"$f":"IF('教育訓練費入力（前期）'!$C932=\"\",\"\",TEXT('教育訓練費入力（前期）'!$C932,\"yyyy年\")&TEXT('教育訓練費入力（前期）'!$C932,\"m月\")&TEXT('教育訓練費入力（前期）'!$C932,\"ｄ日\")&\"から\"&'教育訓練費入力（前期）'!$D932&\"日間\")","v":""},{"$f":"IF('教育訓練費入力（前期）'!$F932=\"\",\"\",IF('教育訓練費入力（前期）'!$G932=1,'教育訓練費入力（前期）'!$F932,'教育訓練費入力（前期）'!$F932&\"他\"&'教育訓練費入力（前期）'!$G932-1&\"名\"))","v":""}]
[null,924,null,null,null,null,null,null,null,null,{"$f":"IF('教育訓練費入力（前期）'!$C933=\"\",\"\",TEXT('教育訓練費入力（前期）'!$C933,\"yyyy年\")&TEXT('教育訓練費入力（前期）'!$C933,\"m月\")&TEXT('教育訓練費入力（前期）'!$C933,\"ｄ日\")&\"から\"&'教育訓練費入力（前期）'!$D933&\"日間\")","v":""},{"$f":"IF('教育訓練費入力（前期）'!$F933=\"\",\"\",IF('教育訓練費入力（前期）'!$G933=1,'教育訓練費入力（前期）'!$F933,'教育訓練費入力（前期）'!$F933&\"他\"&'教育訓練費入力（前期）'!$G933-1&\"名\"))","v":""}]
[null,925,null,null,null,null,null,null,null,null,{"$f":"IF('教育訓練費入力（前期）'!$C934=\"\",\"\",TEXT('教育訓練費入力（前期）'!$C934,\"yyyy年\")&TEXT('教育訓練費入力（前期）'!$C934,\"m月\")&TEXT('教育訓練費入力（前期）'!$C934,\"ｄ日\")&\"から\"&'教育訓練費入力（前期）'!$D934&\"日間\")","v":""},{"$f":"IF('教育訓練費入力（前期）'!$F934=\"\",\"\",IF('教育訓練費入力（前期）'!$G934=1,'教育訓練費入力（前期）'!$F934,'教育訓練費入力（前期）'!$F934&\"他\"&'教育訓練費入力（前期）'!$G934-1&\"名\"))","v":""}]
[null,926,null,null,null,null,null,null,null,null,{"$f":"IF('教育訓練費入力（前期）'!$C935=\"\",\"\",TEXT('教育訓練費入力（前期）'!$C935,\"yyyy年\")&TEXT('教育訓練費入力（前期）'!$C935,\"m月\")&TEXT('教育訓練費入力（前期）'!$C935,\"ｄ日\")&\"から\"&'教育訓練費入力（前期）'!$D935&\"日間\")","v":""},{"$f":"IF('教育訓練費入力（前期）'!$F935=\"\",\"\",IF('教育訓練費入力（前期）'!$G935=1,'教育訓練費入力（前期）'!$F935,'教育訓練費入力（前期）'!$F935&\"他\"&'教育訓練費入力（前期）'!$G935-1&\"名\"))","v":""}]
[null,927,null,null,null,null,null,null,null,null,{"$f":"IF('教育訓練費入力（前期）'!$C936=\"\",\"\",TEXT('教育訓練費入力（前期）'!$C936,\"yyyy年\")&TEXT('教育訓練費入力（前期）'!$C936,\"m月\")&TEXT('教育訓練費入力（前期）'!$C936,\"ｄ日\")&\"から\"&'教育訓練費入力（前期）'!$D936&\"日間\")","v":""},{"$f":"IF('教育訓練費入力（前期）'!$F936=\"\",\"\",IF('教育訓練費入力（前期）'!$G936=1,'教育訓練費入力（前期）'!$F936,'教育訓練費入力（前期）'!$F936&\"他\"&'教育訓練費入力（前期）'!$G936-1&\"名\"))","v":""}]
[null,928,null,null,null,null,null,null,null,null,{"$f":"IF('教育訓練費入力（前期）'!$C937=\"\",\"\",TEXT('教育訓練費入力（前期）'!$C937,\"yyyy年\")&TEXT('教育訓練費入力（前期）'!$C937,\"m月\")&TEXT('教育訓練費入力（前期）'!$C937,\"ｄ日\")&\"から\"&'教育訓練費入力（前期）'!$D937&\"日間\")","v":""},{"$f":"IF('教育訓練費入力（前期）'!$F937=\"\",\"\",IF('教育訓練費入力（前期）'!$G937=1,'教育訓練費入力（前期）'!$F937,'教育訓練費入力（前期）'!$F937&\"他\"&'教育訓練費入力（前期）'!$G937-1&\"名\"))","v":""}]
[null,929,null,null,null,null,null,null,null,null,{"$f":"IF('教育訓練費入力（前期）'!$C938=\"\",\"\",TEXT('教育訓練費入力（前期）'!$C938,\"yyyy年\")&TEXT('教育訓練費入力（前期）'!$C938,\"m月\")&TEXT('教育訓練費入力（前期）'!$C938,\"ｄ日\")&\"から\"&'教育訓練費入力（前期）'!$D938&\"日間\")","v":""},{"$f":"IF('教育訓練費入力（前期）'!$F938=\"\",\"\",IF('教育訓練費入力（前期）'!$G938=1,'教育訓練費入力（前期）'!$F938,'教育訓練費入力（前期）'!$F938&\"他\"&'教育訓練費入力（前期）'!$G938-1&\"名\"))","v":""}]
[null,930,null,null,null,null,null,null,null,null,{"$f":"IF('教育訓練費入力（前期）'!$C939=\"\",\"\",TEXT('教育訓練費入力（前期）'!$C939,\"yyyy年\")&TEXT('教育訓練費入力（前期）'!$C939,\"m月\")&TEXT('教育訓練費入力（前期）'!$C939,\"ｄ日\")&\"から\"&'教育訓練費入力（前期）'!$D939&\"日間\")","v":""},{"$f":"IF('教育訓練費入力（前期）'!$F939=\"\",\"\",IF('教育訓練費入力（前期）'!$G939=1,'教育訓練費入力（前期）'!$F939,'教育訓練費入力（前期）'!$F939&\"他\"&'教育訓練費入力（前期）'!$G939-1&\"名\"))","v":""}]
[null,931,null,null,null,null,null,null,null,null,{"$f":"IF('教育訓練費入力（前期）'!$C940=\"\",\"\",TEXT('教育訓練費入力（前期）'!$C940,\"yyyy年\")&TEXT('教育訓練費入力（前期）'!$C940,\"m月\")&TEXT('教育訓練費入力（前期）'!$C940,\"ｄ日\")&\"から\"&'教育訓練費入力（前期）'!$D940&\"日間\")","v":""},{"$f":"IF('教育訓練費入力（前期）'!$F940=\"\",\"\",IF('教育訓練費入力（前期）'!$G940=1,'教育訓練費入力（前期）'!$F940,'教育訓練費入力（前期）'!$F940&\"他\"&'教育訓練費入力（前期）'!$G940-1&\"名\"))","v":""}]
[null,932,null,null,null,null,null,null,null,null,{"$f":"IF('教育訓練費入力（前期）'!$C941=\"\",\"\",TEXT('教育訓練費入力（前期）'!$C941,\"yyyy年\")&TEXT('教育訓練費入力（前期）'!$C941,\"m月\")&TEXT('教育訓練費入力（前期）'!$C941,\"ｄ日\")&\"から\"&'教育訓練費入力（前期）'!$D941&\"日間\")","v":""},{"$f":"IF('教育訓練費入力（前期）'!$F941=\"\",\"\",IF('教育訓練費入力（前期）'!$G941=1,'教育訓練費入力（前期）'!$F941,'教育訓練費入力（前期）'!$F941&\"他\"&'教育訓練費入力（前期）'!$G941-1&\"名\"))","v":""}]
[null,933,null,null,null,null,null,null,null,null,{"$f":"IF('教育訓練費入力（前期）'!$C942=\"\",\"\",TEXT('教育訓練費入力（前期）'!$C942,\"yyyy年\")&TEXT('教育訓練費入力（前期）'!$C942,\"m月\")&TEXT('教育訓練費入力（前期）'!$C942,\"ｄ日\")&\"から\"&'教育訓練費入力（前期）'!$D942&\"日間\")","v":""},{"$f":"IF('教育訓練費入力（前期）'!$F942=\"\",\"\",IF('教育訓練費入力（前期）'!$G942=1,'教育訓練費入力（前期）'!$F942,'教育訓練費入力（前期）'!$F942&\"他\"&'教育訓練費入力（前期）'!$G942-1&\"名\"))","v":""}]
[null,934,null,null,null,null,null,null,null,null,{"$f":"IF('教育訓練費入力（前期）'!$C943=\"\",\"\",TEXT('教育訓練費入力（前期）'!$C943,\"yyyy年\")&TEXT('教育訓練費入力（前期）'!$C943,\"m月\")&TEXT('教育訓練費入力（前期）'!$C943,\"ｄ日\")&\"から\"&'教育訓練費入力（前期）'!$D943&\"日間\")","v":""},{"$f":"IF('教育訓練費入力（前期）'!$F943=\"\",\"\",IF('教育訓練費入力（前期）'!$G943=1,'教育訓練費入力（前期）'!$F943,'教育訓練費入力（前期）'!$F943&\"他\"&'教育訓練費入力（前期）'!$G943-1&\"名\"))","v":""}]
[null,935,null,null,null,null,null,null,null,null,{"$f":"IF('教育訓練費入力（前期）'!$C944=\"\",\"\",TEXT('教育訓練費入力（前期）'!$C944,\"yyyy年\")&TEXT('教育訓練費入力（前期）'!$C944,\"m月\")&TEXT('教育訓練費入力（前期）'!$C944,\"ｄ日\")&\"から\"&'教育訓練費入力（前期）'!$D944&\"日間\")","v":""},{"$f":"IF('教育訓練費入力（前期）'!$F944=\"\",\"\",IF('教育訓練費入力（前期）'!$G944=1,'教育訓練費入力（前期）'!$F944,'教育訓練費入力（前期）'!$F944&\"他\"&'教育訓練費入力（前期）'!$G944-1&\"名\"))","v":""}]
[null,936,null,null,null,null,null,null,null,null,{"$f":"IF('教育訓練費入力（前期）'!$C945=\"\",\"\",TEXT('教育訓練費入力（前期）'!$C945,\"yyyy年\")&TEXT('教育訓練費入力（前期）'!$C945,\"m月\")&TEXT('教育訓練費入力（前期）'!$C945,\"ｄ日\")&\"から\"&'教育訓練費入力（前期）'!$D945&\"日間\")","v":""},{"$f":"IF('教育訓練費入力（前期）'!$F945=\"\",\"\",IF('教育訓練費入力（前期）'!$G945=1,'教育訓練費入力（前期）'!$F945,'教育訓練費入力（前期）'!$F945&\"他\"&'教育訓練費入力（前期）'!$G945-1&\"名\"))","v":""}]
[null,937,null,null,null,null,null,null,null,null,{"$f":"IF('教育訓練費入力（前期）'!$C946=\"\",\"\",TEXT('教育訓練費入力（前期）'!$C946,\"yyyy年\")&TEXT('教育訓練費入力（前期）'!$C946,\"m月\")&TEXT('教育訓練費入力（前期）'!$C946,\"ｄ日\")&\"から\"&'教育訓練費入力（前期）'!$D946&\"日間\")","v":""},{"$f":"IF('教育訓練費入力（前期）'!$F946=\"\",\"\",IF('教育訓練費入力（前期）'!$G946=1,'教育訓練費入力（前期）'!$F946,'教育訓練費入力（前期）'!$F946&\"他\"&'教育訓練費入力（前期）'!$G946-1&\"名\"))","v":""}]
[null,938,null,null,null,null,null,null,null,null,{"$f":"IF('教育訓練費入力（前期）'!$C947=\"\",\"\",TEXT('教育訓練費入力（前期）'!$C947,\"yyyy年\")&TEXT('教育訓練費入力（前期）'!$C947,\"m月\")&TEXT('教育訓練費入力（前期）'!$C947,\"ｄ日\")&\"から\"&'教育訓練費入力（前期）'!$D947&\"日間\")","v":""},{"$f":"IF('教育訓練費入力（前期）'!$F947=\"\",\"\",IF('教育訓練費入力（前期）'!$G947=1,'教育訓練費入力（前期）'!$F947,'教育訓練費入力（前期）'!$F947&\"他\"&'教育訓練費入力（前期）'!$G947-1&\"名\"))","v":""}]
[null,939,null,null,null,null,null,null,null,null,{"$f":"IF('教育訓練費入力（前期）'!$C948=\"\",\"\",TEXT('教育訓練費入力（前期）'!$C948,\"yyyy年\")&TEXT('教育訓練費入力（前期）'!$C948,\"m月\")&TEXT('教育訓練費入力（前期）'!$C948,\"ｄ日\")&\"から\"&'教育訓練費入力（前期）'!$D948&\"日間\")","v":""},{"$f":"IF('教育訓練費入力（前期）'!$F948=\"\",\"\",IF('教育訓練費入力（前期）'!$G948=1,'教育訓練費入力（前期）'!$F948,'教育訓練費入力（前期）'!$F948&\"他\"&'教育訓練費入力（前期）'!$G948-1&\"名\"))","v":""}]
[null,940,null,null,null,null,null,null,null,null,{"$f":"IF('教育訓練費入力（前期）'!$C949=\"\",\"\",TEXT('教育訓練費入力（前期）'!$C949,\"yyyy年\")&TEXT('教育訓練費入力（前期）'!$C949,\"m月\")&TEXT('教育訓練費入力（前期）'!$C949,\"ｄ日\")&\"から\"&'教育訓練費入力（前期）'!$D949&\"日間\")","v":""},{"$f":"IF('教育訓練費入力（前期）'!$F949=\"\",\"\",IF('教育訓練費入力（前期）'!$G949=1,'教育訓練費入力（前期）'!$F949,'教育訓練費入力（前期）'!$F949&\"他\"&'教育訓練費入力（前期）'!$G949-1&\"名\"))","v":""}]
[null,941,null,null,null,null,null,null,null,null,{"$f":"IF('教育訓練費入力（前期）'!$C950=\"\",\"\",TEXT('教育訓練費入力（前期）'!$C950,\"yyyy年\")&TEXT('教育訓練費入力（前期）'!$C950,\"m月\")&TEXT('教育訓練費入力（前期）'!$C950,\"ｄ日\")&\"から\"&'教育訓練費入力（前期）'!$D950&\"日間\")","v":""},{"$f":"IF('教育訓練費入力（前期）'!$F950=\"\",\"\",IF('教育訓練費入力（前期）'!$G950=1,'教育訓練費入力（前期）'!$F950,'教育訓練費入力（前期）'!$F950&\"他\"&'教育訓練費入力（前期）'!$G950-1&\"名\"))","v":""}]
[null,942,null,null,null,null,null,null,null,null,{"$f":"IF('教育訓練費入力（前期）'!$C951=\"\",\"\",TEXT('教育訓練費入力（前期）'!$C951,\"yyyy年\")&TEXT('教育訓練費入力（前期）'!$C951,\"m月\")&TEXT('教育訓練費入力（前期）'!$C951,\"ｄ日\")&\"から\"&'教育訓練費入力（前期）'!$D951&\"日間\")","v":""},{"$f":"IF('教育訓練費入力（前期）'!$F951=\"\",\"\",IF('教育訓練費入力（前期）'!$G951=1,'教育訓練費入力（前期）'!$F951,'教育訓練費入力（前期）'!$F951&\"他\"&'教育訓練費入力（前期）'!$G951-1&\"名\"))","v":""}]
[null,943,null,null,null,null,null,null,null,null,{"$f":"IF('教育訓練費入力（前期）'!$C952=\"\",\"\",TEXT('教育訓練費入力（前期）'!$C952,\"yyyy年\")&TEXT('教育訓練費入力（前期）'!$C952,\"m月\")&TEXT('教育訓練費入力（前期）'!$C952,\"ｄ日\")&\"から\"&'教育訓練費入力（前期）'!$D952&\"日間\")","v":""},{"$f":"IF('教育訓練費入力（前期）'!$F952=\"\",\"\",IF('教育訓練費入力（前期）'!$G952=1,'教育訓練費入力（前期）'!$F952,'教育訓練費入力（前期）'!$F952&\"他\"&'教育訓練費入力（前期）'!$G952-1&\"名\"))","v":""}]
[null,944,null,null,null,null,null,null,null,null,{"$f":"IF('教育訓練費入力（前期）'!$C953=\"\",\"\",TEXT('教育訓練費入力（前期）'!$C953,\"yyyy年\")&TEXT('教育訓練費入力（前期）'!$C953,\"m月\")&TEXT('教育訓練費入力（前期）'!$C953,\"ｄ日\")&\"から\"&'教育訓練費入力（前期）'!$D953&\"日間\")","v":""},{"$f":"IF('教育訓練費入力（前期）'!$F953=\"\",\"\",IF('教育訓練費入力（前期）'!$G953=1,'教育訓練費入力（前期）'!$F953,'教育訓練費入力（前期）'!$F953&\"他\"&'教育訓練費入力（前期）'!$G953-1&\"名\"))","v":""}]
[null,945,null,null,null,null,null,null,null,null,{"$f":"IF('教育訓練費入力（前期）'!$C954=\"\",\"\",TEXT('教育訓練費入力（前期）'!$C954,\"yyyy年\")&TEXT('教育訓練費入力（前期）'!$C954,\"m月\")&TEXT('教育訓練費入力（前期）'!$C954,\"ｄ日\")&\"から\"&'教育訓練費入力（前期）'!$D954&\"日間\")","v":""},{"$f":"IF('教育訓練費入力（前期）'!$F954=\"\",\"\",IF('教育訓練費入力（前期）'!$G954=1,'教育訓練費入力（前期）'!$F954,'教育訓練費入力（前期）'!$F954&\"他\"&'教育訓練費入力（前期）'!$G954-1&\"名\"))","v":""}]
[null,946,null,null,null,null,null,null,null,null,{"$f":"IF('教育訓練費入力（前期）'!$C955=\"\",\"\",TEXT('教育訓練費入力（前期）'!$C955,\"yyyy年\")&TEXT('教育訓練費入力（前期）'!$C955,\"m月\")&TEXT('教育訓練費入力（前期）'!$C955,\"ｄ日\")&\"から\"&'教育訓練費入力（前期）'!$D955&\"日間\")","v":""},{"$f":"IF('教育訓練費入力（前期）'!$F955=\"\",\"\",IF('教育訓練費入力（前期）'!$G955=1,'教育訓練費入力（前期）'!$F955,'教育訓練費入力（前期）'!$F955&\"他\"&'教育訓練費入力（前期）'!$G955-1&\"名\"))","v":""}]
[null,947,null,null,null,null,null,null,null,null,{"$f":"IF('教育訓練費入力（前期）'!$C956=\"\",\"\",TEXT('教育訓練費入力（前期）'!$C956,\"yyyy年\")&TEXT('教育訓練費入力（前期）'!$C956,\"m月\")&TEXT('教育訓練費入力（前期）'!$C956,\"ｄ日\")&\"から\"&'教育訓練費入力（前期）'!$D956&\"日間\")","v":""},{"$f":"IF('教育訓練費入力（前期）'!$F956=\"\",\"\",IF('教育訓練費入力（前期）'!$G956=1,'教育訓練費入力（前期）'!$F956,'教育訓練費入力（前期）'!$F956&\"他\"&'教育訓練費入力（前期）'!$G956-1&\"名\"))","v":""}]
[null,948,null,null,null,null,null,null,null,null,{"$f":"IF('教育訓練費入力（前期）'!$C957=\"\",\"\",TEXT('教育訓練費入力（前期）'!$C957,\"yyyy年\")&TEXT('教育訓練費入力（前期）'!$C957,\"m月\")&TEXT('教育訓練費入力（前期）'!$C957,\"ｄ日\")&\"から\"&'教育訓練費入力（前期）'!$D957&\"日間\")","v":""},{"$f":"IF('教育訓練費入力（前期）'!$F957=\"\",\"\",IF('教育訓練費入力（前期）'!$G957=1,'教育訓練費入力（前期）'!$F957,'教育訓練費入力（前期）'!$F957&\"他\"&'教育訓練費入力（前期）'!$G957-1&\"名\"))","v":""}]
[null,949,null,null,null,null,null,null,null,null,{"$f":"IF('教育訓練費入力（前期）'!$C958=\"\",\"\",TEXT('教育訓練費入力（前期）'!$C958,\"yyyy年\")&TEXT('教育訓練費入力（前期）'!$C958,\"m月\")&TEXT('教育訓練費入力（前期）'!$C958,\"ｄ日\")&\"から\"&'教育訓練費入力（前期）'!$D958&\"日間\")","v":""},{"$f":"IF('教育訓練費入力（前期）'!$F958=\"\",\"\",IF('教育訓練費入力（前期）'!$G958=1,'教育訓練費入力（前期）'!$F958,'教育訓練費入力（前期）'!$F958&\"他\"&'教育訓練費入力（前期）'!$G958-1&\"名\"))","v":""}]
[null,950,null,null,null,null,null,null,null,null,{"$f":"IF('教育訓練費入力（前期）'!$C959=\"\",\"\",TEXT('教育訓練費入力（前期）'!$C959,\"yyyy年\")&TEXT('教育訓練費入力（前期）'!$C959,\"m月\")&TEXT('教育訓練費入力（前期）'!$C959,\"ｄ日\")&\"から\"&'教育訓練費入力（前期）'!$D959&\"日間\")","v":""},{"$f":"IF('教育訓練費入力（前期）'!$F959=\"\",\"\",IF('教育訓練費入力（前期）'!$G959=1,'教育訓練費入力（前期）'!$F959,'教育訓練費入力（前期）'!$F959&\"他\"&'教育訓練費入力（前期）'!$G959-1&\"名\"))","v":""}]
[null,951,null,null,null,null,null,null,null,null,{"$f":"IF('教育訓練費入力（前期）'!$C960=\"\",\"\",TEXT('教育訓練費入力（前期）'!$C960,\"yyyy年\")&TEXT('教育訓練費入力（前期）'!$C960,\"m月\")&TEXT('教育訓練費入力（前期）'!$C960,\"ｄ日\")&\"から\"&'教育訓練費入力（前期）'!$D960&\"日間\")","v":""},{"$f":"IF('教育訓練費入力（前期）'!$F960=\"\",\"\",IF('教育訓練費入力（前期）'!$G960=1,'教育訓練費入力（前期）'!$F960,'教育訓練費入力（前期）'!$F960&\"他\"&'教育訓練費入力（前期）'!$G960-1&\"名\"))","v":""}]
[null,952,null,null,null,null,null,null,null,null,{"$f":"IF('教育訓練費入力（前期）'!$C961=\"\",\"\",TEXT('教育訓練費入力（前期）'!$C961,\"yyyy年\")&TEXT('教育訓練費入力（前期）'!$C961,\"m月\")&TEXT('教育訓練費入力（前期）'!$C961,\"ｄ日\")&\"から\"&'教育訓練費入力（前期）'!$D961&\"日間\")","v":""},{"$f":"IF('教育訓練費入力（前期）'!$F961=\"\",\"\",IF('教育訓練費入力（前期）'!$G961=1,'教育訓練費入力（前期）'!$F961,'教育訓練費入力（前期）'!$F961&\"他\"&'教育訓練費入力（前期）'!$G961-1&\"名\"))","v":""}]
[null,953,null,null,null,null,null,null,null,null,{"$f":"IF('教育訓練費入力（前期）'!$C962=\"\",\"\",TEXT('教育訓練費入力（前期）'!$C962,\"yyyy年\")&TEXT('教育訓練費入力（前期）'!$C962,\"m月\")&TEXT('教育訓練費入力（前期）'!$C962,\"ｄ日\")&\"から\"&'教育訓練費入力（前期）'!$D962&\"日間\")","v":""},{"$f":"IF('教育訓練費入力（前期）'!$F962=\"\",\"\",IF('教育訓練費入力（前期）'!$G962=1,'教育訓練費入力（前期）'!$F962,'教育訓練費入力（前期）'!$F962&\"他\"&'教育訓練費入力（前期）'!$G962-1&\"名\"))","v":""}]
[null,954,null,null,null,null,null,null,null,null,{"$f":"IF('教育訓練費入力（前期）'!$C963=\"\",\"\",TEXT('教育訓練費入力（前期）'!$C963,\"yyyy年\")&TEXT('教育訓練費入力（前期）'!$C963,\"m月\")&TEXT('教育訓練費入力（前期）'!$C963,\"ｄ日\")&\"から\"&'教育訓練費入力（前期）'!$D963&\"日間\")","v":""},{"$f":"IF('教育訓練費入力（前期）'!$F963=\"\",\"\",IF('教育訓練費入力（前期）'!$G963=1,'教育訓練費入力（前期）'!$F963,'教育訓練費入力（前期）'!$F963&\"他\"&'教育訓練費入力（前期）'!$G963-1&\"名\"))","v":""}]
[null,955,null,null,null,null,null,null,null,null,{"$f":"IF('教育訓練費入力（前期）'!$C964=\"\",\"\",TEXT('教育訓練費入力（前期）'!$C964,\"yyyy年\")&TEXT('教育訓練費入力（前期）'!$C964,\"m月\")&TEXT('教育訓練費入力（前期）'!$C964,\"ｄ日\")&\"から\"&'教育訓練費入力（前期）'!$D964&\"日間\")","v":""},{"$f":"IF('教育訓練費入力（前期）'!$F964=\"\",\"\",IF('教育訓練費入力（前期）'!$G964=1,'教育訓練費入力（前期）'!$F964,'教育訓練費入力（前期）'!$F964&\"他\"&'教育訓練費入力（前期）'!$G964-1&\"名\"))","v":""}]
[null,956,null,null,null,null,null,null,null,null,{"$f":"IF('教育訓練費入力（前期）'!$C965=\"\",\"\",TEXT('教育訓練費入力（前期）'!$C965,\"yyyy年\")&TEXT('教育訓練費入力（前期）'!$C965,\"m月\")&TEXT('教育訓練費入力（前期）'!$C965,\"ｄ日\")&\"から\"&'教育訓練費入力（前期）'!$D965&\"日間\")","v":""},{"$f":"IF('教育訓練費入力（前期）'!$F965=\"\",\"\",IF('教育訓練費入力（前期）'!$G965=1,'教育訓練費入力（前期）'!$F965,'教育訓練費入力（前期）'!$F965&\"他\"&'教育訓練費入力（前期）'!$G965-1&\"名\"))","v":""}]
[null,957,null,null,null,null,null,null,null,null,{"$f":"IF('教育訓練費入力（前期）'!$C966=\"\",\"\",TEXT('教育訓練費入力（前期）'!$C966,\"yyyy年\")&TEXT('教育訓練費入力（前期）'!$C966,\"m月\")&TEXT('教育訓練費入力（前期）'!$C966,\"ｄ日\")&\"から\"&'教育訓練費入力（前期）'!$D966&\"日間\")","v":""},{"$f":"IF('教育訓練費入力（前期）'!$F966=\"\",\"\",IF('教育訓練費入力（前期）'!$G966=1,'教育訓練費入力（前期）'!$F966,'教育訓練費入力（前期）'!$F966&\"他\"&'教育訓練費入力（前期）'!$G966-1&\"名\"))","v":""}]
[null,958,null,null,null,null,null,null,null,null,{"$f":"IF('教育訓練費入力（前期）'!$C967=\"\",\"\",TEXT('教育訓練費入力（前期）'!$C967,\"yyyy年\")&TEXT('教育訓練費入力（前期）'!$C967,\"m月\")&TEXT('教育訓練費入力（前期）'!$C967,\"ｄ日\")&\"から\"&'教育訓練費入力（前期）'!$D967&\"日間\")","v":""},{"$f":"IF('教育訓練費入力（前期）'!$F967=\"\",\"\",IF('教育訓練費入力（前期）'!$G967=1,'教育訓練費入力（前期）'!$F967,'教育訓練費入力（前期）'!$F967&\"他\"&'教育訓練費入力（前期）'!$G967-1&\"名\"))","v":""}]
[null,959,null,null,null,null,null,null,null,null,{"$f":"IF('教育訓練費入力（前期）'!$C968=\"\",\"\",TEXT('教育訓練費入力（前期）'!$C968,\"yyyy年\")&TEXT('教育訓練費入力（前期）'!$C968,\"m月\")&TEXT('教育訓練費入力（前期）'!$C968,\"ｄ日\")&\"から\"&'教育訓練費入力（前期）'!$D968&\"日間\")","v":""},{"$f":"IF('教育訓練費入力（前期）'!$F968=\"\",\"\",IF('教育訓練費入力（前期）'!$G968=1,'教育訓練費入力（前期）'!$F968,'教育訓練費入力（前期）'!$F968&\"他\"&'教育訓練費入力（前期）'!$G968-1&\"名\"))","v":""}]
[null,960,null,null,null,null,null,null,null,null,{"$f":"IF('教育訓練費入力（前期）'!$C969=\"\",\"\",TEXT('教育訓練費入力（前期）'!$C969,\"yyyy年\")&TEXT('教育訓練費入力（前期）'!$C969,\"m月\")&TEXT('教育訓練費入力（前期）'!$C969,\"ｄ日\")&\"から\"&'教育訓練費入力（前期）'!$D969&\"日間\")","v":""},{"$f":"IF('教育訓練費入力（前期）'!$F969=\"\",\"\",IF('教育訓練費入力（前期）'!$G969=1,'教育訓練費入力（前期）'!$F969,'教育訓練費入力（前期）'!$F969&\"他\"&'教育訓練費入力（前期）'!$G969-1&\"名\"))","v":""}]
[null,961,null,null,null,null,null,null,null,null,{"$f":"IF('教育訓練費入力（前期）'!$C970=\"\",\"\",TEXT('教育訓練費入力（前期）'!$C970,\"yyyy年\")&TEXT('教育訓練費入力（前期）'!$C970,\"m月\")&TEXT('教育訓練費入力（前期）'!$C970,\"ｄ日\")&\"から\"&'教育訓練費入力（前期）'!$D970&\"日間\")","v":""},{"$f":"IF('教育訓練費入力（前期）'!$F970=\"\",\"\",IF('教育訓練費入力（前期）'!$G970=1,'教育訓練費入力（前期）'!$F970,'教育訓練費入力（前期）'!$F970&\"他\"&'教育訓練費入力（前期）'!$G970-1&\"名\"))","v":""}]
[null,962,null,null,null,null,null,null,null,null,{"$f":"IF('教育訓練費入力（前期）'!$C971=\"\",\"\",TEXT('教育訓練費入力（前期）'!$C971,\"yyyy年\")&TEXT('教育訓練費入力（前期）'!$C971,\"m月\")&TEXT('教育訓練費入力（前期）'!$C971,\"ｄ日\")&\"から\"&'教育訓練費入力（前期）'!$D971&\"日間\")","v":""},{"$f":"IF('教育訓練費入力（前期）'!$F971=\"\",\"\",IF('教育訓練費入力（前期）'!$G971=1,'教育訓練費入力（前期）'!$F971,'教育訓練費入力（前期）'!$F971&\"他\"&'教育訓練費入力（前期）'!$G971-1&\"名\"))","v":""}]
[null,963,null,null,null,null,null,null,null,null,{"$f":"IF('教育訓練費入力（前期）'!$C972=\"\",\"\",TEXT('教育訓練費入力（前期）'!$C972,\"yyyy年\")&TEXT('教育訓練費入力（前期）'!$C972,\"m月\")&TEXT('教育訓練費入力（前期）'!$C972,\"ｄ日\")&\"から\"&'教育訓練費入力（前期）'!$D972&\"日間\")","v":""},{"$f":"IF('教育訓練費入力（前期）'!$F972=\"\",\"\",IF('教育訓練費入力（前期）'!$G972=1,'教育訓練費入力（前期）'!$F972,'教育訓練費入力（前期）'!$F972&\"他\"&'教育訓練費入力（前期）'!$G972-1&\"名\"))","v":""}]
[null,964,null,null,null,null,null,null,null,null,{"$f":"IF('教育訓練費入力（前期）'!$C973=\"\",\"\",TEXT('教育訓練費入力（前期）'!$C973,\"yyyy年\")&TEXT('教育訓練費入力（前期）'!$C973,\"m月\")&TEXT('教育訓練費入力（前期）'!$C973,\"ｄ日\")&\"から\"&'教育訓練費入力（前期）'!$D973&\"日間\")","v":""},{"$f":"IF('教育訓練費入力（前期）'!$F973=\"\",\"\",IF('教育訓練費入力（前期）'!$G973=1,'教育訓練費入力（前期）'!$F973,'教育訓練費入力（前期）'!$F973&\"他\"&'教育訓練費入力（前期）'!$G973-1&\"名\"))","v":""}]
[null,965,null,null,null,null,null,null,null,null,{"$f":"IF('教育訓練費入力（前期）'!$C974=\"\",\"\",TEXT('教育訓練費入力（前期）'!$C974,\"yyyy年\")&TEXT('教育訓練費入力（前期）'!$C974,\"m月\")&TEXT('教育訓練費入力（前期）'!$C974,\"ｄ日\")&\"から\"&'教育訓練費入力（前期）'!$D974&\"日間\")","v":""},{"$f":"IF('教育訓練費入力（前期）'!$F974=\"\",\"\",IF('教育訓練費入力（前期）'!$G974=1,'教育訓練費入力（前期）'!$F974,'教育訓練費入力（前期）'!$F974&\"他\"&'教育訓練費入力（前期）'!$G974-1&\"名\"))","v":""}]
[null,966,null,null,null,null,null,null,null,null,{"$f":"IF('教育訓練費入力（前期）'!$C975=\"\",\"\",TEXT('教育訓練費入力（前期）'!$C975,\"yyyy年\")&TEXT('教育訓練費入力（前期）'!$C975,\"m月\")&TEXT('教育訓練費入力（前期）'!$C975,\"ｄ日\")&\"から\"&'教育訓練費入力（前期）'!$D975&\"日間\")","v":""},{"$f":"IF('教育訓練費入力（前期）'!$F975=\"\",\"\",IF('教育訓練費入力（前期）'!$G975=1,'教育訓練費入力（前期）'!$F975,'教育訓練費入力（前期）'!$F975&\"他\"&'教育訓練費入力（前期）'!$G975-1&\"名\"))","v":""}]
[null,967,null,null,null,null,null,null,null,null,{"$f":"IF('教育訓練費入力（前期）'!$C976=\"\",\"\",TEXT('教育訓練費入力（前期）'!$C976,\"yyyy年\")&TEXT('教育訓練費入力（前期）'!$C976,\"m月\")&TEXT('教育訓練費入力（前期）'!$C976,\"ｄ日\")&\"から\"&'教育訓練費入力（前期）'!$D976&\"日間\")","v":""},{"$f":"IF('教育訓練費入力（前期）'!$F976=\"\",\"\",IF('教育訓練費入力（前期）'!$G976=1,'教育訓練費入力（前期）'!$F976,'教育訓練費入力（前期）'!$F976&\"他\"&'教育訓練費入力（前期）'!$G976-1&\"名\"))","v":""}]
[null,968,null,null,null,null,null,null,null,null,{"$f":"IF('教育訓練費入力（前期）'!$C977=\"\",\"\",TEXT('教育訓練費入力（前期）'!$C977,\"yyyy年\")&TEXT('教育訓練費入力（前期）'!$C977,\"m月\")&TEXT('教育訓練費入力（前期）'!$C977,\"ｄ日\")&\"から\"&'教育訓練費入力（前期）'!$D977&\"日間\")","v":""},{"$f":"IF('教育訓練費入力（前期）'!$F977=\"\",\"\",IF('教育訓練費入力（前期）'!$G977=1,'教育訓練費入力（前期）'!$F977,'教育訓練費入力（前期）'!$F977&\"他\"&'教育訓練費入力（前期）'!$G977-1&\"名\"))","v":""}]
[null,969,null,null,null,null,null,null,null,null,{"$f":"IF('教育訓練費入力（前期）'!$C978=\"\",\"\",TEXT('教育訓練費入力（前期）'!$C978,\"yyyy年\")&TEXT('教育訓練費入力（前期）'!$C978,\"m月\")&TEXT('教育訓練費入力（前期）'!$C978,\"ｄ日\")&\"から\"&'教育訓練費入力（前期）'!$D978&\"日間\")","v":""},{"$f":"IF('教育訓練費入力（前期）'!$F978=\"\",\"\",IF('教育訓練費入力（前期）'!$G978=1,'教育訓練費入力（前期）'!$F978,'教育訓練費入力（前期）'!$F978&\"他\"&'教育訓練費入力（前期）'!$G978-1&\"名\"))","v":""}]
[null,970,null,null,null,null,null,null,null,null,{"$f":"IF('教育訓練費入力（前期）'!$C979=\"\",\"\",TEXT('教育訓練費入力（前期）'!$C979,\"yyyy年\")&TEXT('教育訓練費入力（前期）'!$C979,\"m月\")&TEXT('教育訓練費入力（前期）'!$C979,\"ｄ日\")&\"から\"&'教育訓練費入力（前期）'!$D979&\"日間\")","v":""},{"$f":"IF('教育訓練費入力（前期）'!$F979=\"\",\"\",IF('教育訓練費入力（前期）'!$G979=1,'教育訓練費入力（前期）'!$F979,'教育訓練費入力（前期）'!$F979&\"他\"&'教育訓練費入力（前期）'!$G979-1&\"名\"))","v":""}]
[null,971,null,null,null,null,null,null,null,null,{"$f":"IF('教育訓練費入力（前期）'!$C980=\"\",\"\",TEXT('教育訓練費入力（前期）'!$C980,\"yyyy年\")&TEXT('教育訓練費入力（前期）'!$C980,\"m月\")&TEXT('教育訓練費入力（前期）'!$C980,\"ｄ日\")&\"から\"&'教育訓練費入力（前期）'!$D980&\"日間\")","v":""},{"$f":"IF('教育訓練費入力（前期）'!$F980=\"\",\"\",IF('教育訓練費入力（前期）'!$G980=1,'教育訓練費入力（前期）'!$F980,'教育訓練費入力（前期）'!$F980&\"他\"&'教育訓練費入力（前期）'!$G980-1&\"名\"))","v":""}]
[null,972,null,null,null,null,null,null,null,null,{"$f":"IF('教育訓練費入力（前期）'!$C981=\"\",\"\",TEXT('教育訓練費入力（前期）'!$C981,\"yyyy年\")&TEXT('教育訓練費入力（前期）'!$C981,\"m月\")&TEXT('教育訓練費入力（前期）'!$C981,\"ｄ日\")&\"から\"&'教育訓練費入力（前期）'!$D981&\"日間\")","v":""},{"$f":"IF('教育訓練費入力（前期）'!$F981=\"\",\"\",IF('教育訓練費入力（前期）'!$G981=1,'教育訓練費入力（前期）'!$F981,'教育訓練費入力（前期）'!$F981&\"他\"&'教育訓練費入力（前期）'!$G981-1&\"名\"))","v":""}]
[null,973,null,null,null,null,null,null,null,null,{"$f":"IF('教育訓練費入力（前期）'!$C982=\"\",\"\",TEXT('教育訓練費入力（前期）'!$C982,\"yyyy年\")&TEXT('教育訓練費入力（前期）'!$C982,\"m月\")&TEXT('教育訓練費入力（前期）'!$C982,\"ｄ日\")&\"から\"&'教育訓練費入力（前期）'!$D982&\"日間\")","v":""},{"$f":"IF('教育訓練費入力（前期）'!$F982=\"\",\"\",IF('教育訓練費入力（前期）'!$G982=1,'教育訓練費入力（前期）'!$F982,'教育訓練費入力（前期）'!$F982&\"他\"&'教育訓練費入力（前期）'!$G982-1&\"名\"))","v":""}]
[null,974,null,null,null,null,null,null,null,null,{"$f":"IF('教育訓練費入力（前期）'!$C983=\"\",\"\",TEXT('教育訓練費入力（前期）'!$C983,\"yyyy年\")&TEXT('教育訓練費入力（前期）'!$C983,\"m月\")&TEXT('教育訓練費入力（前期）'!$C983,\"ｄ日\")&\"から\"&'教育訓練費入力（前期）'!$D983&\"日間\")","v":""},{"$f":"IF('教育訓練費入力（前期）'!$F983=\"\",\"\",IF('教育訓練費入力（前期）'!$G983=1,'教育訓練費入力（前期）'!$F983,'教育訓練費入力（前期）'!$F983&\"他\"&'教育訓練費入力（前期）'!$G983-1&\"名\"))","v":""}]
[null,975,null,null,null,null,null,null,null,null,{"$f":"IF('教育訓練費入力（前期）'!$C984=\"\",\"\",TEXT('教育訓練費入力（前期）'!$C984,\"yyyy年\")&TEXT('教育訓練費入力（前期）'!$C984,\"m月\")&TEXT('教育訓練費入力（前期）'!$C984,\"ｄ日\")&\"から\"&'教育訓練費入力（前期）'!$D984&\"日間\")","v":""},{"$f":"IF('教育訓練費入力（前期）'!$F984=\"\",\"\",IF('教育訓練費入力（前期）'!$G984=1,'教育訓練費入力（前期）'!$F984,'教育訓練費入力（前期）'!$F984&\"他\"&'教育訓練費入力（前期）'!$G984-1&\"名\"))","v":""}]
[null,976,null,null,null,null,null,null,null,null,{"$f":"IF('教育訓練費入力（前期）'!$C985=\"\",\"\",TEXT('教育訓練費入力（前期）'!$C985,\"yyyy年\")&TEXT('教育訓練費入力（前期）'!$C985,\"m月\")&TEXT('教育訓練費入力（前期）'!$C985,\"ｄ日\")&\"から\"&'教育訓練費入力（前期）'!$D985&\"日間\")","v":""},{"$f":"IF('教育訓練費入力（前期）'!$F985=\"\",\"\",IF('教育訓練費入力（前期）'!$G985=1,'教育訓練費入力（前期）'!$F985,'教育訓練費入力（前期）'!$F985&\"他\"&'教育訓練費入力（前期）'!$G985-1&\"名\"))","v":""}]
[null,977,null,null,null,null,null,null,null,null,{"$f":"IF('教育訓練費入力（前期）'!$C986=\"\",\"\",TEXT('教育訓練費入力（前期）'!$C986,\"yyyy年\")&TEXT('教育訓練費入力（前期）'!$C986,\"m月\")&TEXT('教育訓練費入力（前期）'!$C986,\"ｄ日\")&\"から\"&'教育訓練費入力（前期）'!$D986&\"日間\")","v":""},{"$f":"IF('教育訓練費入力（前期）'!$F986=\"\",\"\",IF('教育訓練費入力（前期）'!$G986=1,'教育訓練費入力（前期）'!$F986,'教育訓練費入力（前期）'!$F986&\"他\"&'教育訓練費入力（前期）'!$G986-1&\"名\"))","v":""}]
[null,978,null,null,null,null,null,null,null,null,{"$f":"IF('教育訓練費入力（前期）'!$C987=\"\",\"\",TEXT('教育訓練費入力（前期）'!$C987,\"yyyy年\")&TEXT('教育訓練費入力（前期）'!$C987,\"m月\")&TEXT('教育訓練費入力（前期）'!$C987,\"ｄ日\")&\"から\"&'教育訓練費入力（前期）'!$D987&\"日間\")","v":""},{"$f":"IF('教育訓練費入力（前期）'!$F987=\"\",\"\",IF('教育訓練費入力（前期）'!$G987=1,'教育訓練費入力（前期）'!$F987,'教育訓練費入力（前期）'!$F987&\"他\"&'教育訓練費入力（前期）'!$G987-1&\"名\"))","v":""}]
[null,979,null,null,null,null,null,null,null,null,{"$f":"IF('教育訓練費入力（前期）'!$C988=\"\",\"\",TEXT('教育訓練費入力（前期）'!$C988,\"yyyy年\")&TEXT('教育訓練費入力（前期）'!$C988,\"m月\")&TEXT('教育訓練費入力（前期）'!$C988,\"ｄ日\")&\"から\"&'教育訓練費入力（前期）'!$D988&\"日間\")","v":""},{"$f":"IF('教育訓練費入力（前期）'!$F988=\"\",\"\",IF('教育訓練費入力（前期）'!$G988=1,'教育訓練費入力（前期）'!$F988,'教育訓練費入力（前期）'!$F988&\"他\"&'教育訓練費入力（前期）'!$G988-1&\"名\"))","v":""}]
[null,980,null,null,null,null,null,null,null,null,{"$f":"IF('教育訓練費入力（前期）'!$C989=\"\",\"\",TEXT('教育訓練費入力（前期）'!$C989,\"yyyy年\")&TEXT('教育訓練費入力（前期）'!$C989,\"m月\")&TEXT('教育訓練費入力（前期）'!$C989,\"ｄ日\")&\"から\"&'教育訓練費入力（前期）'!$D989&\"日間\")","v":""},{"$f":"IF('教育訓練費入力（前期）'!$F989=\"\",\"\",IF('教育訓練費入力（前期）'!$G989=1,'教育訓練費入力（前期）'!$F989,'教育訓練費入力（前期）'!$F989&\"他\"&'教育訓練費入力（前期）'!$G989-1&\"名\"))","v":""}]
[null,981,null,null,null,null,null,null,null,null,{"$f":"IF('教育訓練費入力（前期）'!$C990=\"\",\"\",TEXT('教育訓練費入力（前期）'!$C990,\"yyyy年\")&TEXT('教育訓練費入力（前期）'!$C990,\"m月\")&TEXT('教育訓練費入力（前期）'!$C990,\"ｄ日\")&\"から\"&'教育訓練費入力（前期）'!$D990&\"日間\")","v":""},{"$f":"IF('教育訓練費入力（前期）'!$F990=\"\",\"\",IF('教育訓練費入力（前期）'!$G990=1,'教育訓練費入力（前期）'!$F990,'教育訓練費入力（前期）'!$F990&\"他\"&'教育訓練費入力（前期）'!$G990-1&\"名\"))","v":""}]
[null,982,null,null,null,null,null,null,null,null,{"$f":"IF('教育訓練費入力（前期）'!$C991=\"\",\"\",TEXT('教育訓練費入力（前期）'!$C991,\"yyyy年\")&TEXT('教育訓練費入力（前期）'!$C991,\"m月\")&TEXT('教育訓練費入力（前期）'!$C991,\"ｄ日\")&\"から\"&'教育訓練費入力（前期）'!$D991&\"日間\")","v":""},{"$f":"IF('教育訓練費入力（前期）'!$F991=\"\",\"\",IF('教育訓練費入力（前期）'!$G991=1,'教育訓練費入力（前期）'!$F991,'教育訓練費入力（前期）'!$F991&\"他\"&'教育訓練費入力（前期）'!$G991-1&\"名\"))","v":""}]
[null,983,null,null,null,null,null,null,null,null,{"$f":"IF('教育訓練費入力（前期）'!$C992=\"\",\"\",TEXT('教育訓練費入力（前期）'!$C992,\"yyyy年\")&TEXT('教育訓練費入力（前期）'!$C992,\"m月\")&TEXT('教育訓練費入力（前期）'!$C992,\"ｄ日\")&\"から\"&'教育訓練費入力（前期）'!$D992&\"日間\")","v":""},{"$f":"IF('教育訓練費入力（前期）'!$F992=\"\",\"\",IF('教育訓練費入力（前期）'!$G992=1,'教育訓練費入力（前期）'!$F992,'教育訓練費入力（前期）'!$F992&\"他\"&'教育訓練費入力（前期）'!$G992-1&\"名\"))","v":""}]
[null,984,null,null,null,null,null,null,null,null,{"$f":"IF('教育訓練費入力（前期）'!$C993=\"\",\"\",TEXT('教育訓練費入力（前期）'!$C993,\"yyyy年\")&TEXT('教育訓練費入力（前期）'!$C993,\"m月\")&TEXT('教育訓練費入力（前期）'!$C993,\"ｄ日\")&\"から\"&'教育訓練費入力（前期）'!$D993&\"日間\")","v":""},{"$f":"IF('教育訓練費入力（前期）'!$F993=\"\",\"\",IF('教育訓練費入力（前期）'!$G993=1,'教育訓練費入力（前期）'!$F993,'教育訓練費入力（前期）'!$F993&\"他\"&'教育訓練費入力（前期）'!$G993-1&\"名\"))","v":""}]
[null,985,null,null,null,null,null,null,null,null,{"$f":"IF('教育訓練費入力（前期）'!$C994=\"\",\"\",TEXT('教育訓練費入力（前期）'!$C994,\"yyyy年\")&TEXT('教育訓練費入力（前期）'!$C994,\"m月\")&TEXT('教育訓練費入力（前期）'!$C994,\"ｄ日\")&\"から\"&'教育訓練費入力（前期）'!$D994&\"日間\")","v":""},{"$f":"IF('教育訓練費入力（前期）'!$F994=\"\",\"\",IF('教育訓練費入力（前期）'!$G994=1,'教育訓練費入力（前期）'!$F994,'教育訓練費入力（前期）'!$F994&\"他\"&'教育訓練費入力（前期）'!$G994-1&\"名\"))","v":""}]
[null,986,null,null,null,null,null,null,null,null,{"$f":"IF('教育訓練費入力（前期）'!$C995=\"\",\"\",TEXT('教育訓練費入力（前期）'!$C995,\"yyyy年\")&TEXT('教育訓練費入力（前期）'!$C995,\"m月\")&TEXT('教育訓練費入力（前期）'!$C995,\"ｄ日\")&\"から\"&'教育訓練費入力（前期）'!$D995&\"日間\")","v":""},{"$f":"IF('教育訓練費入力（前期）'!$F995=\"\",\"\",IF('教育訓練費入力（前期）'!$G995=1,'教育訓練費入力（前期）'!$F995,'教育訓練費入力（前期）'!$F995&\"他\"&'教育訓練費入力（前期）'!$G995-1&\"名\"))","v":""}]
[null,987,null,null,null,null,null,null,null,null,{"$f":"IF('教育訓練費入力（前期）'!$C996=\"\",\"\",TEXT('教育訓練費入力（前期）'!$C996,\"yyyy年\")&TEXT('教育訓練費入力（前期）'!$C996,\"m月\")&TEXT('教育訓練費入力（前期）'!$C996,\"ｄ日\")&\"から\"&'教育訓練費入力（前期）'!$D996&\"日間\")","v":""},{"$f":"IF('教育訓練費入力（前期）'!$F996=\"\",\"\",IF('教育訓練費入力（前期）'!$G996=1,'教育訓練費入力（前期）'!$F996,'教育訓練費入力（前期）'!$F996&\"他\"&'教育訓練費入力（前期）'!$G996-1&\"名\"))","v":""}]
[null,988,null,null,null,null,null,null,null,null,{"$f":"IF('教育訓練費入力（前期）'!$C997=\"\",\"\",TEXT('教育訓練費入力（前期）'!$C997,\"yyyy年\")&TEXT('教育訓練費入力（前期）'!$C997,\"m月\")&TEXT('教育訓練費入力（前期）'!$C997,\"ｄ日\")&\"から\"&'教育訓練費入力（前期）'!$D997&\"日間\")","v":""},{"$f":"IF('教育訓練費入力（前期）'!$F997=\"\",\"\",IF('教育訓練費入力（前期）'!$G997=1,'教育訓練費入力（前期）'!$F997,'教育訓練費入力（前期）'!$F997&\"他\"&'教育訓練費入力（前期）'!$G997-1&\"名\"))","v":""}]
[null,989,null,null,null,null,null,null,null,null,{"$f":"IF('教育訓練費入力（前期）'!$C998=\"\",\"\",TEXT('教育訓練費入力（前期）'!$C998,\"yyyy年\")&TEXT('教育訓練費入力（前期）'!$C998,\"m月\")&TEXT('教育訓練費入力（前期）'!$C998,\"ｄ日\")&\"から\"&'教育訓練費入力（前期）'!$D998&\"日間\")","v":""},{"$f":"IF('教育訓練費入力（前期）'!$F998=\"\",\"\",IF('教育訓練費入力（前期）'!$G998=1,'教育訓練費入力（前期）'!$F998,'教育訓練費入力（前期）'!$F998&\"他\"&'教育訓練費入力（前期）'!$G998-1&\"名\"))","v":""}]
[null,990,null,null,null,null,null,null,null,null,{"$f":"IF('教育訓練費入力（前期）'!$C999=\"\",\"\",TEXT('教育訓練費入力（前期）'!$C999,\"yyyy年\")&TEXT('教育訓練費入力（前期）'!$C999,\"m月\")&TEXT('教育訓練費入力（前期）'!$C999,\"ｄ日\")&\"から\"&'教育訓練費入力（前期）'!$D999&\"日間\")","v":""},{"$f":"IF('教育訓練費入力（前期）'!$F999=\"\",\"\",IF('教育訓練費入力（前期）'!$G999=1,'教育訓練費入力（前期）'!$F999,'教育訓練費入力（前期）'!$F999&\"他\"&'教育訓練費入力（前期）'!$G999-1&\"名\"))","v":""}]
[null,991,null,null,null,null,null,null,null,null,{"$f":"IF('教育訓練費入力（前期）'!$C1000=\"\",\"\",TEXT('教育訓練費入力（前期）'!$C1000,\"yyyy年\")&TEXT('教育訓練費入力（前期）'!$C1000,\"m月\")&TEXT('教育訓練費入力（前期）'!$C1000,\"ｄ日\")&\"から\"&'教育訓練費入力（前期）'!$D1000&\"日間\")","v":""},{"$f":"IF('教育訓練費入力（前期）'!$F1000=\"\",\"\",IF('教育訓練費入力（前期）'!$G1000=1,'教育訓練費入力（前期）'!$F1000,'教育訓練費入力（前期）'!$F1000&\"他\"&'教育訓練費入力（前期）'!$G1000-1&\"名\"))","v":""}]
[null,992,null,null,null,null,null,null,null,null,{"$f":"IF('教育訓練費入力（前期）'!$C1001=\"\",\"\",TEXT('教育訓練費入力（前期）'!$C1001,\"yyyy年\")&TEXT('教育訓練費入力（前期）'!$C1001,\"m月\")&TEXT('教育訓練費入力（前期）'!$C1001,\"ｄ日\")&\"から\"&'教育訓練費入力（前期）'!$D1001&\"日間\")","v":""},{"$f":"IF('教育訓練費入力（前期）'!$F1001=\"\",\"\",IF('教育訓練費入力（前期）'!$G1001=1,'教育訓練費入力（前期）'!$F1001,'教育訓練費入力（前期）'!$F1001&\"他\"&'教育訓練費入力（前期）'!$G1001-1&\"名\"))","v":""}]
[null,993,null,null,null,null,null,null,null,null,{"$f":"IF('教育訓練費入力（前期）'!$C1002=\"\",\"\",TEXT('教育訓練費入力（前期）'!$C1002,\"yyyy年\")&TEXT('教育訓練費入力（前期）'!$C1002,\"m月\")&TEXT('教育訓練費入力（前期）'!$C1002,\"ｄ日\")&\"から\"&'教育訓練費入力（前期）'!$D1002&\"日間\")","v":""},{"$f":"IF('教育訓練費入力（前期）'!$F1002=\"\",\"\",IF('教育訓練費入力（前期）'!$G1002=1,'教育訓練費入力（前期）'!$F1002,'教育訓練費入力（前期）'!$F1002&\"他\"&'教育訓練費入力（前期）'!$G1002-1&\"名\"))","v":""}]
[null,994,null,null,null,null,null,null,null,null,{"$f":"IF('教育訓練費入力（前期）'!$C1003=\"\",\"\",TEXT('教育訓練費入力（前期）'!$C1003,\"yyyy年\")&TEXT('教育訓練費入力（前期）'!$C1003,\"m月\")&TEXT('教育訓練費入力（前期）'!$C1003,\"ｄ日\")&\"から\"&'教育訓練費入力（前期）'!$D1003&\"日間\")","v":""},{"$f":"IF('教育訓練費入力（前期）'!$F1003=\"\",\"\",IF('教育訓練費入力（前期）'!$G1003=1,'教育訓練費入力（前期）'!$F1003,'教育訓練費入力（前期）'!$F1003&\"他\"&'教育訓練費入力（前期）'!$G1003-1&\"名\"))","v":""}]
[null,995,null,null,null,null,null,null,null,null,{"$f":"IF('教育訓練費入力（前期）'!$C1004=\"\",\"\",TEXT('教育訓練費入力（前期）'!$C1004,\"yyyy年\")&TEXT('教育訓練費入力（前期）'!$C1004,\"m月\")&TEXT('教育訓練費入力（前期）'!$C1004,\"ｄ日\")&\"から\"&'教育訓練費入力（前期）'!$D1004&\"日間\")","v":""},{"$f":"IF('教育訓練費入力（前期）'!$F1004=\"\",\"\",IF('教育訓練費入力（前期）'!$G1004=1,'教育訓練費入力（前期）'!$F1004,'教育訓練費入力（前期）'!$F1004&\"他\"&'教育訓練費入力（前期）'!$G1004-1&\"名\"))","v":""}]
[null,996,null,null,null,null,null,null,null,null,{"$f":"IF('教育訓練費入力（前期）'!$C1005=\"\",\"\",TEXT('教育訓練費入力（前期）'!$C1005,\"yyyy年\")&TEXT('教育訓練費入力（前期）'!$C1005,\"m月\")&TEXT('教育訓練費入力（前期）'!$C1005,\"ｄ日\")&\"から\"&'教育訓練費入力（前期）'!$D1005&\"日間\")","v":""},{"$f":"IF('教育訓練費入力（前期）'!$F1005=\"\",\"\",IF('教育訓練費入力（前期）'!$G1005=1,'教育訓練費入力（前期）'!$F1005,'教育訓練費入力（前期）'!$F1005&\"他\"&'教育訓練費入力（前期）'!$G1005-1&\"名\"))","v":""}]
[null,997,null,null,null,null,null,null,null,null,{"$f":"IF('教育訓練費入力（前期）'!$C1006=\"\",\"\",TEXT('教育訓練費入力（前期）'!$C1006,\"yyyy年\")&TEXT('教育訓練費入力（前期）'!$C1006,\"m月\")&TEXT('教育訓練費入力（前期）'!$C1006,\"ｄ日\")&\"から\"&'教育訓練費入力（前期）'!$D1006&\"日間\")","v":""},{"$f":"IF('教育訓練費入力（前期）'!$F1006=\"\",\"\",IF('教育訓練費入力（前期）'!$G1006=1,'教育訓練費入力（前期）'!$F1006,'教育訓練費入力（前期）'!$F1006&\"他\"&'教育訓練費入力（前期）'!$G1006-1&\"名\"))","v":""}]
[null,998,null,null,null,null,null,null,null,null,{"$f":"IF('教育訓練費入力（前期）'!$C1007=\"\",\"\",TEXT('教育訓練費入力（前期）'!$C1007,\"yyyy年\")&TEXT('教育訓練費入力（前期）'!$C1007,\"m月\")&TEXT('教育訓練費入力（前期）'!$C1007,\"ｄ日\")&\"から\"&'教育訓練費入力（前期）'!$D1007&\"日間\")","v":""},{"$f":"IF('教育訓練費入力（前期）'!$F1007=\"\",\"\",IF('教育訓練費入力（前期）'!$G1007=1,'教育訓練費入力（前期）'!$F1007,'教育訓練費入力（前期）'!$F1007&\"他\"&'教育訓練費入力（前期）'!$G1007-1&\"名\"))","v":""}]
[null,999,null,null,null,null,null,null,null,null,{"$f":"IF('教育訓練費入力（前期）'!$C1008=\"\",\"\",TEXT('教育訓練費入力（前期）'!$C1008,\"yyyy年\")&TEXT('教育訓練費入力（前期）'!$C1008,\"m月\")&TEXT('教育訓練費入力（前期）'!$C1008,\"ｄ日\")&\"から\"&'教育訓練費入力（前期）'!$D1008&\"日間\")","v":""},{"$f":"IF('教育訓練費入力（前期）'!$F1008=\"\",\"\",IF('教育訓練費入力（前期）'!$G1008=1,'教育訓練費入力（前期）'!$F1008,'教育訓練費入力（前期）'!$F1008&\"他\"&'教育訓練費入力（前期）'!$G1008-1&\"名\"))","v":""}]
[null,1000,null,null,null,null,null,null,null,null,{"$f":"IF('教育訓練費入力（前期）'!$C1009=\"\",\"\",TEXT('教育訓練費入力（前期）'!$C1009,\"yyyy年\")&TEXT('教育訓練費入力（前期）'!$C1009,\"m月\")&TEXT('教育訓練費入力（前期）'!$C1009,\"ｄ日\")&\"から\"&'教育訓練費入力（前期）'!$D1009&\"日間\")","v":""},{"$f":"IF('教育訓練費入力（前期）'!$F1009=\"\",\"\",IF('教育訓練費入力（前期）'!$G1009=1,'教育訓練費入力（前期）'!$F1009,'教育訓練費入力（前期）'!$F1009&\"他\"&'教育訓練費入力（前期）'!$G1009-1&\"名\"))","v":""}]
[null,1001,null,null,null,null,null,null,null,null,{"$f":"IF('教育訓練費入力（前期）'!$C1010=\"\",\"\",TEXT('教育訓練費入力（前期）'!$C1010,\"yyyy年\")&TEXT('教育訓練費入力（前期）'!$C1010,\"m月\")&TEXT('教育訓練費入力（前期）'!$C1010,\"ｄ日\")&\"から\"&'教育訓練費入力（前期）'!$D1010&\"日間\")","v":""},{"$f":"IF('教育訓練費入力（前期）'!$F1010=\"\",\"\",IF('教育訓練費入力（前期）'!$G1010=1,'教育訓練費入力（前期）'!$F1010,'教育訓練費入力（前期）'!$F1010&\"他\"&'教育訓練費入力（前期）'!$G1010-1&\"名\"))","v":""}]
[null,1002,null,null,null,null,null,null,null,null,{"$f":"IF('教育訓練費入力（前期）'!$C1011=\"\",\"\",TEXT('教育訓練費入力（前期）'!$C1011,\"yyyy年\")&TEXT('教育訓練費入力（前期）'!$C1011,\"m月\")&TEXT('教育訓練費入力（前期）'!$C1011,\"ｄ日\")&\"から\"&'教育訓練費入力（前期）'!$D1011&\"日間\")","v":""},{"$f":"IF('教育訓練費入力（前期）'!$F1011=\"\",\"\",IF('教育訓練費入力（前期）'!$G1011=1,'教育訓練費入力（前期）'!$F1011,'教育訓練費入力（前期）'!$F1011&\"他\"&'教育訓練費入力（前期）'!$G1011-1&\"名\"))","v":""}]
[null,1003,null,null,null,null,null,null,null,null,{"$f":"IF('教育訓練費入力（前期）'!$C1012=\"\",\"\",TEXT('教育訓練費入力（前期）'!$C1012,\"yyyy年\")&TEXT('教育訓練費入力（前期）'!$C1012,\"m月\")&TEXT('教育訓練費入力（前期）'!$C1012,\"ｄ日\")&\"から\"&'教育訓練費入力（前期）'!$D1012&\"日間\")","v":""},{"$f":"IF('教育訓練費入力（前期）'!$F1012=\"\",\"\",IF('教育訓練費入力（前期）'!$G1012=1,'教育訓練費入力（前期）'!$F1012,'教育訓練費入力（前期）'!$F1012&\"他\"&'教育訓練費入力（前期）'!$G1012-1&\"名\"))","v":""}]
[null,1004,null,null,null,null,null,null,null,null,{"$f":"IF('教育訓練費入力（前期）'!$C1013=\"\",\"\",TEXT('教育訓練費入力（前期）'!$C1013,\"yyyy年\")&TEXT('教育訓練費入力（前期）'!$C1013,\"m月\")&TEXT('教育訓練費入力（前期）'!$C1013,\"ｄ日\")&\"から\"&'教育訓練費入力（前期）'!$D1013&\"日間\")","v":""},{"$f":"IF('教育訓練費入力（前期）'!$F1013=\"\",\"\",IF('教育訓練費入力（前期）'!$G1013=1,'教育訓練費入力（前期）'!$F1013,'教育訓練費入力（前期）'!$F1013&\"他\"&'教育訓練費入力（前期）'!$G1013-1&\"名\"))","v":""}]
[null,1005,null,null,null,null,null,null,null,null,{"$f":"IF('教育訓練費入力（前期）'!$C1014=\"\",\"\",TEXT('教育訓練費入力（前期）'!$C1014,\"yyyy年\")&TEXT('教育訓練費入力（前期）'!$C1014,\"m月\")&TEXT('教育訓練費入力（前期）'!$C1014,\"ｄ日\")&\"から\"&'教育訓練費入力（前期）'!$D1014&\"日間\")","v":""},{"$f":"IF('教育訓練費入力（前期）'!$F1014=\"\",\"\",IF('教育訓練費入力（前期）'!$G1014=1,'教育訓練費入力（前期）'!$F1014,'教育訓練費入力（前期）'!$F1014&\"他\"&'教育訓練費入力（前期）'!$G1014-1&\"名\"))","v":""}]
[null,1006,null,null,null,null,null,null,null,null,{"$f":"IF('教育訓練費入力（前期）'!$C1015=\"\",\"\",TEXT('教育訓練費入力（前期）'!$C1015,\"yyyy年\")&TEXT('教育訓練費入力（前期）'!$C1015,\"m月\")&TEXT('教育訓練費入力（前期）'!$C1015,\"ｄ日\")&\"から\"&'教育訓練費入力（前期）'!$D1015&\"日間\")","v":""},{"$f":"IF('教育訓練費入力（前期）'!$F1015=\"\",\"\",IF('教育訓練費入力（前期）'!$G1015=1,'教育訓練費入力（前期）'!$F1015,'教育訓練費入力（前期）'!$F1015&\"他\"&'教育訓練費入力（前期）'!$G1015-1&\"名\"))","v":""}]
[null,1007,null,null,null,null,null,null,null,null,{"$f":"IF('教育訓練費入力（前期）'!$C1016=\"\",\"\",TEXT('教育訓練費入力（前期）'!$C1016,\"yyyy年\")&TEXT('教育訓練費入力（前期）'!$C1016,\"m月\")&TEXT('教育訓練費入力（前期）'!$C1016,\"ｄ日\")&\"から\"&'教育訓練費入力（前期）'!$D1016&\"日間\")","v":""},{"$f":"IF('教育訓練費入力（前期）'!$F1016=\"\",\"\",IF('教育訓練費入力（前期）'!$G1016=1,'教育訓練費入力（前期）'!$F1016,'教育訓練費入力（前期）'!$F1016&\"他\"&'教育訓練費入力（前期）'!$G1016-1&\"名\"))","v":""}]
[null,1008,null,null,null,null,null,null,null,null,{"$f":"IF('教育訓練費入力（前期）'!$C1017=\"\",\"\",TEXT('教育訓練費入力（前期）'!$C1017,\"yyyy年\")&TEXT('教育訓練費入力（前期）'!$C1017,\"m月\")&TEXT('教育訓練費入力（前期）'!$C1017,\"ｄ日\")&\"から\"&'教育訓練費入力（前期）'!$D1017&\"日間\")","v":""},{"$f":"IF('教育訓練費入力（前期）'!$F1017=\"\",\"\",IF('教育訓練費入力（前期）'!$G1017=1,'教育訓練費入力（前期）'!$F1017,'教育訓練費入力（前期）'!$F1017&\"他\"&'教育訓練費入力（前期）'!$G1017-1&\"名\"))","v":""}]
[null,1009,null,null,null,null,null,null,null,null,{"$f":"IF('教育訓練費入力（前期）'!$C1018=\"\",\"\",TEXT('教育訓練費入力（前期）'!$C1018,\"yyyy年\")&TEXT('教育訓練費入力（前期）'!$C1018,\"m月\")&TEXT('教育訓練費入力（前期）'!$C1018,\"ｄ日\")&\"から\"&'教育訓練費入力（前期）'!$D1018&\"日間\")","v":""},{"$f":"IF('教育訓練費入力（前期）'!$F1018=\"\",\"\",IF('教育訓練費入力（前期）'!$G1018=1,'教育訓練費入力（前期）'!$F1018,'教育訓練費入力（前期）'!$F1018&\"他\"&'教育訓練費入力（前期）'!$G1018-1&\"名\"))","v":""}]
[null,1010,null,null,null,null,null,null,null,null,{"$f":"IF('教育訓練費入力（前期）'!$C1019=\"\",\"\",TEXT('教育訓練費入力（前期）'!$C1019,\"yyyy年\")&TEXT('教育訓練費入力（前期）'!$C1019,\"m月\")&TEXT('教育訓練費入力（前期）'!$C1019,\"ｄ日\")&\"から\"&'教育訓練費入力（前期）'!$D1019&\"日間\")","v":""},{"$f":"IF('教育訓練費入力（前期）'!$F1019=\"\",\"\",IF('教育訓練費入力（前期）'!$G1019=1,'教育訓練費入力（前期）'!$F1019,'教育訓練費入力（前期）'!$F1019&\"他\"&'教育訓練費入力（前期）'!$G1019-1&\"名\"))","v":""}]
[null,1011,null,null,null,null,null,null,null,null,{"$f":"IF('教育訓練費入力（前期）'!$C1020=\"\",\"\",TEXT('教育訓練費入力（前期）'!$C1020,\"yyyy年\")&TEXT('教育訓練費入力（前期）'!$C1020,\"m月\")&TEXT('教育訓練費入力（前期）'!$C1020,\"ｄ日\")&\"から\"&'教育訓練費入力（前期）'!$D1020&\"日間\")","v":""},{"$f":"IF('教育訓練費入力（前期）'!$F1020=\"\",\"\",IF('教育訓練費入力（前期）'!$G1020=1,'教育訓練費入力（前期）'!$F1020,'教育訓練費入力（前期）'!$F1020&\"他\"&'教育訓練費入力（前期）'!$G1020-1&\"名\"))","v":""}]
[null,1012,null,null,null,null,null,null,null,null,{"$f":"IF('教育訓練費入力（前期）'!$C1021=\"\",\"\",TEXT('教育訓練費入力（前期）'!$C1021,\"yyyy年\")&TEXT('教育訓練費入力（前期）'!$C1021,\"m月\")&TEXT('教育訓練費入力（前期）'!$C1021,\"ｄ日\")&\"から\"&'教育訓練費入力（前期）'!$D1021&\"日間\")","v":""},{"$f":"IF('教育訓練費入力（前期）'!$F1021=\"\",\"\",IF('教育訓練費入力（前期）'!$G1021=1,'教育訓練費入力（前期）'!$F1021,'教育訓練費入力（前期）'!$F1021&\"他\"&'教育訓練費入力（前期）'!$G1021-1&\"名\"))","v":""}]
[null,1013,null,null,null,null,null,null,null,null,{"$f":"IF('教育訓練費入力（前期）'!$C1022=\"\",\"\",TEXT('教育訓練費入力（前期）'!$C1022,\"yyyy年\")&TEXT('教育訓練費入力（前期）'!$C1022,\"m月\")&TEXT('教育訓練費入力（前期）'!$C1022,\"ｄ日\")&\"から\"&'教育訓練費入力（前期）'!$D1022&\"日間\")","v":""},{"$f":"IF('教育訓練費入力（前期）'!$F1022=\"\",\"\",IF('教育訓練費入力（前期）'!$G1022=1,'教育訓練費入力（前期）'!$F1022,'教育訓練費入力（前期）'!$F1022&\"他\"&'教育訓練費入力（前期）'!$G1022-1&\"名\"))","v":""}]
[null,1014,null,null,null,null,null,null,null,null,{"$f":"IF('教育訓練費入力（前期）'!$C1023=\"\",\"\",TEXT('教育訓練費入力（前期）'!$C1023,\"yyyy年\")&TEXT('教育訓練費入力（前期）'!$C1023,\"m月\")&TEXT('教育訓練費入力（前期）'!$C1023,\"ｄ日\")&\"から\"&'教育訓練費入力（前期）'!$D1023&\"日間\")","v":""},{"$f":"IF('教育訓練費入力（前期）'!$F1023=\"\",\"\",IF('教育訓練費入力（前期）'!$G1023=1,'教育訓練費入力（前期）'!$F1023,'教育訓練費入力（前期）'!$F1023&\"他\"&'教育訓練費入力（前期）'!$G1023-1&\"名\"))","v":""}]
[null,1015,null,null,null,null,null,null,null,null,{"$f":"IF('教育訓練費入力（前期）'!$C1024=\"\",\"\",TEXT('教育訓練費入力（前期）'!$C1024,\"yyyy年\")&TEXT('教育訓練費入力（前期）'!$C1024,\"m月\")&TEXT('教育訓練費入力（前期）'!$C1024,\"ｄ日\")&\"から\"&'教育訓練費入力（前期）'!$D1024&\"日間\")","v":""},{"$f":"IF('教育訓練費入力（前期）'!$F1024=\"\",\"\",IF('教育訓練費入力（前期）'!$G1024=1,'教育訓練費入力（前期）'!$F1024,'教育訓練費入力（前期）'!$F1024&\"他\"&'教育訓練費入力（前期）'!$G1024-1&\"名\"))","v":""}]
[null,1016,null,null,null,null,null,null,null,null,{"$f":"IF('教育訓練費入力（前期）'!$C1025=\"\",\"\",TEXT('教育訓練費入力（前期）'!$C1025,\"yyyy年\")&TEXT('教育訓練費入力（前期）'!$C1025,\"m月\")&TEXT('教育訓練費入力（前期）'!$C1025,\"ｄ日\")&\"から\"&'教育訓練費入力（前期）'!$D1025&\"日間\")","v":""},{"$f":"IF('教育訓練費入力（前期）'!$F1025=\"\",\"\",IF('教育訓練費入力（前期）'!$G1025=1,'教育訓練費入力（前期）'!$F1025,'教育訓練費入力（前期）'!$F1025&\"他\"&'教育訓練費入力（前期）'!$G1025-1&\"名\"))","v":""}]

{"sheet":"教育訓練費印刷（前期）","index":7,"n_rows":17,"n_cols":8,"rows_kept":17,"cut":false,"hidden":false,"merged":[[7,1,7,7],[16,1,16,5]]}
[]
[]
[]
[]
[]
[]
[null,null,null,null,null,null,null,"株式会社今野デザイン"]
[null,"平成29年4月1日　から　平成30年3月31日　までの教育訓練費の明細"]
[null,"No.","実施時期","内容","受講者","支払日","支払額","支払先"]
[null,1,"2017年5月31日から2日間","新人研修セミナー","笹部　菜穂美他2名","2017-05-15",300000,"MUFGコンサルティング株式会社"]
[null,2,"2017年6月30日から3日間","Python　中級者向け研修","鳥居　雅之","2017-06-01",54000,"株式会社ムーンマイクロシステム"]
[null,3,"2017年7月31日から2日間","基本情報技術者試験受験料","山下　崇他1名","2017-07-09",18600,"独立行政法人情報処理推進機構"]
[null,4,"2017年8月21日から1日間","３種衛生士試験料","絹延橋　みつ子","2017-08-02",10800,"（財）安全衛生技術試験協会"]
[null,5,"2017年9月25日から3日間","課長・主任・係長クラスのメンタル改革セミナー","日生　暁久他1名","2017-09-10",486000,"MUFGコンサルティング株式会社"]
[null,6,"2017年10月22日から1日間","基本情報技術者試験、初級シスアド試験受験料","笹部　菜穂美他9名","2017-09-30",84000,"独立行政法人情報処理推進機構"]
[null,7,"2017年12月15日から3日間","ＶＢＡ試験対策講習","鳥居　雅之他2名","2017-11-15",150000,"株式会社ＴＣインターナショナル"]
[null,"合計",null,null,null,null,{"$f":"SUM(G10:G16)","v":1103400}]

{"sheet":"計算基礎シート","index":8,"n_rows":31,"n_cols":8,"rows_kept":31,"cut":false,"hidden":true,"merged":[]}
["従業員情報",null,null,null,null,null,"今期の教育訓練費合計","前期の教育訓練費合計"]
[1,{"$f":"HLOOKUP(A2,給与入力!$5:$8,2,0)","v":"今野　友夫"},{"$f":"HLOOKUP(計算基礎シート!A2,給与入力!$5:$8,4,0)","v":0},{"$f":"IF(C2=\"該当\",B2,\"\")","v":""},{"$f":"IFERROR(INDEX($D$1:$D$31,SMALL(IF($D$1:$D$31<>\"\",ROW($D$1:$D$31)),ROW(D1))),\"\")","v":"絹延橋　みつ子"},null,990000,1103400]
[2,{"$f":"HLOOKUP(A3,給与入力!$5:$8,2,0)","v":"今野　朝子"},{"$f":"HLOOKUP(計算基礎シート!A3,給与入力!$5:$8,4,0)","v":0},{"$f":"IF(C3=\"該当\",B3,\"\")","v":""},{"$f":"IFERROR(INDEX($D$1:$D$31,SMALL(IF($D$1:$D$31<>\"\",ROW($D$1:$D$31)),ROW(D2))),\"\")","v":"山下　崇"}]
[3,{"$f":"HLOOKUP(A4,給与入力!$5:$8,2,0)","v":"絹延橋　みつ子"},{"$f":"HLOOKUP(計算基礎シート!A4,給与入力!$5:$8,4,0)","v":"該当"},"絹延橋　みつ子",{"$f":"IFERROR(INDEX($D$1:$D$31,SMALL(IF($D$1:$D$31<>\"\",ROW($D$1:$D$31)),ROW(D3))),\"\")","v":"滝山　真一"}]
[4,{"$f":"HLOOKUP(A5,給与入力!$5:$8,2,0)","v":"山下　崇"},{"$f":"HLOOKUP(計算基礎シート!A5,給与入力!$5:$8,4,0)","v":"該当"},"山下　崇",{"$f":"IFERROR(INDEX($D$1:$D$31,SMALL(IF($D$1:$D$31<>\"\",ROW($D$1:$D$31)),ROW(D4))),\"\")","v":"日生　暁久"}]
[5,{"$f":"HLOOKUP(A6,給与入力!$5:$8,2,0)","v":"滝山　真一"},{"$f":"HLOOKUP(計算基礎シート!A6,給与入力!$5:$8,4,0)","v":"該当"},"滝山　真一",{"$f":"IFERROR(INDEX($D$1:$D$31,SMALL(IF($D$1:$D$31<>\"\",ROW($D$1:$D$31)),ROW(D5))),\"\")","v":"鳥居　雅之"}]
[6,{"$f":"HLOOKUP(A7,給与入力!$5:$8,2,0)","v":"日生　暁久"},{"$f":"HLOOKUP(計算基礎シート!A7,給与入力!$5:$8,4,0)","v":"該当"},"日生　暁久",{"$f":"IFERROR(INDEX($D$1:$D$31,SMALL(IF($D$1:$D$31<>\"\",ROW($D$1:$D$31)),ROW(D6))),\"\")","v":"笹部　菜穂美"}]
[7,{"$f":"HLOOKUP(A8,給与入力!$5:$8,2,0)","v":"鳥居　雅之"},{"$f":"HLOOKUP(計算基礎シート!A8,給与入力!$5:$8,4,0)","v":"該当"},"鳥居　雅之",{"$f":"IFERROR(INDEX($D$1:$D$31,SMALL(IF($D$1:$D$31<>\"\",ROW($D$1:$D$31)),ROW(D7))),\"\")","v":"畦野　繁樹"}]
[8,{"$f":"HLOOKUP(A9,給与入力!$5:$8,2,0)","v":"笹部　菜穂美"},{"$f":"HLOOKUP(計算基礎シート!A9,給与入力!$5:$8,4,0)","v":"該当"},"笹部　菜穂美",{"$f":"IFERROR(INDEX($D$1:$D$31,SMALL(IF($D$1:$D$31<>\"\",ROW($D$1:$D$31)),ROW(D8))),\"\")","v":"多田　昭彦"}]
[9,{"$f":"HLOOKUP(A10,給与入力!$5:$8,2,0)","v":"畦野　繁樹"},{"$f":"HLOOKUP(計算基礎シート!A10,給与入力!$5:$8,4,0)","v":"該当"},"畦野　繁樹",{"$f":"IFERROR(INDEX($D$1:$D$31,SMALL(IF($D$1:$D$31<>\"\",ROW($D$1:$D$31)),ROW(D9))),\"\")","v":"川西　めぐみ"}]
[10,{"$f":"HLOOKUP(A11,給与入力!$5:$8,2,0)","v":"多田　昭彦"},{"$f":"HLOOKUP(計算基礎シート!A11,給与入力!$5:$8,4,0)","v":"該当"},"多田　昭彦",{"$f":"IFERROR(INDEX($D$1:$D$31,SMALL(IF($D$1:$D$31<>\"\",ROW($D$1:$D$31)),ROW(D10))),\"\")","v":"常盤　典子"}]
[11,{"$f":"HLOOKUP(A12,給与入力!$5:$8,2,0)","v":"川西　めぐみ"},{"$f":"HLOOKUP(計算基礎シート!A12,給与入力!$5:$8,4,0)","v":"該当"},"川西　めぐみ",{"$f":"IFERROR(INDEX($D$1:$D$31,SMALL(IF($D$1:$D$31<>\"\",ROW($D$1:$D$31)),ROW(D11))),\"\")","v":"鼓滝　健三"}]
[12,{"$f":"HLOOKUP(A13,給与入力!$5:$8,2,0)","v":"常盤　典子"},{"$f":"HLOOKUP(計算基礎シート!A13,給与入力!$5:$8,4,0)","v":"該当"},"常盤　典子",{"$f":"IFERROR(INDEX($D$1:$D$31,SMALL(IF($D$1:$D$31<>\"\",ROW($D$1:$D$31)),ROW(D12))),\"\")","v":"妙見　隆一"}]
[13,{"$f":"HLOOKUP(A14,給与入力!$5:$8,2,0)","v":"平野　裕"},{"$f":"HLOOKUP(計算基礎シート!A14,給与入力!$5:$8,4,0)","v":"非該当"},"",{"$f":"IFERROR(INDEX($D$1:$D$31,SMALL(IF($D$1:$D$31<>\"\",ROW($D$1:$D$31)),ROW(D13))),\"\")","v":""}]
[14,{"$f":"HLOOKUP(A15,給与入力!$5:$8,2,0)","v":"鼓滝　健三"},{"$f":"HLOOKUP(計算基礎シート!A15,給与入力!$5:$8,4,0)","v":"該当"},"鼓滝　健三",{"$f":"IFERROR(INDEX($D$1:$D$31,SMALL(IF($D$1:$D$31<>\"\",ROW($D$1:$D$31)),ROW(D14))),\"\")","v":""}]
[15,{"$f":"HLOOKUP(A16,給与入力!$5:$8,2,0)","v":"妙見　隆一"},{"$f":"HLOOKUP(計算基礎シート!A16,給与入力!$5:$8,4,0)","v":"該当"},"妙見　隆一",{"$f":"IFERROR(INDEX($D$1:$D$31,SMALL(IF($D$1:$D$31<>\"\",ROW($D$1:$D$31)),ROW(D15))),\"\")","v":""}]
[16,{"$f":"HLOOKUP(A17,給与入力!$5:$8,2,0)","v":0},{"$f":"HLOOKUP(計算基礎シート!A17,給与入力!$5:$8,4,0)","v":0},"",{"$f":"IFERROR(INDEX($D$1:$D$31,SMALL(IF($D$1:$D$31<>\"\",ROW($D$1:$D$31)),ROW(D16))),\"\")","v":""}]
[17,{"$f":"HLOOKUP(A18,給与入力!$5:$8,2,0)","v":0},{"$f":"HLOOKUP(計算基礎シート!A18,給与入力!$5:$8,4,0)","v":0},"",{"$f":"IFERROR(INDEX($D$1:$D$31,SMALL(IF($D$1:$D$31<>\"\",ROW($D$1:$D$31)),ROW(D17))),\"\")","v":""}]
[18,{"$f":"HLOOKUP(A19,給与入力!$5:$8,2,0)","v":0},{"$f":"HLOOKUP(計算基礎シート!A19,給与入力!$5:$8,4,0)","v":0},"",{"$f":"IFERROR(INDEX($D$1:$D$31,SMALL(IF($D$1:$D$31<>\"\",ROW($D$1:$D$31)),ROW(D18))),\"\")","v":""}]
[19,{"$f":"HLOOKUP(A20,給与入力!$5:$8,2,0)","v":0},{"$f":"HLOOKUP(計算基礎シート!A20,給与入力!$5:$8,4,0)","v":0},"",{"$f":"IFERROR(INDEX($D$1:$D$31,SMALL(IF($D$1:$D$31<>\"\",ROW($D$1:$D$31)),ROW(D19))),\"\")","v":""}]
[20,{"$f":"HLOOKUP(A21,給与入力!$5:$8,2,0)","v":0},{"$f":"HLOOKUP(計算基礎シート!A21,給与入力!$5:$8,4,0)","v":0},"",{"$f":"IFERROR(INDEX($D$1:$D$31,SMALL(IF($D$1:$D$31<>\"\",ROW($D$1:$D$31)),ROW(D20))),\"\")","v":""}]
[21,{"$f":"HLOOKUP(A22,給与入力!$5:$8,2,0)","v":0},{"$f":"HLOOKUP(計算基礎シート!A22,給与入力!$5:$8,4,0)","v":0},"",{"$f":"IFERROR(INDEX($D$1:$D$31,SMALL(IF($D$1:$D$31<>\"\",ROW($D$1:$D$31)),ROW(D21))),\"\")","v":""}]
[22,{"$f":"HLOOKUP(A23,給与入力!$5:$8,2,0)","v":0},{"$f":"HLOOKUP(計算基礎シート!A23,給与入力!$5:$8,4,0)","v":0},"",{"$f":"IFERROR(INDEX($D$1:$D$31,SMALL(IF($D$1:$D$31<>\"\",ROW($D$1:$D$31)),ROW(D22))),\"\")","v":""}]
[23,{"$f":"HLOOKUP(A24,給与入力!$5:$8,2,0)","v":0},{"$f":"HLOOKUP(計算基礎シート!A24,給与入力!$5:$8,4,0)","v":0},"",{"$f":"IFERROR(INDEX($D$1:$D$31,SMALL(IF($D$1:$D$31<>\"\",ROW($D$1:$D$31)),ROW(D23))),\"\")","v":""}]
[24,{"$f":"HLOOKUP(A25,給与入力!$5:$8,2,0)","v":0},{"$f":"HLOOKUP(計算基礎シート!A25,給与入力!$5:$8,4,0)","v":0},"",{"$f":"IFERROR(INDEX($D$1:$D$31,SMALL(IF($D$1:$D$31<>\"\",ROW($D$1:$D$31)),ROW(D24))),\"\")","v":""}]
[25,{"$f":"HLOOKUP(A26,給与入力!$5:$8,2,0)","v":0},{"$f":"HLOOKUP(計算基礎シート!A26,給与入力!$5:$8,4,0)","v":0},"",{"$f":"IFERROR(INDEX($D$1:$D$31,SMALL(IF($D$1:$D$31<>\"\",ROW($D$1:$D$31)),ROW(D25))),\"\")","v":""}]
[26,{"$f":"HLOOKUP(A27,給与入力!$5:$8,2,0)","v":0},{"$f":"HLOOKUP(計算基礎シート!A27,給与入力!$5:$8,4,0)","v":0},"",{"$f":"IFERROR(INDEX($D$1:$D$31,SMALL(IF($D$1:$D$31<>\"\",ROW($D$1:$D$31)),ROW(D26))),\"\")","v":""}]
[27,{"$f":"HLOOKUP(A28,給与入力!$5:$8,2,0)","v":0},{"$f":"HLOOKUP(計算基礎シート!A28,給与入力!$5:$8,4,0)","v":0},"",{"$f":"IFERROR(INDEX($D$1:$D$31,SMALL(IF($D$1:$D$31<>\"\",ROW($D$1:$D$31)),ROW(D27))),\"\")","v":""}]
[28,{"$f":"HLOOKUP(A29,給与入力!$5:$8,2,0)","v":0},{"$f":"HLOOKUP(計算基礎シート!A29,給与入力!$5:$8,4,0)","v":0},"",{"$f":"IFERROR(INDEX($D$1:$D$31,SMALL(IF($D$1:$D$31<>\"\",ROW($D$1:$D$31)),ROW(D28))),\"\")","v":""}]
[29,{"$f":"HLOOKUP(A30,給与入力!$5:$8,2,0)","v":0},{"$f":"HLOOKUP(計算基礎シート!A30,給与入力!$5:$8,4,0)","v":0},"",{"$f":"IFERROR(INDEX($D$1:$D$31,SMALL(IF($D$1:$D$31<>\"\",ROW($D$1:$D$31)),ROW(D29))),\"\")","v":""}]
[30,{"$f":"HLOOKUP(A31,給与入力!$5:$8,2,0)","v":0},{"$f":"HLOOKUP(計算基礎シート!A31,給与入力!$5:$8,4,0)","v":0},"",{"$f":"IFERROR(INDEX($D$1:$D$31,SMALL(IF($D$1:$D$31<>\"\",ROW($D$1:$D$31)),ROW(D30))),\"\")","v":""}]